{"text_format":"3","workbook":"xlsx","n_sheets":8,"sheets":["Handleiding","Wedstrijd gegevens","Invoeren","Startlijst","Uitslag figuren","Uitslag Ranking","IFform","Figuren"],"not_rendered":{"images":1,"macros":1,"external_links":4,"defined_names":19,"comments":3},"read":"whole","date_system":"1900"}

{"sheet":"Handleiding","index":0,"n_rows":71,"n_cols":2,"rows_kept":71}
["Dit bestand is bedoeld voor het registreren van de behaalde cijfers van een figurenwedstrijd."]
["Het hele programma is gebouwd om de bladen Wedstrijdgegevens en Invoeren. "]
["Het verslepen en knippen van cellen, kolommen en rijen is niet toegestaan."]
["Ook het weghalen van foutief ingevoerde gegevens met de spatiebalk is verboden."]
["Dit kan fouten in de uitslag tot gevolg hebben."]
[]
["Wedstrijdgegevens:"]
["In de cellen B2 tot en met B12 worden de wedstrijdgegevens ingevoerd."]
["In het blad wedstrijdgegevens staan de jaartallen vermeld op basis waarvan kan worden bepaald."]
["of een deelneemster in deze categorie thuishoort. De jaartallen van het huidige seizoen dienen "]
["daartoe correct te zijn."]
["Voer in cel B 30 en C 30 de juiste jaartallen in van het huidige seizoen"]
["In dit blad dient ook de loting ingevoerd te worden door het cijfer van de gelote groep in te voeren in "]
["de roodomrande cel B12."]
[]
["Invoeren deelnemers:"]
["In het tabblad invoeren kunt u de gegevens van de zwemsters invoeren in kolom D tot en met J."]
["Startnummer: zonder streepjes punten spaties etc. De eerste 4 cijfers bepalen het geboortejaar"]
["Naam: Voor en achternaam"]
["Vereniging: Naam voluit geschreven"]
["Afk.: De drieletterige afkorting zoals deze door de KNZB wordt gebruikt"]
["Regio: Hier invullen in welke regio de vereniging zich bevindt"]
["BM: Indien een deelneemster om leeftijdsredenen (of een andere reden) niet in deze categorie uit mag komen, "]
[null,"maar toch mag meezwemmen dienen hier de letters BM te worden ingevuld."]
["Indien het diploma voor deze categorie nog niet is behaald dient in deze kolom een kruisje geplaatst te worden."]
[]
["Als alle deelnemers zijn ingevoerd, kun je op het vak éénmalig sorteren vóór de wedstrijd klikken. Kan ook 2 of drie keer, of zo vaak als de dobbelsteen aangeeft. "]
[null,"Hiermee heb je dan de startvolgorde geloot."]
[]
["Startlijst:"]
["Met de knop \"Print startlijst\" worden alle deelnemers geprint ten behoeve van een eventueel programma."]
["Dit blad kan eventueel ook naar een ander werkblad gekopieerd worden zodat je meerdere startlijsten in één bestand krijgt."]
["Verschillende prints van verschillende categorieën kunnen samen met een voorblad verzameld worden tot één programma en daarna gekopieerd."]
[]
["Invoer handmatig of geautomatiseerd?"]
[]
["Handmatig:"]
[]
["IF-formulieren printen"]
["Voorafgaand aan de wedstrijd, maar na de loting van de figuren en de startvolgorde"]
["dienen de IF formulieren geprint te worden. Dit gebeurt in het tabblad IFform waar u met één druk op de knop alle IF  formulieren print."]
["Hierna mag u dus niet meer op de knop éénmalig sorteren vóór de wedstrijd drukken want dan liggen de IF formulieren niet meer op volgorde."]
[]
["Invoeren punten:"]
["Zodra de wedstrijd begint worden de cijfers van de computerbriefjes ingevoerd in het tabblad invoeren per panel: tabblad AgeII Fig1 t/m Tabblad AgeII Fig4 in de juiste kolom."]
["De punten worden zonder komma ingevoerd. Het figurentotaal wordt automatisch berekend. Controleer of dit overeenkomt met het figurentotaal op het computerbriefje "]
["Let erop dat u met invoeren steeds checkt of u in het juiste werkblad en bij het juiste panel aan het invoeren bent!"]
[]
["Uitslag figuren:"]
["Als alle punten zijn ingevoerd kan een exemplaar van de uitslag figuren geprint worden. Ga hiervoor naar tabblad Uitslag figuren. "]
["Druk op de grijze knop Sorteren op startvolgorde en vervolgens op de knop Print uitslag figuren. Deze kunnen dan met de IF formulieren worden vergeleken."]
["Als alle uitslagen overeenkomen kan dit werkblad worden gesorteerd op ranking. Dit maakt de controle op wel of niet terecht behaalde limieten, diploma's en prestatiemedailles makkelijker. "]
["Voor het schrijven van de diploma's (die worden per vereniging aangelverd) is het handig om de sortering op vereniging te gebruiken."]
["Druk hiervoor op de grijze knop Sorteren op ranking/vereniging en vervolgens op de knop Print uitslag figuren"]
[]
["Uitslag Ranking:"]
["Hierin staan ook de deelcijfers. Deze kunnen geprint worden zodat kan worden geconstateerd waar de tekortkomingen van de deelneemsters zitten."]
["Deze uitslag dient ook geüpload te worden in de webkalender."]
[]
["Geautomatiseerd:"]
["Benodigdheden: Een laptop voor elk panel. Een computer voor het secretariaat. Een router. De laptops moeten mappen en printers delen."]
["Geen IF formulieren nodig"]
["VERPLAATS de tabbladen Fig1 Fig2 Fig3 en Fig 4 één voor één naar een nieuw bestand (Er kunnen meerdere tabbladen in één bestand worden geplaatst)."]
["Sla dit bestand op in de map gedeelde documenten en noem het Panel1 of 2 of 3 etc. en sluit dit bestand."]
["Vanaf de laptop in het panel maakt u verbinding via de router met de map gedeelde documenten en opent het bestand van dat panel."]
["De panels dienen hun bestand tenminste na elk computerbriefje op te slaan. Save!"]
["Op de computer op het secretariaat dient regelmatig per figuur/leeftijdscategorie de opties Gegevens en Kopp. Bewerken"]
["gekozen te worden, hierna verschijnen de cijfers die bij het panel zijn ingevoerd vanzelf op het secretariaat."]
["Na controle selecteer je de range (1e cijfer tm strafpunten) van het computerbriefje, deze kopieer je en plak je als waarde op dezelfde plek "]
["(dan zijn de formules weg en kunnen er geen waardes meer gewijzigd worden)"]
["Om het bewerken van de koppelingen te vergemakkelijken is het wel handig om de beveiliging van het blad invoeren af te halen."]

{"sheet":"Wedstrijd gegevens","index":1,"n_rows":48,"n_cols":11,"rows_kept":48,"merged":[[5,1,5,2],[14,1,14,7],[15,1,15,7],[26,5,26,6]]}
["Invullen wedstrijd gegevens"]
["Wedstrijd","Figurenwedstrijd AGE 2 Interregio"]
["Zwembad","De Hoornse Vaart"]
["Plaats","Alkmaar"]
["Organisatie","Regio Midwest ism v/h Kring Noord-Holland"]
["Datum","2017-11-11"]
["Aanvang","14:30 uur"]
["AGE I"]
["AGE II","x"]
["Junioren",null,"Aantal deelnemers",null,{"$f":"COUNTIF(Invoeren!E7:E256,\"*\")","v":211}]
["Senioren elementen"]
["Loting groep",1,null,"Cellen met rode rand verplicht invullen ivm loting"]
[]
["Resultaten wedstrijd gegevens CONTROLE"]
["Koptekst voorbeeld",{"$f":"CONCATENATE(B2,\", Zwembad: \",B3,\" te \",B4)","v":"Figurenwedstrijd AGE 2 Interregio, Zwembad: De Hoornse Vaart te Alkmaar"},{"$nulls":6},"Datum:",{"$f":"+B6","v":"2017-11-11"}]
[null,{"$f":"CONCATENATE(\"Organisatie \",B5)","v":"Organisatie Regio Midwest ism v/h Kring Noord-Holland"},{"$nulls":6},"Aanvang:",{"$f":"+B7","v":"14:30 uur"}]
[null,"Loting:",null,{"$f":"B12","v":1},"Categorie:",null,{"$f":"IF(B9>\"\",A9,IF(B10>\"\",A10,IF(B11>\"\",A11,\"AGE I\")))","v":"AGE II"}]
[]
[]
["Figuur","Naam nr",{"$nulls":4},"m.f."]
[1,{"$f":"INDIRECT(ADDRESS($B$46,2+(($B$12-1)*2),1,1,\"figuren\"))","v":"423 Ariana"},{"$nulls":4},{"$f":"INDIRECT(ADDRESS($B$46,3+(($B$12-1)*2),1,1,\"figuren\"))","v":2.2}]
[2,{"$f":"INDIRECT(ADDRESS($B$46+1,2+(($B$12-1)*2),1,1,\"figuren\"))","v":"301e Barracuda spin down 360°"},{"$nulls":4},{"$f":"INDIRECT(ADDRESS($B$46+1,3+(($B$12-1)*2),1,1,\"figuren\"))","v":2.2}]
[3,{"$f":"INDIRECT(ADDRESS($B$46+2,2+(($B$12-1)*2),1,1,\"figuren\"))","v":"342 Reiger"},{"$nulls":4},{"$f":"INDIRECT(ADDRESS($B$46+2,3+(($B$12-1)*2),1,1,\"figuren\"))","v":2.1}]
[4,{"$f":"INDIRECT(ADDRESS($B$46+3,2+(($B$12-1)*2),1,1,\"figuren\"))","v":"115 Catalina"},{"$nulls":4},{"$f":"INDIRECT(ADDRESS($B$46+3,3+(($B$12-1)*2),1,1,\"figuren\"))","v":2.3}]
[{"$nulls":4},"som m.f.",null,{"$f":"SUM(G21:G24)","v":8.8}]
[{"$nulls":5},{"$f":"G26+1","v":1999},{"$f":"$C$30-20","v":1998}]
["Diploma",{"$f":"INDIRECT(ADDRESS(A46,1,1,1))","v":"AGE II"},{"$f":"VLOOKUP($B$27,$A$31:$L$35,3,FALSE)","v":2005},{"$f":"VLOOKUP($B$27,$A$31:$L$35,4,FALSE)","v":"2003 en 2004"},"Solo","Brons",null,"Zilver","Goud"]
["Diploma punten",{"$f":"VLOOKUP($B$27,$A$31:$L$35,2,FALSE)","v":{"v":45,"d":"45.000"}},{"$f":"VLOOKUP($B$27,$A$31:$L$35,5,FALSE)","v":{"v":47,"d":"47.000"}},{"$f":"VLOOKUP($B$27,$A$31:$L$35,6,FALSE)","v":{"v":49,"d":"49.000"}},{"$f":"VLOOKUP($B$27,$A$31:$L$35,7,FALSE)","v":{"v":0,"d":"0.000"}},{"$f":"VLOOKUP($B$27,$A$31:$L$35,8,FALSE)","v":{"v":0,"d":"0.000"}},{"$f":"VLOOKUP($B$27,$A$31:$L$35,9,FALSE)","v":{"v":0,"d":"0.000"}},{"$f":"VLOOKUP($B$27,$A$31:$L$35,10,FALSE)","v":{"v":0,"d":"0.000"}},{"$f":"VLOOKUP($B$27,$A$31:$L$35,11,FALSE)","v":{"v":0,"d":"0.000"}}]
[]
["Seizoen",2017,2018]
["Diploma","Diploma punten","Jaartallen",null,"Limieten"]
["AGE I",{"v":44,"d":"44.000"},{"$f":"($C$30-12&\" tot \"&$C$30-10)","v":"2006 tot 2008"},null,{"v":44,"d":"44.000"}]
["AGE II",{"v":45,"d":"45.000"},{"$f":"$C$30-13","v":2005},{"$f":"($C$30-15&\" en \"&$C$30-14)","v":"2003 en 2004"},{"v":47,"d":"47.000"},{"v":49,"d":"49.000"}]
["Jun.",{"v":52,"d":"52.000"},{"$f":"($C$30-16&\" en \"&$C$30-15)","v":"2002 en 2003"},{"$f":"($C$30-18&\" en \"&$C$30-17)","v":"2000 en 2001"},{"v":53,"d":"53.000"},{"v":55,"d":"55.000"},null,{"v":60,"d":"60.000"}]
["Sen.",{"v":53,"d":"53.000"},{"$f":"(\"tot \"&$C$30-15)","v":"tot 2003"},"Duet",{"v":55,"d":"55.000"},{"v":60,"d":"60.000"},{"v":62.5,"d":"62.500"},{"v":60,"d":"60.000"},{"v":65,"d":"65.000"},{"v":75,"d":"75.000"},{"v":85,"d":"85.000"}]
[]
["Beveiligings code=","Synchro"]
[]
[]
["Niet wijzigen nodig voor berekeningen"]
["Rij ber."]
[{"$f":"IF(B8=\"\",0,32)","v":0},{"$f":"IF(B8=\"\",0,4)","v":0},{"$f":"IF(B8=\"\",0,2)","v":0}]
[{"$f":"IF(B9=\"\",0,33)","v":33},{"$f":"IF(B9=\"\",0,10)","v":10},{"$f":"IF(B9=\"\",0,3)","v":3}]
[{"$f":"IF(B10=\"\",0,34)","v":0},{"$f":"IF(B10=\"\",0,22)","v":0},{"$f":"IF(B10=\"\",0,5)","v":0}]
[{"$f":"IF(B11=\"\",0,35)","v":0},{"$f":"IF(B11=\"\",0,28)","v":0},{"$f":"IF(B11=\"\",0,6)","v":0}]
[{"$f":"SUM(A42:A45)","v":33},{"$f":"SUM(B42:B45)","v":10},{"$f":"SUM(C42:C45)","v":3}]
[]
[null,{"$f":"INDIRECT(ADDRESS(1,1,1,1,\"figuren\"))","v":"Algemene figuur gegevens"}]

{"sheet":"Invoeren","index":2,"n_rows":256,"n_cols":99,"rows_kept":256,"merged":[[0,0,0,3],[1,0,1,3],[2,0,2,3],[2,15,2,31],[2,35,2,51],[2,55,2,71],[2,75,2,91],[3,0,3,3],[3,15,3,33],[3,35,3,53],[3,55,3,73],[3,75,3,93],[4,0,4,3],[4,15,4,24],[4,25,4,34],[4,35,4,44],[4,45,4,54],[4,55,4,64],[4,65,4,74],[4,75,4,84],[4,85,4,93]]}
[{"$f":"CONCATENATE(\"Figuren: \",'Wedstrijd gegevens'!G17)","v":"Figuren: AGE II"},{"$nulls":3},"M.F.",{"$f":"COUNTIF(E7:E256,\"*\")","v":211},"Seizoen",{"$f":"'Wedstrijd gegevens'!C30","v":2018},{"$nulls":5},"Limieten:",null,"BM",null,"X"]
[{"$f":"'Wedstrijd gegevens'!B21","v":"423 Ariana"},{"$nulls":3},{"$f":"'Wedstrijd gegevens'!G21","v":2.2},{"$f":"SUM(C7:C256)","v":{"v":9908.750299999998,"d":"9908.8"}},null,{"$f":"'Wedstrijd gegevens'!B30","v":2017},{"$nulls":5},{"$f":"'Wedstrijd gegevens'!$E$28","v":{"v":0,"d":"0.000"}},{"$f":"IF(N2='Wedstrijd gegevens'!G35,\"Solo\",\"\")","v":""},"bm",null,"x"]
[{"$f":"'Wedstrijd gegevens'!B22","v":"301e Barracuda spin down 360°"},{"$nulls":3},{"$f":"'Wedstrijd gegevens'!G22","v":2.2},null,"Diploma punten",{"$f":"'Wedstrijd gegevens'!$B$28","v":{"v":45,"d":"45.000"}},{"$nulls":5},{"$f":"'Wedstrijd gegevens'!$D$28","v":{"v":49,"d":"49.000"}},{"$f":"IF(N3='Wedstrijd gegevens'!F35,\"Duet\",\"\")","v":""},{"$nulls":17},"M.F.",{"$f":"+E2","v":2.2},{"$nulls":18},"M.F.",{"$f":"+E3","v":2.2},{"$nulls":18},"M.F.",{"$f":"+E4","v":2.1},{"$nulls":18},"M.F.",{"$f":"+E5","v":2.3}]
[{"$f":"'Wedstrijd gegevens'!B23","v":"342 Reiger"},{"$nulls":3},{"$f":"'Wedstrijd gegevens'!G23","v":2.1},null,"Diploma",{"$f":"'Wedstrijd gegevens'!$B$27","v":"AGE II"},{"$f":"VALUE(MID('Wedstrijd gegevens'!D27,1,4))","v":2003},{"$f":"'Wedstrijd gegevens'!C27","v":2005},{"$nulls":3},{"$f":"'Wedstrijd gegevens'!$C$28","v":{"v":47,"d":"47.000"}},{"$f":"IF(N4='Wedstrijd gegevens'!E35,\"Ploeg\",\"\")","v":""},"Panel 1",{"$nulls":19},"Panel 2",{"$nulls":19},"Panel 3",{"$nulls":19},"Panel 4"]
[{"$f":"'Wedstrijd gegevens'!B24","v":"115 Catalina"},{"$nulls":3},{"$f":"'Wedstrijd gegevens'!G24","v":2.3},null,"Groep",{"$f":"'Wedstrijd gegevens'!$B$12","v":1},{"$nulls":7},"Invullen",{"$nulls":9},"Resultaat",{"$nulls":9},"Invullen",{"$nulls":9},"Resultaat",{"$nulls":9},"Invullen",{"$nulls":9},"Resultaat",{"$nulls":9},"Invullen",{"$nulls":9},"Resultaat"]
["St. nr.","Rank.","Totaal","Start nr","Naam","Vereniging","Afk","Regio","BM","gaat voor Dipl.","Geb. Jaar","P","L","D","Niet gestart (X)","St. 1","St. 2","St. 3","St. 4","St. 5","St. 6","St. 7","- hoog / - laag","fig. tot","Str. P.","St. 1","St. 2","St. 3","St. 4","St. 5","St. 6","St. 7","- hoog / - laag","Tot. Fig","Rank. Fig","St. 1","St. 2","St. 3","St. 4","St. 5","St. 6","St. 7","- hoog / - laag","fig. tot","Str. P.","St. 1","St. 2","St. 3","St. 4","St. 5","St. 6","St. 7","- hoog / - laag","Tot. Fig","Rank. Fig","St. 1","St. 2","St. 3","St. 4","St. 5","St. 6","St. 7","- hoog / - laag","fig. tot","Str. P.","St. 1","St. 2","St. 3","St. 4","St. 5","St. 6","St. 7","- hoog / - laag","Tot. Fig","Rank. Fig","St. 1","St. 2","St. 3","St. 4","St. 5","St. 6","St. 7","- hoog / - laag","fig. tot","Str. P.","St. 1","St. 2","St. 3","St. 4","St. 5","St. 6","St. 7","- hoog / - laag","Tot. Fig","Rank. Fig","Totaal figuren","Totaal na herleid.","Totaal str. P.","Eind- totaal"]
[1,{"$f":"IF(I7=\"BM\",\"BM\",RANK(CU7,CU$7:CU$256))","v":82},{"$f":"+CS7-CT7","v":50.8447},200301874,"Noëmi Soler Rueda","DAW","DAW","Midwest",null,null,{"$f":"VALUE(IF(D7=\"\",0,MID(D7,1,4)))","v":2003},null,{"$f":"IF(AND(14>($H$1-K7),($H$1-K7)>=13,C7>=$N$4),\"L\",IF(AND(16>($H$1-K7),($H$1-K7)>=14,C7>=$N$3),\"L\",IF(K7>0,IF(OR(K7>$J$4,K7<$I$4),\"BM\",\"\"),\"\")))","v":"L"},{"$f":"IF(C7>0,IF(J7>\"\",IF(C7<$H$3,\"\",\"Age II\"),\"\"),\"\")","v":""},null,50,49,50,48,53,0,0,14.9,10.9267,0,{"$f":"+P7/10","v":{"v":5,"d":"5.0"}},{"$f":"+Q7/10","v":4.9},{"$f":"+R7/10","v":{"v":5,"d":"5.0"}},{"$f":"+S7/10","v":4.8},{"$f":"+T7/10","v":5.3},{"$f":"IF(U7>0,+U7/10,\"\")","v":""},{"$f":"IF(V7>0,+V7/10,\"\")","v":""},{"$f":"SUM(Z7:AF7)-MAX(Z7:AF7)-MIN(Z7:AF7)","v":{"v":14.899999999999999,"d":"14.9"}},{"$f":"ROUND(AG7/(COUNTIF(Z7:AF7,\">=0\")-2)*$AH$3,4)","v":10.9267},{"$f":"IF(AH7=0,\"\",RANK(AH7,AH$7:AH$256))","v":112},54,52,53,56,56,0,0,16.3,11.9533,0,{"$f":"+AJ7/10","v":5.4},{"$f":"+AK7/10","v":5.2},{"$f":"+AL7/10","v":5.3},{"$f":"+AM7/10","v":5.6},{"$f":"+AN7/10","v":5.6},{"$f":"IF(AO7>0,+AO7/10,\"\")","v":""},{"$f":"IF(AP7>0,+AP7/10,\"\")","v":""},{"$f":"SUM(AT7:AZ7)-MAX(AT7:AZ7)-MIN(AT7:AZ7)","v":16.3},{"$f":"ROUND(BA7/(COUNTIF(AT7:AZ7,\">0\")-2)*$BB$3,4)","v":11.9533},{"$f":"IF(BB7=0,\"\",RANK(BB7,BB$7:BB$256))","v":39},52,50,58,53,54,0,0,15.9,{"v":11.13,"d":"11.1300"},0,{"$f":"+BD7/10","v":5.2},{"$f":"+BE7/10","v":{"v":5,"d":"5.0"}},{"$f":"+BF7/10","v":5.8},{"$f":"+BG7/10","v":5.3},{"$f":"+BH7/10","v":5.4},{"$f":"IF(BI7>0,+BI7/10,\"\")","v":""},{"$f":"IF(BJ7>0,+BJ7/10,\"\")","v":""},{"$f":"SUM(BN7:BT7)-MAX(BN7:BT7)-MIN(BN7:BT7)","v":{"v":15.900000000000002,"d":"15.9"}},{"$f":"ROUND(BU7/(COUNTIF(BN7:BT7,\">0\")-2)*$BV$3,4)","v":{"v":11.13,"d":"11.1300"}},{"$f":"IF(BV7=0,\"\",RANK(BV7,BV$7:BV$256))","v":98},43,50,49,48,43,0,0,14,10.7333,0,{"$f":"+BX7/10","v":4.3},{"$f":"+BY7/10","v":{"v":5,"d":"5.0"}},{"$f":"+BZ7/10","v":4.9},{"$f":"+CA7/10","v":4.8},{"$f":"+CB7/10","v":4.3},{"$f":"IF(CC7>0,+CC7/10,\"\")","v":""},{"$f":"IF(CD7>0,+CD7/10,\"\")","v":""},{"$f":"SUM(CH7:CN7)-MAX(CH7:CN7)-MIN(CH7:CN7)","v":{"v":14,"d":"14.0"}},{"$f":"ROUND(CO7/(COUNTIF(CH7:CN7,\">0\")-2)*$CP$3,4)","v":10.7333},{"$f":"IF(CP7=0,\"\",RANK(CP7,CP$7:CP$256))","v":113},{"$f":"+AH7+BB7+BV7+CP7","v":{"v":44.743300000000005,"d":"44.7433"}},{"$f":"+ROUND((+CR7*10)/(+$AH$3+$BB$3+$BV$3+$CP$3),4)","v":50.8447},{"$f":"+Y7+AS7+BM7+CG7","v":{"v":0,"d":"0.0"}},{"$f":"IF(I7=\"BM\",0,+CS7-CT7)","v":50.8447}]
[2,173,43.5947,200105142,"Lani aan het Rot","ZV de Zaan","zaa","MidWest",null,"X",2001,null,"BM","",null,39,42,41,44,46,0,0,12.7,9.3133,0,3.9,4.2,4.1,4.4,4.6,"","",{"v":12.700000000000001,"d":"12.7"},9.3133,185,43,41,45,46,49,0,0,13.4,9.8267,0,4.3,4.1,4.5,4.6,4.9,"","",13.4,9.8267,144,47,48,44,47,47,0,0,14.1,{"v":9.87,"d":"9.8700"},0,4.7,4.8,4.4,4.7,4.7,"","",14.1,{"v":9.87,"d":"9.8700"},160,38,41,45,41,40,0,0,{"v":12.2,"d":"12"},9.3533,0,3.8,4.1,4.5,4.1,{"v":4,"d":"4.0"},"","",12.2,9.3533,175,{"v":38.363299999999995,"d":"38.3633"},43.5947,{"v":0,"d":"0.0"},43.5947]
[3,154,45.3258,200404894,"Yara van der Kraan","Widex Gzc Donk","DONK","West",null,null,2004,null,"","",null,43,43,46,46,47,0,0,13.5,{"v":9.9,"d":"9.9000"},0,4.3,4.3,4.6,4.6,4.7,"","",{"v":13.499999999999996,"d":"13.5"},{"v":9.9,"d":"9.9000"},172,46,44,46,48,48,0,0,{"v":14,"d":"14.0"},10.2667,0,4.6,4.4,4.6,4.8,4.8,"","",{"v":13.999999999999998,"d":"14.0"},10.2667,117,48,49,50,53,48,0,0,14.7,{"v":10.29,"d":"10.2900"},0,4.8,4.9,{"v":5,"d":"5.0"},5.3,4.8,"","",14.7,{"v":10.29,"d":"10.2900"},139,43,40,40,43,39,0,0,{"v":12.3,"d":"12"},{"v":9.43,"d":"9.4300"},0,4.3,{"v":4,"d":"4.0"},{"v":4,"d":"4.0"},4.3,3.9,"","",{"v":12.299999999999999,"d":"12.3"},{"v":9.43,"d":"9.4300"},170,39.8867,45.3258,{"v":0,"d":"0.0"},45.3258]
[4,48,54.1592,200402214,"Fiene van Wijk","WVZ","WVZ","West",null,null,2004,null,"L","",null,54,53,54,53,55,0,0,16.1,11.8067,0,5.4,5.3,5.4,5.3,5.5,"","",16.1,11.8067,72,58,48,57,57,56,0,0,{"v":17,"d":"17.0"},12.4667,0,5.8,4.8,5.7,5.7,5.6,"","",{"v":17,"d":"17.0"},12.4667,21,58,54,58,56,61,0,0,17.2,{"v":12.04,"d":"12.0400"},0,5.8,5.4,5.8,5.6,6.1,"","",{"v":17.200000000000003,"d":"17.2"},{"v":12.04,"d":"12.0400"},52,45,49,51,50,49,0,0,{"v":14.8,"d":"15"},11.3467,0,4.5,4.9,5.1,{"v":5,"d":"5.0"},4.9,"","",{"v":14.799999999999997,"d":"14.8"},11.3467,72,47.6601,54.1592,{"v":0,"d":"0.0"},54.1592]
[5,76,{"v":51.394,"d":"51.3940"},200501210,"Eva Verveld","AZC","AZC","West",null,null,2005,null,"L","",null,53,51,51,55,53,0,0,15.7,11.5133,0,5.3,5.1,5.1,5.5,5.3,"","",{"v":15.700000000000001,"d":"15.7"},11.5133,88,52,50,44,48,51,0,0,14.9,10.9267,0,5.2,{"v":5,"d":"5.0"},4.4,4.8,5.1,"","",14.9,10.9267,86,52,60,56,58,56,0,0,{"v":17,"d":"17.0"},{"v":11.9,"d":"11.9000"},0,5.2,{"v":6,"d":"6.0"},5.6,5.8,5.6,"","",{"v":16.999999999999996,"d":"17.0"},{"v":11.9,"d":"11.9000"},63,53,47,48,47,43,0,0,{"v":14.2,"d":"14"},10.8867,0,5.3,4.7,4.8,4.7,4.3,"","",14.2,10.8867,103,{"v":45.226699999999994,"d":"45.2267"},{"v":51.394,"d":"51.3940"},{"v":0,"d":"0.0"},{"v":51.394,"d":"51.3940"}]
[6,175,43.4053,200404994,"Stacey Martha","DSZ","DSZ","West",null,null,2004,null,"","",null,47,46,44,47,46,0,0,13.9,10.1933,0,4.7,4.6,4.4,4.7,4.6,"","",13.9,10.1933,162,38,37,38,40,42,0,0,11.6,8.5067,0,3.8,3.7,3.8,{"v":4,"d":"4.0"},4.2,"","",{"v":11.600000000000001,"d":"11.6"},8.5067,188,46,50,55,48,48,0,0,14.6,{"v":10.22,"d":"10.2200"},0,4.6,{"v":5,"d":"5.0"},5.5,4.8,4.8,"","",14.6,{"v":10.22,"d":"10.2200"},142,37,41,44,40,40,0,0,{"v":12.1,"d":"12"},9.2767,0,3.7,4.1,4.4,{"v":4,"d":"4.0"},{"v":4,"d":"4.0"},"","",{"v":12.099999999999998,"d":"12.1"},9.2767,179,38.1967,43.4053,{"v":0,"d":"0.0"},43.4053]
[7,163,44.6553,200405376,"Anthea Khnykina","Swol 1894","SWOL","Oost",null,null,2004,null,"","",null,41,44,47,50,47,0,0,13.8,{"v":10.12,"d":"10.1200"},0,4.1,4.4,4.7,{"v":5,"d":"5.0"},4.7,"","",{"v":13.799999999999999,"d":"13.8"},{"v":10.12,"d":"10.1200"},165,44,44,42,43,45,0,0,13.1,9.6067,0,4.4,4.4,4.2,4.3,4.5,"","",{"v":13.100000000000001,"d":"13.1"},9.6067,154,49,58,56,53,49,0,0,15.8,{"v":11.06,"d":"11.0600"},0,4.9,5.8,5.6,5.3,4.9,"","",{"v":15.799999999999999,"d":"15.8"},{"v":11.06,"d":"11.0600"},101,34,37,37,37,38,0,0,{"v":11.1,"d":"11"},{"v":8.51,"d":"8.5100"},0,3.4,3.7,3.7,3.7,3.8,"","",11.1,{"v":8.51,"d":"8.5100"},197,39.2967,44.6553,{"v":0,"d":"0.0"},44.6553]
[8,124,47.9469,200304824,"Amber Duijndam","HZPC Horst","HZPC ","zuid",null,null,2003,null,"","",null,51,57,54,56,53,0,0,16.3,11.9533,0,5.1,5.7,5.4,5.6,5.3,"","",{"v":16.300000000000004,"d":"16.3"},11.9533,62,47,48,50,51,55,0,0,14.9,10.9267,0,4.7,4.8,{"v":5,"d":"5.0"},5.1,5.5,"","",{"v":14.900000000000002,"d":"14.9"},10.9267,86,47,52,45,47,44,0,0,13.9,{"v":9.73,"d":"9.7300"},0,4.7,5.2,4.5,4.7,4.4,"","",13.9,{"v":9.73,"d":"9.7300"},169,42,40,42,44,41,0,0,{"v":12.5,"d":"13"},9.5833,0,4.2,{"v":4,"d":"4.0"},4.2,4.4,4.1,"","",12.5,9.5833,166,42.1933,47.9469,{"v":0,"d":"0.0"},47.9469]
[9,149,46.0039,200503514,"Dominique Hoogkamer","Aquarijn","AQU","MidWest",null,"X",2005,null,"","Age II",null,40,42,44,37,45,0,0,12.6,{"v":9.24,"d":"9.2400"},0,{"v":4,"d":"4.0"},4.2,4.4,3.7,4.5,"","",{"v":12.600000000000001,"d":"12.6"},{"v":9.24,"d":"9.2400"},188,46,50,51,52,51,0,0,15.2,11.1467,0,4.6,{"v":5,"d":"5.0"},5.1,5.2,5.1,"","",{"v":15.200000000000001,"d":"15.2"},11.1467,72,45,53,50,49,49,0,0,14.8,{"v":10.36,"d":"10.3600"},0,4.5,5.3,{"v":5,"d":"5.0"},4.9,4.9,"","",14.8,{"v":10.36,"d":"10.3600"},135,40,42,44,43,42,0,0,{"v":12.7,"d":"13"},9.7367,0,{"v":4,"d":"4.0"},4.2,4.4,4.3,4.2,"","",{"v":12.699999999999996,"d":"12.7"},9.7367,158,{"v":40.483399999999996,"d":"40.4834"},46.0039,{"v":0,"d":"0.0"},46.0039]
[10,8,{"v":61.25,"d":"61.2500"},200400018,"Floor Schallenberg","ACZ","ACZ","West",null,null,2004,null,"L","",null,58,55,56,58,60,0,0,17.2,12.6133,0,5.8,5.5,5.6,5.8,{"v":6,"d":"6.0"},"","",17.2,12.6133,32,66,59,60,69,68,0,0,19.4,14.2267,0,6.6,5.9,{"v":6,"d":"6.0"},6.9,6.8,"","",19.4,14.2267,2,70,62,66,66,64,0,0,19.6,{"v":13.72,"d":"13.7200"},0,{"v":7,"d":"7.0"},6.2,6.6,6.6,6.4,"","",{"v":19.599999999999998,"d":"19.6"},{"v":13.72,"d":"13.7200"},5,64,56,56,59,59,0,0,{"v":17.4,"d":"17"},{"v":13.34,"d":"13.3400"},0,6.4,5.6,5.6,5.9,5.9,"","",17.4,{"v":13.34,"d":"13.3400"},11,{"v":53.900000000000006,"d":"53.9000"},{"v":61.25,"d":"61.2500"},{"v":0,"d":"0.0"},{"v":61.25,"d":"61.2500"}]
[11,176,43.2273,200502532,"Lizzy Bastiaans","Hera'11","HERA","Oost",null,null,2005,null,"","",null,52,39,42,39,47,0,0,12.8,9.3867,0,5.2,3.9,4.2,3.9,4.7,"","",{"v":12.799999999999999,"d":"12.8"},9.3867,184,45,42,39,41,44,0,0,12.7,9.3133,0,4.5,4.2,3.9,4.1,4.4,"","",{"v":12.700000000000001,"d":"12.7"},9.3133,169,45,48,39,44,46,0,0,13.5,{"v":9.45,"d":"9.4500"},0,4.5,4.8,3.9,4.4,4.6,"","",{"v":13.500000000000002,"d":"13.5"},{"v":9.45,"d":"9.4500"},178,40,43,44,42,44,0,0,{"v":12.9,"d":"13"},{"v":9.89,"d":"9.8900"},0,{"v":4,"d":"4.0"},4.3,4.4,4.2,4.4,"","",{"v":12.900000000000006,"d":"12.9"},{"v":9.89,"d":"9.8900"},153,{"v":38.04,"d":"38.0400"},43.2273,{"v":0,"d":"0.0"},43.2273]
[12,21,57.7273,200402252,"Ilse de Heij","Z.P.C.H.","ZPC","MidWest",null,null,2004,null,"L","",null,55,53,57,60,57,0,0,16.9,12.3933,0,5.5,5.3,5.7,{"v":6,"d":"6.0"},5.7,"","",16.9,12.3933,45,58,58,58,57,59,0,0,17.4,{"v":12.76,"d":"12.7600"},0,5.8,5.8,5.8,5.7,5.9,"","",{"v":17.400000000000002,"d":"17.4"},{"v":12.76,"d":"12.7600"},16,58,65,61,58,59,0,0,17.8,{"v":12.46,"d":"12.4600"},0,5.8,6.5,6.1,5.8,5.9,"","",17.8,{"v":12.46,"d":"12.4600"},31,57,55,54,60,60,0,0,{"v":17.2,"d":"17"},13.1867,0,5.7,5.5,5.4,{"v":6,"d":"6.0"},{"v":6,"d":"6.0"},"","",{"v":17.200000000000003,"d":"17.2"},13.1867,12,{"v":50.800000000000004,"d":"50.8000"},57.7273,{"v":0,"d":"0.0"},57.7273]
[13,146,46.2008,200300492,"Tamara Aarts","De Watertrappers","DWT","Mid West",null,null,2003,null,"","",null,47,49,47,51,48,0,0,14.4,{"v":10.56,"d":"10.5600"},0,4.7,4.9,4.7,5.1,4.8,"","",{"v":14.400000000000002,"d":"14.4"},{"v":10.56,"d":"10.5600"},137,40,47,46,45,43,0,0,13.4,9.8267,0,{"v":4,"d":"4.0"},4.7,4.6,4.5,4.3,"","",{"v":13.399999999999999,"d":"13.4"},9.8267,144,47,50,43,48,50,0,0,14.5,{"v":10.15,"d":"10.1500"},0,4.7,{"v":5,"d":"5.0"},4.3,4.8,{"v":5,"d":"5.0"},"","",14.5,{"v":10.15,"d":"10.1500"},144,47,47,42,43,41,0,0,{"v":13.2,"d":"13"},{"v":10.12,"d":"10.1200"},0,4.7,4.7,4.2,4.3,4.1,"","",{"v":13.200000000000001,"d":"13.2"},{"v":10.12,"d":"10.1200"},139,40.6567,46.2008,{"v":0,"d":"0.0"},46.2008]
[14,115,48.8599,200501860,"Amber van Luijn","De Dolfijn","DOL","Midwest",null,null,2005,null,"L","",null,49,53,48,53,50,0,0,15.2,11.1467,0,4.9,5.3,4.8,5.3,{"v":5,"d":"5.0"},"","",15.2,11.1467,105,49,50,48,53,49,0,0,14.8,10.8533,0,4.9,{"v":5,"d":"5.0"},4.8,5.3,4.9,"","",{"v":14.799999999999997,"d":"14.8"},10.8533,90,44,49,56,54,48,0,0,15.1,{"v":10.57,"d":"10.5700"},0,4.4,4.9,5.6,5.4,4.8,"","",15.1,{"v":10.57,"d":"10.5700"},119,43,49,45,47,44,0,0,{"v":13.6,"d":"14"},10.4267,0,4.3,4.9,4.5,4.7,4.4,"","",{"v":13.599999999999998,"d":"13.6"},10.4267,128,{"v":42.996700000000004,"d":"42.9967"},48.8599,{"v":0,"d":"0.0"},48.8599]
[15,193,{"v":0,"d":"0.0000"},200302598,"Rikst Schoo","HZ&PC Heerenveen","HZPC","Noord",null,null,2003,null,"","","x",0,0,0,0,0,0,0,{"v":0,"d":"0.0"},{"v":0,"d":"0.0000"},0,{"v":0,"d":"0.0"},{"v":0,"d":"0.0"},{"v":0,"d":"0.0"},{"v":0,"d":"0.0"},{"v":0,"d":"0.0"},"","",{"v":0,"d":"0.0"},{"v":0,"d":"0.0000"},"",0,0,0,0,0,0,0,{"v":0,"d":"0.0"},{"v":0,"d":"0.0000"},0,{"v":0,"d":"0.0"},{"v":0,"d":"0.0"},{"v":0,"d":"0.0"},{"v":0,"d":"0.0"},{"v":0,"d":"0.0"},"","",{"v":0,"d":"0.0"},{"v":0,"d":"0.0000"},"",0,0,0,0,0,0,0,{"v":0,"d":"0.0"},{"v":0,"d":"0.0000"},0,{"v":0,"d":"0.0"},{"v":0,"d":"0.0"},{"v":0,"d":"0.0"},{"v":0,"d":"0.0"},{"v":0,"d":"0.0"},"","",{"v":0,"d":"0.0"},{"v":0,"d":"0.0000"},"",0,0,0,0,0,0,0,0,{"v":0,"d":"0.0000"},0,{"v":0,"d":"0.0"},{"v":0,"d":"0.0"},{"v":0,"d":"0.0"},{"v":0,"d":"0.0"},{"v":0,"d":"0.0"},"","",{"v":0,"d":"0.0"},{"v":0,"d":"0.0000"},"",{"v":0,"d":"0.0000"},{"v":0,"d":"0.0000"},{"v":0,"d":"0.0"},0]
[16,130,47.6516,200305120,"Saar van den Berg","Widex Gzc Donk","DONK","West",null,null,2003,null,"","",null,54,51,45,47,51,0,0,14.9,10.9267,0,5.4,5.1,4.5,4.7,5.1,"","",{"v":14.899999999999999,"d":"14.9"},10.9267,112,47,50,49,45,48,0,0,14.4,{"v":10.56,"d":"10.5600"},0,4.7,{"v":5,"d":"5.0"},4.9,4.5,4.8,"","",{"v":14.400000000000002,"d":"14.4"},{"v":10.56,"d":"10.5600"},104,37,50,53,51,52,0,0,15.3,{"v":10.71,"d":"10.7100"},0,3.7,{"v":5,"d":"5.0"},5.3,5.1,5.2,"","",15.3,{"v":10.71,"d":"10.7100"},114,40,41,42,44,46,0,0,{"v":12.7,"d":"13"},9.7367,0,{"v":4,"d":"4.0"},4.1,4.2,4.4,4.6,"","",{"v":12.700000000000003,"d":"12.7"},9.7367,158,41.9334,47.6516,{"v":0,"d":"0.0"},47.6516]
[17,179,42.8485,200503580,"Irsah van Oosten","Widex Gzc Donk","DONK","West",null,"X",2005,null,"","",null,41,43,44,45,46,0,0,13.2,{"v":9.68,"d":"9.6800"},0,4.1,4.3,4.4,4.5,4.6,"","",{"v":13.199999999999998,"d":"13.2"},{"v":9.68,"d":"9.6800"},178,42,48,42,42,49,0,0,13.2,{"v":9.68,"d":"9.6800"},0,4.2,4.8,4.2,4.2,4.9,"","",13.2,{"v":9.68,"d":"9.6800"},152,40,42,40,41,46,0,0,12.3,{"v":8.61,"d":"8.6100"},0,{"v":4,"d":"4.0"},4.2,{"v":4,"d":"4.0"},4.1,4.6,"","",{"v":12.299999999999997,"d":"12.3"},{"v":8.61,"d":"8.6100"},194,42,43,42,43,41,0,0,{"v":12.7,"d":"13"},9.7367,0,4.2,4.3,4.2,4.3,4.1,"","",{"v":12.700000000000001,"d":"12.7"},9.7367,158,37.7067,42.8485,{"v":0,"d":"0.0"},42.8485]
[18,"BM",47.9886,200104834,"Eline Sijl","AZC","AZC","West","BM",null,2001,null,"BM","",null,43,42,46,42,47,0,0,13.1,9.6067,0,4.3,4.2,4.6,4.2,4.7,"","",{"v":13.100000000000001,"d":"13.1"},9.6067,180,48,45,43,46,49,0,0,13.9,10.1933,0,4.8,4.5,4.3,4.6,4.9,"","",{"v":13.900000000000002,"d":"13.9"},10.1933,119,49,58,56,56,54,0,0,16.6,{"v":11.62,"d":"11.6200"},0,4.9,5.8,5.6,5.6,5.4,"","",{"v":16.599999999999994,"d":"16.6"},{"v":11.62,"d":"11.6200"},78,44,49,48,49,43,0,0,{"v":14.1,"d":"14"},{"v":10.81,"d":"10.8100"},0,4.4,4.9,4.8,4.9,4.3,"","",{"v":14.099999999999998,"d":"14.1"},{"v":10.81,"d":"10.8100"},107,{"v":42.230000000000004,"d":"42.2300"},47.9886,{"v":0,"d":"0.0"},0]
[19,119,48.4849,200404610,"Esqua Swennen","DSZ","DSZ","West",null,null,2004,null,"","",null,48,48,52,53,49,0,0,14.9,10.9267,0,4.8,4.8,5.2,5.3,4.9,"","",{"v":14.899999999999999,"d":"14.9"},10.9267,112,53,50,52,55,50,0,0,15.5,11.3667,0,5.3,{"v":5,"d":"5.0"},5.2,5.5,{"v":5,"d":"5.0"},"","",15.5,11.3667,63,45,50,50,42,46,0,0,14.1,{"v":9.87,"d":"9.8700"},0,4.5,{"v":5,"d":"5.0"},{"v":5,"d":"5.0"},4.2,4.6,"","",{"v":14.099999999999998,"d":"14.1"},{"v":9.87,"d":"9.8700"},160,41,47,47,45,45,0,0,{"v":13.7,"d":"14"},10.5033,0,4.1,4.7,4.7,4.5,4.5,"","",{"v":13.700000000000001,"d":"13.7"},10.5033,121,{"v":42.66669999999999,"d":"42.6667"},48.4849,{"v":0,"d":"0.0"},48.4849]
[20,61,52.6628,200401608,"Ilyana Guliker","Polar Bears","PB","Oost",null,null,2004,null,"L","",null,52,54,54,56,54,0,0,16.2,{"v":11.88,"d":"11.8800"},0,5.2,5.4,5.4,5.6,5.4,"","",16.2,{"v":11.88,"d":"11.8800"},68,51,52,55,54,54,0,0,{"v":16,"d":"16.0"},11.7333,0,5.1,5.2,5.5,5.4,5.4,"","",{"v":16,"d":"16.0"},11.7333,46,53,60,59,52,55,0,0,16.7,{"v":11.69,"d":"11.6900"},0,5.3,{"v":6,"d":"6.0"},5.9,5.2,5.5,"","",{"v":16.700000000000003,"d":"16.7"},{"v":11.69,"d":"11.6900"},71,48,48,48,47,48,0,0,{"v":14.4,"d":"14"},{"v":11.04,"d":"11.0400"},0,4.8,4.8,4.8,4.7,4.8,"","",{"v":14.399999999999999,"d":"14.4"},{"v":11.04,"d":"11.0400"},92,46.3433,52.6628,{"v":0,"d":"0.0"},52.6628]
[21,128,{"v":47.803,"d":"47.8030"},200300794,"Jill Mourmans","ZC.Eijsden","eij","Zuid",null,null,2003,null,"","",null,49,45,48,54,48,0,0,14.5,10.6333,0,4.9,4.5,4.8,5.4,4.8,"","",14.5,10.6333,130,48,44,40,44,48,0,0,13.6,9.9733,0,4.8,4.4,{"v":4,"d":"4.0"},4.4,4.8,"","",{"v":13.600000000000001,"d":"13.6"},9.9733,134,54,57,50,56,52,0,0,16.2,{"v":11.34,"d":"11.3400"},0,5.4,5.7,{"v":5,"d":"5.0"},5.6,5.2,"","",{"v":16.200000000000003,"d":"16.2"},{"v":11.34,"d":"11.3400"},89,43,44,46,45,43,0,0,{"v":13.2,"d":"13"},{"v":10.12,"d":"10.1200"},0,4.3,4.4,4.6,4.5,4.3,"","",13.2,{"v":10.12,"d":"10.1200"},139,42.0666,{"v":47.803,"d":"47.8030"},{"v":0,"d":"0.0"},{"v":47.803,"d":"47.8030"}]
[22,101,49.5643,200303982,"Jolien Peeters","PSV Synchro Team Eindhoven","PSV","Zuid",null,null,2003,null,"L","",null,52,53,53,57,57,0,0,16.3,11.9533,0,5.2,5.3,5.3,5.7,5.7,"","",16.3,11.9533,62,47,39,37,41,46,0,0,12.6,{"v":9.24,"d":"9.2400"},0,4.7,3.9,3.7,4.1,4.6,"","",{"v":12.600000000000001,"d":"12.6"},{"v":9.24,"d":"9.2400"},172,52,54,59,59,54,0,0,16.7,{"v":11.69,"d":"11.6900"},0,5.2,5.4,5.9,5.9,5.4,"","",16.7,{"v":11.69,"d":"11.6900"},71,45,50,47,48,42,0,0,14,10.7333,0,4.5,{"v":5,"d":"5.0"},4.7,4.8,4.2,"","",{"v":14,"d":"14.0"},10.7333,113,43.6166,49.5643,{"v":0,"d":"0.0"},49.5643]
[23,45,54.3636,200303068,"Linda van Heumen","Aqua-Novio '94","AQN","Oost",null,null,2003,null,"L","",null,50,58,51,56,55,0,0,16.2,{"v":11.88,"d":"11.8800"},0,{"v":5,"d":"5.0"},5.8,5.1,5.6,5.5,"","",16.2,{"v":11.88,"d":"11.8800"},68,55,53,58,54,56,0,0,16.5,{"v":12.1,"d":"12.1000"},0,5.5,5.3,5.8,5.4,5.6,"","",16.5,{"v":12.1,"d":"12.1000"},32,52,57,57,56,59,0,0,{"v":17,"d":"17.0"},{"v":11.9,"d":"11.9000"},0,5.2,5.7,5.7,5.6,5.9,"","",{"v":17.000000000000004,"d":"17.0"},{"v":11.9,"d":"11.9000"},63,47,53,53,54,50,0,0,{"v":15.6,"d":"16"},{"v":11.96,"d":"11.9600"},0,4.7,5.3,5.3,5.4,{"v":5,"d":"5.0"},"","",{"v":15.600000000000005,"d":"15.6"},{"v":11.96,"d":"11.9600"},43,{"v":47.84,"d":"47.8400"},54.3636,{"v":0,"d":"0.0"},54.3636]
[24,104,49.4773,200502006,"Kyara Alexander","ACZ","ACZ","West",null,null,2005,null,"L","",null,55,55,51,58,57,0,0,16.7,12.2467,0,5.5,5.5,5.1,5.8,5.7,"","",{"v":16.700000000000003,"d":"16.7"},12.2467,51,45,46,44,43,47,0,0,13.5,{"v":9.9,"d":"9.9000"},0,4.5,4.6,4.4,4.3,4.7,"","",13.5,{"v":9.9,"d":"9.9000"},138,47,50,55,51,48,0,0,14.9,{"v":10.43,"d":"10.4300"},0,4.7,{"v":5,"d":"5.0"},5.5,5.1,4.8,"","",{"v":14.899999999999999,"d":"14.9"},{"v":10.43,"d":"10.4300"},127,45,47,48,48,48,0,0,{"v":14.3,"d":"14"},10.9633,0,4.5,4.7,4.8,4.8,4.8,"","",14.3,10.9633,96,{"v":43.540000000000006,"d":"43.5400"},49.4773,{"v":0,"d":"0.0"},49.4773]
[25,193,{"v":0,"d":"0.0000"},200304818,"Emma Leen","Z.P.C.H.","ZPC","MidWest",null,null,2003,null,"","","x",0,0,0,0,0,0,0,{"v":0,"d":"0.0"},{"v":0,"d":"0.0000"},0,{"v":0,"d":"0.0"},{"v":0,"d":"0.0"},{"v":0,"d":"0.0"},{"v":0,"d":"0.0"},{"v":0,"d":"0.0"},"","",{"v":0,"d":"0.0"},{"v":0,"d":"0.0000"},"",0,0,0,0,0,0,0,{"v":0,"d":"0.0"},{"v":0,"d":"0.0000"},0,{"v":0,"d":"0.0"},{"v":0,"d":"0.0"},{"v":0,"d":"0.0"},{"v":0,"d":"0.0"},{"v":0,"d":"0.0"},"","",{"v":0,"d":"0.0"},{"v":0,"d":"0.0000"},"",0,0,0,0,0,0,0,{"v":0,"d":"0.0"},{"v":0,"d":"0.0000"},0,{"v":0,"d":"0.0"},{"v":0,"d":"0.0"},{"v":0,"d":"0.0"},{"v":0,"d":"0.0"},{"v":0,"d":"0.0"},"","",{"v":0,"d":"0.0"},{"v":0,"d":"0.0000"},"",0,0,0,0,0,0,0,0,{"v":0,"d":"0.0000"},0,{"v":0,"d":"0.0"},{"v":0,"d":"0.0"},{"v":0,"d":"0.0"},{"v":0,"d":"0.0"},{"v":0,"d":"0.0"},"","",{"v":0,"d":"0.0"},{"v":0,"d":"0.0000"},"",{"v":0,"d":"0.0000"},{"v":0,"d":"0.0000"},{"v":0,"d":"0.0"},0]
[26,140,47.1781,200503992,"Merel Schrijvers van Zenden","Widex Gzc Donk","DONK","West",null,null,2005,null,"L","",null,47,49,48,46,48,0,0,14.3,10.4867,0,4.7,4.9,4.8,4.6,4.8,"","",{"v":14.299999999999999,"d":"14.3"},10.4867,143,49,49,47,44,49,0,0,14.5,10.6333,0,4.9,4.9,4.7,4.4,4.9,"","",{"v":14.499999999999998,"d":"14.5"},10.6333,100,50,49,50,56,47,0,0,14.9,{"v":10.43,"d":"10.4300"},0,{"v":5,"d":"5.0"},4.9,{"v":5,"d":"5.0"},5.6,4.7,"","",{"v":14.900000000000002,"d":"14.9"},{"v":10.43,"d":"10.4300"},127,41,44,46,43,43,0,0,13,9.9667,0,4.1,4.4,4.6,4.3,4.3,"","",{"v":13.000000000000002,"d":"13.0"},9.9667,149,41.5167,47.1781,{"v":0,"d":"0.0"},47.1781]
[27,83,{"v":50.822,"d":"50.8220"},200501556,"Iris Huizinga","DAW","DAW","Midwest",null,null,2005,null,"L","",null,51,51,47,45,53,0,0,14.9,10.9267,0,5.1,5.1,4.7,4.5,5.3,"","",{"v":14.899999999999999,"d":"14.9"},10.9267,112,48,54,53,52,55,0,0,15.9,{"v":11.66,"d":"11.6600"},0,4.8,5.4,5.3,5.2,5.5,"","",{"v":15.899999999999999,"d":"15.9"},{"v":11.66,"d":"11.6600"},48,54,56,55,53,55,0,0,16.4,{"v":11.48,"d":"11.4800"},0,5.4,5.6,5.5,5.3,5.5,"","",{"v":16.400000000000002,"d":"16.4"},{"v":11.48,"d":"11.4800"},84,49,46,46,47,45,0,0,{"v":13.9,"d":"14"},10.6567,0,4.9,4.6,4.6,4.7,4.5,"","",{"v":13.899999999999999,"d":"13.9"},10.6567,115,44.7234,{"v":50.822,"d":"50.8220"},{"v":0,"d":"0.0"},{"v":50.822,"d":"50.8220"}]
[28,56,53.3295,200401298,"Maddy van der Hoeven","De Dolfijn","DOL","Midwest",null,null,2004,null,"L","",null,53,53,52,53,56,0,0,15.9,{"v":11.66,"d":"11.6600"},0,5.3,5.3,5.2,5.3,5.6,"","",{"v":15.900000000000002,"d":"15.9"},{"v":11.66,"d":"11.6600"},79,50,49,48,52,52,0,0,15.1,11.0733,0,{"v":5,"d":"5.0"},4.9,4.8,5.2,5.2,"","",{"v":15.099999999999998,"d":"15.1"},11.0733,74,55,62,60,57,60,0,0,17.7,{"v":12.39,"d":"12.3900"},0,5.5,6.2,{"v":6,"d":"6.0"},5.7,{"v":6,"d":"6.0"},"","",17.7,{"v":12.39,"d":"12.3900"},34,48,53,52,53,49,0,0,{"v":15.4,"d":"15"},11.8067,0,4.8,5.3,5.2,5.3,4.9,"","",{"v":15.399999999999999,"d":"15.4"},11.8067,47,{"v":46.93,"d":"46.9300"},53.3295,{"v":0,"d":"0.0"},53.3295]
[29,188,40.8068,200503998,"Savoy Bottse","HZ&PC Heerenveen","HZPC","Noord",null,null,2005,null,"","",null,36,35,38,38,40,0,0,11.2,8.2133,0,3.6,3.5,3.8,3.8,{"v":4,"d":"4.0"},"","",11.2,8.2133,197,43,47,44,46,49,0,0,13.7,10.0467,0,4.3,4.7,4.4,4.6,4.9,"","",13.7,10.0467,132,43,45,39,37,42,0,0,12.4,{"v":8.68,"d":"8.6800"},0,4.3,4.5,3.9,3.7,4.2,"","",{"v":12.400000000000002,"d":"12.4"},{"v":8.68,"d":"8.6800"},193,39,40,38,38,42,0,0,{"v":11.7,"d":"12"},{"v":8.97,"d":"8.9700"},0,3.9,{"v":4,"d":"4.0"},3.8,3.8,4.2,"","",11.7,{"v":8.97,"d":"8.9700"},187,{"v":35.91,"d":"35.9100"},40.8068,{"v":0,"d":"0.0"},40.8068]
[30,193,{"v":0,"d":"0.0000"},200304194,"Sanne van der Waal","Z.P.C.H.","ZPC","MidWest",null,null,2003,null,"","","x",0,0,0,0,0,0,0,{"v":0,"d":"0.0"},{"v":0,"d":"0.0000"},0,{"v":0,"d":"0.0"},{"v":0,"d":"0.0"},{"v":0,"d":"0.0"},{"v":0,"d":"0.0"},{"v":0,"d":"0.0"},"","",{"v":0,"d":"0.0"},{"v":0,"d":"0.0000"},"",0,0,0,0,0,0,0,{"v":0,"d":"0.0"},{"v":0,"d":"0.0000"},0,{"v":0,"d":"0.0"},{"v":0,"d":"0.0"},{"v":0,"d":"0.0"},{"v":0,"d":"0.0"},{"v":0,"d":"0.0"},"","",{"v":0,"d":"0.0"},{"v":0,"d":"0.0000"},"",0,0,0,0,0,0,0,{"v":0,"d":"0.0"},{"v":0,"d":"0.0000"},0,{"v":0,"d":"0.0"},{"v":0,"d":"0.0"},{"v":0,"d":"0.0"},{"v":0,"d":"0.0"},{"v":0,"d":"0.0"},"","",{"v":0,"d":"0.0"},{"v":0,"d":"0.0000"},"",0,0,0,0,0,0,0,0,{"v":0,"d":"0.0000"},0,{"v":0,"d":"0.0"},{"v":0,"d":"0.0"},{"v":0,"d":"0.0"},{"v":0,"d":"0.0"},{"v":0,"d":"0.0"},"","",{"v":0,"d":"0.0"},{"v":0,"d":"0.0000"},"",{"v":0,"d":"0.0000"},{"v":0,"d":"0.0000"},{"v":0,"d":"0.0"},0]
[31,30,55.6932,200401126,"Keyla Lammers","AZC","AZC","West",null,null,2004,null,"L","",null,56,55,59,61,59,0,0,17.4,{"v":12.76,"d":"12.7600"},0,5.6,5.5,5.9,6.1,5.9,"","",17.4,{"v":12.76,"d":"12.7600"},26,56,55,52,54,55,0,0,16.4,12.0267,0,5.6,5.5,5.2,5.4,5.5,"","",{"v":16.400000000000002,"d":"16.4"},12.0267,36,56,60,60,57,56,0,0,17.3,{"v":12.11,"d":"12.1100"},0,5.6,{"v":6,"d":"6.0"},{"v":6,"d":"6.0"},5.7,5.6,"","",{"v":17.299999999999997,"d":"17.3"},{"v":12.11,"d":"12.1100"},47,50,51,51,56,57,0,0,{"v":15.8,"d":"16"},12.1133,0,{"v":5,"d":"5.0"},5.1,5.1,5.6,5.7,"","",{"v":15.799999999999997,"d":"15.8"},12.1133,37,{"v":49.01,"d":"49.0100"},55.6932,{"v":0,"d":"0.0"},55.6932]
[32,144,46.4469,200303042,"Eda Karacan","DSZ","DSZ","West",null,null,2003,null,"","",null,48,42,49,52,48,0,0,14.5,10.6333,0,4.8,4.2,4.9,5.2,4.8,"","",{"v":14.500000000000004,"d":"14.5"},10.6333,130,46,48,40,43,45,0,0,13.4,9.8267,0,4.6,4.8,{"v":4,"d":"4.0"},4.3,4.5,"","",{"v":13.399999999999999,"d":"13.4"},9.8267,144,44,46,43,45,48,0,0,13.5,{"v":9.45,"d":"9.4500"},0,4.4,4.6,4.3,4.5,4.8,"","",13.5,{"v":9.45,"d":"9.4500"},178,52,47,48,48,43,0,0,{"v":14.3,"d":"14"},10.9633,0,5.2,4.7,4.8,4.8,4.3,"","",14.3,10.9633,96,40.8733,46.4469,{"v":0,"d":"0.0"},46.4469]
[33,121,48.0948,200500620,"Norah Steinfort Schaap","Polar Bears","PB","Oost",null,null,2005,null,"L","",null,43,46,43,43,47,0,0,13.2,{"v":9.68,"d":"9.6800"},0,4.3,4.6,4.3,4.3,4.7,"","",13.2,{"v":9.68,"d":"9.6800"},178,54,56,57,58,54,0,0,16.7,12.2467,0,5.4,5.6,5.7,5.8,5.4,"","",{"v":16.699999999999996,"d":"16.7"},12.2467,28,46,50,50,49,52,0,0,14.9,{"v":10.43,"d":"10.4300"},0,4.6,{"v":5,"d":"5.0"},{"v":5,"d":"5.0"},4.9,5.2,"","",14.9,{"v":10.43,"d":"10.4300"},127,44,42,45,44,41,0,0,13,9.9667,0,4.4,4.2,4.5,4.4,4.1,"","",{"v":13.000000000000002,"d":"13.0"},9.9667,149,{"v":42.32340000000001,"d":"42.3234"},48.0948,{"v":0,"d":"0.0"},48.0948]
[34,157,45.0266,200501932,"Sofie Geurts","HZPC Horst","HZPC","zuid",null,"X",2005,null,"","Age II",null,47,45,47,44,46,0,0,13.8,{"v":10.12,"d":"10.1200"},0,4.7,4.5,4.7,4.4,4.6,"","",{"v":13.799999999999999,"d":"13.8"},{"v":10.12,"d":"10.1200"},165,44,39,42,48,49,0,0,13.4,9.8267,0,4.4,3.9,4.2,4.8,4.9,"","",{"v":13.400000000000004,"d":"13.4"},9.8267,144,48,48,53,46,45,0,0,14.2,{"v":9.94,"d":"9.9400"},0,4.8,4.8,5.3,4.6,4.5,"","",14.2,{"v":9.94,"d":"9.9400"},156,40,45,45,42,39,0,0,{"v":12.7,"d":"13"},9.7367,0,{"v":4,"d":"4.0"},4.5,4.5,4.2,3.9,"","",{"v":12.699999999999998,"d":"12.7"},9.7367,158,39.6234,45.0266,{"v":0,"d":"0.0"},45.0266]
[35,193,{"v":0,"d":"0.0000"},200304550,"Margo Rops","Synchro Breda","SYN","Zuid",null,null,2003,null,"","","x",0,0,0,0,0,0,0,{"v":0,"d":"0.0"},{"v":0,"d":"0.0000"},0,{"v":0,"d":"0.0"},{"v":0,"d":"0.0"},{"v":0,"d":"0.0"},{"v":0,"d":"0.0"},{"v":0,"d":"0.0"},"","",{"v":0,"d":"0.0"},{"v":0,"d":"0.0000"},"",0,0,0,0,0,0,0,{"v":0,"d":"0.0"},{"v":0,"d":"0.0000"},0,{"v":0,"d":"0.0"},{"v":0,"d":"0.0"},{"v":0,"d":"0.0"},{"v":0,"d":"0.0"},{"v":0,"d":"0.0"},"","",{"v":0,"d":"0.0"},{"v":0,"d":"0.0000"},"",0,0,0,0,0,0,0,{"v":0,"d":"0.0"},{"v":0,"d":"0.0000"},0,{"v":0,"d":"0.0"},{"v":0,"d":"0.0"},{"v":0,"d":"0.0"},{"v":0,"d":"0.0"},{"v":0,"d":"0.0"},"","",{"v":0,"d":"0.0"},{"v":0,"d":"0.0000"},"",0,0,0,0,0,0,0,0,{"v":0,"d":"0.0000"},0,{"v":0,"d":"0.0"},{"v":0,"d":"0.0"},{"v":0,"d":"0.0"},{"v":0,"d":"0.0"},{"v":0,"d":"0.0"},"","",{"v":0,"d":"0.0"},{"v":0,"d":"0.0000"},"",{"v":0,"d":"0.0000"},{"v":0,"d":"0.0000"},{"v":0,"d":"0.0"},0]
[36,178,43.0189,200503578,"Marissa Peters","Aqua-Novio '94","AQN","Oost",null,null,2005,null,"","",null,45,43,40,38,40,0,0,12.3,{"v":9.02,"d":"9.0200"},0,4.5,4.3,{"v":4,"d":"4.0"},3.8,{"v":4,"d":"4.0"},"","",12.3,{"v":9.02,"d":"9.0200"},191,43,37,38,40,44,0,0,12.1,8.8733,0,4.3,3.7,3.8,{"v":4,"d":"4.0"},4.4,"","",{"v":12.100000000000001,"d":"12.1"},8.8733,181,45,51,52,48,46,0,0,14.5,{"v":10.15,"d":"10.1500"},0,4.5,5.1,5.2,4.8,4.6,"","",{"v":14.500000000000004,"d":"14.5"},{"v":10.15,"d":"10.1500"},144,38,42,43,45,43,0,0,{"v":12.8,"d":"13"},9.8133,0,3.8,4.2,4.3,4.5,4.3,"","",12.8,9.8133,156,37.8566,43.0189,{"v":0,"d":"0.0"},43.0189]
[37,93,50.2424,200501856,"Tuana Ozsahin","ACZ","ACZ","West",null,null,2005,null,"L","",null,48,50,49,46,54,0,0,14.7,{"v":10.78,"d":"10.7800"},0,4.8,{"v":5,"d":"5.0"},4.9,4.6,5.4,"","",{"v":14.700000000000005,"d":"14.7"},{"v":10.78,"d":"10.7800"},120,54,52,60,55,53,0,0,16.2,{"v":11.88,"d":"11.8800"},0,5.4,5.2,{"v":6,"d":"6.0"},5.5,5.3,"","",{"v":16.200000000000003,"d":"16.2"},{"v":11.88,"d":"11.8800"},42,47,59,62,58,54,0,0,17.1,{"v":11.97,"d":"11.9700"},0,4.7,5.9,6.2,5.8,5.4,"","",17.1,{"v":11.97,"d":"11.9700"},57,41,44,43,41,40,0,0,{"v":12.5,"d":"13"},9.5833,0,4.1,4.4,4.3,4.1,{"v":4,"d":"4.0"},"","",12.5,9.5833,166,{"v":44.213300000000004,"d":"44.2133"},50.2424,{"v":0,"d":"0.0"},50.2424]
[38,151,45.6969,200503448,"Elize Bonhof","Hera'11","HERA","Oost",null,null,2005,null,"","",null,45,48,46,51,50,0,0,14.4,{"v":10.56,"d":"10.5600"},0,4.5,4.8,4.6,5.1,{"v":5,"d":"5.0"},"","",{"v":14.399999999999999,"d":"14.4"},{"v":10.56,"d":"10.5600"},137,41,46,43,42,40,0,0,12.6,{"v":9.24,"d":"9.2400"},0,4.1,4.6,4.3,4.2,{"v":4,"d":"4.0"},"","",{"v":12.600000000000001,"d":"12.6"},{"v":9.24,"d":"9.2400"},172,44,45,44,46,49,0,0,13.5,{"v":9.45,"d":"9.4500"},0,4.4,4.5,4.4,4.6,4.9,"","",{"v":13.499999999999998,"d":"13.5"},{"v":9.45,"d":"9.4500"},178,43,49,48,50,46,0,0,{"v":14.3,"d":"14"},10.9633,0,4.3,4.9,4.8,{"v":5,"d":"5.0"},4.6,"","",14.3,10.9633,96,{"v":40.213300000000004,"d":"40.2133"},45.6969,{"v":0,"d":"0.0"},45.6969]
[39,136,{"v":47.356,"d":"47.3560"},200404460,"Anastasia Ibrahimov","Z.P.C.H.","ZPC","MidWest",null,null,2004,null,"","",null,46,50,48,46,46,0,0,{"v":14,"d":"14.0"},10.2667,0,4.6,{"v":5,"d":"5.0"},4.8,4.6,4.6,"","",{"v":14.000000000000002,"d":"14.0"},10.2667,157,44,44,50,49,46,0,0,13.9,10.1933,0,4.4,4.4,{"v":5,"d":"5.0"},4.9,4.6,"","",{"v":13.900000000000004,"d":"13.9"},10.1933,119,46,50,56,50,53,0,0,15.3,{"v":10.71,"d":"10.7100"},0,4.6,{"v":5,"d":"5.0"},5.6,{"v":5,"d":"5.0"},5.3,"","",{"v":15.299999999999999,"d":"15.3"},{"v":10.71,"d":"10.7100"},114,45,47,46,46,45,0,0,{"v":13.7,"d":"14"},10.5033,0,4.5,4.7,4.6,4.6,4.5,"","",13.7,10.5033,121,41.6733,{"v":47.356,"d":"47.3560"},{"v":0,"d":"0.0"},{"v":47.356,"d":"47.3560"}]
[40,38,54.8674,200403890,"Mette Bos","Z.P.C.H.","ZPC","MidWest",null,null,2004,null,"L","",null,59,61,62,60,62,0,0,18.3,{"v":13.42,"d":"13.4200"},0,5.9,6.1,6.2,{"v":6,"d":"6.0"},6.2,"","",{"v":18.299999999999997,"d":"18.3"},{"v":13.42,"d":"13.4200"},11,47,51,58,55,57,0,0,16.3,11.9533,0,4.7,5.1,5.8,5.5,5.7,"","",16.3,11.9533,39,54,56,55,52,54,0,0,16.3,{"v":11.41,"d":"11.4100"},0,5.4,5.6,5.5,5.2,5.4,"","",16.3,{"v":11.41,"d":"11.4100"},86,49,50,51,50,50,0,0,15,{"v":11.5,"d":"11.5000"},0,4.9,{"v":5,"d":"5.0"},5.1,{"v":5,"d":"5.0"},{"v":5,"d":"5.0"},"","",{"v":14.999999999999998,"d":"15.0"},{"v":11.5,"d":"11.5000"},62,48.2833,54.8674,{"v":0,"d":"0.0"},54.8674]
[41,73,51.4924,200301990,"Charissa de Groot","De Watertrappers","DWT","Mid West",null,null,2003,null,"L","",null,49,53,53,57,53,0,0,15.9,{"v":11.66,"d":"11.6600"},0,4.9,5.3,5.3,5.7,5.3,"","",15.9,{"v":11.66,"d":"11.6600"},79,49,47,45,46,50,0,0,14.2,10.4133,0,4.9,4.7,4.5,4.6,{"v":5,"d":"5.0"},"","",{"v":14.200000000000003,"d":"14.2"},10.4133,111,56,58,60,57,56,0,0,17.1,{"v":11.97,"d":"11.9700"},0,5.6,5.8,{"v":6,"d":"6.0"},5.7,5.6,"","",{"v":17.099999999999994,"d":"17.1"},{"v":11.97,"d":"11.9700"},57,50,47,50,51,45,0,0,{"v":14.7,"d":"15"},{"v":11.27,"d":"11.2700"},0,{"v":5,"d":"5.0"},4.7,{"v":5,"d":"5.0"},5.1,4.5,"","",{"v":14.699999999999996,"d":"14.7"},{"v":11.27,"d":"11.2700"},76,45.3133,51.4924,{"v":0,"d":"0.0"},51.4924]
[42,35,55.5378,200401278,"Kate Jutte","WVZ","WVZ","West",null,null,2004,null,"L","",null,52,51,59,48,54,0,0,15.7,11.5133,0,5.2,5.1,5.9,4.8,5.4,"","",{"v":15.700000000000006,"d":"15.7"},11.5133,88,54,52,49,56,57,0,0,16.2,{"v":11.88,"d":"11.8800"},0,5.4,5.2,4.9,5.6,5.7,"","",{"v":16.200000000000003,"d":"16.2"},{"v":11.88,"d":"11.8800"},42,54,62,61,62,57,0,0,{"v":18,"d":"18.0"},{"v":12.6,"d":"12.6000"},0,5.4,6.2,6.1,6.2,5.7,"","",{"v":18,"d":"18.0"},{"v":12.6,"d":"12.6000"},25,59,56,55,57,55,0,0,{"v":16.8,"d":"17"},{"v":12.88,"d":"12.8800"},0,5.9,5.6,5.5,5.7,5.5,"","",{"v":16.799999999999997,"d":"16.8"},{"v":12.88,"d":"12.8800"},21,48.8733,55.5378,{"v":0,"d":"0.0"},55.5378]
[43,168,44.4205,200504152,"Kazu Landman","VZC Veenendaal","VZV","Midwest",null,"X",2005,null,"","",null,44,44,45,53,40,0,0,13.3,9.7533,0,4.4,4.4,4.5,5.3,{"v":4,"d":"4.0"},"","",13.3,9.7533,176,36,38,45,44,40,0,0,12.2,8.9467,0,3.6,3.8,4.5,4.4,{"v":4,"d":"4.0"},"","",{"v":12.200000000000001,"d":"12.2"},8.9467,177,43,47,50,56,53,0,0,{"v":15,"d":"15.0"},{"v":10.5,"d":"10.5000"},0,4.3,4.7,{"v":5,"d":"5.0"},5.6,5.3,"","",{"v":15.000000000000004,"d":"15.0"},{"v":10.5,"d":"10.5000"},122,40,44,47,45,39,0,0,{"v":12.9,"d":"13"},{"v":9.89,"d":"9.8900"},0,{"v":4,"d":"4.0"},4.4,4.7,4.5,3.9,"","",12.9,{"v":9.89,"d":"9.8900"},153,{"v":39.09,"d":"39.0900"},44.4205,{"v":0,"d":"0.0"},44.4205]
[44,145,46.2122,200404178,"Mandy van der Veen","HZ&PC Heerenveen","HZPC","Noord",null,null,2004,null,"","",null,54,56,54,57,53,0,0,16.4,12.0267,0,5.4,5.6,5.4,5.7,5.3,"","",16.4,12.0267,58,42,34,36,39,42,0,0,11.7,{"v":8.58,"d":"8.5800"},0,4.2,3.4,3.6,3.9,4.2,"","",{"v":11.700000000000001,"d":"11.7"},{"v":8.58,"d":"8.5800"},186,46,46,48,50,48,0,0,14.2,{"v":9.94,"d":"9.9400"},0,4.6,4.6,4.8,{"v":5,"d":"5.0"},4.8,"","",{"v":14.200000000000001,"d":"14.2"},{"v":9.94,"d":"9.9400"},156,39,42,47,44,46,0,0,{"v":13.2,"d":"13"},{"v":10.12,"d":"10.1200"},0,3.9,4.2,4.7,4.4,4.6,"","",{"v":13.200000000000005,"d":"13.2"},{"v":10.12,"d":"10.1200"},139,40.6667,46.2122,{"v":0,"d":"0.0"},46.2122]
[45,72,51.5909,200501580,"Nayla Verzeide","Widex Gzc Donk","DONK","West",null,null,2005,null,"L","",null,50,54,53,55,54,0,0,16.1,11.8067,0,{"v":5,"d":"5.0"},5.4,5.3,5.5,5.4,"","",16.1,11.8067,72,49,49,49,52,46,0,0,14.7,{"v":10.78,"d":"10.7800"},0,4.9,4.9,4.9,5.2,4.6,"","",{"v":14.700000000000001,"d":"14.7"},{"v":10.78,"d":"10.7800"},93,50,53,58,57,56,0,0,16.6,{"v":11.62,"d":"11.6200"},0,{"v":5,"d":"5.0"},5.3,5.8,5.7,5.6,"","",{"v":16.599999999999998,"d":"16.6"},{"v":11.62,"d":"11.6200"},78,50,48,47,48,50,0,0,{"v":14.6,"d":"15"},11.1933,0,{"v":5,"d":"5.0"},4.8,4.7,4.8,{"v":5,"d":"5.0"},"","",{"v":14.600000000000001,"d":"14.6"},11.1933,83,{"v":45.4,"d":"45.4000"},51.5909,{"v":0,"d":"0.0"},51.5909]
[46,6,{"v":62.269,"d":"62.2690"},200500012,"Marloes Steenbeek","De Dolfijn","DOL","Midwest",null,null,2005,null,"L","",null,64,64,66,67,65,0,0,19.5,{"v":14.3,"d":"14.3000"},0,6.4,6.4,6.6,6.7,6.5,"","",{"v":19.499999999999993,"d":"19.5"},{"v":14.3,"d":"14.3000"},2,64,65,62,63,62,0,0,18.9,{"v":13.86,"d":"13.8600"},0,6.4,6.5,6.2,6.3,6.2,"","",{"v":18.900000000000002,"d":"18.9"},{"v":13.86,"d":"13.8600"},6,60,54,64,59,60,0,0,17.9,{"v":12.53,"d":"12.5300"},0,{"v":6,"d":"6.0"},5.4,6.4,5.9,{"v":6,"d":"6.0"},"","",{"v":17.900000000000006,"d":"17.9"},{"v":12.53,"d":"12.5300"},28,58,59,62,63,63,0,0,{"v":18.4,"d":"18"},14.1067,0,5.8,5.9,6.2,6.3,6.3,"","",18.4,14.1067,3,54.7967,{"v":62.269,"d":"62.2690"},{"v":0,"d":"0.0"},{"v":62.269,"d":"62.2690"}]
[47,4,62.4091,200401204,"Merel Leuring","AZC","AZC","West",null,null,2004,null,"L","",null,64,59,63,63,63,0,0,18.9,{"v":13.86,"d":"13.8600"},0,6.4,5.9,6.3,6.3,6.3,"","",{"v":18.900000000000006,"d":"18.9"},{"v":13.86,"d":"13.8600"},9,61,57,62,71,69,0,0,19.2,{"v":14.08,"d":"14.0800"},0,6.1,5.7,6.2,7.1,6.9,"","",19.2,{"v":14.08,"d":"14.0800"},4,59,62,62,61,64,0,0,18.5,{"v":12.95,"d":"12.9500"},0,5.9,6.2,6.2,6.1,6.4,"","",18.5,{"v":12.95,"d":"12.9500"},17,60,61,61,63,61,0,0,{"v":18.3,"d":"18"},{"v":14.03,"d":"14.0300"},0,{"v":6,"d":"6.0"},6.1,6.1,6.3,6.1,"","",18.3,{"v":14.03,"d":"14.0300"},4,{"v":54.92,"d":"54.9200"},62.4091,{"v":0,"d":"0.0"},62.4091]
[48,64,52.0038,200304568,"Jasmijn van Beijnum","BZ&PC","BZP","West",null,null,2003,null,"L","",null,48,51,53,52,53,0,0,15.6,{"v":11.44,"d":"11.4400"},0,4.8,5.1,5.3,5.2,5.3,"","",{"v":15.599999999999998,"d":"15.6"},{"v":11.44,"d":"11.4400"},96,45,43,49,50,48,0,0,14.2,10.4133,0,4.5,4.3,4.9,{"v":5,"d":"5.0"},4.8,"","",{"v":14.200000000000003,"d":"14.2"},10.4133,111,59,64,58,55,57,0,0,17.4,{"v":12.18,"d":"12.1800"},0,5.9,6.4,5.8,5.5,5.7,"","",17.4,{"v":12.18,"d":"12.1800"},42,50,52,51,49,52,0,0,{"v":15.3,"d":"15"},{"v":11.73,"d":"11.7300"},0,{"v":5,"d":"5.0"},5.2,5.1,4.9,5.2,"","",{"v":15.299999999999999,"d":"15.3"},{"v":11.73,"d":"11.7300"},50,45.7633,52.0038,{"v":0,"d":"0.0"},52.0038]
[49,"BM",48.0872,200602178,"Felicia Leemburg","BZ&PC","BZP","West","BM",null,2006,null,"BM","",null,47,48,51,57,48,0,0,14.7,{"v":10.78,"d":"10.7800"},0,4.7,4.8,5.1,5.7,4.8,"","",{"v":14.700000000000003,"d":"14.7"},{"v":10.78,"d":"10.7800"},120,46,48,46,46,45,0,0,13.8,{"v":10.12,"d":"10.1200"},0,4.6,4.8,4.6,4.6,4.5,"","",{"v":13.799999999999997,"d":"13.8"},{"v":10.12,"d":"10.1200"},126,51,53,53,57,47,0,0,15.7,{"v":10.99,"d":"10.9900"},0,5.1,5.3,5.3,5.7,4.7,"","",15.7,{"v":10.99,"d":"10.9900"},105,44,45,47,46,45,0,0,{"v":13.6,"d":"14"},10.4267,0,4.4,4.5,4.7,4.6,4.5,"","",{"v":13.600000000000003,"d":"13.6"},10.4267,128,42.3167,48.0872,{"v":0,"d":"0.0"},0]
[50,106,49.3711,200403514,"Auke Kuijk","Cadans","CAD","oost",null,null,2004,null,"L","",null,53,47,50,48,46,0,0,14.5,10.6333,0,5.3,4.7,{"v":5,"d":"5.0"},4.8,4.6,"","",{"v":14.499999999999998,"d":"14.5"},10.6333,130,44,42,47,48,51,0,0,13.9,10.1933,0,4.4,4.2,4.7,4.8,5.1,"","",{"v":13.900000000000002,"d":"13.9"},10.1933,119,54,60,59,59,54,0,0,17.2,{"v":12.04,"d":"12.0400"},0,5.4,{"v":6,"d":"6.0"},5.9,5.9,5.4,"","",{"v":17.200000000000003,"d":"17.2"},{"v":12.04,"d":"12.0400"},52,38,48,48,48,42,0,0,{"v":13.8,"d":"14"},{"v":10.58,"d":"10.5800"},0,3.8,4.8,4.8,4.8,4.2,"","",{"v":13.799999999999997,"d":"13.8"},{"v":10.58,"d":"10.5800"},117,43.4466,49.3711,{"v":0,"d":"0.0"},49.3711]
[51,85,50.6781,200400222,"Abigail Vievermans","ZVBrunssum","ZVB","Zuid",null,null,2004,null,"L","",null,51,45,55,56,53,0,0,15.9,{"v":11.66,"d":"11.6600"},0,5.1,4.5,5.5,5.6,5.3,"","",{"v":15.899999999999999,"d":"15.9"},{"v":11.66,"d":"11.6600"},79,47,43,45,45,47,0,0,13.7,10.0467,0,4.7,4.3,4.5,4.5,4.7,"","",13.7,10.0467,132,51,57,58,57,52,0,0,16.6,{"v":11.62,"d":"11.6200"},0,5.1,5.7,5.8,5.7,5.2,"","",16.6,{"v":11.62,"d":"11.6200"},78,46,51,49,49,49,0,0,{"v":14.7,"d":"15"},{"v":11.27,"d":"11.2700"},0,4.6,5.1,4.9,4.9,4.9,"","",{"v":14.699999999999998,"d":"14.7"},{"v":11.27,"d":"11.2700"},76,44.5967,50.6781,{"v":0,"d":"0.0"},50.6781]
[52,193,{"v":0,"d":"0.0000"},200404148,"Lieke Smeets","Hellas-Glana","Hellas","Zuid",null,"X",2004,null,"","","x",0,0,0,0,0,0,0,{"v":0,"d":"0.0"},{"v":0,"d":"0.0000"},0,{"v":0,"d":"0.0"},{"v":0,"d":"0.0"},{"v":0,"d":"0.0"},{"v":0,"d":"0.0"},{"v":0,"d":"0.0"},"","",{"v":0,"d":"0.0"},{"v":0,"d":"0.0000"},"",0,0,0,0,0,0,0,{"v":0,"d":"0.0"},{"v":0,"d":"0.0000"},0,{"v":0,"d":"0.0"},{"v":0,"d":"0.0"},{"v":0,"d":"0.0"},{"v":0,"d":"0.0"},{"v":0,"d":"0.0"},"","",{"v":0,"d":"0.0"},{"v":0,"d":"0.0000"},"",0,0,0,0,0,0,0,{"v":0,"d":"0.0"},{"v":0,"d":"0.0000"},0,{"v":0,"d":"0.0"},{"v":0,"d":"0.0"},{"v":0,"d":"0.0"},{"v":0,"d":"0.0"},{"v":0,"d":"0.0"},"","",{"v":0,"d":"0.0"},{"v":0,"d":"0.0000"},"",0,0,0,0,0,0,0,0,{"v":0,"d":"0.0000"},0,{"v":0,"d":"0.0"},{"v":0,"d":"0.0"},{"v":0,"d":"0.0"},{"v":0,"d":"0.0"},{"v":0,"d":"0.0"},"","",{"v":0,"d":"0.0"},{"v":0,"d":"0.0000"},"",{"v":0,"d":"0.0000"},{"v":0,"d":"0.0000"},{"v":0,"d":"0.0"},0]
[53,32,55.6136,200403206,"Fleur Vergeer","Aquarijn","AQU","MidWest",null,null,2004,null,"L","",null,57,60,58,53,59,0,0,17.4,{"v":12.76,"d":"12.7600"},0,5.7,{"v":6,"d":"6.0"},5.8,5.3,5.9,"","",{"v":17.400000000000002,"d":"17.4"},{"v":12.76,"d":"12.7600"},26,52,50,53,53,55,0,0,15.8,11.5867,0,5.2,{"v":5,"d":"5.0"},5.3,5.3,5.5,"","",15.8,11.5867,50,49,61,56,60,59,0,0,17.5,{"v":12.25,"d":"12.2500"},0,4.9,6.1,5.6,{"v":6,"d":"6.0"},5.9,"","",17.5,{"v":12.25,"d":"12.2500"},39,54,53,52,54,54,0,0,{"v":16.1,"d":"16"},12.3433,0,5.4,5.3,5.2,5.4,5.4,"","",{"v":16.099999999999998,"d":"16.1"},12.3433,32,{"v":48.94,"d":"48.9400"},55.6136,{"v":0,"d":"0.0"},55.6136]
[54,107,49.2992,200502828,"Lisa Dams","Aqua-Novio '94","AQN","Oost",null,null,2005,null,"L","",null,48,45,45,48,43,0,0,13.8,{"v":10.12,"d":"10.1200"},0,4.8,4.5,4.5,4.8,4.3,"","",13.8,{"v":10.12,"d":"10.1200"},165,48,50,50,47,49,0,0,14.7,{"v":10.78,"d":"10.7800"},0,4.8,{"v":5,"d":"5.0"},{"v":5,"d":"5.0"},4.7,4.9,"","",14.7,{"v":10.78,"d":"10.7800"},93,48,56,54,51,53,0,0,15.8,{"v":11.06,"d":"11.0600"},0,4.8,5.6,5.4,5.1,5.3,"","",15.8,{"v":11.06,"d":"11.0600"},101,52,50,50,49,49,0,0,{"v":14.9,"d":"15"},11.4233,0,5.2,{"v":5,"d":"5.0"},{"v":5,"d":"5.0"},4.9,4.9,"","",14.9,11.4233,65,43.3833,49.2992,{"v":0,"d":"0.0"},49.2992]
[55,22,{"v":57.553,"d":"57.5530"},200403278,"Eline Penning","ACZ","ACZ","West",null,null,2004,null,"L","",null,60,59,61,63,60,0,0,18.1,13.2733,0,{"v":6,"d":"6.0"},5.9,6.1,6.3,{"v":6,"d":"6.0"},"","",18.1,13.2733,17,55,52,54,59,61,0,0,16.8,{"v":12.32,"d":"12.3200"},0,5.5,5.2,5.4,5.9,6.1,"","",16.8,{"v":12.32,"d":"12.3200"},26,58,55,61,56,65,0,0,17.5,{"v":12.25,"d":"12.2500"},0,5.8,5.5,6.1,5.6,6.5,"","",17.5,{"v":12.25,"d":"12.2500"},39,60,56,50,59,52,0,0,{"v":16.7,"d":"17"},12.8033,0,{"v":6,"d":"6.0"},5.6,{"v":5,"d":"5.0"},5.9,5.2,"","",16.7,12.8033,23,50.6466,{"v":57.553,"d":"57.5530"},{"v":0,"d":"0.0"},{"v":57.553,"d":"57.5530"}]
[56,143,46.8333,200400946,"Nyanda de Roos","De Houtrib","HOU","Oost",null,null,2004,null,"","",null,45,46,48,48,45,0,0,13.9,10.1933,0,4.5,4.6,4.8,4.8,4.5,"","",{"v":13.899999999999999,"d":"13.9"},10.1933,162,41,46,42,46,45,0,0,13.3,9.7533,0,4.1,4.6,4.2,4.6,4.5,"","",{"v":13.299999999999999,"d":"13.3"},9.7533,151,45,45,50,50,53,0,0,14.5,{"v":10.15,"d":"10.1500"},0,4.5,4.5,{"v":5,"d":"5.0"},{"v":5,"d":"5.0"},5.3,"","",14.5,{"v":10.15,"d":"10.1500"},144,47,49,48,48,49,0,0,{"v":14.5,"d":"15"},11.1167,0,4.7,4.9,4.8,4.8,4.9,"","",{"v":14.500000000000004,"d":"14.5"},11.1167,87,{"v":41.213300000000004,"d":"41.2133"},46.8333,{"v":0,"d":"0.0"},46.8333]
[57,34,{"v":55.591,"d":"55.5910"},200304796,"Judith Bosman","Z.P.C.H.","ZPC","MidWest",null,null,2003,null,"L","",null,59,56,56,56,58,0,0,{"v":17,"d":"17.0"},12.4667,0,5.9,5.6,5.6,5.6,5.8,"","",{"v":17,"d":"17.0"},12.4667,41,56,49,47,53,58,0,0,15.8,11.5867,0,5.6,4.9,4.7,5.3,5.8,"","",15.8,11.5867,50,60,60,60,60,59,0,0,{"v":18,"d":"18.0"},{"v":12.6,"d":"12.6000"},0,{"v":6,"d":"6.0"},{"v":6,"d":"6.0"},{"v":6,"d":"6.0"},{"v":6,"d":"6.0"},5.9,"","",{"v":18,"d":"18.0"},{"v":12.6,"d":"12.6000"},25,51,56,53,52,55,0,0,16,12.2667,0,5.1,5.6,5.3,5.2,5.5,"","",{"v":16,"d":"16.0"},12.2667,34,48.9201,{"v":55.591,"d":"55.5910"},{"v":0,"d":"0.0"},{"v":55.591,"d":"55.5910"}]
[58,49,54.1553,200403048,"Ninon van Baal","DAW","DAW","Midwest",null,null,2004,null,"L","",null,58,57,56,54,57,0,0,{"v":17,"d":"17.0"},12.4667,0,5.8,5.7,5.6,5.4,5.7,"","",{"v":17,"d":"17.0"},12.4667,41,52,51,51,51,54,0,0,15.4,11.2933,0,5.2,5.1,5.1,5.1,5.4,"","",15.4,11.2933,66,57,61,57,58,61,0,0,17.6,{"v":12.32,"d":"12.3200"},0,5.7,6.1,5.7,5.8,6.1,"","",{"v":17.599999999999998,"d":"17.6"},{"v":12.32,"d":"12.3200"},37,47,50,50,51,51,0,0,{"v":15.1,"d":"15"},11.5767,0,4.7,{"v":5,"d":"5.0"},{"v":5,"d":"5.0"},5.1,5.1,"","",{"v":15.099999999999998,"d":"15.1"},11.5767,58,47.6567,54.1553,{"v":0,"d":"0.0"},54.1553]
[59,50,54.1439,200405168,"Isis Braam","De Dolfijn","DOL","Midwest",null,null,2004,null,"L","",null,56,56,59,62,60,0,0,17.5,12.8333,0,5.6,5.6,5.9,6.2,{"v":6,"d":"6.0"},"","",17.5,12.8333,24,51,50,50,48,50,0,0,{"v":15,"d":"15.0"},{"v":11,"d":"11.0000"},0,5.1,{"v":5,"d":"5.0"},{"v":5,"d":"5.0"},4.8,{"v":5,"d":"5.0"},"","",{"v":14.999999999999996,"d":"15.0"},{"v":11,"d":"11.0000"},79,56,63,61,60,56,0,0,17.7,{"v":12.39,"d":"12.3900"},0,5.6,6.3,6.1,{"v":6,"d":"6.0"},5.6,"","",{"v":17.700000000000003,"d":"17.7"},{"v":12.39,"d":"12.3900"},34,52,52,49,48,48,0,0,{"v":14.9,"d":"15"},11.4233,0,5.2,5.2,4.9,4.8,4.8,"","",{"v":14.900000000000002,"d":"14.9"},11.4233,65,47.6466,54.1439,{"v":0,"d":"0.0"},54.1439]
[60,170,43.8902,200502634,"Sophie O'Toole","VZC Veenendaal","VZV","Midwest",null,"X",2005,null,"","",null,47,46,47,48,43,0,0,{"v":14,"d":"14.0"},10.2667,0,4.7,4.6,4.7,4.8,4.3,"","",{"v":14,"d":"14.0"},10.2667,157,49,47,45,42,41,0,0,13.4,9.8267,0,4.9,4.7,4.5,4.2,4.1,"","",13.4,9.8267,144,44,49,40,39,46,0,0,{"v":13,"d":"13.0"},{"v":9.1,"d":"9.1000"},0,4.4,4.9,{"v":4,"d":"4.0"},3.9,4.6,"","",{"v":12.999999999999998,"d":"13.0"},{"v":9.1,"d":"9.1000"},190,39,41,44,43,39,0,0,{"v":12.3,"d":"12"},{"v":9.43,"d":"9.4300"},0,3.9,4.1,4.4,4.3,3.9,"","",{"v":12.299999999999995,"d":"12.3"},{"v":9.43,"d":"9.4300"},170,{"v":38.623400000000004,"d":"38.6234"},43.8902,{"v":0,"d":"0.0"},43.8902]
[61,90,50.4622,200403868,"Madelief Volbeda","HZ&PC Heerenveen","HZPC","Noord",null,null,2004,null,"L","",null,52,53,51,56,50,0,0,15.6,{"v":11.44,"d":"11.4400"},0,5.2,5.3,5.1,5.6,{"v":5,"d":"5.0"},"","",{"v":15.600000000000001,"d":"15.6"},{"v":11.44,"d":"11.4400"},96,48,44,46,47,50,0,0,14.1,{"v":10.34,"d":"10.3400"},0,4.8,4.4,4.6,4.7,{"v":5,"d":"5.0"},"","",14.1,{"v":10.34,"d":"10.3400"},114,55,60,60,53,56,0,0,17.1,{"v":11.97,"d":"11.9700"},0,5.5,{"v":6,"d":"6.0"},{"v":6,"d":"6.0"},5.3,5.6,"","",{"v":17.099999999999998,"d":"17.1"},{"v":11.97,"d":"11.9700"},57,42,48,46,45,49,0,0,{"v":13.9,"d":"14"},10.6567,0,4.2,4.8,4.6,4.5,4.9,"","",{"v":13.900000000000002,"d":"13.9"},10.6567,115,44.4067,50.4622,{"v":0,"d":"0.0"},50.4622]
[62,148,46.1099,200404482,"Minke van Dalfsen","Widex Gzc Donk","DONK","West",null,null,2004,null,"","",null,47,48,49,55,47,0,0,14.4,{"v":10.56,"d":"10.5600"},0,4.7,4.8,4.9,5.5,4.7,"","",{"v":14.399999999999999,"d":"14.4"},{"v":10.56,"d":"10.5600"},137,44,46,44,45,46,0,0,13.5,{"v":9.9,"d":"9.9000"},0,4.4,4.6,4.4,4.5,4.6,"","",{"v":13.499999999999998,"d":"13.5"},{"v":9.9,"d":"9.9000"},138,49,48,51,45,48,0,0,14.5,{"v":10.15,"d":"10.1500"},0,4.9,4.8,5.1,4.5,4.8,"","",14.5,{"v":10.15,"d":"10.1500"},144,40,45,44,43,43,0,0,13,9.9667,0,{"v":4,"d":"4.0"},4.5,4.4,4.3,4.3,"","",{"v":13,"d":"13.0"},9.9667,149,40.5767,46.1099,{"v":0,"d":"0.0"},46.1099]
[63,158,44.9659,200503124,"Femke van de Ridder","Widex Gzc Donk","DONK","West",null,null,2005,null,"","",null,38,47,48,43,40,0,0,{"v":13,"d":"13.0"},9.5333,0,3.8,4.7,4.8,4.3,{"v":4,"d":"4.0"},"","",{"v":13,"d":"13.0"},9.5333,183,45,44,47,41,46,0,0,13.5,{"v":9.9,"d":"9.9000"},0,4.5,4.4,4.7,4.1,4.6,"","",{"v":13.500000000000005,"d":"13.5"},{"v":9.9,"d":"9.9000"},138,47,50,48,47,45,0,0,14.2,{"v":9.94,"d":"9.9400"},0,4.7,{"v":5,"d":"5.0"},4.8,4.7,4.5,"","",14.2,{"v":9.94,"d":"9.9400"},156,43,44,46,47,41,0,0,{"v":13.3,"d":"13"},10.1967,0,4.3,4.4,4.6,4.7,4.1,"","",{"v":13.300000000000002,"d":"13.3"},10.1967,136,{"v":39.57,"d":"39.5700"},44.9659,{"v":0,"d":"0.0"},44.9659]
[64,62,52.5985,200303047,"Zody Thode","Cadans","CAD","oost",null,null,2003,null,"L","",null,57,58,63,63,61,0,0,18.2,13.3467,0,5.7,5.8,6.3,6.3,6.1,"","",{"v":18.200000000000003,"d":"18.2"},13.3467,12,52,42,43,45,50,0,0,13.8,{"v":10.12,"d":"10.1200"},0,5.2,4.2,4.3,4.5,{"v":5,"d":"5.0"},"","",13.8,{"v":10.12,"d":"10.1200"},126,57,52,57,50,56,0,0,16.5,{"v":11.55,"d":"11.5500"},0,5.7,5.2,5.7,{"v":5,"d":"5.0"},5.6,"","",{"v":16.500000000000004,"d":"16.5"},{"v":11.55,"d":"11.5500"},82,49,49,49,49,47,0,0,{"v":14.7,"d":"15"},{"v":11.27,"d":"11.2700"},0,4.9,4.9,4.9,4.9,4.7,"","",14.7,{"v":11.27,"d":"11.2700"},76,{"v":46.286699999999996,"d":"46.2867"},52.5985,{"v":0,"d":"0.0"},52.5985]
[65,{"$f":"IF(I71=\"BM\",\"BM\",RANK(CU71,CU$7:CU$256))","v":161},{"$f":"+CS71-CT71","v":44.8219},200305206,"Merle Heuvelmans","ZVBrunssum","ZVB","Zuid",null,null,{"$f":"VALUE(IF(D71=\"\",0,MID(D71,1,4)))","v":2003},null,{"$f":"IF(AND(14>($H$1-K71),($H$1-K71)>=13,C71>=$N$4),\"L\",IF(AND(16>($H$1-K71),($H$1-K71)>=14,C71>=$N$3),\"L\",IF(K71>0,IF(OR(K71>$J$4,K71<$I$4),\"BM\",\"\"),\"\")))","v":""},{"$f":"IF(C71>0,IF(J71>\"\",IF(C71<$H$3,\"\",\"Age II\"),\"\"),\"\")","v":""},null,48,55,51,58,50,0,0,15.6,{"v":11.44,"d":"11.4400"},0,{"$f":"+P71/10","v":4.8},{"$f":"+Q71/10","v":5.5},{"$f":"+R71/10","v":5.1},{"$f":"+S71/10","v":5.8},{"$f":"+T71/10","v":{"v":5,"d":"5.0"}},{"$f":"IF(U71>0,+U71/10,\"\")","v":""},{"$f":"IF(V71>0,+V71/10,\"\")","v":""},{"$f":"SUM(Z71:AF71)-MAX(Z71:AF71)-MIN(Z71:AF71)","v":{"v":15.599999999999998,"d":"15.6"}},{"$f":"ROUND(AG71/(COUNTIF(Z71:AF71,\">=0\")-2)*$AH$3,4)","v":{"v":11.44,"d":"11.4400"}},{"$f":"IF(AH71=0,\"\",RANK(AH71,AH$7:AH$256))","v":96},44,41,42,41,40,0,0,12.4,9.0933,0,{"$f":"+AJ71/10","v":4.4},{"$f":"+AK71/10","v":4.1},{"$f":"+AL71/10","v":4.2},{"$f":"+AM71/10","v":4.1},{"$f":"+AN71/10","v":{"v":4,"d":"4.0"}},{"$f":"IF(AO71>0,+AO71/10,\"\")","v":""},{"$f":"IF(AP71>0,+AP71/10,\"\")","v":""},{"$f":"SUM(AT71:AZ71)-MAX(AT71:AZ71)-MIN(AT71:AZ71)","v":{"v":12.399999999999999,"d":"12.4"}},{"$f":"ROUND(BA71/(COUNTIF(AT71:AZ71,\">0\")-2)*$BB$3,4)","v":9.0933},{"$f":"IF(BB71=0,\"\",RANK(BB71,BB$7:BB$256))","v":175},43,47,55,47,48,0,0,14.2,{"v":9.94,"d":"9.9400"},0,{"$f":"+BD71/10","v":4.3},{"$f":"+BE71/10","v":4.7},{"$f":"+BF71/10","v":5.5},{"$f":"+BG71/10","v":4.7},{"$f":"+BH71/10","v":4.8},{"$f":"IF(BI71>0,+BI71/10,\"\")","v":""},{"$f":"IF(BJ71>0,+BJ71/10,\"\")","v":""},{"$f":"SUM(BN71:BT71)-MAX(BN71:BT71)-MIN(BN71:BT71)","v":14.2},{"$f":"ROUND(BU71/(COUNTIF(BN71:BT71,\">0\")-2)*$BV$3,4)","v":{"v":9.94,"d":"9.9400"}},{"$f":"IF(BV71=0,\"\",RANK(BV71,BV$7:BV$256))","v":156},38,39,39,39,42,0,0,{"v":11.7,"d":"12"},{"v":8.97,"d":"8.9700"},0,{"$f":"+BX71/10","v":3.8},{"$f":"+BY71/10","v":3.9},{"$f":"+BZ71/10","v":3.9},{"$f":"+CA71/10","v":3.9},{"$f":"+CB71/10","v":4.2},{"$f":"IF(CC71>0,+CC71/10,\"\")","v":""},{"$f":"IF(CD71>0,+CD71/10,\"\")","v":""},{"$f":"SUM(CH71:CN71)-MAX(CH71:CN71)-MIN(CH71:CN71)","v":11.7},{"$f":"ROUND(CO71/(COUNTIF(CH71:CN71,\">0\")-2)*$CP$3,4)","v":{"v":8.97,"d":"8.9700"}},{"$f":"IF(CP71=0,\"\",RANK(CP71,CP$7:CP$256))","v":187},{"$f":"+AH71+BB71+BV71+CP71","v":{"v":39.443299999999994,"d":"39.4433"}},{"$f":"+ROUND((+CR71*10)/(+$AH$3+$BB$3+$BV$3+$CP$3),4)","v":44.8219},{"$f":"+Y71+AS71+BM71+CG71","v":{"v":0,"d":"0.0"}},{"$f":"IF(I71=\"BM\",0,+CS71-CT71)","v":44.8219}]
[66,108,49.1857,200405166,"Daniela Quist","Aquarijn","AQU","MidWest",null,"X",2004,null,"L","Age II",null,49,53,55,56,53,0,0,16.1,11.8067,0,4.9,5.3,5.5,5.6,5.3,"","",16.1,11.8067,72,42,42,45,44,47,0,0,13.1,9.6067,0,4.2,4.2,4.5,4.4,4.7,"","",{"v":13.100000000000001,"d":"13.1"},9.6067,154,44,54,53,53,52,0,0,15.8,{"v":11.06,"d":"11.0600"},0,4.4,5.4,5.3,5.3,5.2,"","",{"v":15.800000000000002,"d":"15.8"},{"v":11.06,"d":"11.0600"},101,46,48,48,47,46,0,0,{"v":14.1,"d":"14"},{"v":10.81,"d":"10.8100"},0,4.6,4.8,4.8,4.7,4.6,"","",14.1,{"v":10.81,"d":"10.8100"},107,43.2834,49.1857,{"v":0,"d":"0.0"},49.1857]
[67,12,60.2463,200600078,"Mare Schallenberg","ACZ","ACZ","West",null,null,2006,null,"L","",null,60,60,62,59,59,0,0,17.9,13.1267,0,{"v":6,"d":"6.0"},{"v":6,"d":"6.0"},6.2,5.9,5.9,"","",17.9,13.1267,19,60,60,60,68,58,0,0,{"v":18,"d":"18.0"},{"v":13.2,"d":"13.2000"},0,{"v":6,"d":"6.0"},{"v":6,"d":"6.0"},{"v":6,"d":"6.0"},6.8,5.8,"","",{"v":18,"d":"18.0"},{"v":13.2,"d":"13.2000"},9,61,64,64,66,72,0,0,19.4,{"v":13.58,"d":"13.5800"},0,6.1,6.4,6.4,6.6,7.2,"","",{"v":19.400000000000006,"d":"19.4"},{"v":13.58,"d":"13.5800"},7,61,60,54,54,57,0,0,{"v":17.1,"d":"17"},{"v":13.11,"d":"13.1100"},0,6.1,{"v":6,"d":"6.0"},5.4,5.4,5.7,"","",17.1,{"v":13.11,"d":"13.1100"},16,53.0167,60.2463,{"v":0,"d":"0.0"},60.2463]
[68,191,39.6289,200303994,"Luciella Janse","De Houtrib","HOU","Oost",null,"X",2003,null,"","",null,42,40,40,42,39,0,0,12.2,8.9467,0,4.2,{"v":4,"d":"4.0"},{"v":4,"d":"4.0"},4.2,3.9,"","",{"v":12.199999999999998,"d":"12.2"},8.9467,193,33,35,37,21,30,0,0,9.8,7.1867,0,3.3,3.5,3.7,2.1,{"v":3,"d":"3.0"},"","",{"v":9.799999999999999,"d":"9.8"},7.1867,197,38,43,46,46,44,0,0,13.3,{"v":9.31,"d":"9.3100"},0,3.8,4.3,4.6,4.6,4.4,"","",{"v":13.299999999999994,"d":"13.3"},{"v":9.31,"d":"9.3100"},185,40,40,43,46,40,0,0,{"v":12.3,"d":"12"},{"v":9.43,"d":"9.4300"},0,{"v":4,"d":"4.0"},{"v":4,"d":"4.0"},4.3,4.6,{"v":4,"d":"4.0"},"","",{"v":12.299999999999997,"d":"12.3"},{"v":9.43,"d":"9.4300"},170,{"v":34.873400000000004,"d":"34.8734"},39.6289,{"v":0,"d":"0.0"},39.6289]
[69,95,50.2159,200403892,"Joy Favie","Z.P.C.H.","ZPC","MidWest",null,null,2004,null,"L","",null,48,50,54,54,54,0,0,15.8,11.5867,0,4.8,{"v":5,"d":"5.0"},5.4,5.4,5.4,"","",15.8,11.5867,85,42,37,40,39,43,0,0,12.1,8.8733,0,4.2,3.7,{"v":4,"d":"4.0"},3.9,4.3,"","",{"v":12.100000000000001,"d":"12.1"},8.8733,181,62,58,65,58,53,0,0,17.8,{"v":12.46,"d":"12.4600"},0,6.2,5.8,6.5,5.8,5.3,"","",17.8,{"v":12.46,"d":"12.4600"},31,57,48,49,49,49,0,0,{"v":14.7,"d":"15"},{"v":11.27,"d":"11.2700"},0,5.7,4.8,4.9,4.9,4.9,"","",{"v":14.700000000000003,"d":"14.7"},{"v":11.27,"d":"11.2700"},76,{"v":44.19,"d":"44.1900"},50.2159,{"v":0,"d":"0.0"},50.2159]
[70,25,56.5984,200502158,"Newa Hama Hussein","Cadans","CAD","oost",null,null,2005,null,"L","",null,55,57,56,52,51,0,0,16.3,11.9533,0,5.5,5.7,5.6,5.2,5.1,"","",{"v":16.299999999999997,"d":"16.3"},11.9533,62,56,45,55,58,60,0,0,16.9,12.3933,0,5.6,4.5,5.5,5.8,{"v":6,"d":"6.0"},"","",16.9,12.3933,23,59,61,60,62,64,0,0,18.3,{"v":12.81,"d":"12.8100"},0,5.9,6.1,{"v":6,"d":"6.0"},6.2,6.4,"","",{"v":18.300000000000004,"d":"18.3"},{"v":12.81,"d":"12.8100"},21,51,56,55,58,54,0,0,{"v":16.5,"d":"17"},{"v":12.65,"d":"12.6500"},0,5.1,5.6,5.5,5.8,5.4,"","",16.5,{"v":12.65,"d":"12.6500"},25,49.8066,56.5984,{"v":0,"d":"0.0"},56.5984]
[71,88,{"v":50.519,"d":"50.5190"},200503084,"Charelle Spaan","Z.P.C.H.","ZPC","MidWest",null,null,2005,null,"L","",null,52,51,58,51,54,0,0,15.7,11.5133,0,5.2,5.1,5.8,5.1,5.4,"","",{"v":15.700000000000001,"d":"15.7"},11.5133,88,52,47,56,52,54,0,0,15.8,11.5867,0,5.2,4.7,5.6,5.2,5.4,"","",15.8,11.5867,50,47,49,59,47,46,0,0,14.3,{"v":10.01,"d":"10.0100"},0,4.7,4.9,5.9,4.7,4.6,"","",{"v":14.300000000000006,"d":"14.3"},{"v":10.01,"d":"10.0100"},153,46,50,49,49,51,0,0,{"v":14.8,"d":"15"},11.3467,0,4.6,{"v":5,"d":"5.0"},4.9,4.9,5.1,"","",{"v":14.799999999999999,"d":"14.8"},11.3467,72,44.4567,{"v":50.519,"d":"50.5190"},{"v":0,"d":"0.0"},{"v":50.519,"d":"50.5190"}]
[72,74,51.4849,200501374,"Floortje van der Velde","HZ&PC Heerenveen","HZPC","Noord",null,null,2005,null,"L","",null,51,48,48,47,50,0,0,14.6,10.7067,0,5.1,4.8,4.8,4.7,{"v":5,"d":"5.0"},"","",{"v":14.599999999999998,"d":"14.6"},10.7067,125,53,50,52,54,52,0,0,15.7,11.5133,0,5.3,{"v":5,"d":"5.0"},5.2,5.4,5.2,"","",{"v":15.699999999999996,"d":"15.7"},11.5133,55,51,62,60,59,52,0,0,17.1,{"v":11.97,"d":"11.9700"},0,5.1,6.2,{"v":6,"d":"6.0"},5.9,5.2,"","",17.1,{"v":11.97,"d":"11.9700"},57,49,49,48,47,48,0,0,{"v":14.5,"d":"15"},11.1167,0,4.9,4.9,4.8,4.7,4.8,"","",{"v":14.500000000000004,"d":"14.5"},11.1167,87,45.3067,51.4849,{"v":0,"d":"0.0"},51.4849]
[73,57,53.2917,200504282,"Noëlle Rienks","De Watertrappers","DWT","Mid West",null,null,2005,null,"L","",null,52,50,54,54,51,0,0,15.7,11.5133,0,5.2,{"v":5,"d":"5.0"},5.4,5.4,5.1,"","",{"v":15.700000000000003,"d":"15.7"},11.5133,88,47,59,56,55,53,0,0,16.4,12.0267,0,4.7,5.9,5.6,5.5,5.3,"","",{"v":16.400000000000002,"d":"16.4"},12.0267,36,51,57,57,54,54,0,0,16.5,{"v":11.55,"d":"11.5500"},0,5.1,5.7,5.7,5.4,5.4,"","",16.5,{"v":11.55,"d":"11.5500"},82,52,51,49,53,51,0,0,{"v":15.4,"d":"15"},11.8067,0,5.2,5.1,4.9,5.3,5.1,"","",15.4,11.8067,47,46.8967,53.2917,{"v":0,"d":"0.0"},53.2917]
[74,123,48.0378,200403010,"Esmee van den Heuvel","Widex Gzc Donk","DONK","West",null,null,2004,null,"","",null,49,51,55,51,54,0,0,15.6,{"v":11.44,"d":"11.4400"},0,4.9,5.1,5.5,5.1,5.4,"","",15.6,{"v":11.44,"d":"11.4400"},96,45,46,47,46,49,0,0,13.9,10.1933,0,4.5,4.6,4.7,4.6,4.9,"","",{"v":13.899999999999999,"d":"13.9"},10.1933,119,48,50,47,49,50,0,0,14.7,{"v":10.29,"d":"10.2900"},0,4.8,{"v":5,"d":"5.0"},4.7,4.9,{"v":5,"d":"5.0"},"","",14.7,{"v":10.29,"d":"10.2900"},139,44,45,45,45,46,0,0,{"v":13.5,"d":"14"},{"v":10.35,"d":"10.3500"},0,4.4,4.5,4.5,4.5,4.6,"","",{"v":13.499999999999998,"d":"13.5"},{"v":10.35,"d":"10.3500"},131,42.2733,48.0378,{"v":0,"d":"0.0"},48.0378]
[75,141,47.0909,200504112,"Daphne Lutjenhuis","AZC","AZC","West",null,null,2005,null,"L","",null,50,45,47,51,47,0,0,14.4,{"v":10.56,"d":"10.5600"},0,{"v":5,"d":"5.0"},4.5,4.7,5.1,4.7,"","",{"v":14.399999999999999,"d":"14.4"},{"v":10.56,"d":"10.5600"},137,49,47,45,50,48,0,0,14.4,{"v":10.56,"d":"10.5600"},0,4.9,4.7,4.5,{"v":5,"d":"5.0"},4.8,"","",{"v":14.400000000000002,"d":"14.4"},{"v":10.56,"d":"10.5600"},104,49,49,50,50,53,0,0,14.9,{"v":10.43,"d":"10.4300"},0,4.9,4.9,{"v":5,"d":"5.0"},{"v":5,"d":"5.0"},5.3,"","",14.9,{"v":10.43,"d":"10.4300"},127,43,43,43,44,42,0,0,{"v":12.9,"d":"13"},{"v":9.89,"d":"9.8900"},0,4.3,4.3,4.3,4.4,4.2,"","",{"v":12.899999999999995,"d":"12.9"},{"v":9.89,"d":"9.8900"},153,{"v":41.44,"d":"41.4400"},47.0909,{"v":0,"d":"0.0"},47.0909]
[76,155,45.2803,200503502,"Feija Wollring","Cadans","CAD","oost",null,null,2005,null,"","",null,48,50,52,47,48,0,0,14.6,10.7067,0,4.8,{"v":5,"d":"5.0"},5.2,4.7,4.8,"","",{"v":14.600000000000001,"d":"14.6"},10.7067,125,43,43,48,41,44,0,0,{"v":13,"d":"13.0"},9.5333,0,4.3,4.3,4.8,4.1,4.4,"","",{"v":12.999999999999998,"d":"13.0"},9.5333,159,47,47,49,42,47,0,0,14.1,{"v":9.87,"d":"9.8700"},0,4.7,4.7,4.9,4.2,4.7,"","",{"v":14.099999999999998,"d":"14.1"},{"v":9.87,"d":"9.8700"},160,41,45,46,41,40,0,0,{"v":12.7,"d":"13"},9.7367,0,4.1,4.5,4.6,4.1,{"v":4,"d":"4.0"},"","",{"v":12.699999999999996,"d":"12.7"},9.7367,158,39.8467,45.2803,{"v":0,"d":"0.0"},45.2803]
[77,"BM",43.4167,200205552,"Shariëlle Garia","ZVBrunssum","ZVB","Zuid","BM","X",2002,null,"BM","",null,43,43,45,47,47,0,0,13.5,{"v":9.9,"d":"9.9000"},0,4.3,4.3,4.5,4.7,4.7,"","",13.5,{"v":9.9,"d":"9.9000"},172,40,45,45,46,45,0,0,13.5,{"v":9.9,"d":"9.9000"},0,{"v":4,"d":"4.0"},4.5,4.5,4.6,4.5,"","",13.5,{"v":9.9,"d":"9.9000"},138,46,46,48,45,44,0,0,13.7,{"v":9.59,"d":"9.5900"},0,4.6,4.6,4.8,4.5,4.4,"","",{"v":13.699999999999998,"d":"13.7"},{"v":9.59,"d":"9.5900"},173,35,40,40,37,38,0,0,{"v":11.5,"d":"12"},8.8167,0,3.5,{"v":4,"d":"4.0"},{"v":4,"d":"4.0"},3.7,3.8,"","",11.5,8.8167,192,38.2067,43.4167,{"v":0,"d":"0.0"},0]
[78,169,44.0228,"200405016 ","Anna Kroon","HZPC Horst","HZPC","zuid",null,"X",2004,null,"","",null,44,42,48,54,48,0,0,{"v":14,"d":"14.0"},10.2667,0,4.4,4.2,4.8,5.4,4.8,"","",{"v":14.000000000000004,"d":"14.0"},10.2667,157,46,42,43,40,46,0,0,13.1,9.6067,0,4.6,4.2,4.3,{"v":4,"d":"4.0"},4.6,"","",{"v":13.100000000000001,"d":"13.1"},9.6067,154,44,45,46,48,46,0,0,13.7,{"v":9.59,"d":"9.5900"},0,4.4,4.5,4.6,4.8,4.6,"","",{"v":13.699999999999998,"d":"13.7"},{"v":9.59,"d":"9.5900"},173,40,41,40,41,36,0,0,{"v":12.1,"d":"12"},9.2767,0,{"v":4,"d":"4.0"},4.1,{"v":4,"d":"4.0"},4.1,3.6,"","",{"v":12.100000000000001,"d":"12.1"},9.2767,179,38.7401,44.0228,{"v":0,"d":"0.0"},44.0228]
[79,77,51.3447,200503980,"Sascha van Leeuwen","Aquarijn","AQU","MidWest",null,null,2005,null,"L","",null,55,55,61,62,56,0,0,17.2,12.6133,0,5.5,5.5,6.1,6.2,5.6,"","",17.2,12.6133,32,41,47,47,50,50,0,0,14.4,{"v":10.56,"d":"10.5600"},0,4.1,4.7,4.7,{"v":5,"d":"5.0"},{"v":5,"d":"5.0"},"","",14.4,{"v":10.56,"d":"10.5600"},104,54,58,53,53,47,0,0,{"v":16,"d":"16.0"},{"v":11.2,"d":"11.2000"},0,5.4,5.8,5.3,5.3,4.7,"","",{"v":16,"d":"16.0"},{"v":11.2,"d":"11.2000"},95,49,45,45,48,48,0,0,{"v":14.1,"d":"14"},{"v":10.81,"d":"10.8100"},0,4.9,4.5,4.5,4.8,4.8,"","",{"v":14.100000000000001,"d":"14.1"},{"v":10.81,"d":"10.8100"},107,45.1833,51.3447,{"v":0,"d":"0.0"},51.3447]
[80,63,52.5038,20043346,"Renske Veenstra","DZ&PC","DZP","Noord",null,null,2004,null,"L","",null,53,53,55,61,50,0,0,16.1,11.8067,0,5.3,5.3,5.5,6.1,{"v":5,"d":"5.0"},"","",16.1,11.8067,72,44,49,52,51,51,0,0,15.1,11.0733,0,4.4,4.9,5.2,5.1,5.1,"","",{"v":15.100000000000003,"d":"15.1"},11.0733,74,54,56,59,58,56,0,0,{"v":17,"d":"17.0"},{"v":11.9,"d":"11.9000"},0,5.4,5.6,5.9,5.8,5.6,"","",{"v":17,"d":"17.0"},{"v":11.9,"d":"11.9000"},63,45,49,49,51,52,0,0,{"v":14.9,"d":"15"},11.4233,0,4.5,4.9,4.9,5.1,5.2,"","",{"v":14.899999999999999,"d":"14.9"},11.4233,65,46.2033,52.5038,{"v":0,"d":"0.0"},52.5038]
[81,1,65.5189,200301290,"Maria Lorenzini","ACZ","ACZ","West",null,null,2003,null,"L","",null,62,64,64,62,65,0,0,{"v":19,"d":"19.0"},13.9333,0,6.2,6.4,6.4,6.2,6.5,"","",{"v":19,"d":"19.0"},13.9333,7,70,62,63,71,71,0,0,20.4,{"v":14.96,"d":"14.9600"},0,{"v":7,"d":"7.0"},6.2,6.3,7.1,7.1,"","",{"v":20.400000000000002,"d":"20.4"},{"v":14.96,"d":"14.9600"},1,73,62,63,70,72,0,0,20.5,{"v":14.35,"d":"14.3500"},0,7.3,6.2,6.3,{"v":7,"d":"7.0"},7.2,"","",20.5,{"v":14.35,"d":"14.3500"},1,64,59,63,61,64,0,0,{"v":18.8,"d":"19"},14.4133,0,6.4,5.9,6.3,6.1,6.4,"","",{"v":18.800000000000004,"d":"18.8"},14.4133,1,57.6566,65.5189,{"v":0,"d":"0.0"},65.5189]
[82,102,49.5113,200301408,"Dagmar Hansman","Hera'11","HERA","Oost",null,null,2003,null,"L","",null,52,51,51,55,50,0,0,15.4,11.2933,0,5.2,5.1,5.1,5.5,{"v":5,"d":"5.0"},"","",{"v":15.399999999999999,"d":"15.4"},11.2933,102,50,54,45,50,51,0,0,15.1,11.0733,0,{"v":5,"d":"5.0"},5.4,4.5,{"v":5,"d":"5.0"},5.1,"","",{"v":15.100000000000001,"d":"15.1"},11.0733,74,48,58,48,46,47,0,0,14.3,{"v":10.01,"d":"10.0100"},0,4.8,5.8,4.8,4.6,4.7,"","",{"v":14.299999999999999,"d":"14.3"},{"v":10.01,"d":"10.0100"},153,51,49,49,48,47,0,0,{"v":14.6,"d":"15"},11.1933,0,5.1,4.9,4.9,4.8,4.7,"","",{"v":14.599999999999998,"d":"14.6"},11.1933,83,43.5699,49.5113,{"v":0,"d":"0.0"},49.5113]
[83,193,{"v":0,"d":"0.0000"},200404462,"Daniela Ghasseminejad","Z.P.C.H.","ZPC","MidWest",null,"X",2004,null,"","","x",0,0,0,0,0,0,0,{"v":0,"d":"0.0"},{"v":0,"d":"0.0000"},0,{"v":0,"d":"0.0"},{"v":0,"d":"0.0"},{"v":0,"d":"0.0"},{"v":0,"d":"0.0"},{"v":0,"d":"0.0"},"","",{"v":0,"d":"0.0"},{"v":0,"d":"0.0000"},"",0,0,0,0,0,0,0,{"v":0,"d":"0.0"},{"v":0,"d":"0.0000"},0,{"v":0,"d":"0.0"},{"v":0,"d":"0.0"},{"v":0,"d":"0.0"},{"v":0,"d":"0.0"},{"v":0,"d":"0.0"},"","",{"v":0,"d":"0.0"},{"v":0,"d":"0.0000"},"",0,0,0,0,0,0,0,{"v":0,"d":"0.0"},{"v":0,"d":"0.0000"},0,{"v":0,"d":"0.0"},{"v":0,"d":"0.0"},{"v":0,"d":"0.0"},{"v":0,"d":"0.0"},{"v":0,"d":"0.0"},"","",{"v":0,"d":"0.0"},{"v":0,"d":"0.0000"},"",0,0,0,0,0,0,0,0,{"v":0,"d":"0.0000"},0,{"v":0,"d":"0.0"},{"v":0,"d":"0.0"},{"v":0,"d":"0.0"},{"v":0,"d":"0.0"},{"v":0,"d":"0.0"},"","",{"v":0,"d":"0.0"},{"v":0,"d":"0.0000"},"",{"v":0,"d":"0.0000"},{"v":0,"d":"0.0000"},{"v":0,"d":"0.0"},0]
[84,36,55.4888,200401490,"Anna Darby","DAW","DAW","Midwest",null,null,2004,null,"L","",null,50,49,54,58,57,0,0,16.1,11.8067,0,{"v":5,"d":"5.0"},4.9,5.4,5.8,5.7,"","",16.1,11.8067,72,55,49,53,59,60,0,0,16.7,12.2467,0,5.5,4.9,5.3,5.9,{"v":6,"d":"6.0"},"","",{"v":16.700000000000003,"d":"16.7"},12.2467,28,61,63,62,58,59,0,0,18.2,{"v":12.74,"d":"12.7400"},0,6.1,6.3,6.2,5.8,5.9,"","",{"v":18.199999999999996,"d":"18.2"},{"v":12.74,"d":"12.7400"},23,50,56,53,54,49,0,0,{"v":15.7,"d":"16"},12.0367,0,{"v":5,"d":"5.0"},5.6,5.3,5.4,4.9,"","",{"v":15.699999999999994,"d":"15.7"},12.0367,41,48.8301,55.4888,{"v":0,"d":"0.0"},55.4888]
[85,27,56.4205,200404456,"Amanda Voesten","De Dolfijn","DOL","MidWest",null,null,2004,null,"L","",null,54,54,58,56,60,0,0,16.8,{"v":12.32,"d":"12.3200"},0,5.4,5.4,5.8,5.6,{"v":6,"d":"6.0"},"","",{"v":16.800000000000004,"d":"16.8"},{"v":12.32,"d":"12.3200"},48,53,53,56,56,58,0,0,16.5,{"v":12.1,"d":"12.1000"},0,5.3,5.3,5.6,5.6,5.8,"","",{"v":16.499999999999996,"d":"16.5"},{"v":12.1,"d":"12.1000"},32,64,59,60,60,63,0,0,18.3,{"v":12.81,"d":"12.8100"},0,6.4,5.9,{"v":6,"d":"6.0"},{"v":6,"d":"6.0"},6.3,"","",{"v":18.300000000000004,"d":"18.3"},{"v":12.81,"d":"12.8100"},21,54,54,54,56,52,0,0,{"v":16.2,"d":"16"},{"v":12.42,"d":"12.4200"},0,5.4,5.4,5.4,5.6,5.2,"","",{"v":16.200000000000006,"d":"16.2"},{"v":12.42,"d":"12.4200"},30,{"v":49.650000000000006,"d":"49.6500"},56.4205,{"v":0,"d":"0.0"},56.4205]
[86,85,50.6781,200405160,"Iris Mandemaker","HZ&PC Heerenveen","HZPC","Noord",null,null,2004,null,"L","",null,48,49,53,54,50,0,0,15.2,11.1467,0,4.8,4.9,5.3,5.4,{"v":5,"d":"5.0"},"","",15.2,11.1467,105,52,51,54,49,52,0,0,15.5,11.3667,0,5.2,5.1,5.4,4.9,5.2,"","",{"v":15.499999999999998,"d":"15.5"},11.3667,63,50,49,47,50,55,0,0,14.9,{"v":10.43,"d":"10.4300"},0,{"v":5,"d":"5.0"},4.9,4.7,{"v":5,"d":"5.0"},5.5,"","",{"v":14.900000000000002,"d":"14.9"},{"v":10.43,"d":"10.4300"},127,53,52,50,50,46,0,0,{"v":15.2,"d":"15"},11.6533,0,5.3,5.2,{"v":5,"d":"5.0"},{"v":5,"d":"5.0"},4.6,"","",{"v":15.200000000000001,"d":"15.2"},11.6533,53,44.5967,50.6781,{"v":0,"d":"0.0"},50.6781]
[87,193,{"v":0,"d":"0.0000"},200304878,"Kayleigh Bruins","Widex Gzc Donk","DONK","West",null,"X",2003,null,"","","x",0,0,0,0,0,0,0,{"v":0,"d":"0.0"},{"v":0,"d":"0.0000"},0,{"v":0,"d":"0.0"},{"v":0,"d":"0.0"},{"v":0,"d":"0.0"},{"v":0,"d":"0.0"},{"v":0,"d":"0.0"},"","",{"v":0,"d":"0.0"},{"v":0,"d":"0.0000"},"",0,0,0,0,0,0,0,{"v":0,"d":"0.0"},{"v":0,"d":"0.0000"},0,{"v":0,"d":"0.0"},{"v":0,"d":"0.0"},{"v":0,"d":"0.0"},{"v":0,"d":"0.0"},{"v":0,"d":"0.0"},"","",{"v":0,"d":"0.0"},{"v":0,"d":"0.0000"},"",0,0,0,0,0,0,0,{"v":0,"d":"0.0"},{"v":0,"d":"0.0000"},0,{"v":0,"d":"0.0"},{"v":0,"d":"0.0"},{"v":0,"d":"0.0"},{"v":0,"d":"0.0"},{"v":0,"d":"0.0"},"","",{"v":0,"d":"0.0"},{"v":0,"d":"0.0000"},"",0,0,0,0,0,0,0,0,{"v":0,"d":"0.0000"},0,{"v":0,"d":"0.0"},{"v":0,"d":"0.0"},{"v":0,"d":"0.0"},{"v":0,"d":"0.0"},{"v":0,"d":"0.0"},"","",{"v":0,"d":"0.0"},{"v":0,"d":"0.0000"},"",{"v":0,"d":"0.0000"},{"v":0,"d":"0.0000"},{"v":0,"d":"0.0"},0]
[88,23,57.3447,200301902,"Pleun Boerakker","Cadans","CAD","oost",null,null,2003,null,"L","",null,61,67,60,60,61,0,0,18.2,13.3467,0,6.1,6.7,{"v":6,"d":"6.0"},{"v":6,"d":"6.0"},6.1,"","",18.2,13.3467,12,58,58,53,62,68,0,0,17.8,13.0533,0,5.8,5.8,5.3,6.2,6.8,"","",{"v":17.799999999999997,"d":"17.8"},13.0533,12,58,53,62,54,62,0,0,17.4,{"v":12.18,"d":"12.1800"},0,5.8,5.3,6.2,5.4,6.2,"","",{"v":17.400000000000002,"d":"17.4"},{"v":12.18,"d":"12.1800"},42,48,56,51,51,53,0,0,{"v":15.5,"d":"16"},11.8833,0,4.8,5.6,5.1,5.1,5.3,"","",{"v":15.499999999999996,"d":"15.5"},11.8833,44,50.4633,57.3447,{"v":0,"d":"0.0"},57.3447]
[89,15,{"v":59.606,"d":"59.6060"},200301680,"Sarah Molensky","ZVBrunssum","ZVB","Zuid",null,null,2003,null,"L","",null,62,64,63,66,64,0,0,19.1,14.0067,0,6.2,6.4,6.3,6.6,6.4,"","",{"v":19.099999999999998,"d":"19.1"},14.0067,5,55,49,51,53,53,0,0,15.7,11.5133,0,5.5,4.9,5.1,5.3,5.3,"","",{"v":15.700000000000001,"d":"15.7"},11.5133,55,64,61,64,66,64,0,0,19.2,{"v":13.44,"d":"13.4400"},0,6.4,6.1,6.4,6.6,6.4,"","",{"v":19.199999999999996,"d":"19.2"},{"v":13.44,"d":"13.4400"},10,57,59,58,59,60,0,0,{"v":17.6,"d":"18"},13.4933,0,5.7,5.9,5.8,5.9,{"v":6,"d":"6.0"},"","",{"v":17.600000000000005,"d":"17.6"},13.4933,8,52.4533,{"v":59.606,"d":"59.6060"},{"v":0,"d":"0.0"},{"v":59.606,"d":"59.6060"}]
[90,43,{"v":54.409,"d":"54.4090"},200302322,"Noa van Blijderveen","Aquarijn","AQU","MidWest",null,null,2003,null,"L","",null,57,57,58,56,58,0,0,17.2,12.6133,0,5.7,5.7,5.8,5.6,5.8,"","",{"v":17.199999999999996,"d":"17.2"},12.6133,32,48,48,50,50,52,0,0,14.8,10.8533,0,4.8,4.8,{"v":5,"d":"5.0"},{"v":5,"d":"5.0"},5.2,"","",14.8,10.8533,90,59,60,60,60,51,0,0,17.9,{"v":12.53,"d":"12.5300"},0,5.9,{"v":6,"d":"6.0"},{"v":6,"d":"6.0"},{"v":6,"d":"6.0"},5.1,"","",17.9,{"v":12.53,"d":"12.5300"},28,58,51,49,55,48,0,0,{"v":15.5,"d":"16"},11.8833,0,5.8,5.1,4.9,5.5,4.8,"","",{"v":15.499999999999996,"d":"15.5"},11.8833,44,47.8799,{"v":54.409,"d":"54.4090"},{"v":0,"d":"0.0"},{"v":54.409,"d":"54.4090"}]
[91,99,49.8598,200302056,"Tessa Kemper","Aqua-Novio '94","AQN","Oost",null,null,2003,null,"L","",null,47,50,50,48,51,0,0,14.8,10.8533,0,4.7,{"v":5,"d":"5.0"},{"v":5,"d":"5.0"},4.8,5.1,"","",14.8,10.8533,117,42,45,45,44,43,0,0,13.2,{"v":9.68,"d":"9.6800"},0,4.2,4.5,4.5,4.4,4.3,"","",{"v":13.200000000000003,"d":"13.2"},{"v":9.68,"d":"9.6800"},152,57,58,46,55,55,0,0,16.7,{"v":11.69,"d":"11.6900"},0,5.7,5.8,4.6,5.5,5.5,"","",{"v":16.700000000000003,"d":"16.7"},{"v":11.69,"d":"11.6900"},71,50,52,51,51,49,0,0,{"v":15.2,"d":"15"},11.6533,0,{"v":5,"d":"5.0"},5.2,5.1,5.1,4.9,"","",{"v":15.199999999999998,"d":"15.2"},11.6533,53,43.8766,49.8598,{"v":0,"d":"0.0"},49.8598]
[92,11,{"v":60.269,"d":"60.2690"},200400952,"Dionne Sijben","ACZ","ACZ","West"," "," ",2004,null,"L","Age II",null,66,56,59,59,59,0,0,17.7,{"v":12.98,"d":"12.9800"},0,6.6,5.6,5.9,5.9,5.9,"","",{"v":17.699999999999996,"d":"17.7"},{"v":12.98,"d":"12.9800"},20,61,54,58,60,67,0,0,17.9,13.1267,0,6.1,5.4,5.8,{"v":6,"d":"6.0"},6.7,"","",17.9,13.1267,11,67,66,65,71,71,0,0,20.4,{"v":14.28,"d":"14.2800"},0,6.7,6.6,6.5,7.1,7.1,"","",20.4,{"v":14.28,"d":"14.2800"},3,57,54,53,54,57,0,0,{"v":16.5,"d":"17"},{"v":12.65,"d":"12.6500"},0,5.7,5.4,5.3,5.4,5.7,"","",{"v":16.500000000000004,"d":"16.5"},{"v":12.65,"d":"12.6500"},25,{"v":53.036699999999996,"d":"53.0367"},{"v":60.269,"d":"60.2690"},{"v":0,"d":"0.0"},{"v":60.269,"d":"60.2690"}]
[93,125,47.9091,200501900,"Nikita Weidenaar","De Houtrib","HOU","Oost",null,null,2005,null,"L","",null,49,48,48,48,46,0,0,14.4,{"v":10.56,"d":"10.5600"},0,4.9,4.8,4.8,4.8,4.6,"","",14.4,{"v":10.56,"d":"10.5600"},137,46,49,46,45,46,0,0,13.8,{"v":10.12,"d":"10.1200"},0,4.6,4.9,4.6,4.5,4.6,"","",{"v":13.800000000000004,"d":"13.8"},{"v":10.12,"d":"10.1200"},126,50,57,50,57,52,0,0,15.9,{"v":11.13,"d":"11.1300"},0,{"v":5,"d":"5.0"},5.7,{"v":5,"d":"5.0"},5.7,5.2,"","",{"v":15.899999999999999,"d":"15.9"},{"v":11.13,"d":"11.1300"},98,46,44,45,46,44,0,0,{"v":13.5,"d":"14"},{"v":10.35,"d":"10.3500"},0,4.6,4.4,4.5,4.6,4.4,"","",{"v":13.499999999999998,"d":"13.5"},{"v":10.35,"d":"10.3500"},131,{"v":42.160000000000004,"d":"42.1600"},47.9091,{"v":0,"d":"0.0"},47.9091]
[94,24,57.0341,200303794,"Xenna Mackay","Z.P.C.H.","ZPC","MidWest",null,null,2003,null,"L","",null,55,50,60,58,58,0,0,17.1,{"v":12.54,"d":"12.5400"},0,5.5,{"v":5,"d":"5.0"},{"v":6,"d":"6.0"},5.8,5.8,"","",17.1,{"v":12.54,"d":"12.5400"},38,57,54,53,51,52,0,0,15.9,{"v":11.66,"d":"11.6600"},0,5.7,5.4,5.3,5.1,5.2,"","",15.9,{"v":11.66,"d":"11.6600"},48,59,62,63,59,64,0,0,18.4,{"v":12.88,"d":"12.8800"},0,5.9,6.2,6.3,5.9,6.4,"","",{"v":18.400000000000006,"d":"18.4"},{"v":12.88,"d":"12.8800"},18,58,57,56,58,49,0,0,{"v":17.1,"d":"17"},{"v":13.11,"d":"13.1100"},0,5.8,5.7,5.6,5.8,4.9,"","",17.1,{"v":13.11,"d":"13.1100"},16,{"v":50.19,"d":"50.1900"},57.0341,{"v":0,"d":"0.0"},57.0341]
[95,9,61.2386,200300438,"Eva Schijf","DAW","DAW","Midwest",null,null,2003,null,"L","",null,70,63,62,65,65,0,0,19.3,14.1533,0,{"v":7,"d":"7.0"},6.3,6.2,6.5,6.5,"","",19.3,14.1533,3,58,56,60,58,58,0,0,17.4,{"v":12.76,"d":"12.7600"},0,5.8,5.6,{"v":6,"d":"6.0"},5.8,5.8,"","",17.4,{"v":12.76,"d":"12.7600"},16,65,65,64,69,67,0,0,19.7,{"v":13.79,"d":"13.7900"},0,6.5,6.5,6.4,6.9,6.7,"","",{"v":19.700000000000003,"d":"19.7"},{"v":13.79,"d":"13.7900"},4,55,58,52,59,59,0,0,{"v":17.2,"d":"17"},13.1867,0,5.5,5.8,5.2,5.9,5.9,"","",17.2,13.1867,12,{"v":53.89,"d":"53.8900"},61.2386,{"v":0,"d":"0.0"},61.2386]
[96,78,51.3372,200503986,"Aya Achachi","De Dolfijn","DOL","Midwest",null,null,2005,null,"L","",null,50,46,52,58,56,0,0,15.8,11.5867,0,{"v":5,"d":"5.0"},4.6,5.2,5.8,5.6,"","",{"v":15.800000000000002,"d":"15.8"},11.5867,85,49,49,48,49,48,0,0,14.6,10.7067,0,4.9,4.9,4.8,4.9,4.8,"","",{"v":14.599999999999998,"d":"14.6"},10.7067,98,57,52,58,54,56,0,0,16.7,{"v":11.69,"d":"11.6900"},0,5.7,5.2,5.8,5.4,5.6,"","",{"v":16.700000000000003,"d":"16.7"},{"v":11.69,"d":"11.6900"},71,49,48,49,47,50,0,0,{"v":14.6,"d":"15"},11.1933,0,4.9,4.8,4.9,4.7,{"v":5,"d":"5.0"},"","",{"v":14.600000000000001,"d":"14.6"},11.1933,83,45.1767,51.3372,{"v":0,"d":"0.0"},51.3372]
[97,172,43.6742,200500642,"Gwen Kuijpers","VZC Veenendaal","VZV","Midwest",null,"X",2005,null,"","",null,48,45,48,52,50,0,0,14.6,10.7067,0,4.8,4.5,4.8,5.2,{"v":5,"d":"5.0"},"","",{"v":14.600000000000001,"d":"14.6"},10.7067,125,42,45,45,40,40,0,0,12.7,9.3133,0,4.2,4.5,4.5,{"v":4,"d":"4.0"},{"v":4,"d":"4.0"},"","",12.7,9.3133,169,45,45,44,46,47,0,0,13.6,{"v":9.52,"d":"9.5200"},0,4.5,4.5,4.4,4.6,4.7,"","",13.6,{"v":9.52,"d":"9.5200"},175,40,38,38,38,42,0,0,{"v":11.6,"d":"12"},8.8933,0,{"v":4,"d":"4.0"},3.8,3.8,3.8,4.2,"","",{"v":11.599999999999998,"d":"11.6"},8.8933,190,38.4333,43.6742,{"v":0,"d":"0.0"},43.6742]
[98,131,47.6325,200304178,"Birgit Gosselink","Widex Gzc Donk","DONK","West",null,null,2003,null,"","",null,38,51,51,47,50,0,0,14.8,10.8533,0,3.8,5.1,5.1,4.7,{"v":5,"d":"5.0"},"","",14.8,10.8533,117,45,48,48,46,45,0,0,13.9,10.1933,0,4.5,4.8,4.8,4.6,4.5,"","",{"v":13.900000000000002,"d":"13.9"},10.1933,119,48,46,55,49,50,0,0,14.7,{"v":10.29,"d":"10.2900"},0,4.8,4.6,5.5,4.9,{"v":5,"d":"5.0"},"","",{"v":14.699999999999998,"d":"14.7"},{"v":10.29,"d":"10.2900"},139,50,45,47,46,45,0,0,{"v":13.8,"d":"14"},{"v":10.58,"d":"10.5800"},0,{"v":5,"d":"5.0"},4.5,4.7,4.6,4.5,"","",{"v":13.799999999999997,"d":"13.8"},{"v":10.58,"d":"10.5800"},117,41.9166,47.6325,{"v":0,"d":"0.0"},47.6325]
[99,58,53.0341,200303742,"Nadja van Kralingen","WVZ","WVZ","West",null,null,2003,null,"L","",null,51,47,53,49,52,0,0,15.2,11.1467,0,5.1,4.7,5.3,4.9,5.2,"","",15.2,11.1467,105,57,51,55,57,61,0,0,16.9,12.3933,0,5.7,5.1,5.5,5.7,6.1,"","",16.9,12.3933,23,49,50,50,53,54,0,0,15.3,{"v":10.71,"d":"10.7100"},0,4.9,{"v":5,"d":"5.0"},{"v":5,"d":"5.0"},5.3,5.4,"","",{"v":15.300000000000002,"d":"15.3"},{"v":10.71,"d":"10.7100"},114,55,55,51,54,53,0,0,{"v":16.2,"d":"16"},{"v":12.42,"d":"12.4200"},0,5.5,5.5,5.1,5.4,5.3,"","",{"v":16.200000000000003,"d":"16.2"},{"v":12.42,"d":"12.4200"},30,{"v":46.67,"d":"46.6700"},53.0341,{"v":0,"d":"0.0"},53.0341]
[100,92,50.3333,200404010,"Romy Koers","WVZ","WVZ","West",null,null,2004,null,"L","",null,39,38,46,46,40,0,0,12.5,9.1667,0,3.9,3.8,4.6,4.6,{"v":4,"d":"4.0"},"","",{"v":12.499999999999996,"d":"12.5"},9.1667,189,55,50,50,54,53,0,0,15.7,11.5133,0,5.5,{"v":5,"d":"5.0"},{"v":5,"d":"5.0"},5.4,5.3,"","",15.7,11.5133,55,48,52,59,57,52,0,0,16.1,{"v":11.27,"d":"11.2700"},0,4.8,5.2,5.9,5.7,5.2,"","",{"v":16.099999999999998,"d":"16.1"},{"v":11.27,"d":"11.2700"},92,57,56,53,52,51,0,0,{"v":16.1,"d":"16"},12.3433,0,5.7,5.6,5.3,5.2,5.1,"","",16.1,12.3433,32,44.2933,50.3333,{"v":0,"d":"0.0"},50.3333]
[101,91,{"v":50.337,"d":"50.3370"},200303732,"Jente Doornhein","BZ&PC","BZP","West",null,null,2003,null,"L","",null,48,49,50,53,45,0,0,14.7,{"v":10.78,"d":"10.7800"},0,4.8,4.9,{"v":5,"d":"5.0"},5.3,4.5,"","",14.7,{"v":10.78,"d":"10.7800"},120,44,44,44,42,41,0,0,{"v":13,"d":"13.0"},9.5333,0,4.4,4.4,4.4,4.2,4.1,"","",{"v":13.000000000000002,"d":"13.0"},9.5333,159,50,56,57,54,53,0,0,16.3,{"v":11.41,"d":"11.4100"},0,{"v":5,"d":"5.0"},5.6,5.7,5.4,5.3,"","",{"v":16.300000000000004,"d":"16.3"},{"v":11.41,"d":"11.4100"},86,58,55,51,54,55,0,0,{"v":16.4,"d":"16"},12.5733,0,5.8,5.5,5.1,5.4,5.5,"","",16.4,12.5733,27,44.2966,{"v":50.337,"d":"50.3370"},{"v":0,"d":"0.0"},{"v":50.337,"d":"50.3370"}]
[102,116,48.8522,200403950,"Marit de Locht","Cadans","CAD","oost",null,null,2004,null,"","",null,47,50,54,56,53,0,0,15.7,11.5133,0,4.7,{"v":5,"d":"5.0"},5.4,5.6,5.3,"","",15.7,11.5133,88,47,41,46,45,45,0,0,13.6,9.9733,0,4.7,4.1,4.6,4.5,4.5,"","",13.6,9.9733,134,46,51,49,49,44,0,0,14.4,{"v":10.08,"d":"10.0800"},0,4.6,5.1,4.9,4.9,4.4,"","",{"v":14.399999999999997,"d":"14.4"},{"v":10.08,"d":"10.0800"},149,43,54,49,47,53,0,0,{"v":14.9,"d":"15"},11.4233,0,4.3,5.4,4.9,4.7,5.3,"","",{"v":14.900000000000002,"d":"14.9"},11.4233,65,42.9899,48.8522,{"v":0,"d":"0.0"},48.8522]
[103,"BM",{"v":0,"d":"0.0000"},199806484,"Jessica Backes","ZVBrunssum","ZVB","Zuid","BM","X",1998,null,"BM","","x",0,0,0,0,0,0,0,{"v":0,"d":"0.0"},{"v":0,"d":"0.0000"},0,{"v":0,"d":"0.0"},{"v":0,"d":"0.0"},{"v":0,"d":"0.0"},{"v":0,"d":"0.0"},{"v":0,"d":"0.0"},"","",{"v":0,"d":"0.0"},{"v":0,"d":"0.0000"},"",0,0,0,0,0,0,0,{"v":0,"d":"0.0"},{"v":0,"d":"0.0000"},0,{"v":0,"d":"0.0"},{"v":0,"d":"0.0"},{"v":0,"d":"0.0"},{"v":0,"d":"0.0"},{"v":0,"d":"0.0"},"","",{"v":0,"d":"0.0"},{"v":0,"d":"0.0000"},"",0,0,0,0,0,0,0,{"v":0,"d":"0.0"},{"v":0,"d":"0.0000"},0,{"v":0,"d":"0.0"},{"v":0,"d":"0.0"},{"v":0,"d":"0.0"},{"v":0,"d":"0.0"},{"v":0,"d":"0.0"},"","",{"v":0,"d":"0.0"},{"v":0,"d":"0.0000"},"",0,0,0,0,0,0,0,0,{"v":0,"d":"0.0000"},0,{"v":0,"d":"0.0"},{"v":0,"d":"0.0"},{"v":0,"d":"0.0"},{"v":0,"d":"0.0"},{"v":0,"d":"0.0"},"","",{"v":0,"d":"0.0"},{"v":0,"d":"0.0000"},"",{"v":0,"d":"0.0000"},{"v":0,"d":"0.0000"},{"v":0,"d":"0.0"},0]
[104,138,47.2235,200305064,"Tanja Vorotilova","PSV Synchro Team Eindhoven","PSV","Zuid",null,null,2003,null,"","",null,51,50,50,49,52,0,0,15.1,11.0733,0,5.1,{"v":5,"d":"5.0"},{"v":5,"d":"5.0"},4.9,5.2,"","",15.1,11.0733,108,50,46,48,44,49,0,0,14.3,10.4867,0,{"v":5,"d":"5.0"},4.6,4.8,4.4,4.9,"","",{"v":14.299999999999995,"d":"14.3"},10.4867,108,46,48,46,45,50,0,0,{"v":14,"d":"14.0"},{"v":9.8,"d":"9.8000"},0,4.6,4.8,4.6,4.5,{"v":5,"d":"5.0"},"","",{"v":14,"d":"14.0"},{"v":9.8,"d":"9.8000"},166,45,44,45,44,43,0,0,{"v":13.3,"d":"13"},10.1967,0,4.5,4.4,4.5,4.4,4.3,"","",13.3,10.1967,136,{"v":41.556700000000006,"d":"41.5567"},47.2235,{"v":0,"d":"0.0"},47.2235]
[105,89,50.5076,200401300,"Senna Zwezerijnen","Aquarijn","AQU","MidWest",null,null,2004,null,"L","",null,48,49,50,58,56,0,0,15.5,11.3667,0,4.8,4.9,{"v":5,"d":"5.0"},5.8,5.6,"","",15.5,11.3667,100,43,42,43,46,44,0,0,{"v":13,"d":"13.0"},9.5333,0,4.3,4.2,4.3,4.6,4.4,"","",{"v":12.999999999999996,"d":"13.0"},9.5333,159,49,54,56,63,61,0,0,17.1,{"v":11.97,"d":"11.9700"},0,4.9,5.4,5.6,6.3,6.1,"","",{"v":17.099999999999994,"d":"17.1"},{"v":11.97,"d":"11.9700"},57,49,50,50,51,51,0,0,{"v":15.1,"d":"15"},11.5767,0,4.9,{"v":5,"d":"5.0"},{"v":5,"d":"5.0"},5.1,5.1,"","",15.1,11.5767,58,44.4467,50.5076,{"v":0,"d":"0.0"},50.5076]
[106,"BM",41.5114,200200000,"Julia Postma","DZ&PC","DZP","Noord","BM","X",2002,null,"BM","",null,43,40,42,53,39,0,0,12.5,9.1667,0,4.3,{"v":4,"d":"4.0"},4.2,5.3,3.9,"","",{"v":12.499999999999998,"d":"12.5"},9.1667,189,41,38,42,38,42,0,0,12.1,8.8733,0,4.1,3.8,4.2,3.8,4.2,"","",{"v":12.099999999999998,"d":"12.1"},8.8733,181,45,45,46,43,46,0,0,13.6,{"v":9.52,"d":"9.5200"},0,4.5,4.5,4.6,4.3,4.6,"","",{"v":13.599999999999998,"d":"13.6"},{"v":9.52,"d":"9.5200"},175,43,37,37,40,40,0,0,{"v":11.7,"d":"12"},{"v":8.97,"d":"8.9700"},0,4.3,3.7,3.7,{"v":4,"d":"4.0"},{"v":4,"d":"4.0"},"","",11.7,{"v":8.97,"d":"8.9700"},187,{"v":36.53,"d":"36.5300"},41.5114,{"v":0,"d":"0.0"},0]
[107,52,53.8219,200403554,"Tara Vyent","ACZ","ACZ","West",null,null,2004,null,"L","",null,53,51,57,56,54,0,0,16.3,11.9533,0,5.3,5.1,5.7,5.6,5.4,"","",{"v":16.299999999999997,"d":"16.3"},11.9533,62,56,50,55,60,58,0,0,16.9,12.3933,0,5.6,{"v":5,"d":"5.0"},5.5,{"v":6,"d":"6.0"},5.8,"","",{"v":16.900000000000002,"d":"16.9"},12.3933,23,54,58,58,52,60,0,0,{"v":17,"d":"17.0"},{"v":11.9,"d":"11.9000"},0,5.4,5.8,5.8,5.2,{"v":6,"d":"6.0"},"","",{"v":17,"d":"17.0"},{"v":11.9,"d":"11.9000"},63,48,49,48,48,52,0,0,{"v":14.5,"d":"15"},11.1167,0,4.8,4.9,4.8,4.8,5.2,"","",14.5,11.1167,87,47.3633,53.8219,{"v":0,"d":"0.0"},53.8219]
[108,156,45.0872,200502536,"Kyra Kemper","Hera'11","HERA","Oost",null,null,2005,null,"","",null,47,49,45,45,48,0,0,{"v":14,"d":"14.0"},10.2667,0,4.7,4.9,4.5,4.5,4.8,"","",{"v":14,"d":"14.0"},10.2667,157,44,47,36,43,38,0,0,12.5,9.1667,0,4.4,4.7,3.6,4.3,3.8,"","",{"v":12.500000000000002,"d":"12.5"},9.1667,174,45,50,50,50,49,0,0,14.9,{"v":10.43,"d":"10.4300"},0,4.5,{"v":5,"d":"5.0"},{"v":5,"d":"5.0"},{"v":5,"d":"5.0"},4.9,"","",{"v":14.899999999999999,"d":"14.9"},{"v":10.43,"d":"10.4300"},127,40,47,42,43,43,0,0,{"v":12.8,"d":"13"},9.8133,0,{"v":4,"d":"4.0"},4.7,4.2,4.3,4.3,"","",12.8,9.8133,156,39.6767,45.0872,{"v":0,"d":"0.0"},45.0872]
[109,133,47.5833,200304512,"Lina El Baoudi","Z.P.C.H.","ZPC","MidWest",null,null,2003,null,"","",null,48,46,51,47,50,0,0,14.5,10.6333,0,4.8,4.6,5.1,4.7,{"v":5,"d":"5.0"},"","",{"v":14.500000000000002,"d":"14.5"},10.6333,130,45,50,47,48,49,0,0,14.4,{"v":10.56,"d":"10.5600"},0,4.5,{"v":5,"d":"5.0"},4.7,4.8,4.9,"","",{"v":14.399999999999999,"d":"14.4"},{"v":10.56,"d":"10.5600"},104,44,48,47,46,51,0,0,14.1,{"v":9.87,"d":"9.8700"},0,4.4,4.8,4.7,4.6,5.1,"","",14.1,{"v":9.87,"d":"9.8700"},160,47,46,48,45,48,0,0,{"v":14.1,"d":"14"},{"v":10.81,"d":"10.8100"},0,4.7,4.6,4.8,4.5,4.8,"","",{"v":14.100000000000001,"d":"14.1"},{"v":10.81,"d":"10.8100"},107,41.8733,47.5833,{"v":0,"d":"0.0"},47.5833]
[110,114,48.9091,200502854,"Melida Keizer","De Watertrappers","DWT","Mid West",null,null,2005,null,"L","",null,50,49,47,46,46,0,0,14.2,10.4133,0,{"v":5,"d":"5.0"},4.9,4.7,4.6,4.6,"","",{"v":14.200000000000005,"d":"14.2"},10.4133,148,53,51,51,49,56,0,0,15.5,11.3667,0,5.3,5.1,5.1,4.9,5.6,"","",{"v":15.499999999999998,"d":"15.5"},11.3667,63,46,50,47,49,52,0,0,14.6,{"v":10.22,"d":"10.2200"},0,4.6,{"v":5,"d":"5.0"},4.7,4.9,5.2,"","",{"v":14.600000000000003,"d":"14.6"},{"v":10.22,"d":"10.2200"},142,49,48,47,50,46,0,0,{"v":14.4,"d":"14"},{"v":11.04,"d":"11.0400"},0,4.9,4.8,4.7,{"v":5,"d":"5.0"},4.6,"","",14.4,{"v":11.04,"d":"11.0400"},92,{"v":43.04,"d":"43.0400"},48.9091,{"v":0,"d":"0.0"},48.9091]
[111,98,50.0644,200403218,"Helena Brons","DAW","DAW","Midwest",null,null,2004,null,"L","",null,54,51,57,54,58,0,0,16.5,{"v":12.1,"d":"12.1000"},0,5.4,5.1,5.7,5.4,5.8,"","",16.5,{"v":12.1,"d":"12.1000"},57,47,47,47,47,52,0,0,14.1,{"v":10.34,"d":"10.3400"},0,4.7,4.7,4.7,4.7,5.2,"","",{"v":14.100000000000001,"d":"14.1"},{"v":10.34,"d":"10.3400"},114,49,52,49,46,55,0,0,{"v":15,"d":"15.0"},{"v":10.5,"d":"10.5000"},0,4.9,5.2,4.9,4.6,5.5,"","",{"v":15.000000000000002,"d":"15.0"},{"v":10.5,"d":"10.5000"},122,45,49,48,48,49,0,0,{"v":14.5,"d":"15"},11.1167,0,4.5,4.9,4.8,4.8,4.9,"","",14.5,11.1167,87,44.0567,50.0644,{"v":0,"d":"0.0"},50.0644]
[112,94,50.2311,200405558,"Nisrine Aghrib Miou","De Dolfijn","DOL","Midwest",null,null,2004,null,"L","",null,51,48,51,48,50,0,0,14.9,10.9267,0,5.1,4.8,5.1,4.8,{"v":5,"d":"5.0"},"","",{"v":14.899999999999995,"d":"14.9"},10.9267,112,48,49,50,49,46,0,0,14.6,10.7067,0,4.8,4.9,{"v":5,"d":"5.0"},4.9,4.6,"","",{"v":14.600000000000003,"d":"14.6"},10.7067,98,51,56,60,56,56,0,0,16.8,{"v":11.76,"d":"11.7600"},0,5.1,5.6,{"v":6,"d":"6.0"},5.6,5.6,"","",{"v":16.799999999999997,"d":"16.8"},{"v":11.76,"d":"11.7600"},68,42,51,49,46,46,0,0,{"v":14.1,"d":"14"},{"v":10.81,"d":"10.8100"},0,4.2,5.1,4.9,4.6,4.6,"","",{"v":14.099999999999998,"d":"14.1"},{"v":10.81,"d":"10.8100"},107,44.2034,50.2311,{"v":0,"d":"0.0"},50.2311]
[113,159,{"v":44.928,"d":"44.9280"},200305402,"Kim v Hoogevest","ZV de Zaan","zaa","MidWest",null,"X",2003,null,"","",null,44,45,45,51,49,0,0,13.9,10.1933,0,4.4,4.5,4.5,5.1,4.9,"","",{"v":13.899999999999997,"d":"13.9"},10.1933,162,47,47,49,48,45,0,0,14.2,10.4133,0,4.7,4.7,4.9,4.8,4.5,"","",{"v":14.200000000000003,"d":"14.2"},10.4133,111,45,47,47,42,48,0,0,13.9,{"v":9.73,"d":"9.7300"},0,4.5,4.7,4.7,4.2,4.8,"","",{"v":13.899999999999999,"d":"13.9"},{"v":9.73,"d":"9.7300"},169,39,40,44,41,39,0,0,12,{"v":9.2,"d":"9.2000"},0,3.9,{"v":4,"d":"4.0"},4.4,4.1,3.9,"","",{"v":11.999999999999996,"d":"12.0"},{"v":9.2,"d":"9.2000"},184,39.5366,{"v":44.928,"d":"44.9280"},{"v":0,"d":"0.0"},{"v":44.928,"d":"44.9280"}]
[114,193,{"v":0,"d":"0.0000"},200405184,"Karolina Breedveld","Widex Gzc Donk","DONK","West",null,"X",2004,null,"","","x",0,0,0,0,0,0,0,{"v":0,"d":"0.0"},{"v":0,"d":"0.0000"},0,{"v":0,"d":"0.0"},{"v":0,"d":"0.0"},{"v":0,"d":"0.0"},{"v":0,"d":"0.0"},{"v":0,"d":"0.0"},"","",{"v":0,"d":"0.0"},{"v":0,"d":"0.0000"},"",0,0,0,0,0,0,0,{"v":0,"d":"0.0"},{"v":0,"d":"0.0000"},0,{"v":0,"d":"0.0"},{"v":0,"d":"0.0"},{"v":0,"d":"0.0"},{"v":0,"d":"0.0"},{"v":0,"d":"0.0"},"","",{"v":0,"d":"0.0"},{"v":0,"d":"0.0000"},"",0,0,0,0,0,0,0,{"v":0,"d":"0.0"},{"v":0,"d":"0.0000"},0,{"v":0,"d":"0.0"},{"v":0,"d":"0.0"},{"v":0,"d":"0.0"},{"v":0,"d":"0.0"},{"v":0,"d":"0.0"},"","",{"v":0,"d":"0.0"},{"v":0,"d":"0.0000"},"",0,0,0,0,0,0,0,0,{"v":0,"d":"0.0000"},0,{"v":0,"d":"0.0"},{"v":0,"d":"0.0"},{"v":0,"d":"0.0"},{"v":0,"d":"0.0"},{"v":0,"d":"0.0"},"","",{"v":0,"d":"0.0"},{"v":0,"d":"0.0000"},"",{"v":0,"d":"0.0000"},{"v":0,"d":"0.0000"},{"v":0,"d":"0.0"},0]
[115,10,60.7008,200402892,"Floor Speckens","WVZ","WVZ","West",null,null,2004,null,"L","",null,59,60,65,64,65,0,0,18.9,{"v":13.86,"d":"13.8600"},0,5.9,{"v":6,"d":"6.0"},6.5,6.4,6.5,"","",18.9,{"v":13.86,"d":"13.8600"},9,59,65,58,57,60,0,0,17.7,{"v":12.98,"d":"12.9800"},0,5.9,6.5,5.8,5.7,{"v":6,"d":"6.0"},"","",17.7,{"v":12.98,"d":"12.9800"},14,64,63,63,62,62,0,0,18.8,{"v":13.16,"d":"13.1600"},0,6.4,6.3,6.3,6.2,6.2,"","",18.8,{"v":13.16,"d":"13.1600"},14,58,58,58,59,62,0,0,{"v":17.5,"d":"18"},13.4167,0,5.8,5.8,5.8,5.9,6.2,"","",{"v":17.499999999999996,"d":"17.5"},13.4167,10,53.4167,60.7008,{"v":0,"d":"0.0"},60.7008]
[116,54,53.6023,200403516,"Ilse Wienen","Cadans","CAD","oost",null,null,2004,null,"L","",null,57,57,58,57,59,0,0,17.2,12.6133,0,5.7,5.7,5.8,5.7,5.9,"","",17.2,12.6133,32,51,50,48,48,49,0,0,14.7,{"v":10.78,"d":"10.7800"},0,5.1,{"v":5,"d":"5.0"},4.8,4.8,4.9,"","",14.7,{"v":10.78,"d":"10.7800"},93,58,61,57,55,56,0,0,17.1,{"v":11.97,"d":"11.9700"},0,5.8,6.1,5.7,5.5,5.6,"","",{"v":17.099999999999994,"d":"17.1"},{"v":11.97,"d":"11.9700"},57,50,56,52,50,52,0,0,{"v":15.4,"d":"15"},11.8067,0,{"v":5,"d":"5.0"},5.6,5.2,{"v":5,"d":"5.0"},5.2,"","",{"v":15.399999999999999,"d":"15.4"},11.8067,47,{"v":47.17,"d":"47.1700"},53.6023,{"v":0,"d":"0.0"},53.6023]
[117,171,43.7955,200403802,"Lisa van Laar","Polar Bears","PB","Oost",null,null,2004,null,"","",null,46,46,50,46,48,0,0,{"v":14,"d":"14.0"},10.2667,0,4.6,4.6,{"v":5,"d":"5.0"},4.6,4.8,"","",{"v":13.999999999999998,"d":"14.0"},10.2667,157,40,35,40,39,38,0,0,11.7,{"v":8.58,"d":"8.5800"},0,{"v":4,"d":"4.0"},3.5,{"v":4,"d":"4.0"},3.9,3.8,"","",11.7,{"v":8.58,"d":"8.5800"},186,51,59,46,50,50,0,0,15.1,{"v":10.57,"d":"10.5700"},0,5.1,5.9,4.6,{"v":5,"d":"5.0"},{"v":5,"d":"5.0"},"","",{"v":15.100000000000003,"d":"15.1"},{"v":10.57,"d":"10.5700"},119,38,39,40,41,40,0,0,{"v":11.9,"d":"12"},9.1233,0,3.8,3.9,{"v":4,"d":"4.0"},4.1,{"v":4,"d":"4.0"},"","",{"v":11.899999999999999,"d":"11.9"},9.1233,186,{"v":38.54,"d":"38.5400"},43.7955,{"v":0,"d":"0.0"},43.7955]
[118,190,39.8977,200501692,"Femke Hermans","ZC.Eijsden","eij","Zuid",null,"X",2005,null,"","",null,44,47,44,43,45,0,0,13.3,9.7533,0,4.4,4.7,4.4,4.3,4.5,"","",13.3,9.7533,176,38,34,38,37,39,0,0,11.3,8.2867,0,3.8,3.4,3.8,3.7,3.9,"","",{"v":11.299999999999997,"d":"11.3"},8.2867,189,37,46,44,38,35,0,0,11.9,{"v":8.33,"d":"8.3300"},0,3.7,4.6,4.4,3.8,3.5,"","",11.9,{"v":8.33,"d":"8.3300"},196,35,40,40,38,36,0,0,{"v":11.4,"d":"11"},{"v":8.74,"d":"8.7400"},0,3.5,{"v":4,"d":"4.0"},{"v":4,"d":"4.0"},3.8,3.6,"","",{"v":11.400000000000002,"d":"11.4"},{"v":8.74,"d":"8.7400"},194,{"v":35.11,"d":"35.1100"},39.8977,{"v":0,"d":"0.0"},39.8977]
[119,193,{"v":0,"d":"0.0000"},200305506,"Yza Babcoubei","Aquarijn","AQU","MidWest",null,"X",2003,null,"","","x",0,0,0,0,0,0,0,{"v":0,"d":"0.0"},{"v":0,"d":"0.0000"},0,{"v":0,"d":"0.0"},{"v":0,"d":"0.0"},{"v":0,"d":"0.0"},{"v":0,"d":"0.0"},{"v":0,"d":"0.0"},"","",{"v":0,"d":"0.0"},{"v":0,"d":"0.0000"},"",0,0,0,0,0,0,0,{"v":0,"d":"0.0"},{"v":0,"d":"0.0000"},0,{"v":0,"d":"0.0"},{"v":0,"d":"0.0"},{"v":0,"d":"0.0"},{"v":0,"d":"0.0"},{"v":0,"d":"0.0"},"","",{"v":0,"d":"0.0"},{"v":0,"d":"0.0000"},"",0,0,0,0,0,0,0,{"v":0,"d":"0.0"},{"v":0,"d":"0.0000"},0,{"v":0,"d":"0.0"},{"v":0,"d":"0.0"},{"v":0,"d":"0.0"},{"v":0,"d":"0.0"},{"v":0,"d":"0.0"},"","",{"v":0,"d":"0.0"},{"v":0,"d":"0.0000"},"",0,0,0,0,0,0,0,0,{"v":0,"d":"0.0000"},0,{"v":0,"d":"0.0"},{"v":0,"d":"0.0"},{"v":0,"d":"0.0"},{"v":0,"d":"0.0"},{"v":0,"d":"0.0"},"","",{"v":0,"d":"0.0"},{"v":0,"d":"0.0000"},"",{"v":0,"d":"0.0000"},{"v":0,"d":"0.0000"},{"v":0,"d":"0.0"},0]
[120,105,49.3901,200302048,"Jasmijn van Appeldorn","Aqua-Novio '94","AQN","Oost",null,null,2003,null,"L","",null,48,45,48,46,51,0,0,14.2,10.4133,0,4.8,4.5,4.8,4.6,5.1,"","",{"v":14.200000000000003,"d":"14.2"},10.4133,148,48,45,47,45,46,0,0,13.8,{"v":10.12,"d":"10.1200"},0,4.8,4.5,4.7,4.5,4.6,"","",13.8,{"v":10.12,"d":"10.1200"},126,50,57,58,48,53,0,0,{"v":16,"d":"16.0"},{"v":11.2,"d":"11.2000"},0,{"v":5,"d":"5.0"},5.7,5.8,4.8,5.3,"","",{"v":16,"d":"16.0"},{"v":11.2,"d":"11.2000"},95,50,51,52,52,47,0,0,{"v":15.3,"d":"15"},{"v":11.73,"d":"11.7300"},0,{"v":5,"d":"5.0"},5.1,5.2,5.2,4.7,"","",15.3,{"v":11.73,"d":"11.7300"},50,43.4633,49.3901,{"v":0,"d":"0.0"},49.3901]
[121,20,57.7992,200304528,"Kincsö Biró","ACZ","ACZ","West",null,null,2003,null,"L","",null,60,58,61,61,60,0,0,18.1,13.2733,0,{"v":6,"d":"6.0"},5.8,6.1,6.1,{"v":6,"d":"6.0"},"","",{"v":18.099999999999998,"d":"18.1"},13.2733,17,57,52,61,62,58,0,0,17.6,12.9067,0,5.7,5.2,6.1,6.2,5.8,"","",17.6,12.9067,15,53,62,58,53,63,0,0,17.3,{"v":12.11,"d":"12.1100"},0,5.3,6.2,5.8,5.3,6.3,"","",17.3,{"v":12.11,"d":"12.1100"},47,61,56,54,54,52,0,0,{"v":16.4,"d":"16"},12.5733,0,6.1,5.6,5.4,5.4,5.2,"","",{"v":16.400000000000002,"d":"16.4"},12.5733,27,{"v":50.863299999999995,"d":"50.8633"},57.7992,{"v":0,"d":"0.0"},57.7992]
[122,55,53.4128,200304190,"Orane Brunsting","Z.P.C.H.","ZPC","MidWest",null,null,2003,null,"L","",null,54,54,58,58,57,0,0,16.9,12.3933,0,5.4,5.4,5.8,5.8,5.7,"","",16.9,12.3933,45,51,49,50,49,53,0,0,{"v":15,"d":"15.0"},{"v":11,"d":"11.0000"},0,5.1,4.9,{"v":5,"d":"5.0"},4.9,5.3,"","",{"v":14.999999999999998,"d":"15.0"},{"v":11,"d":"11.0000"},79,62,57,56,57,59,0,0,17.3,{"v":12.11,"d":"12.1100"},0,6.2,5.7,5.6,5.7,5.9,"","",{"v":17.300000000000004,"d":"17.3"},{"v":12.11,"d":"12.1100"},47,51,49,50,50,50,0,0,15,{"v":11.5,"d":"11.5000"},0,5.1,4.9,{"v":5,"d":"5.0"},{"v":5,"d":"5.0"},{"v":5,"d":"5.0"},"","",{"v":14.999999999999998,"d":"15.0"},{"v":11.5,"d":"11.5000"},62,{"v":47.003299999999996,"d":"47.0033"},53.4128,{"v":0,"d":"0.0"},53.4128]
[123,14,60.0531,200403430,"Giorgia Gandossi","DAW","DAW","Midwest",null,null,2004,null,"L","",null,55,63,63,59,60,0,0,18.2,13.3467,0,5.5,6.3,6.3,5.9,{"v":6,"d":"6.0"},"","",18.2,13.3467,12,61,53,63,59,60,0,0,{"v":18,"d":"18.0"},{"v":13.2,"d":"13.2000"},0,6.1,5.3,6.3,5.9,{"v":6,"d":"6.0"},"","",{"v":18,"d":"18.0"},{"v":13.2,"d":"13.2000"},9,64,58,60,54,54,0,0,17.2,{"v":12.04,"d":"12.0400"},0,6.4,5.8,{"v":6,"d":"6.0"},5.4,5.4,"","",{"v":17.200000000000003,"d":"17.2"},{"v":12.04,"d":"12.0400"},52,62,61,63,63,60,0,0,{"v":18.6,"d":"19"},{"v":14.26,"d":"14.2600"},0,6.2,6.1,6.3,6.3,{"v":6,"d":"6.0"},"","",18.6,{"v":14.26,"d":"14.2600"},2,52.8467,60.0531,{"v":0,"d":"0.0"},60.0531]
[124,18,58.5265,200401294,"Eline Braakhuis","De Dolfijn","DOL","Midwest",null,null,2004,null,"L","",null,53,60,58,56,58,0,0,17.2,12.6133,0,5.3,{"v":6,"d":"6.0"},5.8,5.6,5.8,"","",{"v":17.200000000000003,"d":"17.2"},12.6133,32,58,55,58,56,58,0,0,17.2,12.6133,0,5.8,5.5,5.8,5.6,5.8,"","",{"v":17.200000000000003,"d":"17.2"},12.6133,18,60,62,64,64,61,0,0,18.7,{"v":13.09,"d":"13.0900"},0,{"v":6,"d":"6.0"},6.2,6.4,6.4,6.1,"","",{"v":18.700000000000003,"d":"18.7"},{"v":13.09,"d":"13.0900"},15,57,57,56,59,58,0,0,{"v":17.2,"d":"17"},13.1867,0,5.7,5.7,5.6,5.9,5.8,"","",{"v":17.199999999999996,"d":"17.2"},13.1867,12,51.5033,58.5265,{"v":0,"d":"0.0"},58.5265]
[125,174,43.5833,200405286,"Loïs Vink","VZC Veenendaal","VZV","Midwest",null,"X",2004,null,"","",null,42,42,42,51,50,0,0,13.4,9.8267,0,4.2,4.2,4.2,5.1,{"v":5,"d":"5.0"},"","",{"v":13.400000000000002,"d":"13.4"},9.8267,175,41,48,49,45,43,0,0,13.6,9.9733,0,4.1,4.8,4.9,4.5,4.3,"","",{"v":13.599999999999996,"d":"13.6"},9.9733,134,46,46,48,46,46,0,0,13.8,{"v":9.66,"d":"9.6600"},0,4.6,4.6,4.8,4.6,4.6,"","",{"v":13.800000000000002,"d":"13.8"},{"v":9.66,"d":"9.6600"},171,36,40,40,40,34,0,0,{"v":11.6,"d":"12"},8.8933,0,3.6,{"v":4,"d":"4.0"},{"v":4,"d":"4.0"},{"v":4,"d":"4.0"},3.4,"","",11.6,8.8933,190,{"v":38.353300000000004,"d":"38.3533"},43.5833,{"v":0,"d":"0.0"},43.5833]
[126,117,48.6098,200404488,"Jane van Tol","Widex Gzc Donk","DONK","West",null,null,2004,null,"","",null,51,52,51,60,50,0,0,15.4,11.2933,0,5.1,5.2,5.1,{"v":6,"d":"6.0"},{"v":5,"d":"5.0"},"","",{"v":15.399999999999999,"d":"15.4"},11.2933,102,51,45,46,50,49,0,0,14.5,10.6333,0,5.1,4.5,4.6,{"v":5,"d":"5.0"},4.9,"","",14.5,10.6333,100,51,50,44,49,51,0,0,{"v":15,"d":"15.0"},{"v":10.5,"d":"10.5000"},0,5.1,{"v":5,"d":"5.0"},4.4,4.9,5.1,"","",{"v":14.999999999999998,"d":"15.0"},{"v":10.5,"d":"10.5000"},122,49,45,42,43,47,0,0,{"v":13.5,"d":"14"},{"v":10.35,"d":"10.3500"},0,4.9,4.5,4.2,4.3,4.7,"","",{"v":13.500000000000004,"d":"13.5"},{"v":10.35,"d":"10.3500"},131,42.7766,48.6098,{"v":0,"d":"0.0"},48.6098]
[127,134,47.4735,200502078,"Naomi de Jong","Widex Gzc Donk","DONK","West",null,null,2005,null,"L","",null,46,57,52,52,51,0,0,15.5,11.3667,0,4.6,5.7,5.2,5.2,5.1,"","",{"v":15.499999999999998,"d":"15.5"},11.3667,100,43,39,39,44,40,0,0,12.2,8.9467,0,4.3,3.9,3.9,4.4,{"v":4,"d":"4.0"},"","",{"v":12.200000000000001,"d":"12.2"},8.9467,177,57,49,49,52,48,0,0,{"v":15,"d":"15.0"},{"v":10.5,"d":"10.5000"},0,5.7,4.9,4.9,5.2,4.8,"","",{"v":15.000000000000004,"d":"15.0"},{"v":10.5,"d":"10.5000"},122,41,47,48,49,48,0,0,{"v":14.3,"d":"14"},10.9633,0,4.1,4.7,4.8,4.9,4.8,"","",{"v":14.299999999999999,"d":"14.3"},10.9633,96,{"v":41.776700000000005,"d":"41.7767"},47.4735,{"v":0,"d":"0.0"},47.4735]
[128,180,42.7765,200405436,"Amy Struijk","WVZ","WVZ","West",null,null,2004,null,"","",null,39,40,42,39,48,0,0,12.1,8.8733,0,3.9,{"v":4,"d":"4.0"},4.2,3.9,4.8,"","",12.1,8.8733,194,40,43,47,46,49,0,0,13.6,9.9733,0,{"v":4,"d":"4.0"},4.3,4.7,4.6,4.9,"","",{"v":13.600000000000001,"d":"13.6"},9.9733,134,47,48,46,40,43,0,0,13.6,{"v":9.52,"d":"9.5200"},0,4.7,4.8,4.6,{"v":4,"d":"4.0"},4.3,"","",{"v":13.600000000000001,"d":"13.6"},{"v":9.52,"d":"9.5200"},175,38,41,41,40,40,0,0,{"v":12.1,"d":"12"},9.2767,0,3.8,4.1,4.1,{"v":4,"d":"4.0"},{"v":4,"d":"4.0"},"","",{"v":12.100000000000001,"d":"12.1"},9.2767,179,37.6433,42.7765,{"v":0,"d":"0.0"},42.7765]
[129,{"$f":"IF(I135=\"BM\",\"BM\",RANK(CU135,CU$7:CU$256))","v":126},{"$f":"+CS135-CT135","v":47.8523},200301372,"Frauke Stok","Cadans","CAD","oost",null,null,{"$f":"VALUE(IF(D135=\"\",0,MID(D135,1,4)))","v":2003},null,{"$f":"IF(AND(14>($H$1-K135),($H$1-K135)>=13,C135>=$N$4),\"L\",IF(AND(16>($H$1-K135),($H$1-K135)>=14,C135>=$N$3),\"L\",IF(K135>0,IF(OR(K135>$J$4,K135<$I$4),\"BM\",\"\"),\"\")))","v":""},{"$f":"IF(C135>0,IF(J135>\"\",IF(C135<$H$3,\"\",\"Age II\"),\"\"),\"\")","v":""},null,45,46,53,52,49,0,0,14.7,{"v":10.78,"d":"10.7800"},0,{"$f":"+P135/10","v":4.5},{"$f":"+Q135/10","v":4.6},{"$f":"+R135/10","v":5.3},{"$f":"+S135/10","v":5.2},{"$f":"+T135/10","v":4.9},{"$f":"IF(U135>0,+U135/10,\"\")","v":""},{"$f":"IF(V135>0,+V135/10,\"\")","v":""},{"$f":"SUM(Z135:AF135)-MAX(Z135:AF135)-MIN(Z135:AF135)","v":14.7},{"$f":"ROUND(AG135/(COUNTIF(Z135:AF135,\">=0\")-2)*$AH$3,4)","v":{"v":10.78,"d":"10.7800"}},{"$f":"IF(AH135=0,\"\",RANK(AH135,AH$7:AH$256))","v":120},50,48,49,50,53,0,0,14.9,10.9267,0,{"$f":"+AJ135/10","v":{"v":5,"d":"5.0"}},{"$f":"+AK135/10","v":4.8},{"$f":"+AL135/10","v":4.9},{"$f":"+AM135/10","v":{"v":5,"d":"5.0"}},{"$f":"+AN135/10","v":5.3},{"$f":"IF(AO135>0,+AO135/10,\"\")","v":""},{"$f":"IF(AP135>0,+AP135/10,\"\")","v":""},{"$f":"SUM(AT135:AZ135)-MAX(AT135:AZ135)-MIN(AT135:AZ135)","v":{"v":14.900000000000002,"d":"14.9"}},{"$f":"ROUND(BA135/(COUNTIF(AT135:AZ135,\">0\")-2)*$BB$3,4)","v":10.9267},{"$f":"IF(BB135=0,\"\",RANK(BB135,BB$7:BB$256))","v":86},52,50,40,47,51,0,0,14.8,{"v":10.36,"d":"10.3600"},0,{"$f":"+BD135/10","v":5.2},{"$f":"+BE135/10","v":{"v":5,"d":"5.0"}},{"$f":"+BF135/10","v":{"v":4,"d":"4.0"}},{"$f":"+BG135/10","v":4.7},{"$f":"+BH135/10","v":5.1},{"$f":"IF(BI135>0,+BI135/10,\"\")","v":""},{"$f":"IF(BJ135>0,+BJ135/10,\"\")","v":""},{"$f":"SUM(BN135:BT135)-MAX(BN135:BT135)-MIN(BN135:BT135)","v":14.8},{"$f":"ROUND(BU135/(COUNTIF(BN135:BT135,\">0\")-2)*$BV$3,4)","v":{"v":10.36,"d":"10.3600"}},{"$f":"IF(BV135=0,\"\",RANK(BV135,BV$7:BV$256))","v":135},42,46,47,42,43,0,0,{"v":13.1,"d":"13"},10.0433,0,{"$f":"+BX135/10","v":4.2},{"$f":"+BY135/10","v":4.6},{"$f":"+BZ135/10","v":4.7},{"$f":"+CA135/10","v":4.2},{"$f":"+CB135/10","v":4.3},{"$f":"IF(CC135>0,+CC135/10,\"\")","v":""},{"$f":"IF(CD135>0,+CD135/10,\"\")","v":""},{"$f":"SUM(CH135:CN135)-MAX(CH135:CN135)-MIN(CH135:CN135)","v":{"v":13.100000000000001,"d":"13.1"}},{"$f":"ROUND(CO135/(COUNTIF(CH135:CN135,\">0\")-2)*$CP$3,4)","v":10.0433},{"$f":"IF(CP135=0,\"\",RANK(CP135,CP$7:CP$256))","v":144},{"$f":"+AH135+BB135+BV135+CP135","v":{"v":42.11,"d":"42.1100"}},{"$f":"+ROUND((+CR135*10)/(+$AH$3+$BB$3+$BV$3+$CP$3),4)","v":47.8523},{"$f":"+Y135+AS135+BM135+CG135","v":{"v":0,"d":"0.0"}},{"$f":"IF(I135=\"BM\",0,+CS135-CT135)","v":47.8523}]
[130,137,47.2461,200500162,"Mija Bussink","ZC.Eijsden","eij","Zuid",null,null,2005,null,"L","",null,52,51,52,56,53,0,0,15.7,11.5133,0,5.2,5.1,5.2,5.6,5.3,"","",{"v":15.700000000000005,"d":"15.7"},11.5133,88,39,37,43,41,43,0,0,12.3,{"v":9.02,"d":"9.0200"},0,3.9,3.7,4.3,4.1,4.3,"","",{"v":12.299999999999997,"d":"12.3"},{"v":9.02,"d":"9.0200"},176,48,46,42,50,52,0,0,14.4,{"v":10.08,"d":"10.0800"},0,4.8,4.6,4.2,{"v":5,"d":"5.0"},5.2,"","",{"v":14.399999999999999,"d":"14.4"},{"v":10.08,"d":"10.0800"},149,50,48,48,46,47,0,0,{"v":14.3,"d":"14"},10.9633,0,{"v":5,"d":"5.0"},4.8,4.8,4.6,4.7,"","",{"v":14.300000000000002,"d":"14.3"},10.9633,96,41.5766,47.2461,{"v":0,"d":"0.0"},47.2461]
[131,192,39.2463,200502062,"Linda Driessen","HZPC Horst","HZPC","zuid",null,"X",2005,null,"","",null,36,42,43,38,39,0,0,11.9,8.7267,0,3.6,4.2,4.3,3.8,3.9,"","",11.9,8.7267,196,34,35,37,37,37,0,0,10.9,7.9933,0,3.4,3.5,3.7,3.7,3.7,"","",10.9,7.9933,193,39,43,44,34,40,0,0,12.2,{"v":8.54,"d":"8.5400"},0,3.9,4.3,4.4,3.4,{"v":4,"d":"4.0"},"","",12.2,{"v":8.54,"d":"8.5400"},195,38,40,43,40,41,0,0,{"v":12.1,"d":"12"},9.2767,0,3.8,{"v":4,"d":"4.0"},4.3,{"v":4,"d":"4.0"},4.1,"","",{"v":12.100000000000001,"d":"12.1"},9.2767,179,{"v":34.536699999999996,"d":"34.5367"},39.2463,{"v":0,"d":"0.0"},39.2463]
[132,167,44.4545,200503978,"Maud van Breukelen","Aquarijn","AQU","MidWest",null,"X",2005,null,"","",null,47,50,48,45,48,0,0,14.3,10.4867,0,4.7,{"v":5,"d":"5.0"},4.8,4.5,4.8,"","",14.3,10.4867,143,46,45,46,41,44,0,0,13.5,{"v":9.9,"d":"9.9000"},0,4.6,4.5,4.6,4.1,4.4,"","",{"v":13.499999999999995,"d":"13.5"},{"v":9.9,"d":"9.9000"},138,46,47,46,42,42,0,0,13.4,{"v":9.38,"d":"9.3800"},0,4.6,4.7,4.6,4.2,4.2,"","",{"v":13.400000000000002,"d":"13.4"},{"v":9.38,"d":"9.3800"},182,43,42,40,40,38,0,0,{"v":12.2,"d":"12"},9.3533,0,4.3,4.2,{"v":4,"d":"4.0"},{"v":4,"d":"4.0"},3.8,"","",12.2,9.3533,175,{"v":39.120000000000005,"d":"39.1200"},44.4545,{"v":0,"d":"0.0"},44.4545]
[133,109,49.1705,200400053,"Giovanni van der Zon","ACZ","ACZ","West",null,null,2004,null,"L","",null,48,40,49,53,50,0,0,14.7,{"v":10.78,"d":"10.7800"},0,4.8,{"v":4,"d":"4.0"},4.9,5.3,{"v":5,"d":"5.0"},"","",14.7,{"v":10.78,"d":"10.7800"},120,45,40,40,46,44,0,0,12.9,{"v":9.46,"d":"9.4600"},0,4.5,{"v":4,"d":"4.0"},{"v":4,"d":"4.0"},4.6,4.4,"","",{"v":12.899999999999999,"d":"12.9"},{"v":9.46,"d":"9.4600"},164,52,58,60,56,54,0,0,16.8,{"v":11.76,"d":"11.7600"},0,5.2,5.8,{"v":6,"d":"6.0"},5.6,5.4,"","",16.8,{"v":11.76,"d":"11.7600"},68,49,50,50,48,48,0,0,{"v":14.7,"d":"15"},{"v":11.27,"d":"11.2700"},0,4.9,{"v":5,"d":"5.0"},{"v":5,"d":"5.0"},4.8,4.8,"","",14.7,{"v":11.27,"d":"11.2700"},76,{"v":43.269999999999996,"d":"43.2700"},49.1705,{"v":0,"d":"0.0"},49.1705]
[134,132,47.6023,200500078,"Jody Otte","Hera'11","HERA","Oost",null,null,2005,null,"L","",null,50,58,54,62,52,0,0,16.4,12.0267,0,{"v":5,"d":"5.0"},5.8,5.4,6.2,5.2,"","",{"v":16.400000000000002,"d":"16.4"},12.0267,58,43,41,43,43,43,0,0,12.9,{"v":9.46,"d":"9.4600"},0,4.3,4.1,4.3,4.3,4.3,"","",12.9,{"v":9.46,"d":"9.4600"},164,53,49,49,47,50,0,0,14.8,{"v":10.36,"d":"10.3600"},0,5.3,4.9,4.9,4.7,{"v":5,"d":"5.0"},"","",14.8,{"v":10.36,"d":"10.3600"},135,42,44,46,45,41,0,0,{"v":13.1,"d":"13"},10.0433,0,4.2,4.4,4.6,4.5,4.1,"","",{"v":13.100000000000003,"d":"13.1"},10.0433,144,{"v":41.89,"d":"41.8900"},47.6023,{"v":0,"d":"0.0"},47.6023]
[135,189,40.3636,200303570,"Melissa Groeneveld","De Houtrib","HOU","Oost",null,"X",2003,null,"","",null,37,39,47,42,40,0,0,12.1,8.8733,0,3.7,3.9,4.7,4.2,{"v":4,"d":"4.0"},"","",{"v":12.100000000000001,"d":"12.1"},8.8733,194,44,38,38,41,43,0,0,12.2,8.9467,0,4.4,3.8,3.8,4.1,4.3,"","",12.2,8.9467,177,46,45,38,40,43,0,0,12.8,{"v":8.96,"d":"8.9600"},0,4.6,4.5,3.8,{"v":4,"d":"4.0"},4.3,"","",12.8,{"v":8.96,"d":"8.9600"},191,39,38,37,37,40,0,0,{"v":11.4,"d":"11"},{"v":8.74,"d":"8.7400"},0,3.9,3.8,3.7,3.7,{"v":4,"d":"4.0"},"","",{"v":11.399999999999999,"d":"11.4"},{"v":8.74,"d":"8.7400"},194,{"v":35.52,"d":"35.5200"},40.3636,{"v":0,"d":"0.0"},40.3636]
[136,5,62.3636,200302652,"Femke Vos","Z.P.C.H.","ZPC","MidWest",null,null,2003,null,"L","",null,63,63,64,63,65,0,0,{"v":19,"d":"19.0"},13.9333,0,6.3,6.3,6.4,6.3,6.5,"","",{"v":19,"d":"19.0"},13.9333,7,63,51,61,59,64,0,0,18.3,{"v":13.42,"d":"13.4200"},0,6.3,5.1,6.1,5.9,6.4,"","",{"v":18.299999999999997,"d":"18.3"},{"v":13.42,"d":"13.4200"},7,69,65,65,65,63,0,0,19.5,{"v":13.65,"d":"13.6500"},0,6.9,6.5,6.5,6.5,6.3,"","",{"v":19.499999999999996,"d":"19.5"},{"v":13.65,"d":"13.6500"},6,62,59,60,58,64,0,0,{"v":18.1,"d":"18"},13.8767,0,6.2,5.9,{"v":6,"d":"6.0"},5.8,6.4,"","",{"v":18.100000000000005,"d":"18.1"},13.8767,5,{"v":54.879999999999995,"d":"54.8800"},62.3636,{"v":0,"d":"0.0"},62.3636]
[137,60,52.9016,200404262,"Ailani Weltz","DAW","DAW","Midwest",null,null,2004,null,"L","",null,58,60,58,57,57,0,0,17.3,12.6867,0,5.8,{"v":6,"d":"6.0"},5.8,5.7,5.7,"","",17.3,12.6867,29,50,49,52,56,54,0,0,15.6,{"v":11.44,"d":"11.4400"},0,{"v":5,"d":"5.0"},4.9,5.2,5.6,5.4,"","",15.6,{"v":11.44,"d":"11.4400"},60,50,53,52,55,45,0,0,15.5,{"v":10.85,"d":"10.8500"},0,{"v":5,"d":"5.0"},5.3,5.2,5.5,4.5,"","",15.5,{"v":10.85,"d":"10.8500"},108,52,48,50,51,50,0,0,{"v":15.1,"d":"15"},11.5767,0,5.2,4.8,{"v":5,"d":"5.0"},5.1,{"v":5,"d":"5.0"},"","",{"v":15.100000000000001,"d":"15.1"},11.5767,58,46.5534,52.9016,{"v":0,"d":"0.0"},52.9016]
[138,16,59.1706,200403600,"Marleen Voesten","De Dolfijn","DOL","MidWest",null,null,2004,null,"L","",null,61,59,62,67,58,0,0,18.2,13.3467,0,6.1,5.9,6.2,6.7,5.8,"","",18.2,13.3467,12,56,56,57,57,61,0,0,{"v":17,"d":"17.0"},12.4667,0,5.6,5.6,5.7,5.7,6.1,"","",{"v":16.999999999999993,"d":"17.0"},12.4667,21,68,61,65,63,62,0,0,{"v":19,"d":"19.0"},{"v":13.3,"d":"13.3000"},0,6.8,6.1,6.5,6.3,6.2,"","",{"v":19,"d":"19.0"},{"v":13.3,"d":"13.3000"},11,59,57,57,55,55,0,0,{"v":16.9,"d":"17"},12.9567,0,5.9,5.7,5.7,5.5,5.5,"","",16.9,12.9567,20,52.0701,59.1706,{"v":0,"d":"0.0"},59.1706]
[139,96,50.1288,200404486,"Jessie Sapuletej","Widex Gzc Donk","DONK","West",null,null,2004,null,"L","",null,54,49,55,54,57,0,0,16.3,11.9533,0,5.4,4.9,5.5,5.4,5.7,"","",{"v":16.300000000000004,"d":"16.3"},11.9533,62,52,48,48,46,49,0,0,14.5,10.6333,0,5.2,4.8,4.8,4.6,4.9,"","",{"v":14.499999999999998,"d":"14.5"},10.6333,100,55,56,49,48,46,0,0,15.2,{"v":10.64,"d":"10.6400"},0,5.5,5.6,4.9,4.8,4.6,"","",{"v":15.199999999999998,"d":"15.2"},{"v":10.64,"d":"10.6400"},117,49,46,48,47,47,0,0,{"v":14.2,"d":"14"},10.8867,0,4.9,4.6,4.8,4.7,4.7,"","",{"v":14.199999999999998,"d":"14.2"},10.8867,103,44.1133,50.1288,{"v":0,"d":"0.0"},50.1288]
[140,17,58.7878,200302352,"Laura Lai","De Dolfijn","DOL","Midwest",null,null,2003,null,"L","",null,56,60,59,58,59,0,0,17.6,12.9067,0,5.6,{"v":6,"d":"6.0"},5.9,5.8,5.9,"","",17.6,12.9067,22,59,60,62,58,59,0,0,17.8,13.0533,0,5.9,{"v":6,"d":"6.0"},6.2,5.8,5.9,"","",{"v":17.800000000000004,"d":"17.8"},13.0533,12,67,58,62,51,62,0,0,18.2,{"v":12.74,"d":"12.7400"},0,6.7,5.8,6.2,5.1,6.2,"","",{"v":18.199999999999996,"d":"18.2"},{"v":12.74,"d":"12.7400"},23,57,57,56,57,56,0,0,17,13.0333,0,5.7,5.7,5.6,5.7,5.6,"","",{"v":17,"d":"17.0"},13.0333,19,51.7333,58.7878,{"v":0,"d":"0.0"},58.7878]
[141,165,44.5833,200404488,"Noa Palsgraaf","Widex Gzc Donk","DONK","West",null,null,2004,null,"","",null,40,40,43,43,39,0,0,12.3,{"v":9.02,"d":"9.0200"},0,{"v":4,"d":"4.0"},{"v":4,"d":"4.0"},4.3,4.3,3.9,"","",{"v":12.299999999999999,"d":"12.3"},{"v":9.02,"d":"9.0200"},191,49,47,49,51,49,0,0,14.7,{"v":10.78,"d":"10.7800"},0,4.9,4.7,4.9,5.1,4.9,"","",14.7,{"v":10.78,"d":"10.7800"},93,49,47,49,48,44,0,0,14.4,{"v":10.08,"d":"10.0800"},0,4.9,4.7,4.9,4.8,4.4,"","",{"v":14.400000000000004,"d":"14.4"},{"v":10.08,"d":"10.0800"},149,45,41,40,40,41,0,0,{"v":12.2,"d":"12"},9.3533,0,4.5,4.1,{"v":4,"d":"4.0"},{"v":4,"d":"4.0"},4.1,"","",{"v":12.200000000000003,"d":"12.2"},9.3533,175,39.2333,44.5833,{"v":0,"d":"0.0"},44.5833]
[142,184,42.0531,200405434,"Eline Schouten","WVZ","WVZ","West",null,"X",2004,null,"","",null,41,48,45,41,40,0,0,12.7,9.3133,0,4.1,4.8,4.5,4.1,{"v":4,"d":"4.0"},"","",12.7,9.3133,185,35,37,37,36,39,0,0,{"v":11,"d":"11.0"},8.0667,0,3.5,3.7,3.7,3.6,3.9,"","",{"v":10.999999999999998,"d":"11.0"},8.0667,192,44,49,48,46,42,0,0,13.8,{"v":9.66,"d":"9.6600"},0,4.4,4.9,4.8,4.6,4.2,"","",13.8,{"v":9.66,"d":"9.6600"},171,40,45,42,44,44,0,0,13,9.9667,0,{"v":4,"d":"4.0"},4.5,4.2,4.4,4.4,"","",{"v":13,"d":"13.0"},9.9667,149,37.0067,42.0531,{"v":0,"d":"0.0"},42.0531]
[143,19,{"v":58.519,"d":"58.5190"},200400606,"Fleur Valk","AZC","AZC","West",null,null,2004,null,"L","",null,59,58,60,56,59,0,0,17.6,12.9067,0,5.9,5.8,{"v":6,"d":"6.0"},5.6,5.9,"","",{"v":17.599999999999994,"d":"17.6"},12.9067,22,53,48,56,58,57,0,0,16.6,12.1733,0,5.3,4.8,5.6,5.8,5.7,"","",{"v":16.599999999999998,"d":"16.6"},12.1733,30,68,63,60,63,63,0,0,18.9,{"v":13.23,"d":"13.2300"},0,6.8,6.3,{"v":6,"d":"6.0"},6.3,6.3,"","",{"v":18.900000000000002,"d":"18.9"},{"v":13.23,"d":"13.2300"},13,60,57,55,57,58,0,0,{"v":17.2,"d":"17"},13.1867,0,{"v":6,"d":"6.0"},5.7,5.5,5.7,5.8,"","",17.2,13.1867,12,{"v":51.496700000000004,"d":"51.4967"},{"v":58.519,"d":"58.5190"},{"v":0,"d":"0.0"},{"v":58.519,"d":"58.5190"}]
[144,28,56.3674,200400964,"Pauline Radochyn","Cadans","CAD","oost",null,null,2004,null,"L","",null,57,57,58,45,53,0,0,16.7,12.2467,0,5.7,5.7,5.8,4.5,5.3,"","",16.7,12.2467,51,51,52,58,55,56,0,0,16.3,11.9533,0,5.1,5.2,5.8,5.5,5.6,"","",{"v":16.300000000000004,"d":"16.3"},11.9533,39,57,60,60,60,67,0,0,{"v":18,"d":"18.0"},{"v":12.6,"d":"12.6000"},0,5.7,{"v":6,"d":"6.0"},{"v":6,"d":"6.0"},{"v":6,"d":"6.0"},6.7,"","",{"v":18,"d":"18.0"},{"v":12.6,"d":"12.6000"},25,52,58,55,58,54,0,0,{"v":16.7,"d":"17"},12.8033,0,5.2,5.8,5.5,5.8,5.4,"","",{"v":16.700000000000003,"d":"16.7"},12.8033,23,{"v":49.603300000000004,"d":"49.6033"},56.3674,{"v":0,"d":"0.0"},56.3674]
[145,160,44.8409,200404146,"Axana Gerits","ZC.Eijsden","eij","Zuid",null,"X",2004,null,"","",null,42,52,47,48,43,0,0,13.8,{"v":10.12,"d":"10.1200"},0,4.2,5.2,4.7,4.8,4.3,"","",{"v":13.800000000000004,"d":"13.8"},{"v":10.12,"d":"10.1200"},165,39,46,45,44,46,0,0,13.5,{"v":9.9,"d":"9.9000"},0,3.9,4.6,4.5,4.4,4.6,"","",{"v":13.499999999999998,"d":"13.5"},{"v":9.9,"d":"9.9000"},138,47,52,40,50,46,0,0,14.3,{"v":10.01,"d":"10.0100"},0,4.7,5.2,{"v":4,"d":"4.0"},{"v":5,"d":"5.0"},4.6,"","",14.3,{"v":10.01,"d":"10.0100"},153,42,40,40,42,41,0,0,{"v":12.3,"d":"12"},{"v":9.43,"d":"9.4300"},0,4.2,{"v":4,"d":"4.0"},{"v":4,"d":"4.0"},4.2,4.1,"","",12.3,{"v":9.43,"d":"9.4300"},170,{"v":39.46,"d":"39.4600"},44.8409,{"v":0,"d":"0.0"},44.8409]
[146,122,{"v":48.038,"d":"48.0380"},200305228,"Dieuwke van de Berg","Hieronymus","Hie","Zuid",null,null,2003,null,"","",null,53,59,55,52,53,0,0,16.1,11.8067,0,5.3,5.9,5.5,5.2,5.3,"","",{"v":16.099999999999998,"d":"16.1"},11.8067,72,40,39,46,45,44,0,0,12.9,{"v":9.46,"d":"9.4600"},0,{"v":4,"d":"4.0"},3.9,4.6,4.5,4.4,"","",{"v":12.899999999999997,"d":"12.9"},{"v":9.46,"d":"9.4600"},164,53,53,55,58,47,0,0,16.1,{"v":11.27,"d":"11.2700"},0,5.3,5.3,5.5,5.8,4.7,"","",16.1,{"v":11.27,"d":"11.2700"},92,43,44,45,40,38,0,0,{"v":12.7,"d":"13"},9.7367,0,4.3,4.4,4.5,{"v":4,"d":"4.0"},3.8,"","",12.7,9.7367,158,{"v":42.273399999999995,"d":"42.2734"},{"v":48.038,"d":"48.0380"},{"v":0,"d":"0.0"},{"v":48.038,"d":"48.0380"}]
[147,26,56.5341,200304002,"Femke Maertens","ACZ","ACZ","West",null,null,2003,null,"L","",null,57,56,60,57,59,0,0,17.3,12.6867,0,5.7,5.6,{"v":6,"d":"6.0"},5.7,5.9,"","",{"v":17.299999999999997,"d":"17.3"},12.6867,29,49,50,51,54,53,0,0,15.4,11.2933,0,4.9,{"v":5,"d":"5.0"},5.1,5.4,5.3,"","",{"v":15.399999999999997,"d":"15.4"},11.2933,66,64,67,63,63,67,0,0,19.4,{"v":13.58,"d":"13.5800"},0,6.4,6.7,6.3,6.3,6.7,"","",{"v":19.400000000000006,"d":"19.4"},{"v":13.58,"d":"13.5800"},7,50,56,54,53,52,0,0,{"v":15.9,"d":"16"},{"v":12.19,"d":"12.1900"},0,{"v":5,"d":"5.0"},5.6,5.4,5.3,5.2,"","",{"v":15.899999999999999,"d":"15.9"},{"v":12.19,"d":"12.1900"},36,{"v":49.75,"d":"49.7500"},56.5341,{"v":0,"d":"0.0"},56.5341]
[148,162,44.7386,200502010,"Joëlle van Tol","De Houtrib","HOU","Oost",null,null,2005,null,"","",null,47,45,49,47,50,0,0,14.3,10.4867,0,4.7,4.5,4.9,4.7,{"v":5,"d":"5.0"},"","",14.3,10.4867,143,41,47,39,41,48,0,0,12.9,{"v":9.46,"d":"9.4600"},0,4.1,4.7,3.9,4.1,4.8,"","",12.9,{"v":9.46,"d":"9.4600"},164,45,46,39,51,43,0,0,13.4,{"v":9.38,"d":"9.3800"},0,4.5,4.6,3.9,5.1,4.3,"","",{"v":13.400000000000004,"d":"13.4"},{"v":9.38,"d":"9.3800"},182,40,45,44,43,44,0,0,{"v":13.1,"d":"13"},10.0433,0,{"v":4,"d":"4.0"},4.5,4.4,4.3,4.4,"","",{"v":13.100000000000001,"d":"13.1"},10.0433,144,{"v":39.370000000000005,"d":"39.3700"},44.7386,{"v":0,"d":"0.0"},44.7386]
[149,2,63.3484,200400354,"Noortje Reijnen","Z.P.C.H.","ZPC","MidWest",null,null,2004,null,"L","",null,66,65,64,68,67,0,0,19.8,{"v":14.52,"d":"14.5200"},0,6.6,6.5,6.4,6.8,6.7,"","",{"v":19.799999999999997,"d":"19.8"},{"v":14.52,"d":"14.5200"},1,67,60,63,63,70,0,0,19.3,14.1533,0,6.7,{"v":6,"d":"6.0"},6.3,6.3,{"v":7,"d":"7.0"},"","",{"v":19.299999999999997,"d":"19.3"},14.1533,3,63,68,61,64,67,0,0,19.4,{"v":13.58,"d":"13.5800"},0,6.3,6.8,6.1,6.4,6.7,"","",{"v":19.400000000000006,"d":"19.4"},{"v":13.58,"d":"13.5800"},7,64,55,58,59,59,0,0,{"v":17.6,"d":"18"},13.4933,0,6.4,5.5,5.8,5.9,5.9,"","",17.6,13.4933,8,{"v":55.746599999999994,"d":"55.7466"},63.3484,{"v":0,"d":"0.0"},63.3484]
[150,39,54.5266,200302354,"Britt Huijsman","De Dolfijn","DOL","Midwest",null,null,2003,null,"L","",null,58,57,56,53,57,0,0,{"v":17,"d":"17.0"},12.4667,0,5.8,5.7,5.6,5.3,5.7,"","",{"v":17,"d":"17.0"},12.4667,41,50,50,50,55,49,0,0,{"v":15,"d":"15.0"},{"v":11,"d":"11.0000"},0,{"v":5,"d":"5.0"},{"v":5,"d":"5.0"},{"v":5,"d":"5.0"},5.5,4.9,"","",{"v":14.999999999999998,"d":"15.0"},{"v":11,"d":"11.0000"},79,61,60,58,54,57,0,0,17.5,{"v":12.25,"d":"12.2500"},0,6.1,{"v":6,"d":"6.0"},5.8,5.4,5.7,"","",17.5,{"v":12.25,"d":"12.2500"},39,50,54,53,56,53,0,0,16,12.2667,0,{"v":5,"d":"5.0"},5.4,5.3,5.6,5.3,"","",{"v":16,"d":"16.0"},12.2667,34,47.9834,54.5266,{"v":0,"d":"0.0"},54.5266]
[151,81,51.0075,200503126,"Anaïs van der Vliet","Widex Gzc Donk","DONK","West",null,null,2005,null,"L","",null,49,53,52,48,55,0,0,15.4,11.2933,0,4.9,5.3,5.2,4.8,5.5,"","",{"v":15.399999999999999,"d":"15.4"},11.2933,102,50,50,53,53,49,0,0,15.3,{"v":11.22,"d":"11.2200"},0,{"v":5,"d":"5.0"},{"v":5,"d":"5.0"},5.3,5.3,4.9,"","",{"v":15.299999999999999,"d":"15.3"},{"v":11.22,"d":"11.2200"},69,52,52,59,58,53,0,0,16.3,{"v":11.41,"d":"11.4100"},0,5.2,5.2,5.9,5.8,5.3,"","",16.3,{"v":11.41,"d":"11.4100"},86,41,45,49,49,49,0,0,{"v":14.3,"d":"14"},10.9633,0,4.1,4.5,4.9,4.9,4.9,"","",{"v":14.299999999999999,"d":"14.3"},10.9633,96,44.8866,51.0075,{"v":0,"d":"0.0"},51.0075]
[152,7,61.5341,200302244,"Isa Turnhout","AZC","AZC","West",null,null,2003,null,"L","",null,60,66,65,63,63,0,0,19.1,14.0067,0,{"v":6,"d":"6.0"},6.6,6.5,6.3,6.3,"","",19.1,14.0067,5,61,57,59,61,68,0,0,18.1,13.2733,0,6.1,5.7,5.9,6.1,6.8,"","",{"v":18.100000000000005,"d":"18.1"},13.2733,8,67,59,63,61,66,0,0,{"v":19,"d":"19.0"},{"v":13.3,"d":"13.3000"},0,6.7,5.9,6.3,6.1,6.6,"","",{"v":19,"d":"19.0"},{"v":13.3,"d":"13.3000"},11,60,56,59,60,58,0,0,{"v":17.7,"d":"18"},{"v":13.57,"d":"13.5700"},0,{"v":6,"d":"6.0"},5.6,5.9,{"v":6,"d":"6.0"},5.8,"","",{"v":17.700000000000003,"d":"17.7"},{"v":13.57,"d":"13.5700"},7,{"v":54.15,"d":"54.1500"},61.5341,{"v":0,"d":"0.0"},61.5341]
[153,147,46.1818,200401990,"Veerle Boerefijn","AZC","AZC","West",null,null,2004,null,"","",null,47,47,47,50,50,0,0,14.4,{"v":10.56,"d":"10.5600"},0,4.7,4.7,4.7,{"v":5,"d":"5.0"},{"v":5,"d":"5.0"},"","",{"v":14.400000000000002,"d":"14.4"},{"v":10.56,"d":"10.5600"},137,47,43,44,47,47,0,0,13.8,{"v":10.12,"d":"10.1200"},0,4.7,4.3,4.4,4.7,4.7,"","",13.8,{"v":10.12,"d":"10.1200"},126,48,45,38,47,42,0,0,13.4,{"v":9.38,"d":"9.3800"},0,4.8,4.5,3.8,4.7,4.2,"","",{"v":13.399999999999999,"d":"13.4"},{"v":9.38,"d":"9.3800"},182,42,45,47,47,46,0,0,{"v":13.8,"d":"14"},{"v":10.58,"d":"10.5800"},0,4.2,4.5,4.7,4.7,4.6,"","",{"v":13.799999999999997,"d":"13.8"},{"v":10.58,"d":"10.5800"},117,{"v":40.64,"d":"40.6400"},46.1818,{"v":0,"d":"0.0"},46.1818]
[154,65,51.9053,200400260,"Esther Hermsen","Cadans","CAD","oost",null,null,2004,null,"L","",null,55,60,57,58,56,0,0,17.1,{"v":12.54,"d":"12.5400"},0,5.5,{"v":6,"d":"6.0"},5.7,5.8,5.6,"","",17.1,{"v":12.54,"d":"12.5400"},38,51,49,48,50,48,0,0,14.7,{"v":10.78,"d":"10.7800"},0,5.1,4.9,4.8,{"v":5,"d":"5.0"},4.8,"","",14.7,{"v":10.78,"d":"10.7800"},93,50,50,56,54,46,0,0,15.4,{"v":10.78,"d":"10.7800"},0,{"v":5,"d":"5.0"},{"v":5,"d":"5.0"},5.6,5.4,4.6,"","",15.4,{"v":10.78,"d":"10.7800"},111,50,52,51,49,50,0,0,{"v":15.1,"d":"15"},11.5767,0,{"v":5,"d":"5.0"},5.2,5.1,4.9,{"v":5,"d":"5.0"},"","",15.1,11.5767,58,{"v":45.676700000000004,"d":"45.6767"},51.9053,{"v":0,"d":"0.0"},51.9053]
[155,53,53.6136,200302570,"Jikke Heijne"," Swol 1894","SWOL","Oost",null,null,2003,null,"L","",null,56,49,53,56,52,0,0,16.1,11.8067,0,5.6,4.9,5.3,5.6,5.2,"","",16.1,11.8067,72,52,48,50,51,59,0,0,15.3,{"v":11.22,"d":"11.2200"},0,5.2,4.8,{"v":5,"d":"5.0"},5.1,5.9,"","",15.3,{"v":11.22,"d":"11.2200"},69,59,58,57,57,55,0,0,17.2,{"v":12.04,"d":"12.0400"},0,5.9,5.8,5.7,5.7,5.5,"","",{"v":17.199999999999996,"d":"17.2"},{"v":12.04,"d":"12.0400"},52,43,53,53,53,52,0,0,{"v":15.8,"d":"16"},12.1133,0,4.3,5.3,5.3,5.3,5.2,"","",{"v":15.799999999999997,"d":"15.8"},12.1133,37,{"v":47.18,"d":"47.1800"},53.6136,{"v":0,"d":"0.0"},53.6136]
[156,164,{"v":44.591,"d":"44.5910"},200503690,"Veerle Bausch","Hellas-Glana","Hellas","Zuid",null,"X",2005,null,"","",null,48,53,47,48,47,0,0,14.3,10.4867,0,4.8,5.3,4.7,4.8,4.7,"","",14.3,10.4867,143,48,43,43,42,45,0,0,13.1,9.6067,0,4.8,4.3,4.3,4.2,4.5,"","",{"v":13.099999999999998,"d":"13.1"},9.6067,154,48,51,44,49,44,0,0,14.1,{"v":9.87,"d":"9.8700"},0,4.8,5.1,4.4,4.9,4.4,"","",14.1,{"v":9.87,"d":"9.8700"},160,41,41,40,40,39,0,0,{"v":12.1,"d":"12"},9.2767,0,4.1,4.1,{"v":4,"d":"4.0"},{"v":4,"d":"4.0"},3.9,"","",{"v":12.099999999999998,"d":"12.1"},9.2767,179,39.2401,{"v":44.591,"d":"44.5910"},{"v":0,"d":"0.0"},{"v":44.591,"d":"44.5910"}]
[157,84,50.7766,200302798,"Esther Lanser","ACZ","ACZ","West",null," ",2003,null,"L","Age II",null,61,52,57,56,55,0,0,16.8,{"v":12.32,"d":"12.3200"},0,6.1,5.2,5.7,5.6,5.5,"","",16.8,{"v":12.32,"d":"12.3200"},48,39,37,40,36,37,0,0,11.3,8.2867,0,3.9,3.7,{"v":4,"d":"4.0"},3.6,3.7,"","",{"v":11.299999999999999,"d":"11.3"},8.2867,189,59,53,52,60,62,0,0,17.2,{"v":12.04,"d":"12.0400"},0,5.9,5.3,5.2,{"v":6,"d":"6.0"},6.2,"","",17.2,{"v":12.04,"d":"12.0400"},52,55,53,51,52,52,0,0,{"v":15.7,"d":"16"},12.0367,0,5.5,5.3,5.1,5.2,5.2,"","",{"v":15.700000000000001,"d":"15.7"},12.0367,41,{"v":44.68339999999999,"d":"44.6834"},50.7766,{"v":0,"d":"0.0"},50.7766]
[158,3,63.1553,200302650,"Zärrin Sahertian ","Z.P.C.H.","ZPC","MidWest",null,null,2003,null,"L","",null,63,58,61,53,67,0,0,18.2,13.3467,0,6.3,5.8,6.1,5.3,6.7,"","",18.2,13.3467,12,64,61,63,65,69,0,0,19.2,{"v":14.08,"d":"14.0800"},0,6.4,6.1,6.3,6.5,6.9,"","",{"v":19.200000000000003,"d":"19.2"},{"v":14.08,"d":"14.0800"},4,70,66,64,69,70,0,0,20.5,{"v":14.35,"d":"14.3500"},0,{"v":7,"d":"7.0"},6.6,6.4,6.9,{"v":7,"d":"7.0"},"","",20.5,{"v":14.35,"d":"14.3500"},1,65,59,59,60,61,0,0,18,{"v":13.8,"d":"13.8000"},0,6.5,5.9,5.9,{"v":6,"d":"6.0"},6.1,"","",{"v":18,"d":"18.0"},{"v":13.8,"d":"13.8000"},6,55.5767,63.1553,{"v":0,"d":"0.0"},63.1553]
[159,71,51.6628,200400336,"Silke Tolsma","VZC Veenendaal","VZV","Midwest",null,null,2004,null,"L","",null,49,60,54,58,51,0,0,16.3,11.9533,0,4.9,{"v":6,"d":"6.0"},5.4,5.8,5.1,"","",{"v":16.300000000000004,"d":"16.3"},11.9533,62,53,52,56,58,47,0,0,16.1,11.8067,0,5.3,5.2,5.6,5.8,4.7,"","",16.1,11.8067,44,51,53,49,56,56,0,0,{"v":16,"d":"16.0"},{"v":11.2,"d":"11.2000"},0,5.1,5.3,4.9,5.6,5.6,"","",{"v":15.999999999999998,"d":"16.0"},{"v":11.2,"d":"11.2000"},95,46,43,48,47,44,0,0,{"v":13.7,"d":"14"},10.5033,0,4.6,4.3,4.8,4.7,4.4,"","",{"v":13.699999999999996,"d":"13.7"},10.5033,121,{"v":45.46329999999999,"d":"45.4633"},51.6628,{"v":0,"d":"0.0"},51.6628]
[160,120,48.1516,200503128,"Marielou van der Vliet","Widex Gzc Donk","DONK","West",null,null,2005,null,"L","",null,45,43,46,43,40,0,0,13.1,9.6067,0,4.5,4.3,4.6,4.3,{"v":4,"d":"4.0"},"","",{"v":13.100000000000001,"d":"13.1"},9.6067,180,54,49,49,52,52,0,0,15.3,{"v":11.22,"d":"11.2200"},0,5.4,4.9,4.9,5.2,5.2,"","",{"v":15.300000000000002,"d":"15.3"},{"v":11.22,"d":"11.2200"},69,50,48,49,50,52,0,0,14.9,{"v":10.43,"d":"10.4300"},0,{"v":5,"d":"5.0"},4.8,4.9,{"v":5,"d":"5.0"},5.2,"","",{"v":14.900000000000002,"d":"14.9"},{"v":10.43,"d":"10.4300"},127,48,49,49,48,48,0,0,{"v":14.5,"d":"15"},11.1167,0,4.8,4.9,4.9,4.8,4.8,"","",{"v":14.499999999999996,"d":"14.5"},11.1167,87,{"v":42.373400000000004,"d":"42.3734"},48.1516,{"v":0,"d":"0.0"},48.1516]
[161,31,55.6893,200304068,"Charlotte Leemburg","BZ&PC","BZP","West",null,null,2003,null,"L","",null,52,59,58,58,56,0,0,17.2,12.6133,0,5.2,5.9,5.8,5.8,5.6,"","",{"v":17.200000000000006,"d":"17.2"},12.6133,32,55,52,57,56,54,0,0,16.5,{"v":12.1,"d":"12.1000"},0,5.5,5.2,5.7,5.6,5.4,"","",16.5,{"v":12.1,"d":"12.1000"},32,60,57,56,57,62,0,0,17.4,{"v":12.18,"d":"12.1800"},0,{"v":6,"d":"6.0"},5.7,5.6,5.7,6.2,"","",17.4,{"v":12.18,"d":"12.1800"},42,51,54,50,53,55,0,0,{"v":15.8,"d":"16"},12.1133,0,5.1,5.4,{"v":5,"d":"5.0"},5.3,5.5,"","",15.8,12.1133,37,49.0066,55.6893,{"v":0,"d":"0.0"},55.6893]
[162,51,54.0265,200400948,"Alisa Brandon"," Swol 1894",null,"Oost",null,null,2004,null,"L","",null,51,53,58,55,58,0,0,16.6,12.1733,0,5.1,5.3,5.8,5.5,5.8,"","",16.6,12.1733,55,53,49,53,53,52,0,0,15.8,11.5867,0,5.3,4.9,5.3,5.3,5.2,"","",{"v":15.799999999999999,"d":"15.8"},11.5867,50,54,62,57,58,55,0,0,{"v":17,"d":"17.0"},{"v":11.9,"d":"11.9000"},0,5.4,6.2,5.7,5.8,5.5,"","",{"v":17,"d":"17.0"},{"v":11.9,"d":"11.9000"},63,53,51,51,52,52,0,0,{"v":15.5,"d":"16"},11.8833,0,5.3,5.1,5.1,5.2,5.2,"","",{"v":15.499999999999998,"d":"15.5"},11.8833,44,{"v":47.543299999999995,"d":"47.5433"},54.0265,{"v":0,"d":"0.0"},54.0265]
[163,79,51.3258,200300796,"Anne Willems","ZC.Eijsden","eij","Zuid",null,null,2003,null,"L","",null,54,54,56,59,52,0,0,16.4,12.0267,0,5.4,5.4,5.6,5.9,5.2,"","",{"v":16.399999999999995,"d":"16.4"},12.0267,58,46,50,46,47,48,0,0,14.1,{"v":10.34,"d":"10.3400"},0,4.6,{"v":5,"d":"5.0"},4.6,4.7,4.8,"","",14.1,{"v":10.34,"d":"10.3400"},114,56,60,56,56,53,0,0,16.8,{"v":11.76,"d":"11.7600"},0,5.6,{"v":6,"d":"6.0"},5.6,5.6,5.3,"","",{"v":16.799999999999997,"d":"16.8"},{"v":11.76,"d":"11.7600"},68,46,47,50,47,50,0,0,{"v":14.4,"d":"14"},{"v":11.04,"d":"11.0400"},0,4.6,4.7,{"v":5,"d":"5.0"},4.7,{"v":5,"d":"5.0"},"","",14.4,{"v":11.04,"d":"11.0400"},92,45.1667,51.3258,{"v":0,"d":"0.0"},51.3258]
[164,185,41.9432,200501056,"Devina Baank","De Houtrib","HOU","Oost",null,"X",2005,null,"","",null,43,41,46,46,47,0,0,13.5,{"v":9.9,"d":"9.9000"},0,4.3,4.1,4.6,4.6,4.7,"","",{"v":13.499999999999998,"d":"13.5"},{"v":9.9,"d":"9.9000"},172,39,40,50,48,35,0,0,12.7,9.3133,0,3.9,{"v":4,"d":"4.0"},{"v":5,"d":"5.0"},4.8,3.5,"","",12.7,9.3133,169,39,43,40,38,37,0,0,11.7,{"v":8.19,"d":"8.1900"},0,3.9,4.3,{"v":4,"d":"4.0"},3.8,3.7,"","",11.7,{"v":8.19,"d":"8.1900"},197,40,42,41,41,42,0,0,{"v":12.4,"d":"12"},9.5067,0,{"v":4,"d":"4.0"},4.2,4.1,4.1,4.2,"","",{"v":12.399999999999999,"d":"12.4"},9.5067,169,{"v":36.910000000000004,"d":"36.9100"},41.9432,{"v":0,"d":"0.0"},41.9432]
[165,166,44.5265,200405606,"Marta Podebska","Z.P.C.H.","ZPC","MidWest",null,"X",2004,null,"","",null,47,44,44,43,40,0,0,13.1,9.6067,0,4.7,4.4,4.4,4.3,{"v":4,"d":"4.0"},"","",{"v":13.100000000000001,"d":"13.1"},9.6067,180,40,40,43,41,34,0,0,12.1,8.8733,0,{"v":4,"d":"4.0"},{"v":4,"d":"4.0"},4.3,4.1,3.4,"","",{"v":12.099999999999996,"d":"12.1"},8.8733,181,50,51,54,48,44,0,0,14.9,{"v":10.43,"d":"10.4300"},0,{"v":5,"d":"5.0"},5.1,5.4,4.8,4.4,"","",{"v":14.900000000000004,"d":"14.9"},{"v":10.43,"d":"10.4300"},127,45,45,48,43,44,0,0,{"v":13.4,"d":"13"},10.2733,0,4.5,4.5,4.8,4.3,4.4,"","",{"v":13.399999999999999,"d":"13.4"},10.2733,135,39.1833,44.5265,{"v":0,"d":"0.0"},44.5265]
[166,186,41.5909,200404874,"Elsa Veldhuijzen","PSV Synchro Team Eindhoven","PSV","Zuid",null,"X",2004,null,"","",null,48,48,46,52,46,0,0,14.2,10.4133,0,4.8,4.8,4.6,5.2,4.6,"","",{"v":14.200000000000001,"d":"14.2"},10.4133,148,42,35,36,34,37,0,0,10.8,{"v":7.92,"d":"7.9200"},0,4.2,3.5,3.6,3.4,3.7,"","",{"v":10.800000000000002,"d":"10.8"},{"v":7.92,"d":"7.9200"},195,48,46,45,43,44,0,0,13.5,{"v":9.45,"d":"9.4500"},0,4.8,4.6,4.5,4.3,4.4,"","",13.5,{"v":9.45,"d":"9.4500"},178,37,41,39,38,38,0,0,{"v":11.5,"d":"12"},8.8167,0,3.7,4.1,3.9,3.8,3.8,"","",11.5,8.8167,192,{"v":36.6,"d":"36.6000"},41.5909,{"v":0,"d":"0.0"},41.5909]
[167,153,45.5341,200405556,"Kaoutar Ouahadi","De Dolfijn","DOL","Midwest",null,"X",2004,null,"","Age II",null,43,47,48,44,47,0,0,13.8,{"v":10.12,"d":"10.1200"},0,4.3,4.7,4.8,4.4,4.7,"","",13.8,{"v":10.12,"d":"10.1200"},165,45,45,42,45,44,0,0,13.4,9.8267,0,4.5,4.5,4.2,4.5,4.4,"","",{"v":13.400000000000002,"d":"13.4"},9.8267,144,49,50,44,45,50,0,0,14.4,{"v":10.08,"d":"10.0800"},0,4.9,{"v":5,"d":"5.0"},4.4,4.5,{"v":5,"d":"5.0"},"","",14.4,{"v":10.08,"d":"10.0800"},149,41,43,47,47,40,0,0,{"v":13.1,"d":"13"},10.0433,0,4.1,4.3,4.7,4.7,{"v":4,"d":"4.0"},"","",{"v":13.099999999999998,"d":"13.1"},10.0433,144,{"v":40.07,"d":"40.0700"},45.5341,{"v":0,"d":"0.0"},45.5341]
[168,150,45.9507,200501332,"Dionne Kulderij","ZV de Zaan","zaa","MidWest",null,"X",2005,null,"","Age II",null,47,43,49,55,49,0,0,14.5,10.6333,0,4.7,4.3,4.9,5.5,4.9,"","",{"v":14.499999999999996,"d":"14.5"},10.6333,130,44,41,40,46,45,0,0,{"v":13,"d":"13.0"},9.5333,0,4.4,4.1,{"v":4,"d":"4.0"},4.6,4.5,"","",{"v":13,"d":"13.0"},9.5333,159,46,51,46,51,48,0,0,14.5,{"v":10.15,"d":"10.1500"},0,4.6,5.1,4.6,5.1,4.8,"","",{"v":14.500000000000002,"d":"14.5"},{"v":10.15,"d":"10.1500"},144,45,41,46,44,43,0,0,{"v":13.2,"d":"13"},{"v":10.12,"d":"10.1200"},0,4.5,4.1,4.6,4.4,4.3,"","",{"v":13.200000000000005,"d":"13.2"},{"v":10.12,"d":"10.1200"},139,40.4366,45.9507,{"v":0,"d":"0.0"},45.9507]
[169,187,{"v":41.553,"d":"41.5530"},200503582,"July Vermeulen","Widex Gzc Donk","DONK","West",null,null,2005,null,"","",null,45,50,48,48,46,0,0,14.2,10.4133,0,4.5,{"v":5,"d":"5.0"},4.8,4.8,4.6,"","",{"v":14.200000000000003,"d":"14.2"},10.4133,148,35,33,35,35,32,0,0,10.3,7.5533,0,3.5,3.3,3.5,3.5,3.2,"","",10.3,7.5533,196,45,43,44,42,44,0,0,13.1,{"v":9.17,"d":"9.1700"},0,4.5,4.3,4.4,4.2,4.4,"","",{"v":13.100000000000005,"d":"13.1"},{"v":9.17,"d":"9.1700"},189,39,43,44,40,40,0,0,{"v":12.3,"d":"12"},{"v":9.43,"d":"9.4300"},0,3.9,4.3,4.4,{"v":4,"d":"4.0"},{"v":4,"d":"4.0"},"","",{"v":12.300000000000002,"d":"12.3"},{"v":9.43,"d":"9.4300"},170,36.5666,{"v":41.553,"d":"41.5530"},{"v":0,"d":"0.0"},{"v":41.553,"d":"41.5530"}]
[170,47,54.2385,200302568,"Maggie Jiroutova","AZC","AZC","West",null,null,2003,null,"L","",null,54,56,55,57,55,0,0,16.6,12.1733,0,5.4,5.6,5.5,5.7,5.5,"","",16.6,12.1733,55,55,50,47,53,54,0,0,15.7,11.5133,0,5.5,{"v":5,"d":"5.0"},4.7,5.3,5.4,"","",15.7,11.5133,55,59,59,59,58,59,0,0,17.7,{"v":12.39,"d":"12.3900"},0,5.9,5.9,5.9,5.8,5.9,"","",{"v":17.700000000000006,"d":"17.7"},{"v":12.39,"d":"12.3900"},34,54,50,50,49,52,0,0,{"v":15.2,"d":"15"},11.6533,0,5.4,{"v":5,"d":"5.0"},{"v":5,"d":"5.0"},4.9,5.2,"","",{"v":15.200000000000001,"d":"15.2"},11.6533,53,47.7299,54.2385,{"v":0,"d":"0.0"},54.2385]
[171,97,50.0757,200403982,"Maike van Vliet","BZ&PC","BZP","West",null,null,2004,null,"L","",null,46,49,50,58,49,0,0,14.8,10.8533,0,4.6,4.9,{"v":5,"d":"5.0"},5.8,4.9,"","",{"v":14.800000000000002,"d":"14.8"},10.8533,117,51,54,50,51,52,0,0,15.4,11.2933,0,5.1,5.4,{"v":5,"d":"5.0"},5.1,5.2,"","",{"v":15.399999999999999,"d":"15.4"},11.2933,66,51,52,57,55,55,0,0,16.2,{"v":11.34,"d":"11.3400"},0,5.1,5.2,5.7,5.5,5.5,"","",{"v":16.200000000000003,"d":"16.2"},{"v":11.34,"d":"11.3400"},89,42,46,47,45,49,0,0,{"v":13.8,"d":"14"},{"v":10.58,"d":"10.5800"},0,4.2,4.6,4.7,4.5,4.9,"","",13.8,{"v":10.58,"d":"10.5800"},117,{"v":44.066599999999994,"d":"44.0666"},50.0757,{"v":0,"d":"0.0"},50.0757]
[172,70,51.6742,200302792,"Marit Kramer"," Swol 1894","SWOL","Oost",null,null,2003,null,"L","",null,53,52,54,52,49,0,0,15.7,11.5133,0,5.3,5.2,5.4,5.2,4.9,"","",{"v":15.700000000000001,"d":"15.7"},11.5133,88,48,51,51,49,49,0,0,14.9,10.9267,0,4.8,5.1,5.1,4.9,4.9,"","",{"v":14.899999999999995,"d":"14.9"},10.9267,86,55,60,59,60,61,0,0,17.9,{"v":12.53,"d":"12.5300"},0,5.5,{"v":6,"d":"6.0"},5.9,{"v":6,"d":"6.0"},6.1,"","",17.9,{"v":12.53,"d":"12.5300"},28,40,44,49,47,46,0,0,{"v":13.7,"d":"14"},10.5033,0,{"v":4,"d":"4.0"},4.4,4.9,4.7,4.6,"","",{"v":13.700000000000003,"d":"13.7"},10.5033,121,{"v":45.473299999999995,"d":"45.4733"},51.6742,{"v":0,"d":"0.0"},51.6742]
[173,152,45.6213,200500724,"Arwen Pijpers","Hellas-Glana","Hellas","Zuid",null,"X",2005,null,"","Age II",null,46,45,48,47,48,0,0,14.1,{"v":10.34,"d":"10.3400"},0,4.6,4.5,4.8,4.7,4.8,"","",{"v":14.099999999999998,"d":"14.1"},{"v":10.34,"d":"10.3400"},155,40,45,45,44,50,0,0,13.4,9.8267,0,{"v":4,"d":"4.0"},4.5,4.5,4.4,{"v":5,"d":"5.0"},"","",{"v":13.399999999999999,"d":"13.4"},9.8267,144,49,50,57,54,50,0,0,15.4,{"v":10.78,"d":"10.7800"},0,4.9,{"v":5,"d":"5.0"},5.7,5.4,{"v":5,"d":"5.0"},"","",15.4,{"v":10.78,"d":"10.7800"},111,38,39,42,40,41,0,0,12,{"v":9.2,"d":"9.2000"},0,3.8,3.9,4.2,{"v":4,"d":"4.0"},4.1,"","",{"v":12,"d":"12.0"},{"v":9.2,"d":"9.2000"},184,{"v":40.146699999999996,"d":"40.1467"},45.6213,{"v":0,"d":"0.0"},45.6213]
[174,41,54.4507,200304172,"Ymke Tolboom","PSV Synchro Team Eindhoven","PSV","Zuid",null,null,2003,null,"L","",null,55,57,58,62,60,0,0,17.5,12.8333,0,5.5,5.7,5.8,6.2,{"v":6,"d":"6.0"},"","",17.5,12.8333,24,53,50,50,57,59,0,0,{"v":16,"d":"16.0"},11.7333,0,5.3,{"v":5,"d":"5.0"},{"v":5,"d":"5.0"},5.7,5.9,"","",{"v":16,"d":"16.0"},11.7333,46,50,58,59,52,56,0,0,16.6,{"v":11.62,"d":"11.6200"},0,{"v":5,"d":"5.0"},5.8,5.9,5.2,5.6,"","",16.6,{"v":11.62,"d":"11.6200"},78,52,50,49,51,53,0,0,{"v":15.3,"d":"15"},{"v":11.73,"d":"11.7300"},0,5.2,{"v":5,"d":"5.0"},4.9,5.1,5.3,"","",{"v":15.299999999999999,"d":"15.3"},{"v":11.73,"d":"11.7300"},50,47.9166,54.4507,{"v":0,"d":"0.0"},54.4507]
[175,103,49.4925,200300946,"Annet Meinert","De Houtrib","HOU","Oost",null,null,2003,null,"L","",null,46,44,49,46,46,0,0,13.8,{"v":10.12,"d":"10.1200"},0,4.6,4.4,4.9,4.6,4.6,"","",{"v":13.800000000000002,"d":"13.8"},{"v":10.12,"d":"10.1200"},165,50,51,52,55,56,0,0,15.8,11.5867,0,{"v":5,"d":"5.0"},5.1,5.2,5.5,5.6,"","",{"v":15.799999999999997,"d":"15.8"},11.5867,50,57,53,50,47,47,0,0,{"v":15,"d":"15.0"},{"v":10.5,"d":"10.5000"},0,5.7,5.3,{"v":5,"d":"5.0"},4.7,4.7,"","",{"v":15,"d":"15.0"},{"v":10.5,"d":"10.5000"},122,49,52,50,49,49,0,0,{"v":14.8,"d":"15"},11.3467,0,4.9,5.2,{"v":5,"d":"5.0"},4.9,4.9,"","",{"v":14.799999999999999,"d":"14.8"},11.3467,72,{"v":43.553399999999996,"d":"43.5534"},49.4925,{"v":0,"d":"0.0"},49.4925]
[176,87,50.5265,200500074,"Willemijn Buitelaar ","Z.P.C.H.","ZPC","MidWest",null,null,2005,null,"L","",null,49,49,48,52,48,0,0,14.6,10.7067,0,4.9,4.9,4.8,5.2,4.8,"","",{"v":14.600000000000001,"d":"14.6"},10.7067,125,52,50,49,48,54,0,0,15.1,11.0733,0,5.2,{"v":5,"d":"5.0"},4.9,4.8,5.4,"","",{"v":15.099999999999998,"d":"15.1"},11.0733,74,56,58,60,60,56,0,0,17.4,{"v":12.18,"d":"12.1800"},0,5.6,5.8,{"v":6,"d":"6.0"},{"v":6,"d":"6.0"},5.6,"","",17.4,{"v":12.18,"d":"12.1800"},42,45,41,47,45,52,0,0,{"v":13.7,"d":"14"},10.5033,0,4.5,4.1,4.7,4.5,5.2,"","",{"v":13.700000000000001,"d":"13.7"},10.5033,121,{"v":44.463300000000004,"d":"44.4633"},50.5265,{"v":0,"d":"0.0"},50.5265]
[177,112,49.0455,200502082,"Yndi Nieuwmans","Widex Gzc Donk","DONK","West",null,null,2005,null,"L","",null,50,52,54,54,52,0,0,15.8,11.5867,0,{"v":5,"d":"5.0"},5.2,5.4,5.4,5.2,"","",{"v":15.799999999999997,"d":"15.8"},11.5867,85,42,44,42,44,49,0,0,{"v":13,"d":"13.0"},9.5333,0,4.2,4.4,4.2,4.4,4.9,"","",{"v":13.000000000000004,"d":"13.0"},9.5333,159,58,49,58,53,56,0,0,16.7,{"v":11.69,"d":"11.6900"},0,5.8,4.9,5.8,5.3,5.6,"","",{"v":16.699999999999996,"d":"16.7"},{"v":11.69,"d":"11.6900"},71,40,44,43,48,50,0,0,{"v":13.5,"d":"14"},{"v":10.35,"d":"10.3500"},0,{"v":4,"d":"4.0"},4.4,4.3,4.8,{"v":5,"d":"5.0"},"","",13.5,{"v":10.35,"d":"10.3500"},131,{"v":43.160000000000004,"d":"43.1600"},49.0455,{"v":0,"d":"0.0"},49.0455]
[178,37,{"v":54.981,"d":"54.9810"},200402510,"Caithlin Reimer","AZC","AZC","West",null,null,2004,null,"L","",null,56,57,58,53,57,0,0,{"v":17,"d":"17.0"},12.4667,0,5.6,5.7,5.8,5.3,5.7,"","",{"v":17,"d":"17.0"},12.4667,41,56,57,57,58,60,0,0,17.2,12.6133,0,5.6,5.7,5.7,5.8,{"v":6,"d":"6.0"},"","",{"v":17.200000000000003,"d":"17.2"},12.6133,18,57,53,57,59,59,0,0,17.3,{"v":12.11,"d":"12.1100"},0,5.7,5.3,5.7,5.9,5.9,"","",17.3,{"v":12.11,"d":"12.1100"},47,45,47,48,51,51,0,0,{"v":14.6,"d":"15"},11.1933,0,4.5,4.7,4.8,5.1,5.1,"","",{"v":14.600000000000001,"d":"14.6"},11.1933,83,48.3833,{"v":54.981,"d":"54.9810"},{"v":0,"d":"0.0"},{"v":54.981,"d":"54.9810"}]
[179,40,54.5265,200400742,"Debbie Geilen","Hellas-Glana","Hellas","Zuid",null,null,2004,null,"L","",null,54,58,56,58,54,0,0,16.8,{"v":12.32,"d":"12.3200"},0,5.4,5.8,5.6,5.8,5.4,"","",{"v":16.799999999999997,"d":"16.8"},{"v":12.32,"d":"12.3200"},48,55,53,58,60,55,0,0,16.8,{"v":12.32,"d":"12.3200"},0,5.5,5.3,5.8,{"v":6,"d":"6.0"},5.5,"","",16.8,{"v":12.32,"d":"12.3200"},26,59,54,56,56,55,0,0,16.7,{"v":11.69,"d":"11.6900"},0,5.9,5.4,5.6,5.6,5.5,"","",{"v":16.700000000000003,"d":"16.7"},{"v":11.69,"d":"11.6900"},71,52,51,50,51,46,0,0,{"v":15.2,"d":"15"},11.6533,0,5.2,5.1,{"v":5,"d":"5.0"},5.1,4.6,"","",{"v":15.200000000000001,"d":"15.2"},11.6533,53,47.9833,54.5265,{"v":0,"d":"0.0"},54.5265]
[180,75,51.4318,200500564,"Marloes Ardon","ACZ","ACZ","West",null,null,2005,null,"L","",null,52,54,53,55,51,0,0,15.9,{"v":11.66,"d":"11.6600"},0,5.2,5.4,5.3,5.5,5.1,"","",15.9,{"v":11.66,"d":"11.6600"},79,47,49,48,47,48,0,0,14.3,10.4867,0,4.7,4.9,4.8,4.7,4.8,"","",14.3,10.4867,108,53,57,57,58,53,0,0,16.7,{"v":11.69,"d":"11.6900"},0,5.3,5.7,5.7,5.8,5.3,"","",16.7,{"v":11.69,"d":"11.6900"},71,50,50,49,49,50,0,0,{"v":14.9,"d":"15"},11.4233,0,{"v":5,"d":"5.0"},{"v":5,"d":"5.0"},4.9,4.9,{"v":5,"d":"5.0"},"","",14.9,11.4233,65,{"v":45.26,"d":"45.2600"},51.4318,{"v":0,"d":"0.0"},51.4318]
[181,44,54.3789,200403894,"Marin Hokke","Z.P.C.H.","ZPC","MidWest",null,null,2004,null,"L","",null,55,55,58,56,56,0,0,16.7,12.2467,0,5.5,5.5,5.8,5.6,5.6,"","",16.7,12.2467,51,48,50,50,52,50,0,0,{"v":15,"d":"15.0"},{"v":11,"d":"11.0000"},0,4.8,{"v":5,"d":"5.0"},{"v":5,"d":"5.0"},5.2,{"v":5,"d":"5.0"},"","",{"v":15,"d":"15.0"},{"v":11,"d":"11.0000"},79,59,54,59,56,58,0,0,17.3,{"v":12.11,"d":"12.1100"},0,5.9,5.4,5.9,5.6,5.8,"","",{"v":17.300000000000004,"d":"17.3"},{"v":12.11,"d":"12.1100"},47,56,53,54,58,53,0,0,{"v":16.3,"d":"16"},12.4967,0,5.6,5.3,5.4,5.8,5.3,"","",{"v":16.299999999999997,"d":"16.3"},12.4967,29,{"v":47.85340000000001,"d":"47.8534"},54.3789,{"v":0,"d":"0.0"},54.3789]
[182,182,{"v":42.606,"d":"42.6060"},200503994,"Kyra van Dijk","Widex Gzc Donk","DONK","West",null,null,2005,null,"","",null,49,42,47,48,42,0,0,13.7,10.0467,0,4.9,4.2,4.7,4.8,4.2,"","",13.7,10.0467,171,37,36,36,36,40,0,0,10.9,7.9933,0,3.7,3.6,3.6,3.6,{"v":4,"d":"4.0"},"","",10.9,7.9933,193,45,50,47,49,39,0,0,14.1,{"v":9.87,"d":"9.8700"},0,4.5,{"v":5,"d":"5.0"},4.7,4.9,3.9,"","",14.1,{"v":9.87,"d":"9.8700"},160,38,42,42,42,41,0,0,{"v":12.5,"d":"13"},9.5833,0,3.8,4.2,4.2,4.2,4.1,"","",12.5,9.5833,166,37.4933,{"v":42.606,"d":"42.6060"},{"v":0,"d":"0.0"},{"v":42.606,"d":"42.6060"}]
[183,142,47.0416,200404242,"Noah Janssen","HZPC Horst","HZPC","zuid",null,null,2004,null,"","",null,45,49,48,46,48,0,0,14.2,10.4133,0,4.5,4.9,4.8,4.6,4.8,"","",{"v":14.199999999999996,"d":"14.2"},10.4133,148,44,42,44,50,51,0,0,13.8,{"v":10.12,"d":"10.1200"},0,4.4,4.2,4.4,{"v":5,"d":"5.0"},5.1,"","",13.8,{"v":10.12,"d":"10.1200"},126,46,51,52,51,44,0,0,14.8,{"v":10.36,"d":"10.3600"},0,4.6,5.1,5.2,5.1,4.4,"","",{"v":14.799999999999999,"d":"14.8"},{"v":10.36,"d":"10.3600"},135,42,44,48,51,45,0,0,{"v":13.7,"d":"14"},10.5033,0,4.2,4.4,4.8,5.1,4.5,"","",13.7,10.5033,121,{"v":41.39659999999999,"d":"41.3966"},47.0416,{"v":0,"d":"0.0"},47.0416]
[184,113,49.0039,200502076,"Kayra Ozsahin","ACZ","ACZ","West",null,null,2005,null,"L","",null,46,50,50,53,44,0,0,14.6,10.7067,0,4.6,{"v":5,"d":"5.0"},{"v":5,"d":"5.0"},5.3,4.4,"","",{"v":14.599999999999996,"d":"14.6"},10.7067,125,51,52,55,55,54,0,0,16.1,11.8067,0,5.1,5.2,5.5,5.5,5.4,"","",16.1,11.8067,44,44,49,48,44,48,0,0,{"v":14,"d":"14.0"},{"v":9.8,"d":"9.8000"},0,4.4,4.9,4.8,4.4,4.8,"","",{"v":13.999999999999998,"d":"14.0"},{"v":9.8,"d":"9.8000"},166,40,48,46,47,49,0,0,{"v":14.1,"d":"14"},{"v":10.81,"d":"10.8100"},0,{"v":4,"d":"4.0"},4.8,4.6,4.7,4.9,"","",{"v":14.100000000000001,"d":"14.1"},{"v":10.81,"d":"10.8100"},107,{"v":43.123400000000004,"d":"43.1234"},49.0039,{"v":0,"d":"0.0"},49.0039]
[185,118,48.5985,200504276,"Marlinka Grundell","Z.P.C.H.","ZPC","MidWest",null,null,2005,null,"L","",null,51,48,49,51,50,0,0,{"v":15,"d":"15.0"},{"v":11,"d":"11.0000"},0,5.1,4.8,4.9,5.1,{"v":5,"d":"5.0"},"","",{"v":14.999999999999996,"d":"15.0"},{"v":11,"d":"11.0000"},111,50,50,50,51,49,0,0,{"v":15,"d":"15.0"},{"v":11,"d":"11.0000"},0,{"v":5,"d":"5.0"},{"v":5,"d":"5.0"},{"v":5,"d":"5.0"},5.1,4.9,"","",{"v":14.999999999999998,"d":"15.0"},{"v":11,"d":"11.0000"},79,52,52,46,49,50,0,0,15.1,{"v":10.57,"d":"10.5700"},0,5.2,5.2,4.6,4.9,{"v":5,"d":"5.0"},"","",15.1,{"v":10.57,"d":"10.5700"},119,44,46,47,41,43,0,0,{"v":13.3,"d":"13"},10.1967,0,4.4,4.6,4.7,4.1,4.3,"","",{"v":13.299999999999999,"d":"13.3"},10.1967,136,42.7667,48.5985,{"v":0,"d":"0.0"},48.5985]
[186,33,55.6099,200304386,"Puk van der Laan","AZC","AZC","West",null,null,2003,null,"L","",null,57,54,58,64,58,0,0,17.3,12.6867,0,5.7,5.4,5.8,6.4,5.8,"","",{"v":17.300000000000004,"d":"17.3"},12.6867,29,56,53,54,56,55,0,0,16.5,{"v":12.1,"d":"12.1000"},0,5.6,5.3,5.4,5.6,5.5,"","",{"v":16.499999999999996,"d":"16.5"},{"v":12.1,"d":"12.1000"},32,60,60,63,61,63,0,0,18.4,{"v":12.88,"d":"12.8800"},0,{"v":6,"d":"6.0"},{"v":6,"d":"6.0"},6.3,6.1,6.3,"","",18.4,{"v":12.88,"d":"12.8800"},18,49,50,50,47,48,0,0,{"v":14.7,"d":"15"},{"v":11.27,"d":"11.2700"},0,4.9,{"v":5,"d":"5.0"},{"v":5,"d":"5.0"},4.7,4.8,"","",{"v":14.700000000000003,"d":"14.7"},{"v":11.27,"d":"11.2700"},76,48.9367,55.6099,{"v":0,"d":"0.0"},55.6099]
[187,29,{"v":55.856,"d":"55.8560"},200302016,"Elza van Vliet","BZ&PC","BZP","West",null,null,2003,null,"L","",null,58,58,57,56,54,0,0,17.1,{"v":12.54,"d":"12.5400"},0,5.8,5.8,5.7,5.6,5.4,"","",{"v":17.099999999999994,"d":"17.1"},{"v":12.54,"d":"12.5400"},38,49,49,50,52,49,0,0,14.8,10.8533,0,4.9,4.9,{"v":5,"d":"5.0"},5.2,4.9,"","",{"v":14.799999999999999,"d":"14.8"},10.8533,90,59,63,62,60,62,0,0,18.4,{"v":12.88,"d":"12.8800"},0,5.9,6.3,6.2,{"v":6,"d":"6.0"},6.2,"","",18.4,{"v":12.88,"d":"12.8800"},18,56,56,52,56,59,0,0,{"v":16.8,"d":"17"},{"v":12.88,"d":"12.8800"},0,5.6,5.6,5.2,5.6,5.9,"","",16.8,{"v":12.88,"d":"12.8800"},21,49.1533,{"v":55.856,"d":"55.8560"},{"v":0,"d":"0.0"},{"v":55.856,"d":"55.8560"}]
[188,127,47.8031,200301828,"Lisanne Verhees","ZPC Nederweert","ZPCN","Zuid",null,null,2003,null,"","",null,45,48,45,53,48,0,0,14.1,{"v":10.34,"d":"10.3400"},0,4.5,4.8,4.5,5.3,4.8,"","",{"v":14.100000000000001,"d":"14.1"},{"v":10.34,"d":"10.3400"},155,43,47,47,46,50,0,0,{"v":14,"d":"14.0"},10.2667,0,4.3,4.7,4.7,4.6,{"v":5,"d":"5.0"},"","",{"v":13.999999999999996,"d":"14.0"},10.2667,117,52,54,56,57,48,0,0,16.2,{"v":11.34,"d":"11.3400"},0,5.2,5.4,5.6,5.7,4.8,"","",{"v":16.200000000000003,"d":"16.2"},{"v":11.34,"d":"11.3400"},89,40,47,46,46,38,0,0,{"v":13.2,"d":"13"},{"v":10.12,"d":"10.1200"},0,{"v":4,"d":"4.0"},4.7,4.6,4.6,3.8,"","",13.2,{"v":10.12,"d":"10.1200"},139,42.0667,47.8031,{"v":0,"d":"0.0"},47.8031]
[189,181,42.7083,200305510,"Mirella Schieman","DSZ","DSZ","West",null,null,2003,null,"","",null,48,49,48,45,49,0,0,14.5,10.6333,0,4.8,4.9,4.8,4.5,4.9,"","",14.5,10.6333,130,34,38,37,38,41,0,0,11.3,8.2867,0,3.4,3.8,3.7,3.8,4.1,"","",{"v":11.299999999999997,"d":"11.3"},8.2867,189,49,47,38,43,43,0,0,13.3,{"v":9.31,"d":"9.3100"},0,4.9,4.7,3.8,4.3,4.3,"","",13.3,{"v":9.31,"d":"9.3100"},185,41,40,43,41,37,0,0,{"v":12.2,"d":"12"},9.3533,0,4.1,{"v":4,"d":"4.0"},4.3,4.1,3.7,"","",12.2,9.3533,175,{"v":37.58330000000001,"d":"37.5833"},42.7083,{"v":0,"d":"0.0"},42.7083]
[190,135,47.4015,200504590,"Iris Schrama","Z.P.C.H.","ZPC","MidWest",null,null,2005,null,"L","",null,50,46,47,46,49,0,0,14.2,10.4133,0,{"v":5,"d":"5.0"},4.6,4.7,4.6,4.9,"","",{"v":14.199999999999998,"d":"14.2"},10.4133,148,50,45,52,52,49,0,0,15.1,11.0733,0,{"v":5,"d":"5.0"},4.5,5.2,5.2,4.9,"","",{"v":15.099999999999998,"d":"15.1"},11.0733,74,44,49,47,46,47,0,0,{"v":14,"d":"14.0"},{"v":9.8,"d":"9.8000"},0,4.4,4.9,4.7,4.6,4.7,"","",{"v":13.999999999999998,"d":"14.0"},{"v":9.8,"d":"9.8000"},166,45,47,47,40,44,0,0,{"v":13.6,"d":"14"},10.4267,0,4.5,4.7,4.7,{"v":4,"d":"4.0"},4.4,"","",{"v":13.599999999999998,"d":"13.6"},10.4267,128,{"v":41.713300000000004,"d":"41.7133"},47.4015,{"v":0,"d":"0.0"},47.4015]
[191,183,{"v":42.394,"d":"42.3940"},200503990,"Linda Glebbeek","Widex Gzc Donk","DONK","West",null,null,2005,null,"","",null,40,44,43,44,40,0,0,12.7,9.3133,0,{"v":4,"d":"4.0"},4.4,4.3,4.4,{"v":4,"d":"4.0"},"","",{"v":12.700000000000003,"d":"12.7"},9.3133,185,39,46,43,40,39,0,0,12.2,8.9467,0,3.9,4.6,4.3,{"v":4,"d":"4.0"},3.9,"","",{"v":12.200000000000001,"d":"12.2"},8.9467,177,43,50,40,40,52,0,0,13.3,{"v":9.31,"d":"9.3100"},0,4.3,{"v":5,"d":"5.0"},{"v":4,"d":"4.0"},{"v":4,"d":"4.0"},5.2,"","",13.3,{"v":9.31,"d":"9.3100"},185,39,42,43,44,42,0,0,{"v":12.7,"d":"13"},9.7367,0,3.9,4.2,4.3,4.4,4.2,"","",{"v":12.699999999999994,"d":"12.7"},9.7367,158,37.3067,{"v":42.394,"d":"42.3940"},{"v":0,"d":"0.0"},{"v":42.394,"d":"42.3940"}]
[192,67,51.8409,200300784,"Charlotte Vos","ZV de Zaan","zaa","MidWest",null,null,2003,null,"L","",null,51,58,51,54,54,0,0,15.9,{"v":11.66,"d":"11.6600"},0,5.1,5.8,5.1,5.4,5.4,"","",{"v":15.899999999999997,"d":"15.9"},{"v":11.66,"d":"11.6600"},79,49,50,57,53,53,0,0,15.6,{"v":11.44,"d":"11.4400"},0,4.9,{"v":5,"d":"5.0"},5.7,5.3,5.3,"","",{"v":15.600000000000003,"d":"15.6"},{"v":11.44,"d":"11.4400"},60,54,53,56,54,59,0,0,16.4,{"v":11.48,"d":"11.4800"},0,5.4,5.3,5.6,5.4,5.9,"","",{"v":16.399999999999995,"d":"16.4"},{"v":11.48,"d":"11.4800"},84,47,48,49,48,48,0,0,{"v":14.4,"d":"14"},{"v":11.04,"d":"11.0400"},0,4.7,4.8,4.9,4.8,4.8,"","",{"v":14.400000000000002,"d":"14.4"},{"v":11.04,"d":"11.0400"},92,{"v":45.62,"d":"45.6200"},51.8409,{"v":0,"d":"0.0"},51.8409]
[193,{"$f":"IF(I199=\"BM\",\"BM\",RANK(CU199,CU$7:CU$256))","v":69},{"$f":"+CS199-CT199","v":51.7159},200304066,"Danielle Verleun","BZ&PC","BZP","West",null,null,{"$f":"VALUE(IF(D199=\"\",0,MID(D199,1,4)))","v":2003},null,{"$f":"IF(AND(14>($H$1-K199),($H$1-K199)>=13,C199>=$N$4),\"L\",IF(AND(16>($H$1-K199),($H$1-K199)>=14,C199>=$N$3),\"L\",IF(K199>0,IF(OR(K199>$J$4,K199<$I$4),\"BM\",\"\"),\"\")))","v":"L"},{"$f":"IF(C199>0,IF(J199>\"\",IF(C199<$H$3,\"\",\"Age II\"),\"\"),\"\")","v":""},null,53,55,54,47,57,0,0,16.2,{"v":11.88,"d":"11.8800"},0,{"$f":"+P199/10","v":5.3},{"$f":"+Q199/10","v":5.5},{"$f":"+R199/10","v":5.4},{"$f":"+S199/10","v":4.7},{"$f":"+T199/10","v":5.7},{"$f":"IF(U199>0,+U199/10,\"\")","v":""},{"$f":"IF(V199>0,+V199/10,\"\")","v":""},{"$f":"SUM(Z199:AF199)-MAX(Z199:AF199)-MIN(Z199:AF199)","v":{"v":16.200000000000003,"d":"16.2"}},{"$f":"ROUND(AG199/(COUNTIF(Z199:AF199,\">=0\")-2)*$AH$3,4)","v":{"v":11.88,"d":"11.8800"}},{"$f":"IF(AH199=0,\"\",RANK(AH199,AH$7:AH$256))","v":68},54,52,55,57,55,0,0,16.4,12.0267,0,{"$f":"+AJ199/10","v":5.4},{"$f":"+AK199/10","v":5.2},{"$f":"+AL199/10","v":5.5},{"$f":"+AM199/10","v":5.7},{"$f":"+AN199/10","v":5.5},{"$f":"IF(AO199>0,+AO199/10,\"\")","v":""},{"$f":"IF(AP199>0,+AP199/10,\"\")","v":""},{"$f":"SUM(AT199:AZ199)-MAX(AT199:AZ199)-MIN(AT199:AZ199)","v":{"v":16.400000000000002,"d":"16.4"}},{"$f":"ROUND(BA199/(COUNTIF(AT199:AZ199,\">0\")-2)*$BB$3,4)","v":12.0267},{"$f":"IF(BB199=0,\"\",RANK(BB199,BB$7:BB$256))","v":36},46,54,49,49,55,0,0,15.2,{"v":10.64,"d":"10.6400"},0,{"$f":"+BD199/10","v":4.6},{"$f":"+BE199/10","v":5.4},{"$f":"+BF199/10","v":4.9},{"$f":"+BG199/10","v":4.9},{"$f":"+BH199/10","v":5.5},{"$f":"IF(BI199>0,+BI199/10,\"\")","v":""},{"$f":"IF(BJ199>0,+BJ199/10,\"\")","v":""},{"$f":"SUM(BN199:BT199)-MAX(BN199:BT199)-MIN(BN199:BT199)","v":{"v":15.200000000000001,"d":"15.2"}},{"$f":"ROUND(BU199/(COUNTIF(BN199:BT199,\">0\")-2)*$BV$3,4)","v":{"v":10.64,"d":"10.6400"}},{"$f":"IF(BV199=0,\"\",RANK(BV199,BV$7:BV$256))","v":117},44,46,48,49,50,0,0,{"v":14.3,"d":"14"},10.9633,0,{"$f":"+BX199/10","v":4.4},{"$f":"+BY199/10","v":4.6},{"$f":"+BZ199/10","v":4.8},{"$f":"+CA199/10","v":4.9},{"$f":"+CB199/10","v":{"v":5,"d":"5.0"}},{"$f":"IF(CC199>0,+CC199/10,\"\")","v":""},{"$f":"IF(CD199>0,+CD199/10,\"\")","v":""},{"$f":"SUM(CH199:CN199)-MAX(CH199:CN199)-MIN(CH199:CN199)","v":{"v":14.300000000000002,"d":"14.3"}},{"$f":"ROUND(CO199/(COUNTIF(CH199:CN199,\">0\")-2)*$CP$3,4)","v":10.9633},{"$f":"IF(CP199=0,\"\",RANK(CP199,CP$7:CP$256))","v":96},{"$f":"+AH199+BB199+BV199+CP199","v":{"v":45.510000000000005,"d":"45.5100"}},{"$f":"+ROUND((+CR199*10)/(+$AH$3+$BB$3+$BV$3+$CP$3),4)","v":51.7159},{"$f":"+Y199+AS199+BM199+CG199","v":{"v":0,"d":"0.0"}},{"$f":"IF(I199=\"BM\",0,+CS199-CT199)","v":51.7159}]
[194,80,51.2917,200300798,"Britt Verhaeg","HZPC Horst","HZPC","zuid",null,null,2003,null,"L","",null,51,50,52,57,56,0,0,15.9,{"v":11.66,"d":"11.6600"},0,5.1,{"v":5,"d":"5.0"},5.2,5.7,5.6,"","",{"v":15.900000000000002,"d":"15.9"},{"v":11.66,"d":"11.6600"},79,51,51,50,49,51,0,0,15.2,11.1467,0,5.1,5.1,{"v":5,"d":"5.0"},4.9,5.1,"","",{"v":15.200000000000001,"d":"15.2"},11.1467,72,50,55,53,59,48,0,0,15.8,{"v":11.06,"d":"11.0600"},0,{"v":5,"d":"5.0"},5.5,5.3,5.9,4.8,"","",15.8,{"v":11.06,"d":"11.0600"},101,48,51,51,48,46,0,0,{"v":14.7,"d":"15"},{"v":11.27,"d":"11.2700"},0,4.8,5.1,5.1,4.8,4.6,"","",{"v":14.699999999999998,"d":"14.7"},{"v":11.27,"d":"11.2700"},76,{"v":45.136700000000005,"d":"45.1367"},51.2917,{"v":0,"d":"0.0"},51.2917]
[195,111,49.1213,200503006,"Marola Youssef","Z.P.C.H.","ZPC","MidWest",null,null,2005,null,"L","",null,52,53,50,48,49,0,0,15.1,11.0733,0,5.2,5.3,{"v":5,"d":"5.0"},4.8,4.9,"","",{"v":15.100000000000001,"d":"15.1"},11.0733,108,48,49,48,47,45,0,0,14.3,10.4867,0,4.8,4.9,4.8,4.7,4.5,"","",{"v":14.299999999999997,"d":"14.3"},10.4867,108,44,51,52,51,55,0,0,15.4,{"v":10.78,"d":"10.7800"},0,4.4,5.1,5.2,5.1,5.5,"","",{"v":15.399999999999997,"d":"15.4"},{"v":10.78,"d":"10.7800"},111,49,46,49,47,43,0,0,{"v":14.2,"d":"14"},10.8867,0,4.9,4.6,4.9,4.7,4.3,"","",14.2,10.8867,103,43.2267,49.1213,{"v":0,"d":"0.0"},49.1213]
[196,129,47.7385,200503130,"Romy van Wijngaarden","Widex Gzc Donk","DONK","West",null,null,2005,null,"L","",null,46,46,47,51,49,0,0,14.2,10.4133,0,4.6,4.6,4.7,5.1,4.9,"","",{"v":14.199999999999998,"d":"14.2"},10.4133,148,44,47,51,52,47,0,0,14.5,10.6333,0,4.4,4.7,5.1,5.2,4.7,"","",{"v":14.500000000000002,"d":"14.5"},10.6333,100,48,52,51,54,53,0,0,15.6,{"v":10.92,"d":"10.9200"},0,4.8,5.2,5.1,5.4,5.3,"","",{"v":15.599999999999998,"d":"15.6"},{"v":10.92,"d":"10.9200"},106,43,47,46,42,40,0,0,{"v":13.1,"d":"13"},10.0433,0,4.3,4.7,4.6,4.2,{"v":4,"d":"4.0"},"","",{"v":13.100000000000001,"d":"13.1"},10.0433,144,42.0099,47.7385,{"v":0,"d":"0.0"},47.7385]
[197,13,{"v":60.106,"d":"60.1060"},200304428,"Sophie de Cock","PSV Synchro Team Eindhoven","PSV","Zuid",null,null,2003,null,"L","",null,63,66,65,64,62,0,0,19.2,{"v":14.08,"d":"14.0800"},0,6.3,6.6,6.5,6.4,6.2,"","",19.2,{"v":14.08,"d":"14.0800"},4,62,52,58,60,54,0,0,17.2,12.6133,0,6.2,5.2,5.8,{"v":6,"d":"6.0"},5.4,"","",{"v":17.200000000000003,"d":"17.2"},12.6133,18,62,63,62,61,71,0,0,18.7,{"v":13.09,"d":"13.0900"},0,6.2,6.3,6.2,6.1,7.1,"","",{"v":18.699999999999996,"d":"18.7"},{"v":13.09,"d":"13.0900"},15,60,56,55,52,60,0,0,{"v":17.1,"d":"17"},{"v":13.11,"d":"13.1100"},0,{"v":6,"d":"6.0"},5.6,5.5,5.2,{"v":6,"d":"6.0"},"","",17.1,{"v":13.11,"d":"13.1100"},16,{"v":52.893299999999996,"d":"52.8933"},{"v":60.106,"d":"60.1060"},{"v":0,"d":"0.0"},{"v":60.106,"d":"60.1060"}]
[198,193,{"v":0,"d":"0.0000"},200401600,"Mirjam Jochemsen","AZC","AZC","West",null,null,2004,null,"","","x",0,0,0,0,0,0,0,{"v":0,"d":"0.0"},{"v":0,"d":"0.0000"},0,{"v":0,"d":"0.0"},{"v":0,"d":"0.0"},{"v":0,"d":"0.0"},{"v":0,"d":"0.0"},{"v":0,"d":"0.0"},"","",{"v":0,"d":"0.0"},{"v":0,"d":"0.0000"},"",0,0,0,0,0,0,0,{"v":0,"d":"0.0"},{"v":0,"d":"0.0000"},0,{"v":0,"d":"0.0"},{"v":0,"d":"0.0"},{"v":0,"d":"0.0"},{"v":0,"d":"0.0"},{"v":0,"d":"0.0"},"","",{"v":0,"d":"0.0"},{"v":0,"d":"0.0000"},"",0,0,0,0,0,0,0,{"v":0,"d":"0.0"},{"v":0,"d":"0.0000"},0,{"v":0,"d":"0.0"},{"v":0,"d":"0.0"},{"v":0,"d":"0.0"},{"v":0,"d":"0.0"},{"v":0,"d":"0.0"},"","",{"v":0,"d":"0.0"},{"v":0,"d":"0.0000"},"",0,0,0,0,0,0,0,0,{"v":0,"d":"0.0000"},0,{"v":0,"d":"0.0"},{"v":0,"d":"0.0"},{"v":0,"d":"0.0"},{"v":0,"d":"0.0"},{"v":0,"d":"0.0"},"","",{"v":0,"d":"0.0"},{"v":0,"d":"0.0000"},"",{"v":0,"d":"0.0000"},{"v":0,"d":"0.0000"},{"v":0,"d":"0.0"},0]
[199,100,{"v":49.697,"d":"49.6970"},200404998,"Naomi Baggerman","DSZ","DSZ","West",null,null,2004,null,"L","",null,48,47,48,48,46,0,0,14.3,10.4867,0,4.8,4.7,4.8,4.8,4.6,"","",{"v":14.300000000000002,"d":"14.3"},10.4867,143,53,53,50,56,49,0,0,15.6,{"v":11.44,"d":"11.4400"},0,5.3,5.3,{"v":5,"d":"5.0"},5.6,4.9,"","",15.6,{"v":11.44,"d":"11.4400"},60,51,51,54,51,56,0,0,15.6,{"v":10.92,"d":"10.9200"},0,5.1,5.1,5.4,5.1,5.6,"","",{"v":15.599999999999996,"d":"15.6"},{"v":10.92,"d":"10.9200"},106,45,50,48,49,42,0,0,{"v":14.2,"d":"14"},10.8867,0,4.5,{"v":5,"d":"5.0"},4.8,4.9,4.2,"","",{"v":14.200000000000003,"d":"14.2"},10.8867,103,{"v":43.733399999999996,"d":"43.7334"},{"v":49.697,"d":"49.6970"},{"v":0,"d":"0.0"},{"v":49.697,"d":"49.6970"}]
[200,68,51.7955,200300720,"Laura Otten","HZPC Horst","HZPC","zuid",null,null,2003,null,"L","",null,54,59,52,58,52,0,0,16.4,12.0267,0,5.4,5.9,5.2,5.8,5.2,"","",{"v":16.400000000000002,"d":"16.4"},12.0267,58,50,55,45,48,52,0,0,{"v":15,"d":"15.0"},{"v":11,"d":"11.0000"},0,{"v":5,"d":"5.0"},5.5,4.5,4.8,5.2,"","",{"v":15,"d":"15.0"},{"v":11,"d":"11.0000"},79,54,52,55,53,51,0,0,15.9,{"v":11.13,"d":"11.1300"},0,5.4,5.2,5.5,5.3,5.1,"","",15.9,{"v":11.13,"d":"11.1300"},98,47,54,50,51,48,0,0,{"v":14.9,"d":"15"},11.4233,0,4.7,5.4,{"v":5,"d":"5.0"},5.1,4.8,"","",{"v":14.900000000000002,"d":"14.9"},11.4233,65,{"v":45.58,"d":"45.5800"},51.7955,{"v":0,"d":"0.0"},51.7955]
[201,193,{"v":0,"d":"0.0000"},200304388,"Kyra Roelands ","AZC","AZC","West",null,null,2003,null,"","","x",0,0,0,0,0,0,0,{"v":0,"d":"0.0"},{"v":0,"d":"0.0000"},0,{"v":0,"d":"0.0"},{"v":0,"d":"0.0"},{"v":0,"d":"0.0"},{"v":0,"d":"0.0"},{"v":0,"d":"0.0"},"","",{"v":0,"d":"0.0"},{"v":0,"d":"0.0000"},"",0,0,0,0,0,0,0,{"v":0,"d":"0.0"},{"v":0,"d":"0.0000"},0,{"v":0,"d":"0.0"},{"v":0,"d":"0.0"},{"v":0,"d":"0.0"},{"v":0,"d":"0.0"},{"v":0,"d":"0.0"},"","",{"v":0,"d":"0.0"},{"v":0,"d":"0.0000"},"",0,0,0,0,0,0,0,{"v":0,"d":"0.0"},{"v":0,"d":"0.0000"},0,{"v":0,"d":"0.0"},{"v":0,"d":"0.0"},{"v":0,"d":"0.0"},{"v":0,"d":"0.0"},{"v":0,"d":"0.0"},"","",{"v":0,"d":"0.0"},{"v":0,"d":"0.0000"},"",0,0,0,0,0,0,0,0,{"v":0,"d":"0.0000"},0,{"v":0,"d":"0.0"},{"v":0,"d":"0.0"},{"v":0,"d":"0.0"},{"v":0,"d":"0.0"},{"v":0,"d":"0.0"},"","",{"v":0,"d":"0.0"},{"v":0,"d":"0.0000"},"",{"v":0,"d":"0.0000"},{"v":0,"d":"0.0000"},{"v":0,"d":"0.0"},0]
[202,46,54.2499,200402876,"Marije Koot","BZ&PC","BZP","West",null,null,2004,null,"L","",null,56,57,57,56,55,0,0,16.9,12.3933,0,5.6,5.7,5.7,5.6,5.5,"","",{"v":16.900000000000002,"d":"16.9"},12.3933,45,52,44,53,54,52,0,0,15.7,11.5133,0,5.2,4.4,5.3,5.4,5.2,"","",{"v":15.700000000000001,"d":"15.7"},11.5133,55,51,60,57,63,57,0,0,17.4,{"v":12.18,"d":"12.1800"},0,5.1,{"v":6,"d":"6.0"},5.7,6.3,5.7,"","",17.4,{"v":12.18,"d":"12.1800"},42,50,51,51,53,45,0,0,{"v":15.2,"d":"15"},11.6533,0,{"v":5,"d":"5.0"},5.1,5.1,5.3,4.5,"","",15.2,11.6533,53,47.7399,54.2499,{"v":0,"d":"0.0"},54.2499]
[203,59,{"v":52.981,"d":"52.9810"},200303876,"Julia Derksen","PSV Synchro Team Eindhoven","PSV","Zuid",null,null,2003,null,"L","",null,55,59,53,54,53,0,0,16.2,{"v":11.88,"d":"11.8800"},0,5.5,5.9,5.3,5.4,5.3,"","",16.2,{"v":11.88,"d":"11.8800"},68,51,49,48,50,52,0,0,{"v":15,"d":"15.0"},{"v":11,"d":"11.0000"},0,5.1,4.9,4.8,{"v":5,"d":"5.0"},5.2,"","",{"v":15,"d":"15.0"},{"v":11,"d":"11.0000"},79,59,59,58,57,60,0,0,17.6,{"v":12.32,"d":"12.3200"},0,5.9,5.9,5.8,5.7,{"v":6,"d":"6.0"},"","",17.6,{"v":12.32,"d":"12.3200"},37,48,50,50,49,53,0,0,{"v":14.9,"d":"15"},11.4233,0,4.8,{"v":5,"d":"5.0"},{"v":5,"d":"5.0"},4.9,5.3,"","",{"v":14.900000000000002,"d":"14.9"},11.4233,65,46.6233,{"v":52.981,"d":"52.9810"},{"v":0,"d":"0.0"},{"v":52.981,"d":"52.9810"}]
[204,193,{"v":0,"d":"0.0000"},200305458,"Merian Bazuin","DSZ","DSZ","West",null,"X",2003,null,"","","x",0,0,0,0,0,0,0,{"v":0,"d":"0.0"},{"v":0,"d":"0.0000"},0,{"v":0,"d":"0.0"},{"v":0,"d":"0.0"},{"v":0,"d":"0.0"},{"v":0,"d":"0.0"},{"v":0,"d":"0.0"},"","",{"v":0,"d":"0.0"},{"v":0,"d":"0.0000"},"",0,0,0,0,0,0,0,{"v":0,"d":"0.0"},{"v":0,"d":"0.0000"},0,{"v":0,"d":"0.0"},{"v":0,"d":"0.0"},{"v":0,"d":"0.0"},{"v":0,"d":"0.0"},{"v":0,"d":"0.0"},"","",{"v":0,"d":"0.0"},{"v":0,"d":"0.0000"},"",0,0,0,0,0,0,0,{"v":0,"d":"0.0"},{"v":0,"d":"0.0000"},0,{"v":0,"d":"0.0"},{"v":0,"d":"0.0"},{"v":0,"d":"0.0"},{"v":0,"d":"0.0"},{"v":0,"d":"0.0"},"","",{"v":0,"d":"0.0"},{"v":0,"d":"0.0000"},"",0,0,0,0,0,0,0,0,{"v":0,"d":"0.0000"},0,{"v":0,"d":"0.0"},{"v":0,"d":"0.0"},{"v":0,"d":"0.0"},{"v":0,"d":"0.0"},{"v":0,"d":"0.0"},"","",{"v":0,"d":"0.0"},{"v":0,"d":"0.0000"},"",{"v":0,"d":"0.0000"},{"v":0,"d":"0.0000"},{"v":0,"d":"0.0"},0]
[205,42,{"v":54.428,"d":"54.4280"},200500360,"Iris Florisson","AZC","AZC","West",null,null,2005,null,"L","",null,58,60,60,56,56,0,0,17.4,{"v":12.76,"d":"12.7600"},0,5.8,{"v":6,"d":"6.0"},{"v":6,"d":"6.0"},5.6,5.6,"","",17.4,{"v":12.76,"d":"12.7600"},26,55,53,56,57,55,0,0,16.6,12.1733,0,5.5,5.3,5.6,5.7,5.5,"","",{"v":16.599999999999998,"d":"16.6"},12.1733,30,50,53,53,47,52,0,0,15.5,{"v":10.85,"d":"10.8500"},0,{"v":5,"d":"5.0"},5.3,5.3,4.7,5.2,"","",15.5,{"v":10.85,"d":"10.8500"},108,50,56,50,53,55,0,0,{"v":15.8,"d":"16"},12.1133,0,{"v":5,"d":"5.0"},5.6,{"v":5,"d":"5.0"},5.3,5.5,"","",{"v":15.799999999999997,"d":"15.8"},12.1133,37,47.8966,{"v":54.428,"d":"54.4280"},{"v":0,"d":"0.0"},{"v":54.428,"d":"54.4280"}]
[206,"BM",{"v":48.409,"d":"48.4090"},200602654,"Megan Amling","BZ&PC","BZP","West","BM","X",2006,null,"BM","Age II",null,49,54,48,48,46,0,0,14.5,10.6333,0,4.9,5.4,4.8,4.8,4.6,"","",{"v":14.500000000000002,"d":"14.5"},10.6333,130,42,46,46,47,52,0,0,13.9,10.1933,0,4.2,4.6,4.6,4.7,5.2,"","",{"v":13.900000000000002,"d":"13.9"},10.1933,119,49,57,51,53,63,0,0,16.1,{"v":11.27,"d":"11.2700"},0,4.9,5.7,5.1,5.3,6.3,"","",16.1,{"v":11.27,"d":"11.2700"},92,40,47,47,46,44,0,0,{"v":13.7,"d":"14"},10.5033,0,{"v":4,"d":"4.0"},4.7,4.7,4.6,4.4,"","",13.7,10.5033,121,{"v":42.59989999999999,"d":"42.5999"},{"v":48.409,"d":"48.4090"},{"v":0,"d":"0.0"},0]
[207,177,43.1211,200503686,"Floor van der Heijden","DSZ","DSZ","West",null,null,2005,null,"","",null,50,52,50,51,45,0,0,15.1,11.0733,0,{"v":5,"d":"5.0"},5.2,{"v":5,"d":"5.0"},5.1,4.5,"","",{"v":15.099999999999998,"d":"15.1"},11.0733,108,40,45,43,43,43,0,0,12.9,{"v":9.46,"d":"9.4600"},0,{"v":4,"d":"4.0"},4.5,4.3,4.3,4.3,"","",{"v":12.900000000000002,"d":"12.9"},{"v":9.46,"d":"9.4600"},164,43,42,39,41,42,0,0,12.5,{"v":8.75,"d":"8.7500"},0,4.3,4.2,3.9,4.1,4.2,"","",{"v":12.499999999999998,"d":"12.5"},{"v":8.75,"d":"8.7500"},192,35,40,37,38,38,0,0,{"v":11.3,"d":"11"},8.6633,0,3.5,{"v":4,"d":"4.0"},3.7,3.8,3.8,"","",11.3,8.6633,196,{"v":37.946600000000004,"d":"37.9466"},43.1211,{"v":0,"d":"0.0"},43.1211]
[208,"BM",{"v":0,"d":"0.0000"},200106068,"Evi van Ginneken","Synchro Breda","SYN","Zuid","BM","X",2001,null,"BM","","x",0,0,0,0,0,0,0,{"v":0,"d":"0.0"},{"v":0,"d":"0.0000"},0,{"v":0,"d":"0.0"},{"v":0,"d":"0.0"},{"v":0,"d":"0.0"},{"v":0,"d":"0.0"},{"v":0,"d":"0.0"},"","",{"v":0,"d":"0.0"},{"v":0,"d":"0.0000"},"",0,0,0,0,0,0,0,{"v":0,"d":"0.0"},{"v":0,"d":"0.0000"},0,{"v":0,"d":"0.0"},{"v":0,"d":"0.0"},{"v":0,"d":"0.0"},{"v":0,"d":"0.0"},{"v":0,"d":"0.0"},"","",{"v":0,"d":"0.0"},{"v":0,"d":"0.0000"},"",0,0,0,0,0,0,0,{"v":0,"d":"0.0"},{"v":0,"d":"0.0000"},0,{"v":0,"d":"0.0"},{"v":0,"d":"0.0"},{"v":0,"d":"0.0"},{"v":0,"d":"0.0"},{"v":0,"d":"0.0"},"","",{"v":0,"d":"0.0"},{"v":0,"d":"0.0000"},"",0,0,0,0,0,0,0,0,{"v":0,"d":"0.0000"},0,{"v":0,"d":"0.0"},{"v":0,"d":"0.0"},{"v":0,"d":"0.0"},{"v":0,"d":"0.0"},{"v":0,"d":"0.0"},"","",{"v":0,"d":"0.0"},{"v":0,"d":"0.0000"},"",{"v":0,"d":"0.0000"},{"v":0,"d":"0.0000"},{"v":0,"d":"0.0"},0]
[209,110,49.1402,200304358,"Danica Kosoredjo","DSZ","DSZ","West",null,null,2003,null,"L","",null,55,55,55,65,57,0,0,16.7,12.2467,0,5.5,5.5,5.5,6.5,5.7,"","",16.7,12.2467,51,39,39,40,41,45,0,0,{"v":12,"d":"12.0"},{"v":8.8,"d":"8.8000"},0,3.9,3.9,{"v":4,"d":"4.0"},4.1,4.5,"","",{"v":11.999999999999998,"d":"12.0"},{"v":8.8,"d":"8.8000"},185,47,50,56,51,54,0,0,15.5,{"v":10.85,"d":"10.8500"},0,4.7,{"v":5,"d":"5.0"},5.6,5.1,5.4,"","",{"v":15.499999999999996,"d":"15.5"},{"v":10.85,"d":"10.8500"},108,42,49,50,49,50,0,0,{"v":14.8,"d":"15"},11.3467,0,4.2,4.9,{"v":5,"d":"5.0"},4.9,{"v":5,"d":"5.0"},"","",14.8,11.3467,72,43.2434,49.1402,{"v":0,"d":"0.0"},49.1402]
[210,66,51.8939,200300670,"Sanne Baars","BZ&PC","BZP","West",null,null,2003,null,"L","",null,52,48,52,54,53,0,0,15.7,11.5133,0,5.2,4.8,5.2,5.4,5.3,"","",15.7,11.5133,88,44,39,49,52,46,0,0,13.9,10.1933,0,4.4,3.9,4.9,5.2,4.6,"","",13.9,10.1933,119,54,56,60,62,63,0,0,17.8,{"v":12.46,"d":"12.4600"},0,5.4,5.6,{"v":6,"d":"6.0"},6.2,6.3,"","",{"v":17.799999999999997,"d":"17.8"},{"v":12.46,"d":"12.4600"},31,53,52,49,49,48,0,0,15,{"v":11.5,"d":"11.5000"},0,5.3,5.2,4.9,4.9,4.8,"","",{"v":15,"d":"15.0"},{"v":11.5,"d":"11.5000"},62,45.6666,51.8939,{"v":0,"d":"0.0"},51.8939]
[211,138,47.2235,200404996,"Femke Boxman","DSZ","DSZ","West",null,null,2004,null,"","",null,62,60,59,58,55,0,0,17.7,{"v":12.98,"d":"12.9800"},0,6.2,{"v":6,"d":"6.0"},5.9,5.8,5.5,"","",{"v":17.700000000000003,"d":"17.7"},{"v":12.98,"d":"12.9800"},20,46,40,41,44,47,0,0,13.1,9.6067,0,4.6,{"v":4,"d":"4.0"},4.1,4.4,4.7,"","",{"v":13.100000000000001,"d":"13.1"},9.6067,154,47,49,40,43,43,0,0,13.3,{"v":9.31,"d":"9.3100"},0,4.7,4.9,{"v":4,"d":"4.0"},4.3,4.3,"","",{"v":13.300000000000004,"d":"13.3"},{"v":9.31,"d":"9.3100"},185,42,42,43,42,42,0,0,{"v":12.6,"d":"13"},{"v":9.66,"d":"9.6600"},0,4.2,4.2,4.3,4.2,4.2,"","",{"v":12.599999999999998,"d":"12.6"},{"v":9.66,"d":"9.6600"},165,{"v":41.556700000000006,"d":"41.5567"},47.2235,{"v":0,"d":"0.0"},47.2235]
[212,193,{"v":0,"d":"0.0000"},0,{"$nulls":6},0,null,"","",null,{"$f":"'[1]AgeII Fig1'!E218","v":0},{"$f":"'[1]AgeII Fig1'!F218","v":0},{"$f":"'[1]AgeII Fig1'!G218","v":0},{"$f":"'[1]AgeII Fig1'!H218","v":0},{"$f":"'[1]AgeII Fig1'!I218","v":0},{"$f":"'[1]AgeII Fig1'!J218","v":0},{"$f":"'[1]AgeII Fig1'!K218","v":0},{"$f":"'[1]AgeII Fig1'!L218","v":{"v":0,"d":"0.0"}},{"$f":"'[1]AgeII Fig1'!M218","v":{"v":0,"d":"0.0000"}},{"$f":"'[1]AgeII Fig1'!N218","v":0},{"v":0,"d":"0.0"},{"v":0,"d":"0.0"},{"v":0,"d":"0.0"},{"v":0,"d":"0.0"},{"v":0,"d":"0.0"},"","",{"v":0,"d":"0.0"},{"v":0,"d":"0.0000"},"",{"$f":"'[2]AgeII Fig2'!E218","v":0},{"$f":"'[2]AgeII Fig2'!F218","v":0},{"$f":"'[2]AgeII Fig2'!G218","v":0},{"$f":"'[2]AgeII Fig2'!H218","v":0},{"$f":"'[2]AgeII Fig2'!I218","v":0},{"$f":"'[2]AgeII Fig2'!J218","v":0},{"$f":"'[2]AgeII Fig2'!K218","v":0},{"$f":"'[2]AgeII Fig2'!L218","v":{"v":0,"d":"0.0"}},{"$f":"'[2]AgeII Fig2'!M218","v":{"v":0,"d":"0.0000"}},{"$f":"'[2]AgeII Fig2'!N218","v":0},{"v":0,"d":"0.0"},{"v":0,"d":"0.0"},{"v":0,"d":"0.0"},{"v":0,"d":"0.0"},{"v":0,"d":"0.0"},"","",{"v":0,"d":"0.0"},{"v":0,"d":"0.0000"},"",{"$f":"'[3]AgeII Fig3'!E218","v":0},{"$f":"'[3]AgeII Fig3'!F218","v":0},{"$f":"'[3]AgeII Fig3'!G218","v":0},{"$f":"'[3]AgeII Fig3'!H218","v":0},{"$f":"'[3]AgeII Fig3'!I218","v":0},{"$f":"'[3]AgeII Fig3'!J218","v":0},{"$f":"'[3]AgeII Fig3'!K218","v":0},{"$f":"'[3]AgeII Fig3'!L218","v":{"v":0,"d":"0.0"}},{"$f":"'[3]AgeII Fig3'!M218","v":{"v":0,"d":"0.0000"}},{"$f":"'[3]AgeII Fig3'!N218","v":0},{"v":0,"d":"0.0"},{"v":0,"d":"0.0"},{"v":0,"d":"0.0"},{"v":0,"d":"0.0"},{"v":0,"d":"0.0"},"","",{"v":0,"d":"0.0"},{"v":0,"d":"0.0000"},"",{"$f":"'[4]AgeII Fig4'!E218","v":0},{"$f":"'[4]AgeII Fig4'!F218","v":0},{"$f":"'[4]AgeII Fig4'!G218","v":0},{"$f":"'[4]AgeII Fig4'!H218","v":0},{"$f":"'[4]AgeII Fig4'!I218","v":0},{"$f":"'[4]AgeII Fig4'!J218","v":0},{"$f":"'[4]AgeII Fig4'!K218","v":0},{"$f":"'[4]AgeII Fig4'!L218","v":0},{"$f":"'[4]AgeII Fig4'!M218","v":{"v":0,"d":"0.0000"}},{"$f":"'[4]AgeII Fig4'!N218","v":0},{"v":0,"d":"0.0"},{"v":0,"d":"0.0"},{"v":0,"d":"0.0"},{"v":0,"d":"0.0"},{"v":0,"d":"0.0"},"","",{"v":0,"d":"0.0"},{"v":0,"d":"0.0000"},"",{"v":0,"d":"0.0000"},{"v":0,"d":"0.0000"},{"v":0,"d":"0.0"},0]
[213,193,{"v":0,"d":"0.0000"},0,{"$nulls":6},0,null,"","",null,{"$f":"'[1]AgeII Fig1'!E219","v":0},{"$f":"'[1]AgeII Fig1'!F219","v":0},{"$f":"'[1]AgeII Fig1'!G219","v":0},{"$f":"'[1]AgeII Fig1'!H219","v":0},{"$f":"'[1]AgeII Fig1'!I219","v":0},{"$f":"'[1]AgeII Fig1'!J219","v":0},{"$f":"'[1]AgeII Fig1'!K219","v":0},{"$f":"'[1]AgeII Fig1'!L219","v":{"v":0,"d":"0.0"}},{"$f":"'[1]AgeII Fig1'!M219","v":{"v":0,"d":"0.0000"}},{"$f":"'[1]AgeII Fig1'!N219","v":0},{"v":0,"d":"0.0"},{"v":0,"d":"0.0"},{"v":0,"d":"0.0"},{"v":0,"d":"0.0"},{"v":0,"d":"0.0"},"","",{"v":0,"d":"0.0"},{"v":0,"d":"0.0000"},"",{"$f":"'[2]AgeII Fig2'!E219","v":0},{"$f":"'[2]AgeII Fig2'!F219","v":0},{"$f":"'[2]AgeII Fig2'!G219","v":0},{"$f":"'[2]AgeII Fig2'!H219","v":0},{"$f":"'[2]AgeII Fig2'!I219","v":0},{"$f":"'[2]AgeII Fig2'!J219","v":0},{"$f":"'[2]AgeII Fig2'!K219","v":0},{"$f":"'[2]AgeII Fig2'!L219","v":{"v":0,"d":"0.0"}},{"$f":"'[2]AgeII Fig2'!M219","v":{"v":0,"d":"0.0000"}},{"$f":"'[2]AgeII Fig2'!N219","v":0},{"v":0,"d":"0.0"},{"v":0,"d":"0.0"},{"v":0,"d":"0.0"},{"v":0,"d":"0.0"},{"v":0,"d":"0.0"},"","",{"v":0,"d":"0.0"},{"v":0,"d":"0.0000"},"",{"$f":"'[3]AgeII Fig3'!E219","v":0},{"$f":"'[3]AgeII Fig3'!F219","v":0},{"$f":"'[3]AgeII Fig3'!G219","v":0},{"$f":"'[3]AgeII Fig3'!H219","v":0},{"$f":"'[3]AgeII Fig3'!I219","v":0},{"$f":"'[3]AgeII Fig3'!J219","v":0},{"$f":"'[3]AgeII Fig3'!K219","v":0},{"$f":"'[3]AgeII Fig3'!L219","v":{"v":0,"d":"0.0"}},{"$f":"'[3]AgeII Fig3'!M219","v":{"v":0,"d":"0.0000"}},{"$f":"'[3]AgeII Fig3'!N219","v":0},{"v":0,"d":"0.0"},{"v":0,"d":"0.0"},{"v":0,"d":"0.0"},{"v":0,"d":"0.0"},{"v":0,"d":"0.0"},"","",{"v":0,"d":"0.0"},{"v":0,"d":"0.0000"},"",{"$f":"'[4]AgeII Fig4'!E219","v":0},{"$f":"'[4]AgeII Fig4'!F219","v":0},{"$f":"'[4]AgeII Fig4'!G219","v":0},{"$f":"'[4]AgeII Fig4'!H219","v":0},{"$f":"'[4]AgeII Fig4'!I219","v":0},{"$f":"'[4]AgeII Fig4'!J219","v":0},{"$f":"'[4]AgeII Fig4'!K219","v":0},{"$f":"'[4]AgeII Fig4'!L219","v":0},{"$f":"'[4]AgeII Fig4'!M219","v":{"v":0,"d":"0.0000"}},{"$f":"'[4]AgeII Fig4'!N219","v":0},{"v":0,"d":"0.0"},{"v":0,"d":"0.0"},{"v":0,"d":"0.0"},{"v":0,"d":"0.0"},{"v":0,"d":"0.0"},"","",{"v":0,"d":"0.0"},{"v":0,"d":"0.0000"},"",{"v":0,"d":"0.0000"},{"v":0,"d":"0.0000"},{"v":0,"d":"0.0"},0]
[214,193,{"v":0,"d":"0.0000"},0,{"$nulls":6},0,null,"","",null,{"$f":"'[1]AgeII Fig1'!E220","v":0},{"$f":"'[1]AgeII Fig1'!F220","v":0},{"$f":"'[1]AgeII Fig1'!G220","v":0},{"$f":"'[1]AgeII Fig1'!H220","v":0},{"$f":"'[1]AgeII Fig1'!I220","v":0},{"$f":"'[1]AgeII Fig1'!J220","v":0},{"$f":"'[1]AgeII Fig1'!K220","v":0},{"$f":"'[1]AgeII Fig1'!L220","v":{"v":0,"d":"0.0"}},{"$f":"'[1]AgeII Fig1'!M220","v":{"v":0,"d":"0.0000"}},{"$f":"'[1]AgeII Fig1'!N220","v":0},{"v":0,"d":"0.0"},{"v":0,"d":"0.0"},{"v":0,"d":"0.0"},{"v":0,"d":"0.0"},{"v":0,"d":"0.0"},"","",{"v":0,"d":"0.0"},{"v":0,"d":"0.0000"},"",{"$f":"'[2]AgeII Fig2'!E220","v":0},{"$f":"'[2]AgeII Fig2'!F220","v":0},{"$f":"'[2]AgeII Fig2'!G220","v":0},{"$f":"'[2]AgeII Fig2'!H220","v":0},{"$f":"'[2]AgeII Fig2'!I220","v":0},{"$f":"'[2]AgeII Fig2'!J220","v":0},{"$f":"'[2]AgeII Fig2'!K220","v":0},{"$f":"'[2]AgeII Fig2'!L220","v":{"v":0,"d":"0.0"}},{"$f":"'[2]AgeII Fig2'!M220","v":{"v":0,"d":"0.0000"}},{"$f":"'[2]AgeII Fig2'!N220","v":0},{"v":0,"d":"0.0"},{"v":0,"d":"0.0"},{"v":0,"d":"0.0"},{"v":0,"d":"0.0"},{"v":0,"d":"0.0"},"","",{"v":0,"d":"0.0"},{"v":0,"d":"0.0000"},"",{"$f":"'[3]AgeII Fig3'!E220","v":0},{"$f":"'[3]AgeII Fig3'!F220","v":0},{"$f":"'[3]AgeII Fig3'!G220","v":0},{"$f":"'[3]AgeII Fig3'!H220","v":0},{"$f":"'[3]AgeII Fig3'!I220","v":0},{"$f":"'[3]AgeII Fig3'!J220","v":0},{"$f":"'[3]AgeII Fig3'!K220","v":0},{"$f":"'[3]AgeII Fig3'!L220","v":{"v":0,"d":"0.0"}},{"$f":"'[3]AgeII Fig3'!M220","v":{"v":0,"d":"0.0000"}},{"$f":"'[3]AgeII Fig3'!N220","v":0},{"v":0,"d":"0.0"},{"v":0,"d":"0.0"},{"v":0,"d":"0.0"},{"v":0,"d":"0.0"},{"v":0,"d":"0.0"},"","",{"v":0,"d":"0.0"},{"v":0,"d":"0.0000"},"",{"$f":"'[4]AgeII Fig4'!E220","v":0},{"$f":"'[4]AgeII Fig4'!F220","v":0},{"$f":"'[4]AgeII Fig4'!G220","v":0},{"$f":"'[4]AgeII Fig4'!H220","v":0},{"$f":"'[4]AgeII Fig4'!I220","v":0},{"$f":"'[4]AgeII Fig4'!J220","v":0},{"$f":"'[4]AgeII Fig4'!K220","v":0},{"$f":"'[4]AgeII Fig4'!L220","v":0},{"$f":"'[4]AgeII Fig4'!M220","v":{"v":0,"d":"0.0000"}},{"$f":"'[4]AgeII Fig4'!N220","v":0},{"v":0,"d":"0.0"},{"v":0,"d":"0.0"},{"v":0,"d":"0.0"},{"v":0,"d":"0.0"},{"v":0,"d":"0.0"},"","",{"v":0,"d":"0.0"},{"v":0,"d":"0.0000"},"",{"v":0,"d":"0.0000"},{"v":0,"d":"0.0000"},{"v":0,"d":"0.0"},0]
[215,193,{"v":0,"d":"0.0000"},0,{"$nulls":6},0,null,"","",null,{"$f":"'[1]AgeII Fig1'!E221","v":0},{"$f":"'[1]AgeII Fig1'!F221","v":0},{"$f":"'[1]AgeII Fig1'!G221","v":0},{"$f":"'[1]AgeII Fig1'!H221","v":0},{"$f":"'[1]AgeII Fig1'!I221","v":0},{"$f":"'[1]AgeII Fig1'!J221","v":0},{"$f":"'[1]AgeII Fig1'!K221","v":0},{"$f":"'[1]AgeII Fig1'!L221","v":{"v":0,"d":"0.0"}},{"$f":"'[1]AgeII Fig1'!M221","v":{"v":0,"d":"0.0000"}},{"$f":"'[1]AgeII Fig1'!N221","v":0},{"v":0,"d":"0.0"},{"v":0,"d":"0.0"},{"v":0,"d":"0.0"},{"v":0,"d":"0.0"},{"v":0,"d":"0.0"},"","",{"v":0,"d":"0.0"},{"v":0,"d":"0.0000"},"",{"$f":"'[2]AgeII Fig2'!E221","v":0},{"$f":"'[2]AgeII Fig2'!F221","v":0},{"$f":"'[2]AgeII Fig2'!G221","v":0},{"$f":"'[2]AgeII Fig2'!H221","v":0},{"$f":"'[2]AgeII Fig2'!I221","v":0},{"$f":"'[2]AgeII Fig2'!J221","v":0},{"$f":"'[2]AgeII Fig2'!K221","v":0},{"$f":"'[2]AgeII Fig2'!L221","v":{"v":0,"d":"0.0"}},{"$f":"'[2]AgeII Fig2'!M221","v":{"v":0,"d":"0.0000"}},{"$f":"'[2]AgeII Fig2'!N221","v":0},{"v":0,"d":"0.0"},{"v":0,"d":"0.0"},{"v":0,"d":"0.0"},{"v":0,"d":"0.0"},{"v":0,"d":"0.0"},"","",{"v":0,"d":"0.0"},{"v":0,"d":"0.0000"},"",{"$f":"'[3]AgeII Fig3'!E221","v":0},{"$f":"'[3]AgeII Fig3'!F221","v":0},{"$f":"'[3]AgeII Fig3'!G221","v":0},{"$f":"'[3]AgeII Fig3'!H221","v":0},{"$f":"'[3]AgeII Fig3'!I221","v":0},{"$f":"'[3]AgeII Fig3'!J221","v":0},{"$f":"'[3]AgeII Fig3'!K221","v":0},{"$f":"'[3]AgeII Fig3'!L221","v":{"v":0,"d":"0.0"}},{"$f":"'[3]AgeII Fig3'!M221","v":{"v":0,"d":"0.0000"}},{"$f":"'[3]AgeII Fig3'!N221","v":0},{"v":0,"d":"0.0"},{"v":0,"d":"0.0"},{"v":0,"d":"0.0"},{"v":0,"d":"0.0"},{"v":0,"d":"0.0"},"","",{"v":0,"d":"0.0"},{"v":0,"d":"0.0000"},"",{"$f":"'[4]AgeII Fig4'!E221","v":0},{"$f":"'[4]AgeII Fig4'!F221","v":0},{"$f":"'[4]AgeII Fig4'!G221","v":0},{"$f":"'[4]AgeII Fig4'!H221","v":0},{"$f":"'[4]AgeII Fig4'!I221","v":0},{"$f":"'[4]AgeII Fig4'!J221","v":0},{"$f":"'[4]AgeII Fig4'!K221","v":0},{"$f":"'[4]AgeII Fig4'!L221","v":0},{"$f":"'[4]AgeII Fig4'!M221","v":{"v":0,"d":"0.0000"}},{"$f":"'[4]AgeII Fig4'!N221","v":0},{"v":0,"d":"0.0"},{"v":0,"d":"0.0"},{"v":0,"d":"0.0"},{"v":0,"d":"0.0"},{"v":0,"d":"0.0"},"","",{"v":0,"d":"0.0"},{"v":0,"d":"0.0000"},"",{"v":0,"d":"0.0000"},{"v":0,"d":"0.0000"},{"v":0,"d":"0.0"},0]
[216,193,{"v":0,"d":"0.0000"},0,{"$nulls":6},0,null,"","",null,{"$f":"'[1]AgeII Fig1'!E222","v":0},{"$f":"'[1]AgeII Fig1'!F222","v":0},{"$f":"'[1]AgeII Fig1'!G222","v":0},{"$f":"'[1]AgeII Fig1'!H222","v":0},{"$f":"'[1]AgeII Fig1'!I222","v":0},{"$f":"'[1]AgeII Fig1'!J222","v":0},{"$f":"'[1]AgeII Fig1'!K222","v":0},{"$f":"'[1]AgeII Fig1'!L222","v":{"v":0,"d":"0.0"}},{"$f":"'[1]AgeII Fig1'!M222","v":{"v":0,"d":"0.0000"}},{"$f":"'[1]AgeII Fig1'!N222","v":0},{"v":0,"d":"0.0"},{"v":0,"d":"0.0"},{"v":0,"d":"0.0"},{"v":0,"d":"0.0"},{"v":0,"d":"0.0"},"","",{"v":0,"d":"0.0"},{"v":0,"d":"0.0000"},"",{"$f":"'[2]AgeII Fig2'!E222","v":0},{"$f":"'[2]AgeII Fig2'!F222","v":0},{"$f":"'[2]AgeII Fig2'!G222","v":0},{"$f":"'[2]AgeII Fig2'!H222","v":0},{"$f":"'[2]AgeII Fig2'!I222","v":0},{"$f":"'[2]AgeII Fig2'!J222","v":0},{"$f":"'[2]AgeII Fig2'!K222","v":0},{"$f":"'[2]AgeII Fig2'!L222","v":{"v":0,"d":"0.0"}},{"$f":"'[2]AgeII Fig2'!M222","v":{"v":0,"d":"0.0000"}},{"$f":"'[2]AgeII Fig2'!N222","v":0},{"v":0,"d":"0.0"},{"v":0,"d":"0.0"},{"v":0,"d":"0.0"},{"v":0,"d":"0.0"},{"v":0,"d":"0.0"},"","",{"v":0,"d":"0.0"},{"v":0,"d":"0.0000"},"",{"$f":"'[3]AgeII Fig3'!E222","v":0},{"$f":"'[3]AgeII Fig3'!F222","v":0},{"$f":"'[3]AgeII Fig3'!G222","v":0},{"$f":"'[3]AgeII Fig3'!H222","v":0},{"$f":"'[3]AgeII Fig3'!I222","v":0},{"$f":"'[3]AgeII Fig3'!J222","v":0},{"$f":"'[3]AgeII Fig3'!K222","v":0},{"$f":"'[3]AgeII Fig3'!L222","v":{"v":0,"d":"0.0"}},{"$f":"'[3]AgeII Fig3'!M222","v":{"v":0,"d":"0.0000"}},{"$f":"'[3]AgeII Fig3'!N222","v":0},{"v":0,"d":"0.0"},{"v":0,"d":"0.0"},{"v":0,"d":"0.0"},{"v":0,"d":"0.0"},{"v":0,"d":"0.0"},"","",{"v":0,"d":"0.0"},{"v":0,"d":"0.0000"},"",{"$f":"'[4]AgeII Fig4'!E222","v":0},{"$f":"'[4]AgeII Fig4'!F222","v":0},{"$f":"'[4]AgeII Fig4'!G222","v":0},{"$f":"'[4]AgeII Fig4'!H222","v":0},{"$f":"'[4]AgeII Fig4'!I222","v":0},{"$f":"'[4]AgeII Fig4'!J222","v":0},{"$f":"'[4]AgeII Fig4'!K222","v":0},{"$f":"'[4]AgeII Fig4'!L222","v":0},{"$f":"'[4]AgeII Fig4'!M222","v":{"v":0,"d":"0.0000"}},{"$f":"'[4]AgeII Fig4'!N222","v":0},{"v":0,"d":"0.0"},{"v":0,"d":"0.0"},{"v":0,"d":"0.0"},{"v":0,"d":"0.0"},{"v":0,"d":"0.0"},"","",{"v":0,"d":"0.0"},{"v":0,"d":"0.0000"},"",{"v":0,"d":"0.0000"},{"v":0,"d":"0.0000"},{"v":0,"d":"0.0"},0]
[217,193,{"v":0,"d":"0.0000"},0,{"$nulls":6},0,null,"","",null,{"$f":"'[1]AgeII Fig1'!E223","v":0},{"$f":"'[1]AgeII Fig1'!F223","v":0},{"$f":"'[1]AgeII Fig1'!G223","v":0},{"$f":"'[1]AgeII Fig1'!H223","v":0},{"$f":"'[1]AgeII Fig1'!I223","v":0},{"$f":"'[1]AgeII Fig1'!J223","v":0},{"$f":"'[1]AgeII Fig1'!K223","v":0},{"$f":"'[1]AgeII Fig1'!L223","v":{"v":0,"d":"0.0"}},{"$f":"'[1]AgeII Fig1'!M223","v":{"v":0,"d":"0.0000"}},{"$f":"'[1]AgeII Fig1'!N223","v":0},{"v":0,"d":"0.0"},{"v":0,"d":"0.0"},{"v":0,"d":"0.0"},{"v":0,"d":"0.0"},{"v":0,"d":"0.0"},"","",{"v":0,"d":"0.0"},{"v":0,"d":"0.0000"},"",{"$f":"'[2]AgeII Fig2'!E223","v":0},{"$f":"'[2]AgeII Fig2'!F223","v":0},{"$f":"'[2]AgeII Fig2'!G223","v":0},{"$f":"'[2]AgeII Fig2'!H223","v":0},{"$f":"'[2]AgeII Fig2'!I223","v":0},{"$f":"'[2]AgeII Fig2'!J223","v":0},{"$f":"'[2]AgeII Fig2'!K223","v":0},{"$f":"'[2]AgeII Fig2'!L223","v":{"v":0,"d":"0.0"}},{"$f":"'[2]AgeII Fig2'!M223","v":{"v":0,"d":"0.0000"}},{"$f":"'[2]AgeII Fig2'!N223","v":0},{"v":0,"d":"0.0"},{"v":0,"d":"0.0"},{"v":0,"d":"0.0"},{"v":0,"d":"0.0"},{"v":0,"d":"0.0"},"","",{"v":0,"d":"0.0"},{"v":0,"d":"0.0000"},"",{"$f":"'[3]AgeII Fig3'!E223","v":0},{"$f":"'[3]AgeII Fig3'!F223","v":0},{"$f":"'[3]AgeII Fig3'!G223","v":0},{"$f":"'[3]AgeII Fig3'!H223","v":0},{"$f":"'[3]AgeII Fig3'!I223","v":0},{"$f":"'[3]AgeII Fig3'!J223","v":0},{"$f":"'[3]AgeII Fig3'!K223","v":0},{"$f":"'[3]AgeII Fig3'!L223","v":{"v":0,"d":"0.0"}},{"$f":"'[3]AgeII Fig3'!M223","v":{"v":0,"d":"0.0000"}},{"$f":"'[3]AgeII Fig3'!N223","v":0},{"v":0,"d":"0.0"},{"v":0,"d":"0.0"},{"v":0,"d":"0.0"},{"v":0,"d":"0.0"},{"v":0,"d":"0.0"},"","",{"v":0,"d":"0.0"},{"v":0,"d":"0.0000"},"",{"$f":"'[4]AgeII Fig4'!E223","v":0},{"$f":"'[4]AgeII Fig4'!F223","v":0},{"$f":"'[4]AgeII Fig4'!G223","v":0},{"$f":"'[4]AgeII Fig4'!H223","v":0},{"$f":"'[4]AgeII Fig4'!I223","v":0},{"$f":"'[4]AgeII Fig4'!J223","v":0},{"$f":"'[4]AgeII Fig4'!K223","v":0},{"$f":"'[4]AgeII Fig4'!L223","v":0},{"$f":"'[4]AgeII Fig4'!M223","v":{"v":0,"d":"0.0000"}},{"$f":"'[4]AgeII Fig4'!N223","v":0},{"v":0,"d":"0.0"},{"v":0,"d":"0.0"},{"v":0,"d":"0.0"},{"v":0,"d":"0.0"},{"v":0,"d":"0.0"},"","",{"v":0,"d":"0.0"},{"v":0,"d":"0.0000"},"",{"v":0,"d":"0.0000"},{"v":0,"d":"0.0000"},{"v":0,"d":"0.0"},0]
[218,193,{"v":0,"d":"0.0000"},0,{"$nulls":6},0,null,"","",null,{"$f":"'[1]AgeII Fig1'!E224","v":0},{"$f":"'[1]AgeII Fig1'!F224","v":0},{"$f":"'[1]AgeII Fig1'!G224","v":0},{"$f":"'[1]AgeII Fig1'!H224","v":0},{"$f":"'[1]AgeII Fig1'!I224","v":0},{"$f":"'[1]AgeII Fig1'!J224","v":0},{"$f":"'[1]AgeII Fig1'!K224","v":0},{"$f":"'[1]AgeII Fig1'!L224","v":{"v":0,"d":"0.0"}},{"$f":"'[1]AgeII Fig1'!M224","v":{"v":0,"d":"0.0000"}},{"$f":"'[1]AgeII Fig1'!N224","v":0},{"v":0,"d":"0.0"},{"v":0,"d":"0.0"},{"v":0,"d":"0.0"},{"v":0,"d":"0.0"},{"v":0,"d":"0.0"},"","",{"v":0,"d":"0.0"},{"v":0,"d":"0.0000"},"",{"$f":"'[2]AgeII Fig2'!E224","v":0},{"$f":"'[2]AgeII Fig2'!F224","v":0},{"$f":"'[2]AgeII Fig2'!G224","v":0},{"$f":"'[2]AgeII Fig2'!H224","v":0},{"$f":"'[2]AgeII Fig2'!I224","v":0},{"$f":"'[2]AgeII Fig2'!J224","v":0},{"$f":"'[2]AgeII Fig2'!K224","v":0},{"$f":"'[2]AgeII Fig2'!L224","v":{"v":0,"d":"0.0"}},{"$f":"'[2]AgeII Fig2'!M224","v":{"v":0,"d":"0.0000"}},{"$f":"'[2]AgeII Fig2'!N224","v":0},{"v":0,"d":"0.0"},{"v":0,"d":"0.0"},{"v":0,"d":"0.0"},{"v":0,"d":"0.0"},{"v":0,"d":"0.0"},"","",{"v":0,"d":"0.0"},{"v":0,"d":"0.0000"},"",{"$f":"'[3]AgeII Fig3'!E224","v":0},{"$f":"'[3]AgeII Fig3'!F224","v":0},{"$f":"'[3]AgeII Fig3'!G224","v":0},{"$f":"'[3]AgeII Fig3'!H224","v":0},{"$f":"'[3]AgeII Fig3'!I224","v":0},{"$f":"'[3]AgeII Fig3'!J224","v":0},{"$f":"'[3]AgeII Fig3'!K224","v":0},{"$f":"'[3]AgeII Fig3'!L224","v":{"v":0,"d":"0.0"}},{"$f":"'[3]AgeII Fig3'!M224","v":{"v":0,"d":"0.0000"}},{"$f":"'[3]AgeII Fig3'!N224","v":0},{"v":0,"d":"0.0"},{"v":0,"d":"0.0"},{"v":0,"d":"0.0"},{"v":0,"d":"0.0"},{"v":0,"d":"0.0"},"","",{"v":0,"d":"0.0"},{"v":0,"d":"0.0000"},"",{"$f":"'[4]AgeII Fig4'!E224","v":0},{"$f":"'[4]AgeII Fig4'!F224","v":0},{"$f":"'[4]AgeII Fig4'!G224","v":0},{"$f":"'[4]AgeII Fig4'!H224","v":0},{"$f":"'[4]AgeII Fig4'!I224","v":0},{"$f":"'[4]AgeII Fig4'!J224","v":0},{"$f":"'[4]AgeII Fig4'!K224","v":0},{"$f":"'[4]AgeII Fig4'!L224","v":0},{"$f":"'[4]AgeII Fig4'!M224","v":{"v":0,"d":"0.0000"}},{"$f":"'[4]AgeII Fig4'!N224","v":0},{"v":0,"d":"0.0"},{"v":0,"d":"0.0"},{"v":0,"d":"0.0"},{"v":0,"d":"0.0"},{"v":0,"d":"0.0"},"","",{"v":0,"d":"0.0"},{"v":0,"d":"0.0000"},"",{"v":0,"d":"0.0000"},{"v":0,"d":"0.0000"},{"v":0,"d":"0.0"},0]
[219,193,{"v":0,"d":"0.0000"},0,{"$nulls":6},0,null,"","",null,{"$f":"'[1]AgeII Fig1'!E225","v":0},{"$f":"'[1]AgeII Fig1'!F225","v":0},{"$f":"'[1]AgeII Fig1'!G225","v":0},{"$f":"'[1]AgeII Fig1'!H225","v":0},{"$f":"'[1]AgeII Fig1'!I225","v":0},{"$f":"'[1]AgeII Fig1'!J225","v":0},{"$f":"'[1]AgeII Fig1'!K225","v":0},{"$f":"'[1]AgeII Fig1'!L225","v":{"v":0,"d":"0.0"}},{"$f":"'[1]AgeII Fig1'!M225","v":{"v":0,"d":"0.0000"}},{"$f":"'[1]AgeII Fig1'!N225","v":0},{"v":0,"d":"0.0"},{"v":0,"d":"0.0"},{"v":0,"d":"0.0"},{"v":0,"d":"0.0"},{"v":0,"d":"0.0"},"","",{"v":0,"d":"0.0"},{"v":0,"d":"0.0000"},"",{"$f":"'[2]AgeII Fig2'!E225","v":0},{"$f":"'[2]AgeII Fig2'!F225","v":0},{"$f":"'[2]AgeII Fig2'!G225","v":0},{"$f":"'[2]AgeII Fig2'!H225","v":0},{"$f":"'[2]AgeII Fig2'!I225","v":0},{"$f":"'[2]AgeII Fig2'!J225","v":0},{"$f":"'[2]AgeII Fig2'!K225","v":0},{"$f":"'[2]AgeII Fig2'!L225","v":{"v":0,"d":"0.0"}},{"$f":"'[2]AgeII Fig2'!M225","v":{"v":0,"d":"0.0000"}},{"$f":"'[2]AgeII Fig2'!N225","v":0},{"v":0,"d":"0.0"},{"v":0,"d":"0.0"},{"v":0,"d":"0.0"},{"v":0,"d":"0.0"},{"v":0,"d":"0.0"},"","",{"v":0,"d":"0.0"},{"v":0,"d":"0.0000"},"",{"$f":"'[3]AgeII Fig3'!E225","v":0},{"$f":"'[3]AgeII Fig3'!F225","v":0},{"$f":"'[3]AgeII Fig3'!G225","v":0},{"$f":"'[3]AgeII Fig3'!H225","v":0},{"$f":"'[3]AgeII Fig3'!I225","v":0},{"$f":"'[3]AgeII Fig3'!J225","v":0},{"$f":"'[3]AgeII Fig3'!K225","v":0},{"$f":"'[3]AgeII Fig3'!L225","v":{"v":0,"d":"0.0"}},{"$f":"'[3]AgeII Fig3'!M225","v":{"v":0,"d":"0.0000"}},{"$f":"'[3]AgeII Fig3'!N225","v":0},{"v":0,"d":"0.0"},{"v":0,"d":"0.0"},{"v":0,"d":"0.0"},{"v":0,"d":"0.0"},{"v":0,"d":"0.0"},"","",{"v":0,"d":"0.0"},{"v":0,"d":"0.0000"},"",{"$f":"'[4]AgeII Fig4'!E225","v":0},{"$f":"'[4]AgeII Fig4'!F225","v":0},{"$f":"'[4]AgeII Fig4'!G225","v":0},{"$f":"'[4]AgeII Fig4'!H225","v":0},{"$f":"'[4]AgeII Fig4'!I225","v":0},{"$f":"'[4]AgeII Fig4'!J225","v":0},{"$f":"'[4]AgeII Fig4'!K225","v":0},{"$f":"'[4]AgeII Fig4'!L225","v":0},{"$f":"'[4]AgeII Fig4'!M225","v":{"v":0,"d":"0.0000"}},{"$f":"'[4]AgeII Fig4'!N225","v":0},{"v":0,"d":"0.0"},{"v":0,"d":"0.0"},{"v":0,"d":"0.0"},{"v":0,"d":"0.0"},{"v":0,"d":"0.0"},"","",{"v":0,"d":"0.0"},{"v":0,"d":"0.0000"},"",{"v":0,"d":"0.0000"},{"v":0,"d":"0.0000"},{"v":0,"d":"0.0"},0]
[220,193,{"v":0,"d":"0.0000"},0,{"$nulls":6},0,null,"","",null,{"$f":"'[1]AgeII Fig1'!E226","v":0},{"$f":"'[1]AgeII Fig1'!F226","v":0},{"$f":"'[1]AgeII Fig1'!G226","v":0},{"$f":"'[1]AgeII Fig1'!H226","v":0},{"$f":"'[1]AgeII Fig1'!I226","v":0},{"$f":"'[1]AgeII Fig1'!J226","v":0},{"$f":"'[1]AgeII Fig1'!K226","v":0},{"$f":"'[1]AgeII Fig1'!L226","v":{"v":0,"d":"0.0"}},{"$f":"'[1]AgeII Fig1'!M226","v":{"v":0,"d":"0.0000"}},{"$f":"'[1]AgeII Fig1'!N226","v":0},{"v":0,"d":"0.0"},{"v":0,"d":"0.0"},{"v":0,"d":"0.0"},{"v":0,"d":"0.0"},{"v":0,"d":"0.0"},"","",{"v":0,"d":"0.0"},{"v":0,"d":"0.0000"},"",{"$f":"'[2]AgeII Fig2'!E226","v":0},{"$f":"'[2]AgeII Fig2'!F226","v":0},{"$f":"'[2]AgeII Fig2'!G226","v":0},{"$f":"'[2]AgeII Fig2'!H226","v":0},{"$f":"'[2]AgeII Fig2'!I226","v":0},{"$f":"'[2]AgeII Fig2'!J226","v":0},{"$f":"'[2]AgeII Fig2'!K226","v":0},{"$f":"'[2]AgeII Fig2'!L226","v":{"v":0,"d":"0.0"}},{"$f":"'[2]AgeII Fig2'!M226","v":{"v":0,"d":"0.0000"}},{"$f":"'[2]AgeII Fig2'!N226","v":0},{"v":0,"d":"0.0"},{"v":0,"d":"0.0"},{"v":0,"d":"0.0"},{"v":0,"d":"0.0"},{"v":0,"d":"0.0"},"","",{"v":0,"d":"0.0"},{"v":0,"d":"0.0000"},"",{"$f":"'[3]AgeII Fig3'!E226","v":0},{"$f":"'[3]AgeII Fig3'!F226","v":0},{"$f":"'[3]AgeII Fig3'!G226","v":0},{"$f":"'[3]AgeII Fig3'!H226","v":0},{"$f":"'[3]AgeII Fig3'!I226","v":0},{"$f":"'[3]AgeII Fig3'!J226","v":0},{"$f":"'[3]AgeII Fig3'!K226","v":0},{"$f":"'[3]AgeII Fig3'!L226","v":{"v":0,"d":"0.0"}},{"$f":"'[3]AgeII Fig3'!M226","v":{"v":0,"d":"0.0000"}},{"$f":"'[3]AgeII Fig3'!N226","v":0},{"v":0,"d":"0.0"},{"v":0,"d":"0.0"},{"v":0,"d":"0.0"},{"v":0,"d":"0.0"},{"v":0,"d":"0.0"},"","",{"v":0,"d":"0.0"},{"v":0,"d":"0.0000"},"",{"$f":"'[4]AgeII Fig4'!E226","v":0},{"$f":"'[4]AgeII Fig4'!F226","v":0},{"$f":"'[4]AgeII Fig4'!G226","v":0},{"$f":"'[4]AgeII Fig4'!H226","v":0},{"$f":"'[4]AgeII Fig4'!I226","v":0},{"$f":"'[4]AgeII Fig4'!J226","v":0},{"$f":"'[4]AgeII Fig4'!K226","v":0},{"$f":"'[4]AgeII Fig4'!L226","v":0},{"$f":"'[4]AgeII Fig4'!M226","v":{"v":0,"d":"0.0000"}},{"$f":"'[4]AgeII Fig4'!N226","v":0},{"v":0,"d":"0.0"},{"v":0,"d":"0.0"},{"v":0,"d":"0.0"},{"v":0,"d":"0.0"},{"v":0,"d":"0.0"},"","",{"v":0,"d":"0.0"},{"v":0,"d":"0.0000"},"",{"v":0,"d":"0.0000"},{"v":0,"d":"0.0000"},{"v":0,"d":"0.0"},0]
[221,193,{"v":0,"d":"0.0000"},0,{"$nulls":6},0,null,"","",null,{"$f":"'[1]AgeII Fig1'!E227","v":0},{"$f":"'[1]AgeII Fig1'!F227","v":0},{"$f":"'[1]AgeII Fig1'!G227","v":0},{"$f":"'[1]AgeII Fig1'!H227","v":0},{"$f":"'[1]AgeII Fig1'!I227","v":0},{"$f":"'[1]AgeII Fig1'!J227","v":0},{"$f":"'[1]AgeII Fig1'!K227","v":0},{"$f":"'[1]AgeII Fig1'!L227","v":{"v":0,"d":"0.0"}},{"$f":"'[1]AgeII Fig1'!M227","v":{"v":0,"d":"0.0000"}},{"$f":"'[1]AgeII Fig1'!N227","v":0},{"v":0,"d":"0.0"},{"v":0,"d":"0.0"},{"v":0,"d":"0.0"},{"v":0,"d":"0.0"},{"v":0,"d":"0.0"},"","",{"v":0,"d":"0.0"},{"v":0,"d":"0.0000"},"",{"$f":"'[2]AgeII Fig2'!E227","v":0},{"$f":"'[2]AgeII Fig2'!F227","v":0},{"$f":"'[2]AgeII Fig2'!G227","v":0},{"$f":"'[2]AgeII Fig2'!H227","v":0},{"$f":"'[2]AgeII Fig2'!I227","v":0},{"$f":"'[2]AgeII Fig2'!J227","v":0},{"$f":"'[2]AgeII Fig2'!K227","v":0},{"$f":"'[2]AgeII Fig2'!L227","v":{"v":0,"d":"0.0"}},{"$f":"'[2]AgeII Fig2'!M227","v":{"v":0,"d":"0.0000"}},{"$f":"'[2]AgeII Fig2'!N227","v":0},{"v":0,"d":"0.0"},{"v":0,"d":"0.0"},{"v":0,"d":"0.0"},{"v":0,"d":"0.0"},{"v":0,"d":"0.0"},"","",{"v":0,"d":"0.0"},{"v":0,"d":"0.0000"},"",{"$f":"'[3]AgeII Fig3'!E227","v":0},{"$f":"'[3]AgeII Fig3'!F227","v":0},{"$f":"'[3]AgeII Fig3'!G227","v":0},{"$f":"'[3]AgeII Fig3'!H227","v":0},{"$f":"'[3]AgeII Fig3'!I227","v":0},{"$f":"'[3]AgeII Fig3'!J227","v":0},{"$f":"'[3]AgeII Fig3'!K227","v":0},{"$f":"'[3]AgeII Fig3'!L227","v":{"v":0,"d":"0.0"}},{"$f":"'[3]AgeII Fig3'!M227","v":{"v":0,"d":"0.0000"}},{"$f":"'[3]AgeII Fig3'!N227","v":0},{"v":0,"d":"0.0"},{"v":0,"d":"0.0"},{"v":0,"d":"0.0"},{"v":0,"d":"0.0"},{"v":0,"d":"0.0"},"","",{"v":0,"d":"0.0"},{"v":0,"d":"0.0000"},"",{"$f":"'[4]AgeII Fig4'!E227","v":0},{"$f":"'[4]AgeII Fig4'!F227","v":0},{"$f":"'[4]AgeII Fig4'!G227","v":0},{"$f":"'[4]AgeII Fig4'!H227","v":0},{"$f":"'[4]AgeII Fig4'!I227","v":0},{"$f":"'[4]AgeII Fig4'!J227","v":0},{"$f":"'[4]AgeII Fig4'!K227","v":0},{"$f":"'[4]AgeII Fig4'!L227","v":0},{"$f":"'[4]AgeII Fig4'!M227","v":{"v":0,"d":"0.0000"}},{"$f":"'[4]AgeII Fig4'!N227","v":0},{"v":0,"d":"0.0"},{"v":0,"d":"0.0"},{"v":0,"d":"0.0"},{"v":0,"d":"0.0"},{"v":0,"d":"0.0"},"","",{"v":0,"d":"0.0"},{"v":0,"d":"0.0000"},"",{"v":0,"d":"0.0000"},{"v":0,"d":"0.0000"},{"v":0,"d":"0.0"},0]
[222,193,{"v":0,"d":"0.0000"},0,{"$nulls":6},0,null,"","",null,{"$f":"'[1]AgeII Fig1'!E228","v":0},{"$f":"'[1]AgeII Fig1'!F228","v":0},{"$f":"'[1]AgeII Fig1'!G228","v":0},{"$f":"'[1]AgeII Fig1'!H228","v":0},{"$f":"'[1]AgeII Fig1'!I228","v":0},{"$f":"'[1]AgeII Fig1'!J228","v":0},{"$f":"'[1]AgeII Fig1'!K228","v":0},{"$f":"'[1]AgeII Fig1'!L228","v":{"v":0,"d":"0.0"}},{"$f":"'[1]AgeII Fig1'!M228","v":{"v":0,"d":"0.0000"}},{"$f":"'[1]AgeII Fig1'!N228","v":0},{"v":0,"d":"0.0"},{"v":0,"d":"0.0"},{"v":0,"d":"0.0"},{"v":0,"d":"0.0"},{"v":0,"d":"0.0"},"","",{"v":0,"d":"0.0"},{"v":0,"d":"0.0000"},"",{"$f":"'[2]AgeII Fig2'!E228","v":0},{"$f":"'[2]AgeII Fig2'!F228","v":0},{"$f":"'[2]AgeII Fig2'!G228","v":0},{"$f":"'[2]AgeII Fig2'!H228","v":0},{"$f":"'[2]AgeII Fig2'!I228","v":0},{"$f":"'[2]AgeII Fig2'!J228","v":0},{"$f":"'[2]AgeII Fig2'!K228","v":0},{"$f":"'[2]AgeII Fig2'!L228","v":{"v":0,"d":"0.0"}},{"$f":"'[2]AgeII Fig2'!M228","v":{"v":0,"d":"0.0000"}},{"$f":"'[2]AgeII Fig2'!N228","v":0},{"v":0,"d":"0.0"},{"v":0,"d":"0.0"},{"v":0,"d":"0.0"},{"v":0,"d":"0.0"},{"v":0,"d":"0.0"},"","",{"v":0,"d":"0.0"},{"v":0,"d":"0.0000"},"",{"$f":"'[3]AgeII Fig3'!E228","v":0},{"$f":"'[3]AgeII Fig3'!F228","v":0},{"$f":"'[3]AgeII Fig3'!G228","v":0},{"$f":"'[3]AgeII Fig3'!H228","v":0},{"$f":"'[3]AgeII Fig3'!I228","v":0},{"$f":"'[3]AgeII Fig3'!J228","v":0},{"$f":"'[3]AgeII Fig3'!K228","v":0},{"$f":"'[3]AgeII Fig3'!L228","v":{"v":0,"d":"0.0"}},{"$f":"'[3]AgeII Fig3'!M228","v":{"v":0,"d":"0.0000"}},{"$f":"'[3]AgeII Fig3'!N228","v":0},{"v":0,"d":"0.0"},{"v":0,"d":"0.0"},{"v":0,"d":"0.0"},{"v":0,"d":"0.0"},{"v":0,"d":"0.0"},"","",{"v":0,"d":"0.0"},{"v":0,"d":"0.0000"},"",{"$f":"'[4]AgeII Fig4'!E228","v":0},{"$f":"'[4]AgeII Fig4'!F228","v":0},{"$f":"'[4]AgeII Fig4'!G228","v":0},{"$f":"'[4]AgeII Fig4'!H228","v":0},{"$f":"'[4]AgeII Fig4'!I228","v":0},{"$f":"'[4]AgeII Fig4'!J228","v":0},{"$f":"'[4]AgeII Fig4'!K228","v":0},{"$f":"'[4]AgeII Fig4'!L228","v":0},{"$f":"'[4]AgeII Fig4'!M228","v":{"v":0,"d":"0.0000"}},{"$f":"'[4]AgeII Fig4'!N228","v":0},{"v":0,"d":"0.0"},{"v":0,"d":"0.0"},{"v":0,"d":"0.0"},{"v":0,"d":"0.0"},{"v":0,"d":"0.0"},"","",{"v":0,"d":"0.0"},{"v":0,"d":"0.0000"},"",{"v":0,"d":"0.0000"},{"v":0,"d":"0.0000"},{"v":0,"d":"0.0"},0]
[223,193,{"v":0,"d":"0.0000"},0,{"$nulls":6},0,null,"","",null,{"$f":"'[1]AgeII Fig1'!E229","v":0},{"$f":"'[1]AgeII Fig1'!F229","v":0},{"$f":"'[1]AgeII Fig1'!G229","v":0},{"$f":"'[1]AgeII Fig1'!H229","v":0},{"$f":"'[1]AgeII Fig1'!I229","v":0},{"$f":"'[1]AgeII Fig1'!J229","v":0},{"$f":"'[1]AgeII Fig1'!K229","v":0},{"$f":"'[1]AgeII Fig1'!L229","v":{"v":0,"d":"0.0"}},{"$f":"'[1]AgeII Fig1'!M229","v":{"v":0,"d":"0.0000"}},{"$f":"'[1]AgeII Fig1'!N229","v":0},{"v":0,"d":"0.0"},{"v":0,"d":"0.0"},{"v":0,"d":"0.0"},{"v":0,"d":"0.0"},{"v":0,"d":"0.0"},"","",{"v":0,"d":"0.0"},{"v":0,"d":"0.0000"},"",{"$f":"'[2]AgeII Fig2'!E229","v":0},{"$f":"'[2]AgeII Fig2'!F229","v":0},{"$f":"'[2]AgeII Fig2'!G229","v":0},{"$f":"'[2]AgeII Fig2'!H229","v":0},{"$f":"'[2]AgeII Fig2'!I229","v":0},{"$f":"'[2]AgeII Fig2'!J229","v":0},{"$f":"'[2]AgeII Fig2'!K229","v":0},{"$f":"'[2]AgeII Fig2'!L229","v":{"v":0,"d":"0.0"}},{"$f":"'[2]AgeII Fig2'!M229","v":{"v":0,"d":"0.0000"}},{"$f":"'[2]AgeII Fig2'!N229","v":0},{"v":0,"d":"0.0"},{"v":0,"d":"0.0"},{"v":0,"d":"0.0"},{"v":0,"d":"0.0"},{"v":0,"d":"0.0"},"","",{"v":0,"d":"0.0"},{"v":0,"d":"0.0000"},"",{"$f":"'[3]AgeII Fig3'!E229","v":0},{"$f":"'[3]AgeII Fig3'!F229","v":0},{"$f":"'[3]AgeII Fig3'!G229","v":0},{"$f":"'[3]AgeII Fig3'!H229","v":0},{"$f":"'[3]AgeII Fig3'!I229","v":0},{"$f":"'[3]AgeII Fig3'!J229","v":0},{"$f":"'[3]AgeII Fig3'!K229","v":0},{"$f":"'[3]AgeII Fig3'!L229","v":{"v":0,"d":"0.0"}},{"$f":"'[3]AgeII Fig3'!M229","v":{"v":0,"d":"0.0000"}},{"$f":"'[3]AgeII Fig3'!N229","v":0},{"v":0,"d":"0.0"},{"v":0,"d":"0.0"},{"v":0,"d":"0.0"},{"v":0,"d":"0.0"},{"v":0,"d":"0.0"},"","",{"v":0,"d":"0.0"},{"v":0,"d":"0.0000"},"",{"$f":"'[4]AgeII Fig4'!E229","v":0},{"$f":"'[4]AgeII Fig4'!F229","v":0},{"$f":"'[4]AgeII Fig4'!G229","v":0},{"$f":"'[4]AgeII Fig4'!H229","v":0},{"$f":"'[4]AgeII Fig4'!I229","v":0},{"$f":"'[4]AgeII Fig4'!J229","v":0},{"$f":"'[4]AgeII Fig4'!K229","v":0},{"$f":"'[4]AgeII Fig4'!L229","v":0},{"$f":"'[4]AgeII Fig4'!M229","v":{"v":0,"d":"0.0000"}},{"$f":"'[4]AgeII Fig4'!N229","v":0},{"v":0,"d":"0.0"},{"v":0,"d":"0.0"},{"v":0,"d":"0.0"},{"v":0,"d":"0.0"},{"v":0,"d":"0.0"},"","",{"v":0,"d":"0.0"},{"v":0,"d":"0.0000"},"",{"v":0,"d":"0.0000"},{"v":0,"d":"0.0000"},{"v":0,"d":"0.0"},0]
[224,193,{"v":0,"d":"0.0000"},0,{"$nulls":6},0,null,"","",null,{"$f":"'[1]AgeII Fig1'!E230","v":0},{"$f":"'[1]AgeII Fig1'!F230","v":0},{"$f":"'[1]AgeII Fig1'!G230","v":0},{"$f":"'[1]AgeII Fig1'!H230","v":0},{"$f":"'[1]AgeII Fig1'!I230","v":0},{"$f":"'[1]AgeII Fig1'!J230","v":0},{"$f":"'[1]AgeII Fig1'!K230","v":0},{"$f":"'[1]AgeII Fig1'!L230","v":{"v":0,"d":"0.0"}},{"$f":"'[1]AgeII Fig1'!M230","v":{"v":0,"d":"0.0000"}},{"$f":"'[1]AgeII Fig1'!N230","v":0},{"v":0,"d":"0.0"},{"v":0,"d":"0.0"},{"v":0,"d":"0.0"},{"v":0,"d":"0.0"},{"v":0,"d":"0.0"},"","",{"v":0,"d":"0.0"},{"v":0,"d":"0.0000"},"",{"$f":"'[2]AgeII Fig2'!E230","v":0},{"$f":"'[2]AgeII Fig2'!F230","v":0},{"$f":"'[2]AgeII Fig2'!G230","v":0},{"$f":"'[2]AgeII Fig2'!H230","v":0},{"$f":"'[2]AgeII Fig2'!I230","v":0},{"$f":"'[2]AgeII Fig2'!J230","v":0},{"$f":"'[2]AgeII Fig2'!K230","v":0},{"$f":"'[2]AgeII Fig2'!L230","v":{"v":0,"d":"0.0"}},{"$f":"'[2]AgeII Fig2'!M230","v":{"v":0,"d":"0.0000"}},{"$f":"'[2]AgeII Fig2'!N230","v":0},{"v":0,"d":"0.0"},{"v":0,"d":"0.0"},{"v":0,"d":"0.0"},{"v":0,"d":"0.0"},{"v":0,"d":"0.0"},"","",{"v":0,"d":"0.0"},{"v":0,"d":"0.0000"},"",{"$f":"'[3]AgeII Fig3'!E230","v":0},{"$f":"'[3]AgeII Fig3'!F230","v":0},{"$f":"'[3]AgeII Fig3'!G230","v":0},{"$f":"'[3]AgeII Fig3'!H230","v":0},{"$f":"'[3]AgeII Fig3'!I230","v":0},{"$f":"'[3]AgeII Fig3'!J230","v":0},{"$f":"'[3]AgeII Fig3'!K230","v":0},{"$f":"'[3]AgeII Fig3'!L230","v":{"v":0,"d":"0.0"}},{"$f":"'[3]AgeII Fig3'!M230","v":{"v":0,"d":"0.0000"}},{"$f":"'[3]AgeII Fig3'!N230","v":0},{"v":0,"d":"0.0"},{"v":0,"d":"0.0"},{"v":0,"d":"0.0"},{"v":0,"d":"0.0"},{"v":0,"d":"0.0"},"","",{"v":0,"d":"0.0"},{"v":0,"d":"0.0000"},"",{"$f":"'[4]AgeII Fig4'!E230","v":0},{"$f":"'[4]AgeII Fig4'!F230","v":0},{"$f":"'[4]AgeII Fig4'!G230","v":0},{"$f":"'[4]AgeII Fig4'!H230","v":0},{"$f":"'[4]AgeII Fig4'!I230","v":0},{"$f":"'[4]AgeII Fig4'!J230","v":0},{"$f":"'[4]AgeII Fig4'!K230","v":0},{"$f":"'[4]AgeII Fig4'!L230","v":0},{"$f":"'[4]AgeII Fig4'!M230","v":{"v":0,"d":"0.0000"}},{"$f":"'[4]AgeII Fig4'!N230","v":0},{"v":0,"d":"0.0"},{"v":0,"d":"0.0"},{"v":0,"d":"0.0"},{"v":0,"d":"0.0"},{"v":0,"d":"0.0"},"","",{"v":0,"d":"0.0"},{"v":0,"d":"0.0000"},"",{"v":0,"d":"0.0000"},{"v":0,"d":"0.0000"},{"v":0,"d":"0.0"},0]
[225,193,{"v":0,"d":"0.0000"},0,{"$nulls":6},0,null,"","",null,{"$f":"'[1]AgeII Fig1'!E231","v":0},{"$f":"'[1]AgeII Fig1'!F231","v":0},{"$f":"'[1]AgeII Fig1'!G231","v":0},{"$f":"'[1]AgeII Fig1'!H231","v":0},{"$f":"'[1]AgeII Fig1'!I231","v":0},{"$f":"'[1]AgeII Fig1'!J231","v":0},{"$f":"'[1]AgeII Fig1'!K231","v":0},{"$f":"'[1]AgeII Fig1'!L231","v":{"v":0,"d":"0.0"}},{"$f":"'[1]AgeII Fig1'!M231","v":{"v":0,"d":"0.0000"}},{"$f":"'[1]AgeII Fig1'!N231","v":0},{"v":0,"d":"0.0"},{"v":0,"d":"0.0"},{"v":0,"d":"0.0"},{"v":0,"d":"0.0"},{"v":0,"d":"0.0"},"","",{"v":0,"d":"0.0"},{"v":0,"d":"0.0000"},"",{"$f":"'[2]AgeII Fig2'!E231","v":0},{"$f":"'[2]AgeII Fig2'!F231","v":0},{"$f":"'[2]AgeII Fig2'!G231","v":0},{"$f":"'[2]AgeII Fig2'!H231","v":0},{"$f":"'[2]AgeII Fig2'!I231","v":0},{"$f":"'[2]AgeII Fig2'!J231","v":0},{"$f":"'[2]AgeII Fig2'!K231","v":0},{"$f":"'[2]AgeII Fig2'!L231","v":{"v":0,"d":"0.0"}},{"$f":"'[2]AgeII Fig2'!M231","v":{"v":0,"d":"0.0000"}},{"$f":"'[2]AgeII Fig2'!N231","v":0},{"v":0,"d":"0.0"},{"v":0,"d":"0.0"},{"v":0,"d":"0.0"},{"v":0,"d":"0.0"},{"v":0,"d":"0.0"},"","",{"v":0,"d":"0.0"},{"v":0,"d":"0.0000"},"",{"$f":"'[3]AgeII Fig3'!E231","v":0},{"$f":"'[3]AgeII Fig3'!F231","v":0},{"$f":"'[3]AgeII Fig3'!G231","v":0},{"$f":"'[3]AgeII Fig3'!H231","v":0},{"$f":"'[3]AgeII Fig3'!I231","v":0},{"$f":"'[3]AgeII Fig3'!J231","v":0},{"$f":"'[3]AgeII Fig3'!K231","v":0},{"$f":"'[3]AgeII Fig3'!L231","v":{"v":0,"d":"0.0"}},{"$f":"'[3]AgeII Fig3'!M231","v":{"v":0,"d":"0.0000"}},{"$f":"'[3]AgeII Fig3'!N231","v":0},{"v":0,"d":"0.0"},{"v":0,"d":"0.0"},{"v":0,"d":"0.0"},{"v":0,"d":"0.0"},{"v":0,"d":"0.0"},"","",{"v":0,"d":"0.0"},{"v":0,"d":"0.0000"},"",{"$f":"'[4]AgeII Fig4'!E231","v":0},{"$f":"'[4]AgeII Fig4'!F231","v":0},{"$f":"'[4]AgeII Fig4'!G231","v":0},{"$f":"'[4]AgeII Fig4'!H231","v":0},{"$f":"'[4]AgeII Fig4'!I231","v":0},{"$f":"'[4]AgeII Fig4'!J231","v":0},{"$f":"'[4]AgeII Fig4'!K231","v":0},{"$f":"'[4]AgeII Fig4'!L231","v":0},{"$f":"'[4]AgeII Fig4'!M231","v":{"v":0,"d":"0.0000"}},{"$f":"'[4]AgeII Fig4'!N231","v":0},{"v":0,"d":"0.0"},{"v":0,"d":"0.0"},{"v":0,"d":"0.0"},{"v":0,"d":"0.0"},{"v":0,"d":"0.0"},"","",{"v":0,"d":"0.0"},{"v":0,"d":"0.0000"},"",{"v":0,"d":"0.0000"},{"v":0,"d":"0.0000"},{"v":0,"d":"0.0"},0]
[226,193,{"v":0,"d":"0.0000"},0,{"$nulls":6},0,null,"","",null,{"$f":"'[1]AgeII Fig1'!E232","v":0},{"$f":"'[1]AgeII Fig1'!F232","v":0},{"$f":"'[1]AgeII Fig1'!G232","v":0},{"$f":"'[1]AgeII Fig1'!H232","v":0},{"$f":"'[1]AgeII Fig1'!I232","v":0},{"$f":"'[1]AgeII Fig1'!J232","v":0},{"$f":"'[1]AgeII Fig1'!K232","v":0},{"$f":"'[1]AgeII Fig1'!L232","v":{"v":0,"d":"0.0"}},{"$f":"'[1]AgeII Fig1'!M232","v":{"v":0,"d":"0.0000"}},{"$f":"'[1]AgeII Fig1'!N232","v":0},{"v":0,"d":"0.0"},{"v":0,"d":"0.0"},{"v":0,"d":"0.0"},{"v":0,"d":"0.0"},{"v":0,"d":"0.0"},"","",{"v":0,"d":"0.0"},{"v":0,"d":"0.0000"},"",{"$f":"'[2]AgeII Fig2'!E232","v":0},{"$f":"'[2]AgeII Fig2'!F232","v":0},{"$f":"'[2]AgeII Fig2'!G232","v":0},{"$f":"'[2]AgeII Fig2'!H232","v":0},{"$f":"'[2]AgeII Fig2'!I232","v":0},{"$f":"'[2]AgeII Fig2'!J232","v":0},{"$f":"'[2]AgeII Fig2'!K232","v":0},{"$f":"'[2]AgeII Fig2'!L232","v":{"v":0,"d":"0.0"}},{"$f":"'[2]AgeII Fig2'!M232","v":{"v":0,"d":"0.0000"}},{"$f":"'[2]AgeII Fig2'!N232","v":0},{"v":0,"d":"0.0"},{"v":0,"d":"0.0"},{"v":0,"d":"0.0"},{"v":0,"d":"0.0"},{"v":0,"d":"0.0"},"","",{"v":0,"d":"0.0"},{"v":0,"d":"0.0000"},"",{"$f":"'[3]AgeII Fig3'!E232","v":0},{"$f":"'[3]AgeII Fig3'!F232","v":0},{"$f":"'[3]AgeII Fig3'!G232","v":0},{"$f":"'[3]AgeII Fig3'!H232","v":0},{"$f":"'[3]AgeII Fig3'!I232","v":0},{"$f":"'[3]AgeII Fig3'!J232","v":0},{"$f":"'[3]AgeII Fig3'!K232","v":0},{"$f":"'[3]AgeII Fig3'!L232","v":{"v":0,"d":"0.0"}},{"$f":"'[3]AgeII Fig3'!M232","v":{"v":0,"d":"0.0000"}},{"$f":"'[3]AgeII Fig3'!N232","v":0},{"v":0,"d":"0.0"},{"v":0,"d":"0.0"},{"v":0,"d":"0.0"},{"v":0,"d":"0.0"},{"v":0,"d":"0.0"},"","",{"v":0,"d":"0.0"},{"v":0,"d":"0.0000"},"",{"$f":"'[4]AgeII Fig4'!E232","v":0},{"$f":"'[4]AgeII Fig4'!F232","v":0},{"$f":"'[4]AgeII Fig4'!G232","v":0},{"$f":"'[4]AgeII Fig4'!H232","v":0},{"$f":"'[4]AgeII Fig4'!I232","v":0},{"$f":"'[4]AgeII Fig4'!J232","v":0},{"$f":"'[4]AgeII Fig4'!K232","v":0},{"$f":"'[4]AgeII Fig4'!L232","v":0},{"$f":"'[4]AgeII Fig4'!M232","v":{"v":0,"d":"0.0000"}},{"$f":"'[4]AgeII Fig4'!N232","v":0},{"v":0,"d":"0.0"},{"v":0,"d":"0.0"},{"v":0,"d":"0.0"},{"v":0,"d":"0.0"},{"v":0,"d":"0.0"},"","",{"v":0,"d":"0.0"},{"v":0,"d":"0.0000"},"",{"v":0,"d":"0.0000"},{"v":0,"d":"0.0000"},{"v":0,"d":"0.0"},0]
[227,193,{"v":0,"d":"0.0000"},0,{"$nulls":6},0,null,"","",null,{"$f":"'[1]AgeII Fig1'!E233","v":0},{"$f":"'[1]AgeII Fig1'!F233","v":0},{"$f":"'[1]AgeII Fig1'!G233","v":0},{"$f":"'[1]AgeII Fig1'!H233","v":0},{"$f":"'[1]AgeII Fig1'!I233","v":0},{"$f":"'[1]AgeII Fig1'!J233","v":0},{"$f":"'[1]AgeII Fig1'!K233","v":0},{"$f":"'[1]AgeII Fig1'!L233","v":{"v":0,"d":"0.0"}},{"$f":"'[1]AgeII Fig1'!M233","v":{"v":0,"d":"0.0000"}},{"$f":"'[1]AgeII Fig1'!N233","v":0},{"v":0,"d":"0.0"},{"v":0,"d":"0.0"},{"v":0,"d":"0.0"},{"v":0,"d":"0.0"},{"v":0,"d":"0.0"},"","",{"v":0,"d":"0.0"},{"v":0,"d":"0.0000"},"",{"$f":"'[2]AgeII Fig2'!E233","v":0},{"$f":"'[2]AgeII Fig2'!F233","v":0},{"$f":"'[2]AgeII Fig2'!G233","v":0},{"$f":"'[2]AgeII Fig2'!H233","v":0},{"$f":"'[2]AgeII Fig2'!I233","v":0},{"$f":"'[2]AgeII Fig2'!J233","v":0},{"$f":"'[2]AgeII Fig2'!K233","v":0},{"$f":"'[2]AgeII Fig2'!L233","v":{"v":0,"d":"0.0"}},{"$f":"'[2]AgeII Fig2'!M233","v":{"v":0,"d":"0.0000"}},{"$f":"'[2]AgeII Fig2'!N233","v":0},{"v":0,"d":"0.0"},{"v":0,"d":"0.0"},{"v":0,"d":"0.0"},{"v":0,"d":"0.0"},{"v":0,"d":"0.0"},"","",{"v":0,"d":"0.0"},{"v":0,"d":"0.0000"},"",{"$f":"'[3]AgeII Fig3'!E233","v":0},{"$f":"'[3]AgeII Fig3'!F233","v":0},{"$f":"'[3]AgeII Fig3'!G233","v":0},{"$f":"'[3]AgeII Fig3'!H233","v":0},{"$f":"'[3]AgeII Fig3'!I233","v":0},{"$f":"'[3]AgeII Fig3'!J233","v":0},{"$f":"'[3]AgeII Fig3'!K233","v":0},{"$f":"'[3]AgeII Fig3'!L233","v":{"v":0,"d":"0.0"}},{"$f":"'[3]AgeII Fig3'!M233","v":{"v":0,"d":"0.0000"}},{"$f":"'[3]AgeII Fig3'!N233","v":0},{"v":0,"d":"0.0"},{"v":0,"d":"0.0"},{"v":0,"d":"0.0"},{"v":0,"d":"0.0"},{"v":0,"d":"0.0"},"","",{"v":0,"d":"0.0"},{"v":0,"d":"0.0000"},"",{"$f":"'[4]AgeII Fig4'!E233","v":0},{"$f":"'[4]AgeII Fig4'!F233","v":0},{"$f":"'[4]AgeII Fig4'!G233","v":0},{"$f":"'[4]AgeII Fig4'!H233","v":0},{"$f":"'[4]AgeII Fig4'!I233","v":0},{"$f":"'[4]AgeII Fig4'!J233","v":0},{"$f":"'[4]AgeII Fig4'!K233","v":0},{"$f":"'[4]AgeII Fig4'!L233","v":0},{"$f":"'[4]AgeII Fig4'!M233","v":{"v":0,"d":"0.0000"}},{"$f":"'[4]AgeII Fig4'!N233","v":0},{"v":0,"d":"0.0"},{"v":0,"d":"0.0"},{"v":0,"d":"0.0"},{"v":0,"d":"0.0"},{"v":0,"d":"0.0"},"","",{"v":0,"d":"0.0"},{"v":0,"d":"0.0000"},"",{"v":0,"d":"0.0000"},{"v":0,"d":"0.0000"},{"v":0,"d":"0.0"},0]
[228,193,{"v":0,"d":"0.0000"},0,{"$nulls":6},0,null,"","",null,{"$f":"'[1]AgeII Fig1'!E234","v":0},{"$f":"'[1]AgeII Fig1'!F234","v":0},{"$f":"'[1]AgeII Fig1'!G234","v":0},{"$f":"'[1]AgeII Fig1'!H234","v":0},{"$f":"'[1]AgeII Fig1'!I234","v":0},{"$f":"'[1]AgeII Fig1'!J234","v":0},{"$f":"'[1]AgeII Fig1'!K234","v":0},{"$f":"'[1]AgeII Fig1'!L234","v":{"v":0,"d":"0.0"}},{"$f":"'[1]AgeII Fig1'!M234","v":{"v":0,"d":"0.0000"}},{"$f":"'[1]AgeII Fig1'!N234","v":0},{"v":0,"d":"0.0"},{"v":0,"d":"0.0"},{"v":0,"d":"0.0"},{"v":0,"d":"0.0"},{"v":0,"d":"0.0"},"","",{"v":0,"d":"0.0"},{"v":0,"d":"0.0000"},"",{"$f":"'[2]AgeII Fig2'!E234","v":0},{"$f":"'[2]AgeII Fig2'!F234","v":0},{"$f":"'[2]AgeII Fig2'!G234","v":0},{"$f":"'[2]AgeII Fig2'!H234","v":0},{"$f":"'[2]AgeII Fig2'!I234","v":0},{"$f":"'[2]AgeII Fig2'!J234","v":0},{"$f":"'[2]AgeII Fig2'!K234","v":0},{"$f":"'[2]AgeII Fig2'!L234","v":{"v":0,"d":"0.0"}},{"$f":"'[2]AgeII Fig2'!M234","v":{"v":0,"d":"0.0000"}},{"$f":"'[2]AgeII Fig2'!N234","v":0},{"v":0,"d":"0.0"},{"v":0,"d":"0.0"},{"v":0,"d":"0.0"},{"v":0,"d":"0.0"},{"v":0,"d":"0.0"},"","",{"v":0,"d":"0.0"},{"v":0,"d":"0.0000"},"",{"$f":"'[3]AgeII Fig3'!E234","v":0},{"$f":"'[3]AgeII Fig3'!F234","v":0},{"$f":"'[3]AgeII Fig3'!G234","v":0},{"$f":"'[3]AgeII Fig3'!H234","v":0},{"$f":"'[3]AgeII Fig3'!I234","v":0},{"$f":"'[3]AgeII Fig3'!J234","v":0},{"$f":"'[3]AgeII Fig3'!K234","v":0},{"$f":"'[3]AgeII Fig3'!L234","v":{"v":0,"d":"0.0"}},{"$f":"'[3]AgeII Fig3'!M234","v":{"v":0,"d":"0.0000"}},{"$f":"'[3]AgeII Fig3'!N234","v":0},{"v":0,"d":"0.0"},{"v":0,"d":"0.0"},{"v":0,"d":"0.0"},{"v":0,"d":"0.0"},{"v":0,"d":"0.0"},"","",{"v":0,"d":"0.0"},{"v":0,"d":"0.0000"},"",{"$f":"'[4]AgeII Fig4'!E234","v":0},{"$f":"'[4]AgeII Fig4'!F234","v":0},{"$f":"'[4]AgeII Fig4'!G234","v":0},{"$f":"'[4]AgeII Fig4'!H234","v":0},{"$f":"'[4]AgeII Fig4'!I234","v":0},{"$f":"'[4]AgeII Fig4'!J234","v":0},{"$f":"'[4]AgeII Fig4'!K234","v":0},{"$f":"'[4]AgeII Fig4'!L234","v":0},{"$f":"'[4]AgeII Fig4'!M234","v":{"v":0,"d":"0.0000"}},{"$f":"'[4]AgeII Fig4'!N234","v":0},{"v":0,"d":"0.0"},{"v":0,"d":"0.0"},{"v":0,"d":"0.0"},{"v":0,"d":"0.0"},{"v":0,"d":"0.0"},"","",{"v":0,"d":"0.0"},{"v":0,"d":"0.0000"},"",{"v":0,"d":"0.0000"},{"v":0,"d":"0.0000"},{"v":0,"d":"0.0"},0]
[229,193,{"v":0,"d":"0.0000"},0,{"$nulls":6},0,null,"","",null,{"$f":"'[1]AgeII Fig1'!E235","v":0},{"$f":"'[1]AgeII Fig1'!F235","v":0},{"$f":"'[1]AgeII Fig1'!G235","v":0},{"$f":"'[1]AgeII Fig1'!H235","v":0},{"$f":"'[1]AgeII Fig1'!I235","v":0},{"$f":"'[1]AgeII Fig1'!J235","v":0},{"$f":"'[1]AgeII Fig1'!K235","v":0},{"$f":"'[1]AgeII Fig1'!L235","v":{"v":0,"d":"0.0"}},{"$f":"'[1]AgeII Fig1'!M235","v":{"v":0,"d":"0.0000"}},{"$f":"'[1]AgeII Fig1'!N235","v":0},{"v":0,"d":"0.0"},{"v":0,"d":"0.0"},{"v":0,"d":"0.0"},{"v":0,"d":"0.0"},{"v":0,"d":"0.0"},"","",{"v":0,"d":"0.0"},{"v":0,"d":"0.0000"},"",{"$f":"'[2]AgeII Fig2'!E235","v":0},{"$f":"'[2]AgeII Fig2'!F235","v":0},{"$f":"'[2]AgeII Fig2'!G235","v":0},{"$f":"'[2]AgeII Fig2'!H235","v":0},{"$f":"'[2]AgeII Fig2'!I235","v":0},{"$f":"'[2]AgeII Fig2'!J235","v":0},{"$f":"'[2]AgeII Fig2'!K235","v":0},{"$f":"'[2]AgeII Fig2'!L235","v":{"v":0,"d":"0.0"}},{"$f":"'[2]AgeII Fig2'!M235","v":{"v":0,"d":"0.0000"}},{"$f":"'[2]AgeII Fig2'!N235","v":0},{"v":0,"d":"0.0"},{"v":0,"d":"0.0"},{"v":0,"d":"0.0"},{"v":0,"d":"0.0"},{"v":0,"d":"0.0"},"","",{"v":0,"d":"0.0"},{"v":0,"d":"0.0000"},"",{"$f":"'[3]AgeII Fig3'!E235","v":0},{"$f":"'[3]AgeII Fig3'!F235","v":0},{"$f":"'[3]AgeII Fig3'!G235","v":0},{"$f":"'[3]AgeII Fig3'!H235","v":0},{"$f":"'[3]AgeII Fig3'!I235","v":0},{"$f":"'[3]AgeII Fig3'!J235","v":0},{"$f":"'[3]AgeII Fig3'!K235","v":0},{"$f":"'[3]AgeII Fig3'!L235","v":{"v":0,"d":"0.0"}},{"$f":"'[3]AgeII Fig3'!M235","v":{"v":0,"d":"0.0000"}},{"$f":"'[3]AgeII Fig3'!N235","v":0},{"v":0,"d":"0.0"},{"v":0,"d":"0.0"},{"v":0,"d":"0.0"},{"v":0,"d":"0.0"},{"v":0,"d":"0.0"},"","",{"v":0,"d":"0.0"},{"v":0,"d":"0.0000"},"",{"$f":"'[4]AgeII Fig4'!E235","v":0},{"$f":"'[4]AgeII Fig4'!F235","v":0},{"$f":"'[4]AgeII Fig4'!G235","v":0},{"$f":"'[4]AgeII Fig4'!H235","v":0},{"$f":"'[4]AgeII Fig4'!I235","v":0},{"$f":"'[4]AgeII Fig4'!J235","v":0},{"$f":"'[4]AgeII Fig4'!K235","v":0},{"$f":"'[4]AgeII Fig4'!L235","v":0},{"$f":"'[4]AgeII Fig4'!M235","v":{"v":0,"d":"0.0000"}},{"$f":"'[4]AgeII Fig4'!N235","v":0},{"v":0,"d":"0.0"},{"v":0,"d":"0.0"},{"v":0,"d":"0.0"},{"v":0,"d":"0.0"},{"v":0,"d":"0.0"},"","",{"v":0,"d":"0.0"},{"v":0,"d":"0.0000"},"",{"v":0,"d":"0.0000"},{"v":0,"d":"0.0000"},{"v":0,"d":"0.0"},0]
[230,193,{"v":0,"d":"0.0000"},0,{"$nulls":6},0,null,"","",null,{"$f":"'[1]AgeII Fig1'!E236","v":0},{"$f":"'[1]AgeII Fig1'!F236","v":0},{"$f":"'[1]AgeII Fig1'!G236","v":0},{"$f":"'[1]AgeII Fig1'!H236","v":0},{"$f":"'[1]AgeII Fig1'!I236","v":0},{"$f":"'[1]AgeII Fig1'!J236","v":0},{"$f":"'[1]AgeII Fig1'!K236","v":0},{"$f":"'[1]AgeII Fig1'!L236","v":{"v":0,"d":"0.0"}},{"$f":"'[1]AgeII Fig1'!M236","v":{"v":0,"d":"0.0000"}},{"$f":"'[1]AgeII Fig1'!N236","v":0},{"v":0,"d":"0.0"},{"v":0,"d":"0.0"},{"v":0,"d":"0.0"},{"v":0,"d":"0.0"},{"v":0,"d":"0.0"},"","",{"v":0,"d":"0.0"},{"v":0,"d":"0.0000"},"",{"$f":"'[2]AgeII Fig2'!E236","v":0},{"$f":"'[2]AgeII Fig2'!F236","v":0},{"$f":"'[2]AgeII Fig2'!G236","v":0},{"$f":"'[2]AgeII Fig2'!H236","v":0},{"$f":"'[2]AgeII Fig2'!I236","v":0},{"$f":"'[2]AgeII Fig2'!J236","v":0},{"$f":"'[2]AgeII Fig2'!K236","v":0},{"$f":"'[2]AgeII Fig2'!L236","v":{"v":0,"d":"0.0"}},{"$f":"'[2]AgeII Fig2'!M236","v":{"v":0,"d":"0.0000"}},{"$f":"'[2]AgeII Fig2'!N236","v":0},{"v":0,"d":"0.0"},{"v":0,"d":"0.0"},{"v":0,"d":"0.0"},{"v":0,"d":"0.0"},{"v":0,"d":"0.0"},"","",{"v":0,"d":"0.0"},{"v":0,"d":"0.0000"},"",{"$f":"'[3]AgeII Fig3'!E236","v":0},{"$f":"'[3]AgeII Fig3'!F236","v":0},{"$f":"'[3]AgeII Fig3'!G236","v":0},{"$f":"'[3]AgeII Fig3'!H236","v":0},{"$f":"'[3]AgeII Fig3'!I236","v":0},{"$f":"'[3]AgeII Fig3'!J236","v":0},{"$f":"'[3]AgeII Fig3'!K236","v":0},{"$f":"'[3]AgeII Fig3'!L236","v":{"v":0,"d":"0.0"}},{"$f":"'[3]AgeII Fig3'!M236","v":{"v":0,"d":"0.0000"}},{"$f":"'[3]AgeII Fig3'!N236","v":0},{"v":0,"d":"0.0"},{"v":0,"d":"0.0"},{"v":0,"d":"0.0"},{"v":0,"d":"0.0"},{"v":0,"d":"0.0"},"","",{"v":0,"d":"0.0"},{"v":0,"d":"0.0000"},"",{"$f":"'[4]AgeII Fig4'!E236","v":0},{"$f":"'[4]AgeII Fig4'!F236","v":0},{"$f":"'[4]AgeII Fig4'!G236","v":0},{"$f":"'[4]AgeII Fig4'!H236","v":0},{"$f":"'[4]AgeII Fig4'!I236","v":0},{"$f":"'[4]AgeII Fig4'!J236","v":0},{"$f":"'[4]AgeII Fig4'!K236","v":0},{"$f":"'[4]AgeII Fig4'!L236","v":0},{"$f":"'[4]AgeII Fig4'!M236","v":{"v":0,"d":"0.0000"}},{"$f":"'[4]AgeII Fig4'!N236","v":0},{"v":0,"d":"0.0"},{"v":0,"d":"0.0"},{"v":0,"d":"0.0"},{"v":0,"d":"0.0"},{"v":0,"d":"0.0"},"","",{"v":0,"d":"0.0"},{"v":0,"d":"0.0000"},"",{"v":0,"d":"0.0000"},{"v":0,"d":"0.0000"},{"v":0,"d":"0.0"},0]
[231,193,{"v":0,"d":"0.0000"},0,{"$nulls":6},0,null,"","",null,{"$f":"'[1]AgeII Fig1'!E237","v":0},{"$f":"'[1]AgeII Fig1'!F237","v":0},{"$f":"'[1]AgeII Fig1'!G237","v":0},{"$f":"'[1]AgeII Fig1'!H237","v":0},{"$f":"'[1]AgeII Fig1'!I237","v":0},{"$f":"'[1]AgeII Fig1'!J237","v":0},{"$f":"'[1]AgeII Fig1'!K237","v":0},{"$f":"'[1]AgeII Fig1'!L237","v":{"v":0,"d":"0.0"}},{"$f":"'[1]AgeII Fig1'!M237","v":{"v":0,"d":"0.0000"}},{"$f":"'[1]AgeII Fig1'!N237","v":0},{"v":0,"d":"0.0"},{"v":0,"d":"0.0"},{"v":0,"d":"0.0"},{"v":0,"d":"0.0"},{"v":0,"d":"0.0"},"","",{"v":0,"d":"0.0"},{"v":0,"d":"0.0000"},"",{"$f":"'[2]AgeII Fig2'!E237","v":0},{"$f":"'[2]AgeII Fig2'!F237","v":0},{"$f":"'[2]AgeII Fig2'!G237","v":0},{"$f":"'[2]AgeII Fig2'!H237","v":0},{"$f":"'[2]AgeII Fig2'!I237","v":0},{"$f":"'[2]AgeII Fig2'!J237","v":0},{"$f":"'[2]AgeII Fig2'!K237","v":0},{"$f":"'[2]AgeII Fig2'!L237","v":{"v":0,"d":"0.0"}},{"$f":"'[2]AgeII Fig2'!M237","v":{"v":0,"d":"0.0000"}},{"$f":"'[2]AgeII Fig2'!N237","v":0},{"v":0,"d":"0.0"},{"v":0,"d":"0.0"},{"v":0,"d":"0.0"},{"v":0,"d":"0.0"},{"v":0,"d":"0.0"},"","",{"v":0,"d":"0.0"},{"v":0,"d":"0.0000"},"",{"$f":"'[3]AgeII Fig3'!E237","v":0},{"$f":"'[3]AgeII Fig3'!F237","v":0},{"$f":"'[3]AgeII Fig3'!G237","v":0},{"$f":"'[3]AgeII Fig3'!H237","v":0},{"$f":"'[3]AgeII Fig3'!I237","v":0},{"$f":"'[3]AgeII Fig3'!J237","v":0},{"$f":"'[3]AgeII Fig3'!K237","v":0},{"$f":"'[3]AgeII Fig3'!L237","v":{"v":0,"d":"0.0"}},{"$f":"'[3]AgeII Fig3'!M237","v":{"v":0,"d":"0.0000"}},{"$f":"'[3]AgeII Fig3'!N237","v":0},{"v":0,"d":"0.0"},{"v":0,"d":"0.0"},{"v":0,"d":"0.0"},{"v":0,"d":"0.0"},{"v":0,"d":"0.0"},"","",{"v":0,"d":"0.0"},{"v":0,"d":"0.0000"},"",{"$f":"'[4]AgeII Fig4'!E237","v":0},{"$f":"'[4]AgeII Fig4'!F237","v":0},{"$f":"'[4]AgeII Fig4'!G237","v":0},{"$f":"'[4]AgeII Fig4'!H237","v":0},{"$f":"'[4]AgeII Fig4'!I237","v":0},{"$f":"'[4]AgeII Fig4'!J237","v":0},{"$f":"'[4]AgeII Fig4'!K237","v":0},{"$f":"'[4]AgeII Fig4'!L237","v":0},{"$f":"'[4]AgeII Fig4'!M237","v":{"v":0,"d":"0.0000"}},{"$f":"'[4]AgeII Fig4'!N237","v":0},{"v":0,"d":"0.0"},{"v":0,"d":"0.0"},{"v":0,"d":"0.0"},{"v":0,"d":"0.0"},{"v":0,"d":"0.0"},"","",{"v":0,"d":"0.0"},{"v":0,"d":"0.0000"},"",{"v":0,"d":"0.0000"},{"v":0,"d":"0.0000"},{"v":0,"d":"0.0"},0]
[232,193,{"v":0,"d":"0.0000"},0,{"$nulls":6},0,null,"","",null,{"$f":"'[1]AgeII Fig1'!E238","v":0},{"$f":"'[1]AgeII Fig1'!F238","v":0},{"$f":"'[1]AgeII Fig1'!G238","v":0},{"$f":"'[1]AgeII Fig1'!H238","v":0},{"$f":"'[1]AgeII Fig1'!I238","v":0},{"$f":"'[1]AgeII Fig1'!J238","v":0},{"$f":"'[1]AgeII Fig1'!K238","v":0},{"$f":"'[1]AgeII Fig1'!L238","v":{"v":0,"d":"0.0"}},{"$f":"'[1]AgeII Fig1'!M238","v":{"v":0,"d":"0.0000"}},{"$f":"'[1]AgeII Fig1'!N238","v":0},{"v":0,"d":"0.0"},{"v":0,"d":"0.0"},{"v":0,"d":"0.0"},{"v":0,"d":"0.0"},{"v":0,"d":"0.0"},"","",{"v":0,"d":"0.0"},{"v":0,"d":"0.0000"},"",{"$f":"'[2]AgeII Fig2'!E238","v":0},{"$f":"'[2]AgeII Fig2'!F238","v":0},{"$f":"'[2]AgeII Fig2'!G238","v":0},{"$f":"'[2]AgeII Fig2'!H238","v":0},{"$f":"'[2]AgeII Fig2'!I238","v":0},{"$f":"'[2]AgeII Fig2'!J238","v":0},{"$f":"'[2]AgeII Fig2'!K238","v":0},{"$f":"'[2]AgeII Fig2'!L238","v":{"v":0,"d":"0.0"}},{"$f":"'[2]AgeII Fig2'!M238","v":{"v":0,"d":"0.0000"}},{"$f":"'[2]AgeII Fig2'!N238","v":0},{"v":0,"d":"0.0"},{"v":0,"d":"0.0"},{"v":0,"d":"0.0"},{"v":0,"d":"0.0"},{"v":0,"d":"0.0"},"","",{"v":0,"d":"0.0"},{"v":0,"d":"0.0000"},"",{"$f":"'[3]AgeII Fig3'!E238","v":0},{"$f":"'[3]AgeII Fig3'!F238","v":0},{"$f":"'[3]AgeII Fig3'!G238","v":0},{"$f":"'[3]AgeII Fig3'!H238","v":0},{"$f":"'[3]AgeII Fig3'!I238","v":0},{"$f":"'[3]AgeII Fig3'!J238","v":0},{"$f":"'[3]AgeII Fig3'!K238","v":0},{"$f":"'[3]AgeII Fig3'!L238","v":{"v":0,"d":"0.0"}},{"$f":"'[3]AgeII Fig3'!M238","v":{"v":0,"d":"0.0000"}},{"$f":"'[3]AgeII Fig3'!N238","v":0},{"v":0,"d":"0.0"},{"v":0,"d":"0.0"},{"v":0,"d":"0.0"},{"v":0,"d":"0.0"},{"v":0,"d":"0.0"},"","",{"v":0,"d":"0.0"},{"v":0,"d":"0.0000"},"",{"$f":"'[4]AgeII Fig4'!E238","v":0},{"$f":"'[4]AgeII Fig4'!F238","v":0},{"$f":"'[4]AgeII Fig4'!G238","v":0},{"$f":"'[4]AgeII Fig4'!H238","v":0},{"$f":"'[4]AgeII Fig4'!I238","v":0},{"$f":"'[4]AgeII Fig4'!J238","v":0},{"$f":"'[4]AgeII Fig4'!K238","v":0},{"$f":"'[4]AgeII Fig4'!L238","v":0},{"$f":"'[4]AgeII Fig4'!M238","v":{"v":0,"d":"0.0000"}},{"$f":"'[4]AgeII Fig4'!N238","v":0},{"v":0,"d":"0.0"},{"v":0,"d":"0.0"},{"v":0,"d":"0.0"},{"v":0,"d":"0.0"},{"v":0,"d":"0.0"},"","",{"v":0,"d":"0.0"},{"v":0,"d":"0.0000"},"",{"v":0,"d":"0.0000"},{"v":0,"d":"0.0000"},{"v":0,"d":"0.0"},0]
[233,193,{"v":0,"d":"0.0000"},0,{"$nulls":6},0,null,"","",null,{"$f":"'[1]AgeII Fig1'!E239","v":0},{"$f":"'[1]AgeII Fig1'!F239","v":0},{"$f":"'[1]AgeII Fig1'!G239","v":0},{"$f":"'[1]AgeII Fig1'!H239","v":0},{"$f":"'[1]AgeII Fig1'!I239","v":0},{"$f":"'[1]AgeII Fig1'!J239","v":0},{"$f":"'[1]AgeII Fig1'!K239","v":0},{"$f":"'[1]AgeII Fig1'!L239","v":{"v":0,"d":"0.0"}},{"$f":"'[1]AgeII Fig1'!M239","v":{"v":0,"d":"0.0000"}},{"$f":"'[1]AgeII Fig1'!N239","v":0},{"v":0,"d":"0.0"},{"v":0,"d":"0.0"},{"v":0,"d":"0.0"},{"v":0,"d":"0.0"},{"v":0,"d":"0.0"},"","",{"v":0,"d":"0.0"},{"v":0,"d":"0.0000"},"",{"$f":"'[2]AgeII Fig2'!E239","v":0},{"$f":"'[2]AgeII Fig2'!F239","v":0},{"$f":"'[2]AgeII Fig2'!G239","v":0},{"$f":"'[2]AgeII Fig2'!H239","v":0},{"$f":"'[2]AgeII Fig2'!I239","v":0},{"$f":"'[2]AgeII Fig2'!J239","v":0},{"$f":"'[2]AgeII Fig2'!K239","v":0},{"$f":"'[2]AgeII Fig2'!L239","v":{"v":0,"d":"0.0"}},{"$f":"'[2]AgeII Fig2'!M239","v":{"v":0,"d":"0.0000"}},{"$f":"'[2]AgeII Fig2'!N239","v":0},{"v":0,"d":"0.0"},{"v":0,"d":"0.0"},{"v":0,"d":"0.0"},{"v":0,"d":"0.0"},{"v":0,"d":"0.0"},"","",{"v":0,"d":"0.0"},{"v":0,"d":"0.0000"},"",{"$f":"'[3]AgeII Fig3'!E239","v":0},{"$f":"'[3]AgeII Fig3'!F239","v":0},{"$f":"'[3]AgeII Fig3'!G239","v":0},{"$f":"'[3]AgeII Fig3'!H239","v":0},{"$f":"'[3]AgeII Fig3'!I239","v":0},{"$f":"'[3]AgeII Fig3'!J239","v":0},{"$f":"'[3]AgeII Fig3'!K239","v":0},{"$f":"'[3]AgeII Fig3'!L239","v":{"v":0,"d":"0.0"}},{"$f":"'[3]AgeII Fig3'!M239","v":{"v":0,"d":"0.0000"}},{"$f":"'[3]AgeII Fig3'!N239","v":0},{"v":0,"d":"0.0"},{"v":0,"d":"0.0"},{"v":0,"d":"0.0"},{"v":0,"d":"0.0"},{"v":0,"d":"0.0"},"","",{"v":0,"d":"0.0"},{"v":0,"d":"0.0000"},"",{"$f":"'[4]AgeII Fig4'!E239","v":0},{"$f":"'[4]AgeII Fig4'!F239","v":0},{"$f":"'[4]AgeII Fig4'!G239","v":0},{"$f":"'[4]AgeII Fig4'!H239","v":0},{"$f":"'[4]AgeII Fig4'!I239","v":0},{"$f":"'[4]AgeII Fig4'!J239","v":0},{"$f":"'[4]AgeII Fig4'!K239","v":0},{"$f":"'[4]AgeII Fig4'!L239","v":0},{"$f":"'[4]AgeII Fig4'!M239","v":{"v":0,"d":"0.0000"}},{"$f":"'[4]AgeII Fig4'!N239","v":0},{"v":0,"d":"0.0"},{"v":0,"d":"0.0"},{"v":0,"d":"0.0"},{"v":0,"d":"0.0"},{"v":0,"d":"0.0"},"","",{"v":0,"d":"0.0"},{"v":0,"d":"0.0000"},"",{"v":0,"d":"0.0000"},{"v":0,"d":"0.0000"},{"v":0,"d":"0.0"},0]
[234,193,{"v":0,"d":"0.0000"},0,{"$nulls":6},0,null,"","",null,{"$f":"'[1]AgeII Fig1'!E240","v":0},{"$f":"'[1]AgeII Fig1'!F240","v":0},{"$f":"'[1]AgeII Fig1'!G240","v":0},{"$f":"'[1]AgeII Fig1'!H240","v":0},{"$f":"'[1]AgeII Fig1'!I240","v":0},{"$f":"'[1]AgeII Fig1'!J240","v":0},{"$f":"'[1]AgeII Fig1'!K240","v":0},{"$f":"'[1]AgeII Fig1'!L240","v":{"v":0,"d":"0.0"}},{"$f":"'[1]AgeII Fig1'!M240","v":{"v":0,"d":"0.0000"}},{"$f":"'[1]AgeII Fig1'!N240","v":0},{"v":0,"d":"0.0"},{"v":0,"d":"0.0"},{"v":0,"d":"0.0"},{"v":0,"d":"0.0"},{"v":0,"d":"0.0"},"","",{"v":0,"d":"0.0"},{"v":0,"d":"0.0000"},"",{"$f":"'[2]AgeII Fig2'!E240","v":0},{"$f":"'[2]AgeII Fig2'!F240","v":0},{"$f":"'[2]AgeII Fig2'!G240","v":0},{"$f":"'[2]AgeII Fig2'!H240","v":0},{"$f":"'[2]AgeII Fig2'!I240","v":0},{"$f":"'[2]AgeII Fig2'!J240","v":0},{"$f":"'[2]AgeII Fig2'!K240","v":0},{"$f":"'[2]AgeII Fig2'!L240","v":{"v":0,"d":"0.0"}},{"$f":"'[2]AgeII Fig2'!M240","v":{"v":0,"d":"0.0000"}},{"$f":"'[2]AgeII Fig2'!N240","v":0},{"v":0,"d":"0.0"},{"v":0,"d":"0.0"},{"v":0,"d":"0.0"},{"v":0,"d":"0.0"},{"v":0,"d":"0.0"},"","",{"v":0,"d":"0.0"},{"v":0,"d":"0.0000"},"",{"$f":"'[3]AgeII Fig3'!E240","v":0},{"$f":"'[3]AgeII Fig3'!F240","v":0},{"$f":"'[3]AgeII Fig3'!G240","v":0},{"$f":"'[3]AgeII Fig3'!H240","v":0},{"$f":"'[3]AgeII Fig3'!I240","v":0},{"$f":"'[3]AgeII Fig3'!J240","v":0},{"$f":"'[3]AgeII Fig3'!K240","v":0},{"$f":"'[3]AgeII Fig3'!L240","v":{"v":0,"d":"0.0"}},{"$f":"'[3]AgeII Fig3'!M240","v":{"v":0,"d":"0.0000"}},{"$f":"'[3]AgeII Fig3'!N240","v":0},{"v":0,"d":"0.0"},{"v":0,"d":"0.0"},{"v":0,"d":"0.0"},{"v":0,"d":"0.0"},{"v":0,"d":"0.0"},"","",{"v":0,"d":"0.0"},{"v":0,"d":"0.0000"},"",{"$f":"'[4]AgeII Fig4'!E240","v":0},{"$f":"'[4]AgeII Fig4'!F240","v":0},{"$f":"'[4]AgeII Fig4'!G240","v":0},{"$f":"'[4]AgeII Fig4'!H240","v":0},{"$f":"'[4]AgeII Fig4'!I240","v":0},{"$f":"'[4]AgeII Fig4'!J240","v":0},{"$f":"'[4]AgeII Fig4'!K240","v":0},{"$f":"'[4]AgeII Fig4'!L240","v":0},{"$f":"'[4]AgeII Fig4'!M240","v":{"v":0,"d":"0.0000"}},{"$f":"'[4]AgeII Fig4'!N240","v":0},{"v":0,"d":"0.0"},{"v":0,"d":"0.0"},{"v":0,"d":"0.0"},{"v":0,"d":"0.0"},{"v":0,"d":"0.0"},"","",{"v":0,"d":"0.0"},{"v":0,"d":"0.0000"},"",{"v":0,"d":"0.0000"},{"v":0,"d":"0.0000"},{"v":0,"d":"0.0"},0]
[235,193,{"v":0,"d":"0.0000"},0,{"$nulls":6},0,null,"","",null,{"$f":"'[1]AgeII Fig1'!E241","v":0},{"$f":"'[1]AgeII Fig1'!F241","v":0},{"$f":"'[1]AgeII Fig1'!G241","v":0},{"$f":"'[1]AgeII Fig1'!H241","v":0},{"$f":"'[1]AgeII Fig1'!I241","v":0},{"$f":"'[1]AgeII Fig1'!J241","v":0},{"$f":"'[1]AgeII Fig1'!K241","v":0},{"$f":"'[1]AgeII Fig1'!L241","v":{"v":0,"d":"0.0"}},{"$f":"'[1]AgeII Fig1'!M241","v":{"v":0,"d":"0.0000"}},{"$f":"'[1]AgeII Fig1'!N241","v":0},{"v":0,"d":"0.0"},{"v":0,"d":"0.0"},{"v":0,"d":"0.0"},{"v":0,"d":"0.0"},{"v":0,"d":"0.0"},"","",{"v":0,"d":"0.0"},{"v":0,"d":"0.0000"},"",{"$f":"'[2]AgeII Fig2'!E241","v":0},{"$f":"'[2]AgeII Fig2'!F241","v":0},{"$f":"'[2]AgeII Fig2'!G241","v":0},{"$f":"'[2]AgeII Fig2'!H241","v":0},{"$f":"'[2]AgeII Fig2'!I241","v":0},{"$f":"'[2]AgeII Fig2'!J241","v":0},{"$f":"'[2]AgeII Fig2'!K241","v":0},{"$f":"'[2]AgeII Fig2'!L241","v":{"v":0,"d":"0.0"}},{"$f":"'[2]AgeII Fig2'!M241","v":{"v":0,"d":"0.0000"}},{"$f":"'[2]AgeII Fig2'!N241","v":0},{"v":0,"d":"0.0"},{"v":0,"d":"0.0"},{"v":0,"d":"0.0"},{"v":0,"d":"0.0"},{"v":0,"d":"0.0"},"","",{"v":0,"d":"0.0"},{"v":0,"d":"0.0000"},"",{"$f":"'[3]AgeII Fig3'!E241","v":0},{"$f":"'[3]AgeII Fig3'!F241","v":0},{"$f":"'[3]AgeII Fig3'!G241","v":0},{"$f":"'[3]AgeII Fig3'!H241","v":0},{"$f":"'[3]AgeII Fig3'!I241","v":0},{"$f":"'[3]AgeII Fig3'!J241","v":0},{"$f":"'[3]AgeII Fig3'!K241","v":0},{"$f":"'[3]AgeII Fig3'!L241","v":{"v":0,"d":"0.0"}},{"$f":"'[3]AgeII Fig3'!M241","v":{"v":0,"d":"0.0000"}},{"$f":"'[3]AgeII Fig3'!N241","v":0},{"v":0,"d":"0.0"},{"v":0,"d":"0.0"},{"v":0,"d":"0.0"},{"v":0,"d":"0.0"},{"v":0,"d":"0.0"},"","",{"v":0,"d":"0.0"},{"v":0,"d":"0.0000"},"",{"$f":"'[4]AgeII Fig4'!E241","v":0},{"$f":"'[4]AgeII Fig4'!F241","v":0},{"$f":"'[4]AgeII Fig4'!G241","v":0},{"$f":"'[4]AgeII Fig4'!H241","v":0},{"$f":"'[4]AgeII Fig4'!I241","v":0},{"$f":"'[4]AgeII Fig4'!J241","v":0},{"$f":"'[4]AgeII Fig4'!K241","v":0},{"$f":"'[4]AgeII Fig4'!L241","v":0},{"$f":"'[4]AgeII Fig4'!M241","v":{"v":0,"d":"0.0000"}},{"$f":"'[4]AgeII Fig4'!N241","v":0},{"v":0,"d":"0.0"},{"v":0,"d":"0.0"},{"v":0,"d":"0.0"},{"v":0,"d":"0.0"},{"v":0,"d":"0.0"},"","",{"v":0,"d":"0.0"},{"v":0,"d":"0.0000"},"",{"v":0,"d":"0.0000"},{"v":0,"d":"0.0000"},{"v":0,"d":"0.0"},0]
[236,193,{"v":0,"d":"0.0000"},0,{"$nulls":6},0,null,"","",null,{"$f":"'[1]AgeII Fig1'!E242","v":0},{"$f":"'[1]AgeII Fig1'!F242","v":0},{"$f":"'[1]AgeII Fig1'!G242","v":0},{"$f":"'[1]AgeII Fig1'!H242","v":0},{"$f":"'[1]AgeII Fig1'!I242","v":0},{"$f":"'[1]AgeII Fig1'!J242","v":0},{"$f":"'[1]AgeII Fig1'!K242","v":0},{"$f":"'[1]AgeII Fig1'!L242","v":{"v":0,"d":"0.0"}},{"$f":"'[1]AgeII Fig1'!M242","v":{"v":0,"d":"0.0000"}},{"$f":"'[1]AgeII Fig1'!N242","v":0},{"v":0,"d":"0.0"},{"v":0,"d":"0.0"},{"v":0,"d":"0.0"},{"v":0,"d":"0.0"},{"v":0,"d":"0.0"},"","",{"v":0,"d":"0.0"},{"v":0,"d":"0.0000"},"",{"$f":"'[2]AgeII Fig2'!E242","v":0},{"$f":"'[2]AgeII Fig2'!F242","v":0},{"$f":"'[2]AgeII Fig2'!G242","v":0},{"$f":"'[2]AgeII Fig2'!H242","v":0},{"$f":"'[2]AgeII Fig2'!I242","v":0},{"$f":"'[2]AgeII Fig2'!J242","v":0},{"$f":"'[2]AgeII Fig2'!K242","v":0},{"$f":"'[2]AgeII Fig2'!L242","v":{"v":0,"d":"0.0"}},{"$f":"'[2]AgeII Fig2'!M242","v":{"v":0,"d":"0.0000"}},{"$f":"'[2]AgeII Fig2'!N242","v":0},{"v":0,"d":"0.0"},{"v":0,"d":"0.0"},{"v":0,"d":"0.0"},{"v":0,"d":"0.0"},{"v":0,"d":"0.0"},"","",{"v":0,"d":"0.0"},{"v":0,"d":"0.0000"},"",{"$f":"'[3]AgeII Fig3'!E242","v":0},{"$f":"'[3]AgeII Fig3'!F242","v":0},{"$f":"'[3]AgeII Fig3'!G242","v":0},{"$f":"'[3]AgeII Fig3'!H242","v":0},{"$f":"'[3]AgeII Fig3'!I242","v":0},{"$f":"'[3]AgeII Fig3'!J242","v":0},{"$f":"'[3]AgeII Fig3'!K242","v":0},{"$f":"'[3]AgeII Fig3'!L242","v":{"v":0,"d":"0.0"}},{"$f":"'[3]AgeII Fig3'!M242","v":{"v":0,"d":"0.0000"}},{"$f":"'[3]AgeII Fig3'!N242","v":0},{"v":0,"d":"0.0"},{"v":0,"d":"0.0"},{"v":0,"d":"0.0"},{"v":0,"d":"0.0"},{"v":0,"d":"0.0"},"","",{"v":0,"d":"0.0"},{"v":0,"d":"0.0000"},"",{"$f":"'[4]AgeII Fig4'!E242","v":0},{"$f":"'[4]AgeII Fig4'!F242","v":0},{"$f":"'[4]AgeII Fig4'!G242","v":0},{"$f":"'[4]AgeII Fig4'!H242","v":0},{"$f":"'[4]AgeII Fig4'!I242","v":0},{"$f":"'[4]AgeII Fig4'!J242","v":0},{"$f":"'[4]AgeII Fig4'!K242","v":0},{"$f":"'[4]AgeII Fig4'!L242","v":0},{"$f":"'[4]AgeII Fig4'!M242","v":{"v":0,"d":"0.0000"}},{"$f":"'[4]AgeII Fig4'!N242","v":0},{"v":0,"d":"0.0"},{"v":0,"d":"0.0"},{"v":0,"d":"0.0"},{"v":0,"d":"0.0"},{"v":0,"d":"0.0"},"","",{"v":0,"d":"0.0"},{"v":0,"d":"0.0000"},"",{"v":0,"d":"0.0000"},{"v":0,"d":"0.0000"},{"v":0,"d":"0.0"},0]
[237,193,{"v":0,"d":"0.0000"},0,{"$nulls":6},0,null,"","",null,{"$f":"'[1]AgeII Fig1'!E243","v":0},{"$f":"'[1]AgeII Fig1'!F243","v":0},{"$f":"'[1]AgeII Fig1'!G243","v":0},{"$f":"'[1]AgeII Fig1'!H243","v":0},{"$f":"'[1]AgeII Fig1'!I243","v":0},{"$f":"'[1]AgeII Fig1'!J243","v":0},{"$f":"'[1]AgeII Fig1'!K243","v":0},{"$f":"'[1]AgeII Fig1'!L243","v":{"v":0,"d":"0.0"}},{"$f":"'[1]AgeII Fig1'!M243","v":{"v":0,"d":"0.0000"}},{"$f":"'[1]AgeII Fig1'!N243","v":0},{"v":0,"d":"0.0"},{"v":0,"d":"0.0"},{"v":0,"d":"0.0"},{"v":0,"d":"0.0"},{"v":0,"d":"0.0"},"","",{"v":0,"d":"0.0"},{"v":0,"d":"0.0000"},"",{"$f":"'[2]AgeII Fig2'!E243","v":0},{"$f":"'[2]AgeII Fig2'!F243","v":0},{"$f":"'[2]AgeII Fig2'!G243","v":0},{"$f":"'[2]AgeII Fig2'!H243","v":0},{"$f":"'[2]AgeII Fig2'!I243","v":0},{"$f":"'[2]AgeII Fig2'!J243","v":0},{"$f":"'[2]AgeII Fig2'!K243","v":0},{"$f":"'[2]AgeII Fig2'!L243","v":{"v":0,"d":"0.0"}},{"$f":"'[2]AgeII Fig2'!M243","v":{"v":0,"d":"0.0000"}},{"$f":"'[2]AgeII Fig2'!N243","v":0},{"v":0,"d":"0.0"},{"v":0,"d":"0.0"},{"v":0,"d":"0.0"},{"v":0,"d":"0.0"},{"v":0,"d":"0.0"},"","",{"v":0,"d":"0.0"},{"v":0,"d":"0.0000"},"",{"$f":"'[3]AgeII Fig3'!E243","v":0},{"$f":"'[3]AgeII Fig3'!F243","v":0},{"$f":"'[3]AgeII Fig3'!G243","v":0},{"$f":"'[3]AgeII Fig3'!H243","v":0},{"$f":"'[3]AgeII Fig3'!I243","v":0},{"$f":"'[3]AgeII Fig3'!J243","v":0},{"$f":"'[3]AgeII Fig3'!K243","v":0},{"$f":"'[3]AgeII Fig3'!L243","v":{"v":0,"d":"0.0"}},{"$f":"'[3]AgeII Fig3'!M243","v":{"v":0,"d":"0.0000"}},{"$f":"'[3]AgeII Fig3'!N243","v":0},{"v":0,"d":"0.0"},{"v":0,"d":"0.0"},{"v":0,"d":"0.0"},{"v":0,"d":"0.0"},{"v":0,"d":"0.0"},"","",{"v":0,"d":"0.0"},{"v":0,"d":"0.0000"},"",{"$f":"'[4]AgeII Fig4'!E243","v":0},{"$f":"'[4]AgeII Fig4'!F243","v":0},{"$f":"'[4]AgeII Fig4'!G243","v":0},{"$f":"'[4]AgeII Fig4'!H243","v":0},{"$f":"'[4]AgeII Fig4'!I243","v":0},{"$f":"'[4]AgeII Fig4'!J243","v":0},{"$f":"'[4]AgeII Fig4'!K243","v":0},{"$f":"'[4]AgeII Fig4'!L243","v":0},{"$f":"'[4]AgeII Fig4'!M243","v":{"v":0,"d":"0.0000"}},{"$f":"'[4]AgeII Fig4'!N243","v":0},{"v":0,"d":"0.0"},{"v":0,"d":"0.0"},{"v":0,"d":"0.0"},{"v":0,"d":"0.0"},{"v":0,"d":"0.0"},"","",{"v":0,"d":"0.0"},{"v":0,"d":"0.0000"},"",{"v":0,"d":"0.0000"},{"v":0,"d":"0.0000"},{"v":0,"d":"0.0"},0]
[238,193,{"v":0,"d":"0.0000"},0,{"$nulls":6},0,null,"","",null,{"$f":"'[1]AgeII Fig1'!E244","v":0},{"$f":"'[1]AgeII Fig1'!F244","v":0},{"$f":"'[1]AgeII Fig1'!G244","v":0},{"$f":"'[1]AgeII Fig1'!H244","v":0},{"$f":"'[1]AgeII Fig1'!I244","v":0},{"$f":"'[1]AgeII Fig1'!J244","v":0},{"$f":"'[1]AgeII Fig1'!K244","v":0},{"$f":"'[1]AgeII Fig1'!L244","v":{"v":0,"d":"0.0"}},{"$f":"'[1]AgeII Fig1'!M244","v":{"v":0,"d":"0.0000"}},{"$f":"'[1]AgeII Fig1'!N244","v":0},{"v":0,"d":"0.0"},{"v":0,"d":"0.0"},{"v":0,"d":"0.0"},{"v":0,"d":"0.0"},{"v":0,"d":"0.0"},"","",{"v":0,"d":"0.0"},{"v":0,"d":"0.0000"},"",{"$f":"'[2]AgeII Fig2'!E244","v":0},{"$f":"'[2]AgeII Fig2'!F244","v":0},{"$f":"'[2]AgeII Fig2'!G244","v":0},{"$f":"'[2]AgeII Fig2'!H244","v":0},{"$f":"'[2]AgeII Fig2'!I244","v":0},{"$f":"'[2]AgeII Fig2'!J244","v":0},{"$f":"'[2]AgeII Fig2'!K244","v":0},{"$f":"'[2]AgeII Fig2'!L244","v":{"v":0,"d":"0.0"}},{"$f":"'[2]AgeII Fig2'!M244","v":{"v":0,"d":"0.0000"}},{"$f":"'[2]AgeII Fig2'!N244","v":0},{"v":0,"d":"0.0"},{"v":0,"d":"0.0"},{"v":0,"d":"0.0"},{"v":0,"d":"0.0"},{"v":0,"d":"0.0"},"","",{"v":0,"d":"0.0"},{"v":0,"d":"0.0000"},"",{"$f":"'[3]AgeII Fig3'!E244","v":0},{"$f":"'[3]AgeII Fig3'!F244","v":0},{"$f":"'[3]AgeII Fig3'!G244","v":0},{"$f":"'[3]AgeII Fig3'!H244","v":0},{"$f":"'[3]AgeII Fig3'!I244","v":0},{"$f":"'[3]AgeII Fig3'!J244","v":0},{"$f":"'[3]AgeII Fig3'!K244","v":0},{"$f":"'[3]AgeII Fig3'!L244","v":{"v":0,"d":"0.0"}},{"$f":"'[3]AgeII Fig3'!M244","v":{"v":0,"d":"0.0000"}},{"$f":"'[3]AgeII Fig3'!N244","v":0},{"v":0,"d":"0.0"},{"v":0,"d":"0.0"},{"v":0,"d":"0.0"},{"v":0,"d":"0.0"},{"v":0,"d":"0.0"},"","",{"v":0,"d":"0.0"},{"v":0,"d":"0.0000"},"",{"$f":"'[4]AgeII Fig4'!E244","v":0},{"$f":"'[4]AgeII Fig4'!F244","v":0},{"$f":"'[4]AgeII Fig4'!G244","v":0},{"$f":"'[4]AgeII Fig4'!H244","v":0},{"$f":"'[4]AgeII Fig4'!I244","v":0},{"$f":"'[4]AgeII Fig4'!J244","v":0},{"$f":"'[4]AgeII Fig4'!K244","v":0},{"$f":"'[4]AgeII Fig4'!L244","v":0},{"$f":"'[4]AgeII Fig4'!M244","v":{"v":0,"d":"0.0000"}},{"$f":"'[4]AgeII Fig4'!N244","v":0},{"v":0,"d":"0.0"},{"v":0,"d":"0.0"},{"v":0,"d":"0.0"},{"v":0,"d":"0.0"},{"v":0,"d":"0.0"},"","",{"v":0,"d":"0.0"},{"v":0,"d":"0.0000"},"",{"v":0,"d":"0.0000"},{"v":0,"d":"0.0000"},{"v":0,"d":"0.0"},0]
[239,193,{"v":0,"d":"0.0000"},0,{"$nulls":6},0,null,"","",null,{"$f":"'[1]AgeII Fig1'!E245","v":0},{"$f":"'[1]AgeII Fig1'!F245","v":0},{"$f":"'[1]AgeII Fig1'!G245","v":0},{"$f":"'[1]AgeII Fig1'!H245","v":0},{"$f":"'[1]AgeII Fig1'!I245","v":0},{"$f":"'[1]AgeII Fig1'!J245","v":0},{"$f":"'[1]AgeII Fig1'!K245","v":0},{"$f":"'[1]AgeII Fig1'!L245","v":{"v":0,"d":"0.0"}},{"$f":"'[1]AgeII Fig1'!M245","v":{"v":0,"d":"0.0000"}},{"$f":"'[1]AgeII Fig1'!N245","v":0},{"v":0,"d":"0.0"},{"v":0,"d":"0.0"},{"v":0,"d":"0.0"},{"v":0,"d":"0.0"},{"v":0,"d":"0.0"},"","",{"v":0,"d":"0.0"},{"v":0,"d":"0.0000"},"",{"$f":"'[2]AgeII Fig2'!E245","v":0},{"$f":"'[2]AgeII Fig2'!F245","v":0},{"$f":"'[2]AgeII Fig2'!G245","v":0},{"$f":"'[2]AgeII Fig2'!H245","v":0},{"$f":"'[2]AgeII Fig2'!I245","v":0},{"$f":"'[2]AgeII Fig2'!J245","v":0},{"$f":"'[2]AgeII Fig2'!K245","v":0},{"$f":"'[2]AgeII Fig2'!L245","v":{"v":0,"d":"0.0"}},{"$f":"'[2]AgeII Fig2'!M245","v":{"v":0,"d":"0.0000"}},{"$f":"'[2]AgeII Fig2'!N245","v":0},{"v":0,"d":"0.0"},{"v":0,"d":"0.0"},{"v":0,"d":"0.0"},{"v":0,"d":"0.0"},{"v":0,"d":"0.0"},"","",{"v":0,"d":"0.0"},{"v":0,"d":"0.0000"},"",{"$f":"'[3]AgeII Fig3'!E245","v":0},{"$f":"'[3]AgeII Fig3'!F245","v":0},{"$f":"'[3]AgeII Fig3'!G245","v":0},{"$f":"'[3]AgeII Fig3'!H245","v":0},{"$f":"'[3]AgeII Fig3'!I245","v":0},{"$f":"'[3]AgeII Fig3'!J245","v":0},{"$f":"'[3]AgeII Fig3'!K245","v":0},{"$f":"'[3]AgeII Fig3'!L245","v":{"v":0,"d":"0.0"}},{"$f":"'[3]AgeII Fig3'!M245","v":{"v":0,"d":"0.0000"}},{"$f":"'[3]AgeII Fig3'!N245","v":0},{"v":0,"d":"0.0"},{"v":0,"d":"0.0"},{"v":0,"d":"0.0"},{"v":0,"d":"0.0"},{"v":0,"d":"0.0"},"","",{"v":0,"d":"0.0"},{"v":0,"d":"0.0000"},"",{"$f":"'[4]AgeII Fig4'!E245","v":0},{"$f":"'[4]AgeII Fig4'!F245","v":0},{"$f":"'[4]AgeII Fig4'!G245","v":0},{"$f":"'[4]AgeII Fig4'!H245","v":0},{"$f":"'[4]AgeII Fig4'!I245","v":0},{"$f":"'[4]AgeII Fig4'!J245","v":0},{"$f":"'[4]AgeII Fig4'!K245","v":0},{"$f":"'[4]AgeII Fig4'!L245","v":0},{"$f":"'[4]AgeII Fig4'!M245","v":{"v":0,"d":"0.0000"}},{"$f":"'[4]AgeII Fig4'!N245","v":0},{"v":0,"d":"0.0"},{"v":0,"d":"0.0"},{"v":0,"d":"0.0"},{"v":0,"d":"0.0"},{"v":0,"d":"0.0"},"","",{"v":0,"d":"0.0"},{"v":0,"d":"0.0000"},"",{"v":0,"d":"0.0000"},{"v":0,"d":"0.0000"},{"v":0,"d":"0.0"},0]
[240,193,{"v":0,"d":"0.0000"},0,{"$nulls":6},0,null,"","",null,{"$f":"'[1]AgeII Fig1'!E246","v":0},{"$f":"'[1]AgeII Fig1'!F246","v":0},{"$f":"'[1]AgeII Fig1'!G246","v":0},{"$f":"'[1]AgeII Fig1'!H246","v":0},{"$f":"'[1]AgeII Fig1'!I246","v":0},{"$f":"'[1]AgeII Fig1'!J246","v":0},{"$f":"'[1]AgeII Fig1'!K246","v":0},{"$f":"'[1]AgeII Fig1'!L246","v":{"v":0,"d":"0.0"}},{"$f":"'[1]AgeII Fig1'!M246","v":{"v":0,"d":"0.0000"}},{"$f":"'[1]AgeII Fig1'!N246","v":0},{"v":0,"d":"0.0"},{"v":0,"d":"0.0"},{"v":0,"d":"0.0"},{"v":0,"d":"0.0"},{"v":0,"d":"0.0"},"","",{"v":0,"d":"0.0"},{"v":0,"d":"0.0000"},"",{"$f":"'[2]AgeII Fig2'!E246","v":0},{"$f":"'[2]AgeII Fig2'!F246","v":0},{"$f":"'[2]AgeII Fig2'!G246","v":0},{"$f":"'[2]AgeII Fig2'!H246","v":0},{"$f":"'[2]AgeII Fig2'!I246","v":0},{"$f":"'[2]AgeII Fig2'!J246","v":0},{"$f":"'[2]AgeII Fig2'!K246","v":0},{"$f":"'[2]AgeII Fig2'!L246","v":{"v":0,"d":"0.0"}},{"$f":"'[2]AgeII Fig2'!M246","v":{"v":0,"d":"0.0000"}},{"$f":"'[2]AgeII Fig2'!N246","v":0},{"v":0,"d":"0.0"},{"v":0,"d":"0.0"},{"v":0,"d":"0.0"},{"v":0,"d":"0.0"},{"v":0,"d":"0.0"},"","",{"v":0,"d":"0.0"},{"v":0,"d":"0.0000"},"",{"$f":"'[3]AgeII Fig3'!E246","v":0},{"$f":"'[3]AgeII Fig3'!F246","v":0},{"$f":"'[3]AgeII Fig3'!G246","v":0},{"$f":"'[3]AgeII Fig3'!H246","v":0},{"$f":"'[3]AgeII Fig3'!I246","v":0},{"$f":"'[3]AgeII Fig3'!J246","v":0},{"$f":"'[3]AgeII Fig3'!K246","v":0},{"$f":"'[3]AgeII Fig3'!L246","v":{"v":0,"d":"0.0"}},{"$f":"'[3]AgeII Fig3'!M246","v":{"v":0,"d":"0.0000"}},{"$f":"'[3]AgeII Fig3'!N246","v":0},{"v":0,"d":"0.0"},{"v":0,"d":"0.0"},{"v":0,"d":"0.0"},{"v":0,"d":"0.0"},{"v":0,"d":"0.0"},"","",{"v":0,"d":"0.0"},{"v":0,"d":"0.0000"},"",{"$f":"'[4]AgeII Fig4'!E246","v":0},{"$f":"'[4]AgeII Fig4'!F246","v":0},{"$f":"'[4]AgeII Fig4'!G246","v":0},{"$f":"'[4]AgeII Fig4'!H246","v":0},{"$f":"'[4]AgeII Fig4'!I246","v":0},{"$f":"'[4]AgeII Fig4'!J246","v":0},{"$f":"'[4]AgeII Fig4'!K246","v":0},{"$f":"'[4]AgeII Fig4'!L246","v":0},{"$f":"'[4]AgeII Fig4'!M246","v":{"v":0,"d":"0.0000"}},{"$f":"'[4]AgeII Fig4'!N246","v":0},{"v":0,"d":"0.0"},{"v":0,"d":"0.0"},{"v":0,"d":"0.0"},{"v":0,"d":"0.0"},{"v":0,"d":"0.0"},"","",{"v":0,"d":"0.0"},{"v":0,"d":"0.0000"},"",{"v":0,"d":"0.0000"},{"v":0,"d":"0.0000"},{"v":0,"d":"0.0"},0]
[241,193,{"v":0,"d":"0.0000"},0,{"$nulls":6},0,null,"","",null,{"$f":"'[1]AgeII Fig1'!E247","v":0},{"$f":"'[1]AgeII Fig1'!F247","v":0},{"$f":"'[1]AgeII Fig1'!G247","v":0},{"$f":"'[1]AgeII Fig1'!H247","v":0},{"$f":"'[1]AgeII Fig1'!I247","v":0},{"$f":"'[1]AgeII Fig1'!J247","v":0},{"$f":"'[1]AgeII Fig1'!K247","v":0},{"$f":"'[1]AgeII Fig1'!L247","v":{"v":0,"d":"0.0"}},{"$f":"'[1]AgeII Fig1'!M247","v":{"v":0,"d":"0.0000"}},{"$f":"'[1]AgeII Fig1'!N247","v":0},{"v":0,"d":"0.0"},{"v":0,"d":"0.0"},{"v":0,"d":"0.0"},{"v":0,"d":"0.0"},{"v":0,"d":"0.0"},"","",{"v":0,"d":"0.0"},{"v":0,"d":"0.0000"},"",{"$f":"'[2]AgeII Fig2'!E247","v":0},{"$f":"'[2]AgeII Fig2'!F247","v":0},{"$f":"'[2]AgeII Fig2'!G247","v":0},{"$f":"'[2]AgeII Fig2'!H247","v":0},{"$f":"'[2]AgeII Fig2'!I247","v":0},{"$f":"'[2]AgeII Fig2'!J247","v":0},{"$f":"'[2]AgeII Fig2'!K247","v":0},{"$f":"'[2]AgeII Fig2'!L247","v":{"v":0,"d":"0.0"}},{"$f":"'[2]AgeII Fig2'!M247","v":{"v":0,"d":"0.0000"}},{"$f":"'[2]AgeII Fig2'!N247","v":0},{"v":0,"d":"0.0"},{"v":0,"d":"0.0"},{"v":0,"d":"0.0"},{"v":0,"d":"0.0"},{"v":0,"d":"0.0"},"","",{"v":0,"d":"0.0"},{"v":0,"d":"0.0000"},"",{"$f":"'[3]AgeII Fig3'!E247","v":0},{"$f":"'[3]AgeII Fig3'!F247","v":0},{"$f":"'[3]AgeII Fig3'!G247","v":0},{"$f":"'[3]AgeII Fig3'!H247","v":0},{"$f":"'[3]AgeII Fig3'!I247","v":0},{"$f":"'[3]AgeII Fig3'!J247","v":0},{"$f":"'[3]AgeII Fig3'!K247","v":0},{"$f":"'[3]AgeII Fig3'!L247","v":{"v":0,"d":"0.0"}},{"$f":"'[3]AgeII Fig3'!M247","v":{"v":0,"d":"0.0000"}},{"$f":"'[3]AgeII Fig3'!N247","v":0},{"v":0,"d":"0.0"},{"v":0,"d":"0.0"},{"v":0,"d":"0.0"},{"v":0,"d":"0.0"},{"v":0,"d":"0.0"},"","",{"v":0,"d":"0.0"},{"v":0,"d":"0.0000"},"",{"$f":"'[4]AgeII Fig4'!E247","v":0},{"$f":"'[4]AgeII Fig4'!F247","v":0},{"$f":"'[4]AgeII Fig4'!G247","v":0},{"$f":"'[4]AgeII Fig4'!H247","v":0},{"$f":"'[4]AgeII Fig4'!I247","v":0},{"$f":"'[4]AgeII Fig4'!J247","v":0},{"$f":"'[4]AgeII Fig4'!K247","v":0},{"$f":"'[4]AgeII Fig4'!L247","v":0},{"$f":"'[4]AgeII Fig4'!M247","v":{"v":0,"d":"0.0000"}},{"$f":"'[4]AgeII Fig4'!N247","v":0},{"v":0,"d":"0.0"},{"v":0,"d":"0.0"},{"v":0,"d":"0.0"},{"v":0,"d":"0.0"},{"v":0,"d":"0.0"},"","",{"v":0,"d":"0.0"},{"v":0,"d":"0.0000"},"",{"v":0,"d":"0.0000"},{"v":0,"d":"0.0000"},{"v":0,"d":"0.0"},0]
[242,193,{"v":0,"d":"0.0000"},0,{"$nulls":6},0,null,"","",null,{"$f":"'[1]AgeII Fig1'!E248","v":0},{"$f":"'[1]AgeII Fig1'!F248","v":0},{"$f":"'[1]AgeII Fig1'!G248","v":0},{"$f":"'[1]AgeII Fig1'!H248","v":0},{"$f":"'[1]AgeII Fig1'!I248","v":0},{"$f":"'[1]AgeII Fig1'!J248","v":0},{"$f":"'[1]AgeII Fig1'!K248","v":0},{"$f":"'[1]AgeII Fig1'!L248","v":{"v":0,"d":"0.0"}},{"$f":"'[1]AgeII Fig1'!M248","v":{"v":0,"d":"0.0000"}},{"$f":"'[1]AgeII Fig1'!N248","v":0},{"v":0,"d":"0.0"},{"v":0,"d":"0.0"},{"v":0,"d":"0.0"},{"v":0,"d":"0.0"},{"v":0,"d":"0.0"},"","",{"v":0,"d":"0.0"},{"v":0,"d":"0.0000"},"",{"$f":"'[2]AgeII Fig2'!E248","v":0},{"$f":"'[2]AgeII Fig2'!F248","v":0},{"$f":"'[2]AgeII Fig2'!G248","v":0},{"$f":"'[2]AgeII Fig2'!H248","v":0},{"$f":"'[2]AgeII Fig2'!I248","v":0},{"$f":"'[2]AgeII Fig2'!J248","v":0},{"$f":"'[2]AgeII Fig2'!K248","v":0},{"$f":"'[2]AgeII Fig2'!L248","v":{"v":0,"d":"0.0"}},{"$f":"'[2]AgeII Fig2'!M248","v":{"v":0,"d":"0.0000"}},{"$f":"'[2]AgeII Fig2'!N248","v":0},{"v":0,"d":"0.0"},{"v":0,"d":"0.0"},{"v":0,"d":"0.0"},{"v":0,"d":"0.0"},{"v":0,"d":"0.0"},"","",{"v":0,"d":"0.0"},{"v":0,"d":"0.0000"},"",{"$f":"'[3]AgeII Fig3'!E248","v":0},{"$f":"'[3]AgeII Fig3'!F248","v":0},{"$f":"'[3]AgeII Fig3'!G248","v":0},{"$f":"'[3]AgeII Fig3'!H248","v":0},{"$f":"'[3]AgeII Fig3'!I248","v":0},{"$f":"'[3]AgeII Fig3'!J248","v":0},{"$f":"'[3]AgeII Fig3'!K248","v":0},{"$f":"'[3]AgeII Fig3'!L248","v":{"v":0,"d":"0.0"}},{"$f":"'[3]AgeII Fig3'!M248","v":{"v":0,"d":"0.0000"}},{"$f":"'[3]AgeII Fig3'!N248","v":0},{"v":0,"d":"0.0"},{"v":0,"d":"0.0"},{"v":0,"d":"0.0"},{"v":0,"d":"0.0"},{"v":0,"d":"0.0"},"","",{"v":0,"d":"0.0"},{"v":0,"d":"0.0000"},"",{"$f":"'[4]AgeII Fig4'!E248","v":0},{"$f":"'[4]AgeII Fig4'!F248","v":0},{"$f":"'[4]AgeII Fig4'!G248","v":0},{"$f":"'[4]AgeII Fig4'!H248","v":0},{"$f":"'[4]AgeII Fig4'!I248","v":0},{"$f":"'[4]AgeII Fig4'!J248","v":0},{"$f":"'[4]AgeII Fig4'!K248","v":0},{"$f":"'[4]AgeII Fig4'!L248","v":0},{"$f":"'[4]AgeII Fig4'!M248","v":{"v":0,"d":"0.0000"}},{"$f":"'[4]AgeII Fig4'!N248","v":0},{"v":0,"d":"0.0"},{"v":0,"d":"0.0"},{"v":0,"d":"0.0"},{"v":0,"d":"0.0"},{"v":0,"d":"0.0"},"","",{"v":0,"d":"0.0"},{"v":0,"d":"0.0000"},"",{"v":0,"d":"0.0000"},{"v":0,"d":"0.0000"},{"v":0,"d":"0.0"},0]
[243,193,{"v":0,"d":"0.0000"},0,{"$nulls":6},0,null,"","",null,{"$f":"'[1]AgeII Fig1'!E249","v":0},{"$f":"'[1]AgeII Fig1'!F249","v":0},{"$f":"'[1]AgeII Fig1'!G249","v":0},{"$f":"'[1]AgeII Fig1'!H249","v":0},{"$f":"'[1]AgeII Fig1'!I249","v":0},{"$f":"'[1]AgeII Fig1'!J249","v":0},{"$f":"'[1]AgeII Fig1'!K249","v":0},{"$f":"'[1]AgeII Fig1'!L249","v":{"v":0,"d":"0.0"}},{"$f":"'[1]AgeII Fig1'!M249","v":{"v":0,"d":"0.0000"}},{"$f":"'[1]AgeII Fig1'!N249","v":0},{"v":0,"d":"0.0"},{"v":0,"d":"0.0"},{"v":0,"d":"0.0"},{"v":0,"d":"0.0"},{"v":0,"d":"0.0"},"","",{"v":0,"d":"0.0"},{"v":0,"d":"0.0000"},"",{"$f":"'[2]AgeII Fig2'!E249","v":0},{"$f":"'[2]AgeII Fig2'!F249","v":0},{"$f":"'[2]AgeII Fig2'!G249","v":0},{"$f":"'[2]AgeII Fig2'!H249","v":0},{"$f":"'[2]AgeII Fig2'!I249","v":0},{"$f":"'[2]AgeII Fig2'!J249","v":0},{"$f":"'[2]AgeII Fig2'!K249","v":0},{"$f":"'[2]AgeII Fig2'!L249","v":{"v":0,"d":"0.0"}},{"$f":"'[2]AgeII Fig2'!M249","v":{"v":0,"d":"0.0000"}},{"$f":"'[2]AgeII Fig2'!N249","v":0},{"v":0,"d":"0.0"},{"v":0,"d":"0.0"},{"v":0,"d":"0.0"},{"v":0,"d":"0.0"},{"v":0,"d":"0.0"},"","",{"v":0,"d":"0.0"},{"v":0,"d":"0.0000"},"",{"$f":"'[3]AgeII Fig3'!E249","v":0},{"$f":"'[3]AgeII Fig3'!F249","v":0},{"$f":"'[3]AgeII Fig3'!G249","v":0},{"$f":"'[3]AgeII Fig3'!H249","v":0},{"$f":"'[3]AgeII Fig3'!I249","v":0},{"$f":"'[3]AgeII Fig3'!J249","v":0},{"$f":"'[3]AgeII Fig3'!K249","v":0},{"$f":"'[3]AgeII Fig3'!L249","v":{"v":0,"d":"0.0"}},{"$f":"'[3]AgeII Fig3'!M249","v":{"v":0,"d":"0.0000"}},{"$f":"'[3]AgeII Fig3'!N249","v":0},{"v":0,"d":"0.0"},{"v":0,"d":"0.0"},{"v":0,"d":"0.0"},{"v":0,"d":"0.0"},{"v":0,"d":"0.0"},"","",{"v":0,"d":"0.0"},{"v":0,"d":"0.0000"},"",{"$f":"'[4]AgeII Fig4'!E249","v":0},{"$f":"'[4]AgeII Fig4'!F249","v":0},{"$f":"'[4]AgeII Fig4'!G249","v":0},{"$f":"'[4]AgeII Fig4'!H249","v":0},{"$f":"'[4]AgeII Fig4'!I249","v":0},{"$f":"'[4]AgeII Fig4'!J249","v":0},{"$f":"'[4]AgeII Fig4'!K249","v":0},{"$f":"'[4]AgeII Fig4'!L249","v":0},{"$f":"'[4]AgeII Fig4'!M249","v":{"v":0,"d":"0.0000"}},{"$f":"'[4]AgeII Fig4'!N249","v":0},{"v":0,"d":"0.0"},{"v":0,"d":"0.0"},{"v":0,"d":"0.0"},{"v":0,"d":"0.0"},{"v":0,"d":"0.0"},"","",{"v":0,"d":"0.0"},{"v":0,"d":"0.0000"},"",{"v":0,"d":"0.0000"},{"v":0,"d":"0.0000"},{"v":0,"d":"0.0"},0]
[244,193,{"v":0,"d":"0.0000"},0,{"$nulls":6},0,null,"","",null,{"$f":"'[1]AgeII Fig1'!E250","v":0},{"$f":"'[1]AgeII Fig1'!F250","v":0},{"$f":"'[1]AgeII Fig1'!G250","v":0},{"$f":"'[1]AgeII Fig1'!H250","v":0},{"$f":"'[1]AgeII Fig1'!I250","v":0},{"$f":"'[1]AgeII Fig1'!J250","v":0},{"$f":"'[1]AgeII Fig1'!K250","v":0},{"$f":"'[1]AgeII Fig1'!L250","v":{"v":0,"d":"0.0"}},{"$f":"'[1]AgeII Fig1'!M250","v":{"v":0,"d":"0.0000"}},{"$f":"'[1]AgeII Fig1'!N250","v":0},{"v":0,"d":"0.0"},{"v":0,"d":"0.0"},{"v":0,"d":"0.0"},{"v":0,"d":"0.0"},{"v":0,"d":"0.0"},"","",{"v":0,"d":"0.0"},{"v":0,"d":"0.0000"},"",{"$f":"'[2]AgeII Fig2'!E250","v":0},{"$f":"'[2]AgeII Fig2'!F250","v":0},{"$f":"'[2]AgeII Fig2'!G250","v":0},{"$f":"'[2]AgeII Fig2'!H250","v":0},{"$f":"'[2]AgeII Fig2'!I250","v":0},{"$f":"'[2]AgeII Fig2'!J250","v":0},{"$f":"'[2]AgeII Fig2'!K250","v":0},{"$f":"'[2]AgeII Fig2'!L250","v":{"v":0,"d":"0.0"}},{"$f":"'[2]AgeII Fig2'!M250","v":{"v":0,"d":"0.0000"}},{"$f":"'[2]AgeII Fig2'!N250","v":0},{"v":0,"d":"0.0"},{"v":0,"d":"0.0"},{"v":0,"d":"0.0"},{"v":0,"d":"0.0"},{"v":0,"d":"0.0"},"","",{"v":0,"d":"0.0"},{"v":0,"d":"0.0000"},"",{"$f":"'[3]AgeII Fig3'!E250","v":0},{"$f":"'[3]AgeII Fig3'!F250","v":0},{"$f":"'[3]AgeII Fig3'!G250","v":0},{"$f":"'[3]AgeII Fig3'!H250","v":0},{"$f":"'[3]AgeII Fig3'!I250","v":0},{"$f":"'[3]AgeII Fig3'!J250","v":0},{"$f":"'[3]AgeII Fig3'!K250","v":0},{"$f":"'[3]AgeII Fig3'!L250","v":{"v":0,"d":"0.0"}},{"$f":"'[3]AgeII Fig3'!M250","v":{"v":0,"d":"0.0000"}},{"$f":"'[3]AgeII Fig3'!N250","v":0},{"v":0,"d":"0.0"},{"v":0,"d":"0.0"},{"v":0,"d":"0.0"},{"v":0,"d":"0.0"},{"v":0,"d":"0.0"},"","",{"v":0,"d":"0.0"},{"v":0,"d":"0.0000"},"",{"$f":"'[4]AgeII Fig4'!E250","v":0},{"$f":"'[4]AgeII Fig4'!F250","v":0},{"$f":"'[4]AgeII Fig4'!G250","v":0},{"$f":"'[4]AgeII Fig4'!H250","v":0},{"$f":"'[4]AgeII Fig4'!I250","v":0},{"$f":"'[4]AgeII Fig4'!J250","v":0},{"$f":"'[4]AgeII Fig4'!K250","v":0},{"$f":"'[4]AgeII Fig4'!L250","v":0},{"$f":"'[4]AgeII Fig4'!M250","v":{"v":0,"d":"0.0000"}},{"$f":"'[4]AgeII Fig4'!N250","v":0},{"v":0,"d":"0.0"},{"v":0,"d":"0.0"},{"v":0,"d":"0.0"},{"v":0,"d":"0.0"},{"v":0,"d":"0.0"},"","",{"v":0,"d":"0.0"},{"v":0,"d":"0.0000"},"",{"v":0,"d":"0.0000"},{"v":0,"d":"0.0000"},{"v":0,"d":"0.0"},0]
[245,193,{"v":0,"d":"0.0000"},0,{"$nulls":6},0,null,"","",null,{"$f":"'[1]AgeII Fig1'!E251","v":0},{"$f":"'[1]AgeII Fig1'!F251","v":0},{"$f":"'[1]AgeII Fig1'!G251","v":0},{"$f":"'[1]AgeII Fig1'!H251","v":0},{"$f":"'[1]AgeII Fig1'!I251","v":0},{"$f":"'[1]AgeII Fig1'!J251","v":0},{"$f":"'[1]AgeII Fig1'!K251","v":0},{"$f":"'[1]AgeII Fig1'!L251","v":{"v":0,"d":"0.0"}},{"$f":"'[1]AgeII Fig1'!M251","v":{"v":0,"d":"0.0000"}},{"$f":"'[1]AgeII Fig1'!N251","v":0},{"v":0,"d":"0.0"},{"v":0,"d":"0.0"},{"v":0,"d":"0.0"},{"v":0,"d":"0.0"},{"v":0,"d":"0.0"},"","",{"v":0,"d":"0.0"},{"v":0,"d":"0.0000"},"",{"$f":"'[2]AgeII Fig2'!E251","v":0},{"$f":"'[2]AgeII Fig2'!F251","v":0},{"$f":"'[2]AgeII Fig2'!G251","v":0},{"$f":"'[2]AgeII Fig2'!H251","v":0},{"$f":"'[2]AgeII Fig2'!I251","v":0},{"$f":"'[2]AgeII Fig2'!J251","v":0},{"$f":"'[2]AgeII Fig2'!K251","v":0},{"$f":"'[2]AgeII Fig2'!L251","v":{"v":0,"d":"0.0"}},{"$f":"'[2]AgeII Fig2'!M251","v":{"v":0,"d":"0.0000"}},{"$f":"'[2]AgeII Fig2'!N251","v":0},{"v":0,"d":"0.0"},{"v":0,"d":"0.0"},{"v":0,"d":"0.0"},{"v":0,"d":"0.0"},{"v":0,"d":"0.0"},"","",{"v":0,"d":"0.0"},{"v":0,"d":"0.0000"},"",{"$f":"'[3]AgeII Fig3'!E251","v":0},{"$f":"'[3]AgeII Fig3'!F251","v":0},{"$f":"'[3]AgeII Fig3'!G251","v":0},{"$f":"'[3]AgeII Fig3'!H251","v":0},{"$f":"'[3]AgeII Fig3'!I251","v":0},{"$f":"'[3]AgeII Fig3'!J251","v":0},{"$f":"'[3]AgeII Fig3'!K251","v":0},{"$f":"'[3]AgeII Fig3'!L251","v":{"v":0,"d":"0.0"}},{"$f":"'[3]AgeII Fig3'!M251","v":{"v":0,"d":"0.0000"}},{"$f":"'[3]AgeII Fig3'!N251","v":0},{"v":0,"d":"0.0"},{"v":0,"d":"0.0"},{"v":0,"d":"0.0"},{"v":0,"d":"0.0"},{"v":0,"d":"0.0"},"","",{"v":0,"d":"0.0"},{"v":0,"d":"0.0000"},"",{"$f":"'[4]AgeII Fig4'!E251","v":0},{"$f":"'[4]AgeII Fig4'!F251","v":0},{"$f":"'[4]AgeII Fig4'!G251","v":0},{"$f":"'[4]AgeII Fig4'!H251","v":0},{"$f":"'[4]AgeII Fig4'!I251","v":0},{"$f":"'[4]AgeII Fig4'!J251","v":0},{"$f":"'[4]AgeII Fig4'!K251","v":0},{"$f":"'[4]AgeII Fig4'!L251","v":0},{"$f":"'[4]AgeII Fig4'!M251","v":{"v":0,"d":"0.0000"}},{"$f":"'[4]AgeII Fig4'!N251","v":0},{"v":0,"d":"0.0"},{"v":0,"d":"0.0"},{"v":0,"d":"0.0"},{"v":0,"d":"0.0"},{"v":0,"d":"0.0"},"","",{"v":0,"d":"0.0"},{"v":0,"d":"0.0000"},"",{"v":0,"d":"0.0000"},{"v":0,"d":"0.0000"},{"v":0,"d":"0.0"},0]
[246,193,{"v":0,"d":"0.0000"},0,{"$nulls":6},0,null,"","",null,{"$f":"'[1]AgeII Fig1'!E252","v":0},{"$f":"'[1]AgeII Fig1'!F252","v":0},{"$f":"'[1]AgeII Fig1'!G252","v":0},{"$f":"'[1]AgeII Fig1'!H252","v":0},{"$f":"'[1]AgeII Fig1'!I252","v":0},{"$f":"'[1]AgeII Fig1'!J252","v":0},{"$f":"'[1]AgeII Fig1'!K252","v":0},{"$f":"'[1]AgeII Fig1'!L252","v":{"v":0,"d":"0.0"}},{"$f":"'[1]AgeII Fig1'!M252","v":{"v":0,"d":"0.0000"}},{"$f":"'[1]AgeII Fig1'!N252","v":0},{"v":0,"d":"0.0"},{"v":0,"d":"0.0"},{"v":0,"d":"0.0"},{"v":0,"d":"0.0"},{"v":0,"d":"0.0"},"","",{"v":0,"d":"0.0"},{"v":0,"d":"0.0000"},"",{"$f":"'[2]AgeII Fig2'!E252","v":0},{"$f":"'[2]AgeII Fig2'!F252","v":0},{"$f":"'[2]AgeII Fig2'!G252","v":0},{"$f":"'[2]AgeII Fig2'!H252","v":0},{"$f":"'[2]AgeII Fig2'!I252","v":0},{"$f":"'[2]AgeII Fig2'!J252","v":0},{"$f":"'[2]AgeII Fig2'!K252","v":0},{"$f":"'[2]AgeII Fig2'!L252","v":{"v":0,"d":"0.0"}},{"$f":"'[2]AgeII Fig2'!M252","v":{"v":0,"d":"0.0000"}},{"$f":"'[2]AgeII Fig2'!N252","v":0},{"v":0,"d":"0.0"},{"v":0,"d":"0.0"},{"v":0,"d":"0.0"},{"v":0,"d":"0.0"},{"v":0,"d":"0.0"},"","",{"v":0,"d":"0.0"},{"v":0,"d":"0.0000"},"",{"$f":"'[3]AgeII Fig3'!E252","v":0},{"$f":"'[3]AgeII Fig3'!F252","v":0},{"$f":"'[3]AgeII Fig3'!G252","v":0},{"$f":"'[3]AgeII Fig3'!H252","v":0},{"$f":"'[3]AgeII Fig3'!I252","v":0},{"$f":"'[3]AgeII Fig3'!J252","v":0},{"$f":"'[3]AgeII Fig3'!K252","v":0},{"$f":"'[3]AgeII Fig3'!L252","v":{"v":0,"d":"0.0"}},{"$f":"'[3]AgeII Fig3'!M252","v":{"v":0,"d":"0.0000"}},{"$f":"'[3]AgeII Fig3'!N252","v":0},{"v":0,"d":"0.0"},{"v":0,"d":"0.0"},{"v":0,"d":"0.0"},{"v":0,"d":"0.0"},{"v":0,"d":"0.0"},"","",{"v":0,"d":"0.0"},{"v":0,"d":"0.0000"},"",{"$f":"'[4]AgeII Fig4'!E252","v":0},{"$f":"'[4]AgeII Fig4'!F252","v":0},{"$f":"'[4]AgeII Fig4'!G252","v":0},{"$f":"'[4]AgeII Fig4'!H252","v":0},{"$f":"'[4]AgeII Fig4'!I252","v":0},{"$f":"'[4]AgeII Fig4'!J252","v":0},{"$f":"'[4]AgeII Fig4'!K252","v":0},{"$f":"'[4]AgeII Fig4'!L252","v":0},{"$f":"'[4]AgeII Fig4'!M252","v":{"v":0,"d":"0.0000"}},{"$f":"'[4]AgeII Fig4'!N252","v":0},{"v":0,"d":"0.0"},{"v":0,"d":"0.0"},{"v":0,"d":"0.0"},{"v":0,"d":"0.0"},{"v":0,"d":"0.0"},"","",{"v":0,"d":"0.0"},{"v":0,"d":"0.0000"},"",{"v":0,"d":"0.0000"},{"v":0,"d":"0.0000"},{"v":0,"d":"0.0"},0]
[247,193,{"v":0,"d":"0.0000"},0,{"$nulls":6},0,null,"","",null,{"$f":"'[1]AgeII Fig1'!E253","v":0},{"$f":"'[1]AgeII Fig1'!F253","v":0},{"$f":"'[1]AgeII Fig1'!G253","v":0},{"$f":"'[1]AgeII Fig1'!H253","v":0},{"$f":"'[1]AgeII Fig1'!I253","v":0},{"$f":"'[1]AgeII Fig1'!J253","v":0},{"$f":"'[1]AgeII Fig1'!K253","v":0},{"$f":"'[1]AgeII Fig1'!L253","v":{"v":0,"d":"0.0"}},{"$f":"'[1]AgeII Fig1'!M253","v":{"v":0,"d":"0.0000"}},{"$f":"'[1]AgeII Fig1'!N253","v":0},{"v":0,"d":"0.0"},{"v":0,"d":"0.0"},{"v":0,"d":"0.0"},{"v":0,"d":"0.0"},{"v":0,"d":"0.0"},"","",{"v":0,"d":"0.0"},{"v":0,"d":"0.0000"},"",{"$f":"'[2]AgeII Fig2'!E253","v":0},{"$f":"'[2]AgeII Fig2'!F253","v":0},{"$f":"'[2]AgeII Fig2'!G253","v":0},{"$f":"'[2]AgeII Fig2'!H253","v":0},{"$f":"'[2]AgeII Fig2'!I253","v":0},{"$f":"'[2]AgeII Fig2'!J253","v":0},{"$f":"'[2]AgeII Fig2'!K253","v":0},{"$f":"'[2]AgeII Fig2'!L253","v":{"v":0,"d":"0.0"}},{"$f":"'[2]AgeII Fig2'!M253","v":{"v":0,"d":"0.0000"}},{"$f":"'[2]AgeII Fig2'!N253","v":0},{"v":0,"d":"0.0"},{"v":0,"d":"0.0"},{"v":0,"d":"0.0"},{"v":0,"d":"0.0"},{"v":0,"d":"0.0"},"","",{"v":0,"d":"0.0"},{"v":0,"d":"0.0000"},"",{"$f":"'[3]AgeII Fig3'!E253","v":0},{"$f":"'[3]AgeII Fig3'!F253","v":0},{"$f":"'[3]AgeII Fig3'!G253","v":0},{"$f":"'[3]AgeII Fig3'!H253","v":0},{"$f":"'[3]AgeII Fig3'!I253","v":0},{"$f":"'[3]AgeII Fig3'!J253","v":0},{"$f":"'[3]AgeII Fig3'!K253","v":0},{"$f":"'[3]AgeII Fig3'!L253","v":{"v":0,"d":"0.0"}},{"$f":"'[3]AgeII Fig3'!M253","v":{"v":0,"d":"0.0000"}},{"$f":"'[3]AgeII Fig3'!N253","v":0},{"v":0,"d":"0.0"},{"v":0,"d":"0.0"},{"v":0,"d":"0.0"},{"v":0,"d":"0.0"},{"v":0,"d":"0.0"},"","",{"v":0,"d":"0.0"},{"v":0,"d":"0.0000"},"",{"$f":"'[4]AgeII Fig4'!E253","v":0},{"$f":"'[4]AgeII Fig4'!F253","v":0},{"$f":"'[4]AgeII Fig4'!G253","v":0},{"$f":"'[4]AgeII Fig4'!H253","v":0},{"$f":"'[4]AgeII Fig4'!I253","v":0},{"$f":"'[4]AgeII Fig4'!J253","v":0},{"$f":"'[4]AgeII Fig4'!K253","v":0},{"$f":"'[4]AgeII Fig4'!L253","v":0},{"$f":"'[4]AgeII Fig4'!M253","v":{"v":0,"d":"0.0000"}},{"$f":"'[4]AgeII Fig4'!N253","v":0},{"v":0,"d":"0.0"},{"v":0,"d":"0.0"},{"v":0,"d":"0.0"},{"v":0,"d":"0.0"},{"v":0,"d":"0.0"},"","",{"v":0,"d":"0.0"},{"v":0,"d":"0.0000"},"",{"v":0,"d":"0.0000"},{"v":0,"d":"0.0000"},{"v":0,"d":"0.0"},0]
[248,193,{"v":0,"d":"0.0000"},0,{"$nulls":6},0,null,"","",null,{"$f":"'[1]AgeII Fig1'!E254","v":0},{"$f":"'[1]AgeII Fig1'!F254","v":0},{"$f":"'[1]AgeII Fig1'!G254","v":0},{"$f":"'[1]AgeII Fig1'!H254","v":0},{"$f":"'[1]AgeII Fig1'!I254","v":0},{"$f":"'[1]AgeII Fig1'!J254","v":0},{"$f":"'[1]AgeII Fig1'!K254","v":0},{"$f":"'[1]AgeII Fig1'!L254","v":{"v":0,"d":"0.0"}},{"$f":"'[1]AgeII Fig1'!M254","v":{"v":0,"d":"0.0000"}},{"$f":"'[1]AgeII Fig1'!N254","v":0},{"v":0,"d":"0.0"},{"v":0,"d":"0.0"},{"v":0,"d":"0.0"},{"v":0,"d":"0.0"},{"v":0,"d":"0.0"},"","",{"v":0,"d":"0.0"},{"v":0,"d":"0.0000"},"",{"$f":"'[2]AgeII Fig2'!E254","v":0},{"$f":"'[2]AgeII Fig2'!F254","v":0},{"$f":"'[2]AgeII Fig2'!G254","v":0},{"$f":"'[2]AgeII Fig2'!H254","v":0},{"$f":"'[2]AgeII Fig2'!I254","v":0},{"$f":"'[2]AgeII Fig2'!J254","v":0},{"$f":"'[2]AgeII Fig2'!K254","v":0},{"$f":"'[2]AgeII Fig2'!L254","v":{"v":0,"d":"0.0"}},{"$f":"'[2]AgeII Fig2'!M254","v":{"v":0,"d":"0.0000"}},{"$f":"'[2]AgeII Fig2'!N254","v":0},{"v":0,"d":"0.0"},{"v":0,"d":"0.0"},{"v":0,"d":"0.0"},{"v":0,"d":"0.0"},{"v":0,"d":"0.0"},"","",{"v":0,"d":"0.0"},{"v":0,"d":"0.0000"},"",{"$f":"'[3]AgeII Fig3'!E254","v":0},{"$f":"'[3]AgeII Fig3'!F254","v":0},{"$f":"'[3]AgeII Fig3'!G254","v":0},{"$f":"'[3]AgeII Fig3'!H254","v":0},{"$f":"'[3]AgeII Fig3'!I254","v":0},{"$f":"'[3]AgeII Fig3'!J254","v":0},{"$f":"'[3]AgeII Fig3'!K254","v":0},{"$f":"'[3]AgeII Fig3'!L254","v":{"v":0,"d":"0.0"}},{"$f":"'[3]AgeII Fig3'!M254","v":{"v":0,"d":"0.0000"}},{"$f":"'[3]AgeII Fig3'!N254","v":0},{"v":0,"d":"0.0"},{"v":0,"d":"0.0"},{"v":0,"d":"0.0"},{"v":0,"d":"0.0"},{"v":0,"d":"0.0"},"","",{"v":0,"d":"0.0"},{"v":0,"d":"0.0000"},"",{"$f":"'[4]AgeII Fig4'!E254","v":0},{"$f":"'[4]AgeII Fig4'!F254","v":0},{"$f":"'[4]AgeII Fig4'!G254","v":0},{"$f":"'[4]AgeII Fig4'!H254","v":0},{"$f":"'[4]AgeII Fig4'!I254","v":0},{"$f":"'[4]AgeII Fig4'!J254","v":0},{"$f":"'[4]AgeII Fig4'!K254","v":0},{"$f":"'[4]AgeII Fig4'!L254","v":0},{"$f":"'[4]AgeII Fig4'!M254","v":{"v":0,"d":"0.0000"}},{"$f":"'[4]AgeII Fig4'!N254","v":0},{"v":0,"d":"0.0"},{"v":0,"d":"0.0"},{"v":0,"d":"0.0"},{"v":0,"d":"0.0"},{"v":0,"d":"0.0"},"","",{"v":0,"d":"0.0"},{"v":0,"d":"0.0000"},"",{"v":0,"d":"0.0000"},{"v":0,"d":"0.0000"},{"v":0,"d":"0.0"},0]
[249,193,{"v":0,"d":"0.0000"},0,{"$nulls":6},0,null,"","",null,{"$f":"'[1]AgeII Fig1'!E255","v":0},{"$f":"'[1]AgeII Fig1'!F255","v":0},{"$f":"'[1]AgeII Fig1'!G255","v":0},{"$f":"'[1]AgeII Fig1'!H255","v":0},{"$f":"'[1]AgeII Fig1'!I255","v":0},{"$f":"'[1]AgeII Fig1'!J255","v":0},{"$f":"'[1]AgeII Fig1'!K255","v":0},{"$f":"'[1]AgeII Fig1'!L255","v":{"v":0,"d":"0.0"}},{"$f":"'[1]AgeII Fig1'!M255","v":{"v":0,"d":"0.0000"}},{"$f":"'[1]AgeII Fig1'!N255","v":0},{"v":0,"d":"0.0"},{"v":0,"d":"0.0"},{"v":0,"d":"0.0"},{"v":0,"d":"0.0"},{"v":0,"d":"0.0"},"","",{"v":0,"d":"0.0"},{"v":0,"d":"0.0000"},"",{"$f":"'[2]AgeII Fig2'!E255","v":0},{"$f":"'[2]AgeII Fig2'!F255","v":0},{"$f":"'[2]AgeII Fig2'!G255","v":0},{"$f":"'[2]AgeII Fig2'!H255","v":0},{"$f":"'[2]AgeII Fig2'!I255","v":0},{"$f":"'[2]AgeII Fig2'!J255","v":0},{"$f":"'[2]AgeII Fig2'!K255","v":0},{"$f":"'[2]AgeII Fig2'!L255","v":{"v":0,"d":"0.0"}},{"$f":"'[2]AgeII Fig2'!M255","v":{"v":0,"d":"0.0000"}},{"$f":"'[2]AgeII Fig2'!N255","v":0},{"v":0,"d":"0.0"},{"v":0,"d":"0.0"},{"v":0,"d":"0.0"},{"v":0,"d":"0.0"},{"v":0,"d":"0.0"},"","",{"v":0,"d":"0.0"},{"v":0,"d":"0.0000"},"",{"$f":"'[3]AgeII Fig3'!E255","v":0},{"$f":"'[3]AgeII Fig3'!F255","v":0},{"$f":"'[3]AgeII Fig3'!G255","v":0},{"$f":"'[3]AgeII Fig3'!H255","v":0},{"$f":"'[3]AgeII Fig3'!I255","v":0},{"$f":"'[3]AgeII Fig3'!J255","v":0},{"$f":"'[3]AgeII Fig3'!K255","v":0},{"$f":"'[3]AgeII Fig3'!L255","v":{"v":0,"d":"0.0"}},{"$f":"'[3]AgeII Fig3'!M255","v":{"v":0,"d":"0.0000"}},{"$f":"'[3]AgeII Fig3'!N255","v":0},{"v":0,"d":"0.0"},{"v":0,"d":"0.0"},{"v":0,"d":"0.0"},{"v":0,"d":"0.0"},{"v":0,"d":"0.0"},"","",{"v":0,"d":"0.0"},{"v":0,"d":"0.0000"},"",{"$f":"'[4]AgeII Fig4'!E255","v":0},{"$f":"'[4]AgeII Fig4'!F255","v":0},{"$f":"'[4]AgeII Fig4'!G255","v":0},{"$f":"'[4]AgeII Fig4'!H255","v":0},{"$f":"'[4]AgeII Fig4'!I255","v":0},{"$f":"'[4]AgeII Fig4'!J255","v":0},{"$f":"'[4]AgeII Fig4'!K255","v":0},{"$f":"'[4]AgeII Fig4'!L255","v":0},{"$f":"'[4]AgeII Fig4'!M255","v":{"v":0,"d":"0.0000"}},{"$f":"'[4]AgeII Fig4'!N255","v":0},{"v":0,"d":"0.0"},{"v":0,"d":"0.0"},{"v":0,"d":"0.0"},{"v":0,"d":"0.0"},{"v":0,"d":"0.0"},"","",{"v":0,"d":"0.0"},{"v":0,"d":"0.0000"},"",{"v":0,"d":"0.0000"},{"v":0,"d":"0.0000"},{"v":0,"d":"0.0"},0]
[250,193,{"v":0,"d":"0.0000"},0,{"$nulls":6},0,null,"","",null,{"$f":"'[1]AgeII Fig1'!E256","v":0},{"$f":"'[1]AgeII Fig1'!F256","v":0},{"$f":"'[1]AgeII Fig1'!G256","v":0},{"$f":"'[1]AgeII Fig1'!H256","v":0},{"$f":"'[1]AgeII Fig1'!I256","v":0},{"$f":"'[1]AgeII Fig1'!J256","v":0},{"$f":"'[1]AgeII Fig1'!K256","v":0},{"$f":"'[1]AgeII Fig1'!L256","v":{"v":0,"d":"0.0"}},{"$f":"'[1]AgeII Fig1'!M256","v":{"v":0,"d":"0.0000"}},{"$f":"'[1]AgeII Fig1'!N256","v":0},{"v":0,"d":"0.0"},{"v":0,"d":"0.0"},{"v":0,"d":"0.0"},{"v":0,"d":"0.0"},{"v":0,"d":"0.0"},"","",{"v":0,"d":"0.0"},{"v":0,"d":"0.0000"},"",{"$f":"'[2]AgeII Fig2'!E256","v":0},{"$f":"'[2]AgeII Fig2'!F256","v":0},{"$f":"'[2]AgeII Fig2'!G256","v":0},{"$f":"'[2]AgeII Fig2'!H256","v":0},{"$f":"'[2]AgeII Fig2'!I256","v":0},{"$f":"'[2]AgeII Fig2'!J256","v":0},{"$f":"'[2]AgeII Fig2'!K256","v":0},{"$f":"'[2]AgeII Fig2'!L256","v":{"v":0,"d":"0.0"}},{"$f":"'[2]AgeII Fig2'!M256","v":{"v":0,"d":"0.0000"}},{"$f":"'[2]AgeII Fig2'!N256","v":0},{"v":0,"d":"0.0"},{"v":0,"d":"0.0"},{"v":0,"d":"0.0"},{"v":0,"d":"0.0"},{"v":0,"d":"0.0"},"","",{"v":0,"d":"0.0"},{"v":0,"d":"0.0000"},"",{"$f":"'[3]AgeII Fig3'!E256","v":0},{"$f":"'[3]AgeII Fig3'!F256","v":0},{"$f":"'[3]AgeII Fig3'!G256","v":0},{"$f":"'[3]AgeII Fig3'!H256","v":0},{"$f":"'[3]AgeII Fig3'!I256","v":0},{"$f":"'[3]AgeII Fig3'!J256","v":0},{"$f":"'[3]AgeII Fig3'!K256","v":0},{"$f":"'[3]AgeII Fig3'!L256","v":{"v":0,"d":"0.0"}},{"$f":"'[3]AgeII Fig3'!M256","v":{"v":0,"d":"0.0000"}},{"$f":"'[3]AgeII Fig3'!N256","v":0},{"v":0,"d":"0.0"},{"v":0,"d":"0.0"},{"v":0,"d":"0.0"},{"v":0,"d":"0.0"},{"v":0,"d":"0.0"},"","",{"v":0,"d":"0.0"},{"v":0,"d":"0.0000"},"",{"$f":"'[4]AgeII Fig4'!E256","v":0},{"$f":"'[4]AgeII Fig4'!F256","v":0},{"$f":"'[4]AgeII Fig4'!G256","v":0},{"$f":"'[4]AgeII Fig4'!H256","v":0},{"$f":"'[4]AgeII Fig4'!I256","v":0},{"$f":"'[4]AgeII Fig4'!J256","v":0},{"$f":"'[4]AgeII Fig4'!K256","v":0},{"$f":"'[4]AgeII Fig4'!L256","v":0},{"$f":"'[4]AgeII Fig4'!M256","v":{"v":0,"d":"0.0000"}},{"$f":"'[4]AgeII Fig4'!N256","v":0},{"v":0,"d":"0.0"},{"v":0,"d":"0.0"},{"v":0,"d":"0.0"},{"v":0,"d":"0.0"},{"v":0,"d":"0.0"},"","",{"v":0,"d":"0.0"},{"v":0,"d":"0.0000"},"",{"v":0,"d":"0.0000"},{"v":0,"d":"0.0000"},{"v":0,"d":"0.0"},0]

{"sheet":"Startlijst","index":3,"n_rows":262,"n_cols":11,"rows_kept":262,"merged":[[0,0,0,6],[0,7,0,8],[0,9,0,10],[1,0,1,6],[1,7,1,8],[1,9,1,10],[2,0,2,1],[10,7,10,10]]}
[{"$f":"'Wedstrijd gegevens'!$B$15","v":"Figurenwedstrijd AGE 2 Interregio, Zwembad: De Hoornse Vaart te Alkmaar"},{"$nulls":6},{"$f":"'Wedstrijd gegevens'!$I$15","v":"Datum:"},null,{"$f":"'Wedstrijd gegevens'!$J$15","v":"2017-11-11"}]
[{"$f":"'Wedstrijd gegevens'!$B$16","v":"Organisatie Regio Midwest ism v/h Kring Noord-Holland"},{"$nulls":6},{"$f":"'Wedstrijd gegevens'!$I$16","v":"Aanvang:"},null,{"$f":"'Wedstrijd gegevens'!$J$16","v":"14:30 uur"}]
[{"$f":"CONCATENATE('Wedstrijd gegevens'!B17,\" \",'Wedstrijd gegevens'!D17)","v":"Loting: 1"},null,null,{"$f":"CONCATENATE('Wedstrijd gegevens'!E17,\" \",'Wedstrijd gegevens'!G17)","v":"Categorie: AGE II"}]
[]
[null,"STARTVOLGORDE FIGUREN"]
[{"$f":"'Wedstrijd gegevens'!A21","v":1},{"$f":"'Wedstrijd gegevens'!B21","v":"423 Ariana"},null,{"$f":"'Wedstrijd gegevens'!G21","v":2.2}]
[{"$f":"'Wedstrijd gegevens'!A22","v":2},{"$f":"'Wedstrijd gegevens'!B22","v":"301e Barracuda spin down 360°"},null,{"$f":"'Wedstrijd gegevens'!G22","v":2.2}]
[{"$f":"'Wedstrijd gegevens'!A23","v":3},{"$f":"'Wedstrijd gegevens'!B23","v":"342 Reiger"},null,{"$f":"'Wedstrijd gegevens'!G23","v":2.1}]
[{"$f":"'Wedstrijd gegevens'!A24","v":4},{"$f":"'Wedstrijd gegevens'!B24","v":"115 Catalina"},null,{"$f":"'Wedstrijd gegevens'!G24","v":2.3}]
[]
["st.","KNZB","Naam","Vereniging","Dipl","BM","Regio","Plaatsing"]
["nr.","Startnr",{"$nulls":5},"Fig. 1","Fig. 2","Fig. 3","Fig. 4"]
[{"$f":"Invoeren!A7","v":1},{"$f":"Invoeren!D7","v":200301874},{"$f":"Invoeren!E7","v":"Noëmi Soler Rueda"},{"$f":"Invoeren!F7","v":"DAW"},{"$f":"Invoeren!J7","v":0},{"$f":"Invoeren!I7","v":0},{"$f":"Invoeren!H7","v":"Midwest"}]
[{"$f":"Invoeren!A8","v":2},{"$f":"Invoeren!D8","v":200105142},{"$f":"Invoeren!E8","v":"Lani aan het Rot"},{"$f":"Invoeren!F8","v":"ZV de Zaan"},{"$f":"Invoeren!J8","v":"X"},{"$f":"Invoeren!I8","v":0},{"$f":"Invoeren!H8","v":"MidWest"}]
[{"$f":"Invoeren!A9","v":3},{"$f":"Invoeren!D9","v":200404894},{"$f":"Invoeren!E9","v":"Yara van der Kraan"},{"$f":"Invoeren!F9","v":"Widex Gzc Donk"},{"$f":"Invoeren!J9","v":0},{"$f":"Invoeren!I9","v":0},{"$f":"Invoeren!H9","v":"West"}]
[{"$f":"Invoeren!A10","v":4},{"$f":"Invoeren!D10","v":200402214},{"$f":"Invoeren!E10","v":"Fiene van Wijk"},{"$f":"Invoeren!F10","v":"WVZ"},{"$f":"Invoeren!J10","v":0},{"$f":"Invoeren!I10","v":0},{"$f":"Invoeren!H10","v":"West"}]
[{"$f":"Invoeren!A11","v":5},{"$f":"Invoeren!D11","v":200501210},{"$f":"Invoeren!E11","v":"Eva Verveld"},{"$f":"Invoeren!F11","v":"AZC"},{"$f":"Invoeren!J11","v":0},{"$f":"Invoeren!I11","v":0},{"$f":"Invoeren!H11","v":"West"}]
[{"$f":"Invoeren!A12","v":6},{"$f":"Invoeren!D12","v":200404994},{"$f":"Invoeren!E12","v":"Stacey Martha"},{"$f":"Invoeren!F12","v":"DSZ"},{"$f":"Invoeren!J12","v":0},{"$f":"Invoeren!I12","v":0},{"$f":"Invoeren!H12","v":"West"}]
[{"$f":"Invoeren!A13","v":7},{"$f":"Invoeren!D13","v":200405376},{"$f":"Invoeren!E13","v":"Anthea Khnykina"},{"$f":"Invoeren!F13","v":"Swol 1894"},{"$f":"Invoeren!J13","v":0},{"$f":"Invoeren!I13","v":0},{"$f":"Invoeren!H13","v":"Oost"}]
[{"$f":"Invoeren!A14","v":8},{"$f":"Invoeren!D14","v":200304824},{"$f":"Invoeren!E14","v":"Amber Duijndam"},{"$f":"Invoeren!F14","v":"HZPC Horst"},{"$f":"Invoeren!J14","v":0},{"$f":"Invoeren!I14","v":0},{"$f":"Invoeren!H14","v":"zuid"}]
[{"$f":"Invoeren!A15","v":9},{"$f":"Invoeren!D15","v":200503514},{"$f":"Invoeren!E15","v":"Dominique Hoogkamer"},{"$f":"Invoeren!F15","v":"Aquarijn"},{"$f":"Invoeren!J15","v":"X"},{"$f":"Invoeren!I15","v":0},{"$f":"Invoeren!H15","v":"MidWest"}]
[{"$f":"Invoeren!A16","v":10},{"$f":"Invoeren!D16","v":200400018},{"$f":"Invoeren!E16","v":"Floor Schallenberg"},{"$f":"Invoeren!F16","v":"ACZ"},{"$f":"Invoeren!J16","v":0},{"$f":"Invoeren!I16","v":0},{"$f":"Invoeren!H16","v":"West"}]
[{"$f":"Invoeren!A17","v":11},{"$f":"Invoeren!D17","v":200502532},{"$f":"Invoeren!E17","v":"Lizzy Bastiaans"},{"$f":"Invoeren!F17","v":"Hera'11"},{"$f":"Invoeren!J17","v":0},{"$f":"Invoeren!I17","v":0},{"$f":"Invoeren!H17","v":"Oost"}]
[{"$f":"Invoeren!A18","v":12},{"$f":"Invoeren!D18","v":200402252},{"$f":"Invoeren!E18","v":"Ilse de Heij"},{"$f":"Invoeren!F18","v":"Z.P.C.H."},{"$f":"Invoeren!J18","v":0},{"$f":"Invoeren!I18","v":0},{"$f":"Invoeren!H18","v":"MidWest"}]
[{"$f":"Invoeren!A19","v":13},{"$f":"Invoeren!D19","v":200300492},{"$f":"Invoeren!E19","v":"Tamara Aarts"},{"$f":"Invoeren!F19","v":"De Watertrappers"},{"$f":"Invoeren!J19","v":0},{"$f":"Invoeren!I19","v":0},{"$f":"Invoeren!H19","v":"Mid West"}]
[{"$f":"Invoeren!A20","v":14},{"$f":"Invoeren!D20","v":200501860},{"$f":"Invoeren!E20","v":"Amber van Luijn"},{"$f":"Invoeren!F20","v":"De Dolfijn"},{"$f":"Invoeren!J20","v":0},{"$f":"Invoeren!I20","v":0},{"$f":"Invoeren!H20","v":"Midwest"}]
[{"$f":"Invoeren!A21","v":15},{"$f":"Invoeren!D21","v":200302598},{"$f":"Invoeren!E21","v":"Rikst Schoo"},{"$f":"Invoeren!F21","v":"HZ&PC Heerenveen"},{"$f":"Invoeren!J21","v":0},{"$f":"Invoeren!I21","v":0},{"$f":"Invoeren!H21","v":"Noord"}]
[{"$f":"Invoeren!A22","v":16},{"$f":"Invoeren!D22","v":200305120},{"$f":"Invoeren!E22","v":"Saar van den Berg"},{"$f":"Invoeren!F22","v":"Widex Gzc Donk"},{"$f":"Invoeren!J22","v":0},{"$f":"Invoeren!I22","v":0},{"$f":"Invoeren!H22","v":"West"}]
[{"$f":"Invoeren!A23","v":17},{"$f":"Invoeren!D23","v":200503580},{"$f":"Invoeren!E23","v":"Irsah van Oosten"},{"$f":"Invoeren!F23","v":"Widex Gzc Donk"},{"$f":"Invoeren!J23","v":"X"},{"$f":"Invoeren!I23","v":0},{"$f":"Invoeren!H23","v":"West"}]
[{"$f":"Invoeren!A24","v":18},{"$f":"Invoeren!D24","v":200104834},{"$f":"Invoeren!E24","v":"Eline Sijl"},{"$f":"Invoeren!F24","v":"AZC"},{"$f":"Invoeren!J24","v":0},{"$f":"Invoeren!I24","v":"BM"},{"$f":"Invoeren!H24","v":"West"}]
[{"$f":"Invoeren!A25","v":19},{"$f":"Invoeren!D25","v":200404610},{"$f":"Invoeren!E25","v":"Esqua Swennen"},{"$f":"Invoeren!F25","v":"DSZ"},{"$f":"Invoeren!J25","v":0},{"$f":"Invoeren!I25","v":0},{"$f":"Invoeren!H25","v":"West"}]
[{"$f":"Invoeren!A26","v":20},{"$f":"Invoeren!D26","v":200401608},{"$f":"Invoeren!E26","v":"Ilyana Guliker"},{"$f":"Invoeren!F26","v":"Polar Bears"},{"$f":"Invoeren!J26","v":0},{"$f":"Invoeren!I26","v":0},{"$f":"Invoeren!H26","v":"Oost"}]
[{"$f":"Invoeren!A27","v":21},{"$f":"Invoeren!D27","v":200300794},{"$f":"Invoeren!E27","v":"Jill Mourmans"},{"$f":"Invoeren!F27","v":"ZC.Eijsden"},{"$f":"Invoeren!J27","v":0},{"$f":"Invoeren!I27","v":0},{"$f":"Invoeren!H27","v":"Zuid"}]
[{"$f":"Invoeren!A28","v":22},{"$f":"Invoeren!D28","v":200303982},{"$f":"Invoeren!E28","v":"Jolien Peeters"},{"$f":"Invoeren!F28","v":"PSV Synchro Team Eindhoven"},{"$f":"Invoeren!J28","v":0},{"$f":"Invoeren!I28","v":0},{"$f":"Invoeren!H28","v":"Zuid"}]
[{"$f":"Invoeren!A29","v":23},{"$f":"Invoeren!D29","v":200303068},{"$f":"Invoeren!E29","v":"Linda van Heumen"},{"$f":"Invoeren!F29","v":"Aqua-Novio '94"},{"$f":"Invoeren!J29","v":0},{"$f":"Invoeren!I29","v":0},{"$f":"Invoeren!H29","v":"Oost"}]
[{"$f":"Invoeren!A30","v":24},{"$f":"Invoeren!D30","v":200502006},{"$f":"Invoeren!E30","v":"Kyara Alexander"},{"$f":"Invoeren!F30","v":"ACZ"},{"$f":"Invoeren!J30","v":0},{"$f":"Invoeren!I30","v":0},{"$f":"Invoeren!H30","v":"West"}]
[{"$f":"Invoeren!A31","v":25},{"$f":"Invoeren!D31","v":200304818},{"$f":"Invoeren!E31","v":"Emma Leen"},{"$f":"Invoeren!F31","v":"Z.P.C.H."},{"$f":"Invoeren!J31","v":0},{"$f":"Invoeren!I31","v":0},{"$f":"Invoeren!H31","v":"MidWest"}]
[{"$f":"Invoeren!A32","v":26},{"$f":"Invoeren!D32","v":200503992},{"$f":"Invoeren!E32","v":"Merel Schrijvers van Zenden"},{"$f":"Invoeren!F32","v":"Widex Gzc Donk"},{"$f":"Invoeren!J32","v":0},{"$f":"Invoeren!I32","v":0},{"$f":"Invoeren!H32","v":"West"}]
[{"$f":"Invoeren!A33","v":27},{"$f":"Invoeren!D33","v":200501556},{"$f":"Invoeren!E33","v":"Iris Huizinga"},{"$f":"Invoeren!F33","v":"DAW"},{"$f":"Invoeren!J33","v":0},{"$f":"Invoeren!I33","v":0},{"$f":"Invoeren!H33","v":"Midwest"}]
[{"$f":"Invoeren!A34","v":28},{"$f":"Invoeren!D34","v":200401298},{"$f":"Invoeren!E34","v":"Maddy van der Hoeven"},{"$f":"Invoeren!F34","v":"De Dolfijn"},{"$f":"Invoeren!J34","v":0},{"$f":"Invoeren!I34","v":0},{"$f":"Invoeren!H34","v":"Midwest"}]
[{"$f":"Invoeren!A35","v":29},{"$f":"Invoeren!D35","v":200503998},{"$f":"Invoeren!E35","v":"Savoy Bottse"},{"$f":"Invoeren!F35","v":"HZ&PC Heerenveen"},{"$f":"Invoeren!J35","v":0},{"$f":"Invoeren!I35","v":0},{"$f":"Invoeren!H35","v":"Noord"}]
[{"$f":"Invoeren!A36","v":30},{"$f":"Invoeren!D36","v":200304194},{"$f":"Invoeren!E36","v":"Sanne van der Waal"},{"$f":"Invoeren!F36","v":"Z.P.C.H."},{"$f":"Invoeren!J36","v":0},{"$f":"Invoeren!I36","v":0},{"$f":"Invoeren!H36","v":"MidWest"}]
[{"$f":"Invoeren!A37","v":31},{"$f":"Invoeren!D37","v":200401126},{"$f":"Invoeren!E37","v":"Keyla Lammers"},{"$f":"Invoeren!F37","v":"AZC"},{"$f":"Invoeren!J37","v":0},{"$f":"Invoeren!I37","v":0},{"$f":"Invoeren!H37","v":"West"}]
[{"$f":"Invoeren!A38","v":32},{"$f":"Invoeren!D38","v":200303042},{"$f":"Invoeren!E38","v":"Eda Karacan"},{"$f":"Invoeren!F38","v":"DSZ"},{"$f":"Invoeren!J38","v":0},{"$f":"Invoeren!I38","v":0},{"$f":"Invoeren!H38","v":"West"}]
[{"$f":"Invoeren!A39","v":33},{"$f":"Invoeren!D39","v":200500620},{"$f":"Invoeren!E39","v":"Norah Steinfort Schaap"},{"$f":"Invoeren!F39","v":"Polar Bears"},{"$f":"Invoeren!J39","v":0},{"$f":"Invoeren!I39","v":0},{"$f":"Invoeren!H39","v":"Oost"}]
[{"$f":"Invoeren!A40","v":34},{"$f":"Invoeren!D40","v":200501932},{"$f":"Invoeren!E40","v":"Sofie Geurts"},{"$f":"Invoeren!F40","v":"HZPC Horst"},{"$f":"Invoeren!J40","v":"X"},{"$f":"Invoeren!I40","v":0},{"$f":"Invoeren!H40","v":"zuid"}]
[{"$f":"Invoeren!A41","v":35},{"$f":"Invoeren!D41","v":200304550},{"$f":"Invoeren!E41","v":"Margo Rops"},{"$f":"Invoeren!F41","v":"Synchro Breda"},{"$f":"Invoeren!J41","v":0},{"$f":"Invoeren!I41","v":0},{"$f":"Invoeren!H41","v":"Zuid"}]
[{"$f":"Invoeren!A42","v":36},{"$f":"Invoeren!D42","v":200503578},{"$f":"Invoeren!E42","v":"Marissa Peters"},{"$f":"Invoeren!F42","v":"Aqua-Novio '94"},{"$f":"Invoeren!J42","v":0},{"$f":"Invoeren!I42","v":0},{"$f":"Invoeren!H42","v":"Oost"}]
[{"$f":"Invoeren!A43","v":37},{"$f":"Invoeren!D43","v":200501856},{"$f":"Invoeren!E43","v":"Tuana Ozsahin"},{"$f":"Invoeren!F43","v":"ACZ"},{"$f":"Invoeren!J43","v":0},{"$f":"Invoeren!I43","v":0},{"$f":"Invoeren!H43","v":"West"}]
[{"$f":"Invoeren!A44","v":38},{"$f":"Invoeren!D44","v":200503448},{"$f":"Invoeren!E44","v":"Elize Bonhof"},{"$f":"Invoeren!F44","v":"Hera'11"},{"$f":"Invoeren!J44","v":0},{"$f":"Invoeren!I44","v":0},{"$f":"Invoeren!H44","v":"Oost"}]
[{"$f":"Invoeren!A45","v":39},{"$f":"Invoeren!D45","v":200404460},{"$f":"Invoeren!E45","v":"Anastasia Ibrahimov"},{"$f":"Invoeren!F45","v":"Z.P.C.H."},{"$f":"Invoeren!J45","v":0},{"$f":"Invoeren!I45","v":0},{"$f":"Invoeren!H45","v":"MidWest"}]
[{"$f":"Invoeren!A46","v":40},{"$f":"Invoeren!D46","v":200403890},{"$f":"Invoeren!E46","v":"Mette Bos"},{"$f":"Invoeren!F46","v":"Z.P.C.H."},{"$f":"Invoeren!J46","v":0},{"$f":"Invoeren!I46","v":0},{"$f":"Invoeren!H46","v":"MidWest"}]
[{"$f":"Invoeren!A47","v":41},{"$f":"Invoeren!D47","v":200301990},{"$f":"Invoeren!E47","v":"Charissa de Groot"},{"$f":"Invoeren!F47","v":"De Watertrappers"},{"$f":"Invoeren!J47","v":0},{"$f":"Invoeren!I47","v":0},{"$f":"Invoeren!H47","v":"Mid West"}]
[{"$f":"Invoeren!A48","v":42},{"$f":"Invoeren!D48","v":200401278},{"$f":"Invoeren!E48","v":"Kate Jutte"},{"$f":"Invoeren!F48","v":"WVZ"},{"$f":"Invoeren!J48","v":0},{"$f":"Invoeren!I48","v":0},{"$f":"Invoeren!H48","v":"West"}]
[{"$f":"Invoeren!A49","v":43},{"$f":"Invoeren!D49","v":200504152},{"$f":"Invoeren!E49","v":"Kazu Landman"},{"$f":"Invoeren!F49","v":"VZC Veenendaal"},{"$f":"Invoeren!J49","v":"X"},{"$f":"Invoeren!I49","v":0},{"$f":"Invoeren!H49","v":"Midwest"}]
[{"$f":"Invoeren!A50","v":44},{"$f":"Invoeren!D50","v":200404178},{"$f":"Invoeren!E50","v":"Mandy van der Veen"},{"$f":"Invoeren!F50","v":"HZ&PC Heerenveen"},{"$f":"Invoeren!J50","v":0},{"$f":"Invoeren!I50","v":0},{"$f":"Invoeren!H50","v":"Noord"}]
[{"$f":"Invoeren!A51","v":45},{"$f":"Invoeren!D51","v":200501580},{"$f":"Invoeren!E51","v":"Nayla Verzeide"},{"$f":"Invoeren!F51","v":"Widex Gzc Donk"},{"$f":"Invoeren!J51","v":0},{"$f":"Invoeren!I51","v":0},{"$f":"Invoeren!H51","v":"West"}]
[{"$f":"Invoeren!A52","v":46},{"$f":"Invoeren!D52","v":200500012},{"$f":"Invoeren!E52","v":"Marloes Steenbeek"},{"$f":"Invoeren!F52","v":"De Dolfijn"},{"$f":"Invoeren!J52","v":0},{"$f":"Invoeren!I52","v":0},{"$f":"Invoeren!H52","v":"Midwest"}]
[{"$f":"Invoeren!A53","v":47},{"$f":"Invoeren!D53","v":200401204},{"$f":"Invoeren!E53","v":"Merel Leuring"},{"$f":"Invoeren!F53","v":"AZC"},{"$f":"Invoeren!J53","v":0},{"$f":"Invoeren!I53","v":0},{"$f":"Invoeren!H53","v":"West"}]
[{"$f":"Invoeren!A54","v":48},{"$f":"Invoeren!D54","v":200304568},{"$f":"Invoeren!E54","v":"Jasmijn van Beijnum"},{"$f":"Invoeren!F54","v":"BZ&PC"},{"$f":"Invoeren!J54","v":0},{"$f":"Invoeren!I54","v":0},{"$f":"Invoeren!H54","v":"West"}]
[{"$f":"Invoeren!A55","v":49},{"$f":"Invoeren!D55","v":200602178},{"$f":"Invoeren!E55","v":"Felicia Leemburg"},{"$f":"Invoeren!F55","v":"BZ&PC"},{"$f":"Invoeren!J55","v":0},{"$f":"Invoeren!I55","v":"BM"},{"$f":"Invoeren!H55","v":"West"}]
[{"$f":"Invoeren!A56","v":50},{"$f":"Invoeren!D56","v":200403514},{"$f":"Invoeren!E56","v":"Auke Kuijk"},{"$f":"Invoeren!F56","v":"Cadans"},{"$f":"Invoeren!J56","v":0},{"$f":"Invoeren!I56","v":0},{"$f":"Invoeren!H56","v":"oost"}]
[{"$f":"Invoeren!A57","v":51},{"$f":"Invoeren!D57","v":200400222},{"$f":"Invoeren!E57","v":"Abigail Vievermans"},{"$f":"Invoeren!F57","v":"ZVBrunssum"},{"$f":"Invoeren!J57","v":0},{"$f":"Invoeren!I57","v":0},{"$f":"Invoeren!H57","v":"Zuid"}]
[{"$f":"Invoeren!A58","v":52},{"$f":"Invoeren!D58","v":200404148},{"$f":"Invoeren!E58","v":"Lieke Smeets"},{"$f":"Invoeren!F58","v":"Hellas-Glana"},{"$f":"Invoeren!J58","v":"X"},{"$f":"Invoeren!I58","v":0},{"$f":"Invoeren!H58","v":"Zuid"}]
[{"$f":"Invoeren!A59","v":53},{"$f":"Invoeren!D59","v":200403206},{"$f":"Invoeren!E59","v":"Fleur Vergeer"},{"$f":"Invoeren!F59","v":"Aquarijn"},{"$f":"Invoeren!J59","v":0},{"$f":"Invoeren!I59","v":0},{"$f":"Invoeren!H59","v":"MidWest"}]
[{"$f":"Invoeren!A60","v":54},{"$f":"Invoeren!D60","v":200502828},{"$f":"Invoeren!E60","v":"Lisa Dams"},{"$f":"Invoeren!F60","v":"Aqua-Novio '94"},{"$f":"Invoeren!J60","v":0},{"$f":"Invoeren!I60","v":0},{"$f":"Invoeren!H60","v":"Oost"}]
[{"$f":"Invoeren!A61","v":55},{"$f":"Invoeren!D61","v":200403278},{"$f":"Invoeren!E61","v":"Eline Penning"},{"$f":"Invoeren!F61","v":"ACZ"},{"$f":"Invoeren!J61","v":0},{"$f":"Invoeren!I61","v":0},{"$f":"Invoeren!H61","v":"West"}]
[{"$f":"Invoeren!A62","v":56},{"$f":"Invoeren!D62","v":200400946},{"$f":"Invoeren!E62","v":"Nyanda de Roos"},{"$f":"Invoeren!F62","v":"De Houtrib"},{"$f":"Invoeren!J62","v":0},{"$f":"Invoeren!I62","v":0},{"$f":"Invoeren!H62","v":"Oost"}]
[{"$f":"Invoeren!A63","v":57},{"$f":"Invoeren!D63","v":200304796},{"$f":"Invoeren!E63","v":"Judith Bosman"},{"$f":"Invoeren!F63","v":"Z.P.C.H."},{"$f":"Invoeren!J63","v":0},{"$f":"Invoeren!I63","v":0},{"$f":"Invoeren!H63","v":"MidWest"}]
[{"$f":"Invoeren!A64","v":58},{"$f":"Invoeren!D64","v":200403048},{"$f":"Invoeren!E64","v":"Ninon van Baal"},{"$f":"Invoeren!F64","v":"DAW"},{"$f":"Invoeren!J64","v":0},{"$f":"Invoeren!I64","v":0},{"$f":"Invoeren!H64","v":"Midwest"}]
[{"$f":"Invoeren!A65","v":59},{"$f":"Invoeren!D65","v":200405168},{"$f":"Invoeren!E65","v":"Isis Braam"},{"$f":"Invoeren!F65","v":"De Dolfijn"},{"$f":"Invoeren!J65","v":0},{"$f":"Invoeren!I65","v":0},{"$f":"Invoeren!H65","v":"Midwest"}]
[{"$f":"Invoeren!A66","v":60},{"$f":"Invoeren!D66","v":200502634},{"$f":"Invoeren!E66","v":"Sophie O'Toole"},{"$f":"Invoeren!F66","v":"VZC Veenendaal"},{"$f":"Invoeren!J66","v":"X"},{"$f":"Invoeren!I66","v":0},{"$f":"Invoeren!H66","v":"Midwest"}]
[{"$f":"Invoeren!A67","v":61},{"$f":"Invoeren!D67","v":200403868},{"$f":"Invoeren!E67","v":"Madelief Volbeda"},{"$f":"Invoeren!F67","v":"HZ&PC Heerenveen"},{"$f":"Invoeren!J67","v":0},{"$f":"Invoeren!I67","v":0},{"$f":"Invoeren!H67","v":"Noord"}]
[{"$f":"Invoeren!A68","v":62},{"$f":"Invoeren!D68","v":200404482},{"$f":"Invoeren!E68","v":"Minke van Dalfsen"},{"$f":"Invoeren!F68","v":"Widex Gzc Donk"},{"$f":"Invoeren!J68","v":0},{"$f":"Invoeren!I68","v":0},{"$f":"Invoeren!H68","v":"West"}]
[{"$f":"Invoeren!A69","v":63},{"$f":"Invoeren!D69","v":200503124},{"$f":"Invoeren!E69","v":"Femke van de Ridder"},{"$f":"Invoeren!F69","v":"Widex Gzc Donk"},{"$f":"Invoeren!J69","v":0},{"$f":"Invoeren!I69","v":0},{"$f":"Invoeren!H69","v":"West"}]
[{"$f":"Invoeren!A70","v":64},{"$f":"Invoeren!D70","v":200303047},{"$f":"Invoeren!E70","v":"Zody Thode"},{"$f":"Invoeren!F70","v":"Cadans"},{"$f":"Invoeren!J70","v":0},{"$f":"Invoeren!I70","v":0},{"$f":"Invoeren!H70","v":"oost"}]
[{"$f":"Invoeren!A71","v":65},{"$f":"Invoeren!D71","v":200305206},{"$f":"Invoeren!E71","v":"Merle Heuvelmans"},{"$f":"Invoeren!F71","v":"ZVBrunssum"},{"$f":"Invoeren!J71","v":0},{"$f":"Invoeren!I71","v":0},{"$f":"Invoeren!H71","v":"Zuid"}]
[{"$f":"Invoeren!A72","v":66},{"$f":"Invoeren!D72","v":200405166},{"$f":"Invoeren!E72","v":"Daniela Quist"},{"$f":"Invoeren!F72","v":"Aquarijn"},{"$f":"Invoeren!J72","v":"X"},{"$f":"Invoeren!I72","v":0},{"$f":"Invoeren!H72","v":"MidWest"}]
[{"$f":"Invoeren!A73","v":67},{"$f":"Invoeren!D73","v":200600078},{"$f":"Invoeren!E73","v":"Mare Schallenberg"},{"$f":"Invoeren!F73","v":"ACZ"},{"$f":"Invoeren!J73","v":0},{"$f":"Invoeren!I73","v":0},{"$f":"Invoeren!H73","v":"West"}]
[{"$f":"Invoeren!A74","v":68},{"$f":"Invoeren!D74","v":200303994},{"$f":"Invoeren!E74","v":"Luciella Janse"},{"$f":"Invoeren!F74","v":"De Houtrib"},{"$f":"Invoeren!J74","v":"X"},{"$f":"Invoeren!I74","v":0},{"$f":"Invoeren!H74","v":"Oost"}]
[{"$f":"Invoeren!A75","v":69},{"$f":"Invoeren!D75","v":200403892},{"$f":"Invoeren!E75","v":"Joy Favie"},{"$f":"Invoeren!F75","v":"Z.P.C.H."},{"$f":"Invoeren!J75","v":0},{"$f":"Invoeren!I75","v":0},{"$f":"Invoeren!H75","v":"MidWest"}]
[{"$f":"Invoeren!A76","v":70},{"$f":"Invoeren!D76","v":200502158},{"$f":"Invoeren!E76","v":"Newa Hama Hussein"},{"$f":"Invoeren!F76","v":"Cadans"},{"$f":"Invoeren!J76","v":0},{"$f":"Invoeren!I76","v":0},{"$f":"Invoeren!H76","v":"oost"}]
[{"$f":"Invoeren!A77","v":71},{"$f":"Invoeren!D77","v":200503084},{"$f":"Invoeren!E77","v":"Charelle Spaan"},{"$f":"Invoeren!F77","v":"Z.P.C.H."},{"$f":"Invoeren!J77","v":0},{"$f":"Invoeren!I77","v":0},{"$f":"Invoeren!H77","v":"MidWest"}]
[{"$f":"Invoeren!A78","v":72},{"$f":"Invoeren!D78","v":200501374},{"$f":"Invoeren!E78","v":"Floortje van der Velde"},{"$f":"Invoeren!F78","v":"HZ&PC Heerenveen"},{"$f":"Invoeren!J78","v":0},{"$f":"Invoeren!I78","v":0},{"$f":"Invoeren!H78","v":"Noord"}]
[{"$f":"Invoeren!A79","v":73},{"$f":"Invoeren!D79","v":200504282},{"$f":"Invoeren!E79","v":"Noëlle Rienks"},{"$f":"Invoeren!F79","v":"De Watertrappers"},{"$f":"Invoeren!J79","v":0},{"$f":"Invoeren!I79","v":0},{"$f":"Invoeren!H79","v":"Mid West"}]
[{"$f":"Invoeren!A80","v":74},{"$f":"Invoeren!D80","v":200403010},{"$f":"Invoeren!E80","v":"Esmee van den Heuvel"},{"$f":"Invoeren!F80","v":"Widex Gzc Donk"},{"$f":"Invoeren!J80","v":0},{"$f":"Invoeren!I80","v":0},{"$f":"Invoeren!H80","v":"West"}]
[{"$f":"Invoeren!A81","v":75},{"$f":"Invoeren!D81","v":200504112},{"$f":"Invoeren!E81","v":"Daphne Lutjenhuis"},{"$f":"Invoeren!F81","v":"AZC"},{"$f":"Invoeren!J81","v":0},{"$f":"Invoeren!I81","v":0},{"$f":"Invoeren!H81","v":"West"}]
[{"$f":"Invoeren!A82","v":76},{"$f":"Invoeren!D82","v":200503502},{"$f":"Invoeren!E82","v":"Feija Wollring"},{"$f":"Invoeren!F82","v":"Cadans"},{"$f":"Invoeren!J82","v":0},{"$f":"Invoeren!I82","v":0},{"$f":"Invoeren!H82","v":"oost"}]
[{"$f":"Invoeren!A83","v":77},{"$f":"Invoeren!D83","v":200205552},{"$f":"Invoeren!E83","v":"Shariëlle Garia"},{"$f":"Invoeren!F83","v":"ZVBrunssum"},{"$f":"Invoeren!J83","v":"X"},{"$f":"Invoeren!I83","v":"BM"},{"$f":"Invoeren!H83","v":"Zuid"}]
[{"$f":"Invoeren!A84","v":78},{"$f":"Invoeren!D84","v":"200405016 "},{"$f":"Invoeren!E84","v":"Anna Kroon"},{"$f":"Invoeren!F84","v":"HZPC Horst"},{"$f":"Invoeren!J84","v":"X"},{"$f":"Invoeren!I84","v":0},{"$f":"Invoeren!H84","v":"zuid"}]
[{"$f":"Invoeren!A85","v":79},{"$f":"Invoeren!D85","v":200503980},{"$f":"Invoeren!E85","v":"Sascha van Leeuwen"},{"$f":"Invoeren!F85","v":"Aquarijn"},{"$f":"Invoeren!J85","v":0},{"$f":"Invoeren!I85","v":0},{"$f":"Invoeren!H85","v":"MidWest"}]
[{"$f":"Invoeren!A86","v":80},{"$f":"Invoeren!D86","v":20043346},{"$f":"Invoeren!E86","v":"Renske Veenstra"},{"$f":"Invoeren!F86","v":"DZ&PC"},{"$f":"Invoeren!J86","v":0},{"$f":"Invoeren!I86","v":0},{"$f":"Invoeren!H86","v":"Noord"}]
[{"$f":"Invoeren!A87","v":81},{"$f":"Invoeren!D87","v":200301290},{"$f":"Invoeren!E87","v":"Maria Lorenzini"},{"$f":"Invoeren!F87","v":"ACZ"},{"$f":"Invoeren!J87","v":0},{"$f":"Invoeren!I87","v":0},{"$f":"Invoeren!H87","v":"West"}]
[{"$f":"Invoeren!A88","v":82},{"$f":"Invoeren!D88","v":200301408},{"$f":"Invoeren!E88","v":"Dagmar Hansman"},{"$f":"Invoeren!F88","v":"Hera'11"},{"$f":"Invoeren!J88","v":0},{"$f":"Invoeren!I88","v":0},{"$f":"Invoeren!H88","v":"Oost"}]
[{"$f":"Invoeren!A89","v":83},{"$f":"Invoeren!D89","v":200404462},{"$f":"Invoeren!E89","v":"Daniela Ghasseminejad"},{"$f":"Invoeren!F89","v":"Z.P.C.H."},{"$f":"Invoeren!J89","v":"X"},{"$f":"Invoeren!I89","v":0},{"$f":"Invoeren!H89","v":"MidWest"}]
[{"$f":"Invoeren!A90","v":84},{"$f":"Invoeren!D90","v":200401490},{"$f":"Invoeren!E90","v":"Anna Darby"},{"$f":"Invoeren!F90","v":"DAW"},{"$f":"Invoeren!J90","v":0},{"$f":"Invoeren!I90","v":0},{"$f":"Invoeren!H90","v":"Midwest"}]
[{"$f":"Invoeren!A91","v":85},{"$f":"Invoeren!D91","v":200404456},{"$f":"Invoeren!E91","v":"Amanda Voesten"},{"$f":"Invoeren!F91","v":"De Dolfijn"},{"$f":"Invoeren!J91","v":0},{"$f":"Invoeren!I91","v":0},{"$f":"Invoeren!H91","v":"MidWest"}]
[{"$f":"Invoeren!A92","v":86},{"$f":"Invoeren!D92","v":200405160},{"$f":"Invoeren!E92","v":"Iris Mandemaker"},{"$f":"Invoeren!F92","v":"HZ&PC Heerenveen"},{"$f":"Invoeren!J92","v":0},{"$f":"Invoeren!I92","v":0},{"$f":"Invoeren!H92","v":"Noord"}]
[{"$f":"Invoeren!A93","v":87},{"$f":"Invoeren!D93","v":200304878},{"$f":"Invoeren!E93","v":"Kayleigh Bruins"},{"$f":"Invoeren!F93","v":"Widex Gzc Donk"},{"$f":"Invoeren!J93","v":"X"},{"$f":"Invoeren!I93","v":0},{"$f":"Invoeren!H93","v":"West"}]
[{"$f":"Invoeren!A94","v":88},{"$f":"Invoeren!D94","v":200301902},{"$f":"Invoeren!E94","v":"Pleun Boerakker"},{"$f":"Invoeren!F94","v":"Cadans"},{"$f":"Invoeren!J94","v":0},{"$f":"Invoeren!I94","v":0},{"$f":"Invoeren!H94","v":"oost"}]
[{"$f":"Invoeren!A95","v":89},{"$f":"Invoeren!D95","v":200301680},{"$f":"Invoeren!E95","v":"Sarah Molensky"},{"$f":"Invoeren!F95","v":"ZVBrunssum"},{"$f":"Invoeren!J95","v":0},{"$f":"Invoeren!I95","v":0},{"$f":"Invoeren!H95","v":"Zuid"}]
[{"$f":"Invoeren!A96","v":90},{"$f":"Invoeren!D96","v":200302322},{"$f":"Invoeren!E96","v":"Noa van Blijderveen"},{"$f":"Invoeren!F96","v":"Aquarijn"},{"$f":"Invoeren!J96","v":0},{"$f":"Invoeren!I96","v":0},{"$f":"Invoeren!H96","v":"MidWest"}]
[{"$f":"Invoeren!A97","v":91},{"$f":"Invoeren!D97","v":200302056},{"$f":"Invoeren!E97","v":"Tessa Kemper"},{"$f":"Invoeren!F97","v":"Aqua-Novio '94"},{"$f":"Invoeren!J97","v":0},{"$f":"Invoeren!I97","v":0},{"$f":"Invoeren!H97","v":"Oost"}]
[{"$f":"Invoeren!A98","v":92},{"$f":"Invoeren!D98","v":200400952},{"$f":"Invoeren!E98","v":"Dionne Sijben"},{"$f":"Invoeren!F98","v":"ACZ"},{"$f":"Invoeren!J98","v":" "},{"$f":"Invoeren!I98","v":" "},{"$f":"Invoeren!H98","v":"West"}]
[{"$f":"Invoeren!A99","v":93},{"$f":"Invoeren!D99","v":200501900},{"$f":"Invoeren!E99","v":"Nikita Weidenaar"},{"$f":"Invoeren!F99","v":"De Houtrib"},{"$f":"Invoeren!J99","v":0},{"$f":"Invoeren!I99","v":0},{"$f":"Invoeren!H99","v":"Oost"}]
[{"$f":"Invoeren!A100","v":94},{"$f":"Invoeren!D100","v":200303794},{"$f":"Invoeren!E100","v":"Xenna Mackay"},{"$f":"Invoeren!F100","v":"Z.P.C.H."},{"$f":"Invoeren!J100","v":0},{"$f":"Invoeren!I100","v":0},{"$f":"Invoeren!H100","v":"MidWest"}]
[{"$f":"Invoeren!A101","v":95},{"$f":"Invoeren!D101","v":200300438},{"$f":"Invoeren!E101","v":"Eva Schijf"},{"$f":"Invoeren!F101","v":"DAW"},{"$f":"Invoeren!J101","v":0},{"$f":"Invoeren!I101","v":0},{"$f":"Invoeren!H101","v":"Midwest"}]
[{"$f":"Invoeren!A102","v":96},{"$f":"Invoeren!D102","v":200503986},{"$f":"Invoeren!E102","v":"Aya Achachi"},{"$f":"Invoeren!F102","v":"De Dolfijn"},{"$f":"Invoeren!J102","v":0},{"$f":"Invoeren!I102","v":0},{"$f":"Invoeren!H102","v":"Midwest"}]
[{"$f":"Invoeren!A103","v":97},{"$f":"Invoeren!D103","v":200500642},{"$f":"Invoeren!E103","v":"Gwen Kuijpers"},{"$f":"Invoeren!F103","v":"VZC Veenendaal"},{"$f":"Invoeren!J103","v":"X"},{"$f":"Invoeren!I103","v":0},{"$f":"Invoeren!H103","v":"Midwest"}]
[{"$f":"Invoeren!A104","v":98},{"$f":"Invoeren!D104","v":200304178},{"$f":"Invoeren!E104","v":"Birgit Gosselink"},{"$f":"Invoeren!F104","v":"Widex Gzc Donk"},{"$f":"Invoeren!J104","v":0},{"$f":"Invoeren!I104","v":0},{"$f":"Invoeren!H104","v":"West"}]
[{"$f":"Invoeren!A105","v":99},{"$f":"Invoeren!D105","v":200303742},{"$f":"Invoeren!E105","v":"Nadja van Kralingen"},{"$f":"Invoeren!F105","v":"WVZ"},{"$f":"Invoeren!J105","v":0},{"$f":"Invoeren!I105","v":0},{"$f":"Invoeren!H105","v":"West"}]
[{"$f":"Invoeren!A106","v":100},{"$f":"Invoeren!D106","v":200404010},{"$f":"Invoeren!E106","v":"Romy Koers"},{"$f":"Invoeren!F106","v":"WVZ"},{"$f":"Invoeren!J106","v":0},{"$f":"Invoeren!I106","v":0},{"$f":"Invoeren!H106","v":"West"}]
[{"$f":"Invoeren!A107","v":101},{"$f":"Invoeren!D107","v":200303732},{"$f":"Invoeren!E107","v":"Jente Doornhein"},{"$f":"Invoeren!F107","v":"BZ&PC"},{"$f":"Invoeren!J107","v":0},{"$f":"Invoeren!I107","v":0},{"$f":"Invoeren!H107","v":"West"}]
[{"$f":"Invoeren!A108","v":102},{"$f":"Invoeren!D108","v":200403950},{"$f":"Invoeren!E108","v":"Marit de Locht"},{"$f":"Invoeren!F108","v":"Cadans"},{"$f":"Invoeren!J108","v":0},{"$f":"Invoeren!I108","v":0},{"$f":"Invoeren!H108","v":"oost"}]
[{"$f":"Invoeren!A109","v":103},{"$f":"Invoeren!D109","v":199806484},{"$f":"Invoeren!E109","v":"Jessica Backes"},{"$f":"Invoeren!F109","v":"ZVBrunssum"},{"$f":"Invoeren!J109","v":"X"},{"$f":"Invoeren!I109","v":"BM"},{"$f":"Invoeren!H109","v":"Zuid"}]
[{"$f":"Invoeren!A110","v":104},{"$f":"Invoeren!D110","v":200305064},{"$f":"Invoeren!E110","v":"Tanja Vorotilova"},{"$f":"Invoeren!F110","v":"PSV Synchro Team Eindhoven"},{"$f":"Invoeren!J110","v":0},{"$f":"Invoeren!I110","v":0},{"$f":"Invoeren!H110","v":"Zuid"}]
[{"$f":"Invoeren!A111","v":105},{"$f":"Invoeren!D111","v":200401300},{"$f":"Invoeren!E111","v":"Senna Zwezerijnen"},{"$f":"Invoeren!F111","v":"Aquarijn"},{"$f":"Invoeren!J111","v":0},{"$f":"Invoeren!I111","v":0},{"$f":"Invoeren!H111","v":"MidWest"}]
[{"$f":"Invoeren!A112","v":106},{"$f":"Invoeren!D112","v":200200000},{"$f":"Invoeren!E112","v":"Julia Postma"},{"$f":"Invoeren!F112","v":"DZ&PC"},{"$f":"Invoeren!J112","v":"X"},{"$f":"Invoeren!I112","v":"BM"},{"$f":"Invoeren!H112","v":"Noord"}]
[{"$f":"Invoeren!A113","v":107},{"$f":"Invoeren!D113","v":200403554},{"$f":"Invoeren!E113","v":"Tara Vyent"},{"$f":"Invoeren!F113","v":"ACZ"},{"$f":"Invoeren!J113","v":0},{"$f":"Invoeren!I113","v":0},{"$f":"Invoeren!H113","v":"West"}]
[{"$f":"Invoeren!A114","v":108},{"$f":"Invoeren!D114","v":200502536},{"$f":"Invoeren!E114","v":"Kyra Kemper"},{"$f":"Invoeren!F114","v":"Hera'11"},{"$f":"Invoeren!J114","v":0},{"$f":"Invoeren!I114","v":0},{"$f":"Invoeren!H114","v":"Oost"}]
[{"$f":"Invoeren!A115","v":109},{"$f":"Invoeren!D115","v":200304512},{"$f":"Invoeren!E115","v":"Lina El Baoudi"},{"$f":"Invoeren!F115","v":"Z.P.C.H."},{"$f":"Invoeren!J115","v":0},{"$f":"Invoeren!I115","v":0},{"$f":"Invoeren!H115","v":"MidWest"}]
[{"$f":"Invoeren!A116","v":110},{"$f":"Invoeren!D116","v":200502854},{"$f":"Invoeren!E116","v":"Melida Keizer"},{"$f":"Invoeren!F116","v":"De Watertrappers"},{"$f":"Invoeren!J116","v":0},{"$f":"Invoeren!I116","v":0},{"$f":"Invoeren!H116","v":"Mid West"}]
[{"$f":"Invoeren!A117","v":111},{"$f":"Invoeren!D117","v":200403218},{"$f":"Invoeren!E117","v":"Helena Brons"},{"$f":"Invoeren!F117","v":"DAW"},{"$f":"Invoeren!J117","v":0},{"$f":"Invoeren!I117","v":0},{"$f":"Invoeren!H117","v":"Midwest"}]
[{"$f":"Invoeren!A118","v":112},{"$f":"Invoeren!D118","v":200405558},{"$f":"Invoeren!E118","v":"Nisrine Aghrib Miou"},{"$f":"Invoeren!F118","v":"De Dolfijn"},{"$f":"Invoeren!J118","v":0},{"$f":"Invoeren!I118","v":0},{"$f":"Invoeren!H118","v":"Midwest"}]
[{"$f":"Invoeren!A119","v":113},{"$f":"Invoeren!D119","v":200305402},{"$f":"Invoeren!E119","v":"Kim v Hoogevest"},{"$f":"Invoeren!F119","v":"ZV de Zaan"},{"$f":"Invoeren!J119","v":"X"},{"$f":"Invoeren!I119","v":0},{"$f":"Invoeren!H119","v":"MidWest"}]
[{"$f":"Invoeren!A120","v":114},{"$f":"Invoeren!D120","v":200405184},{"$f":"Invoeren!E120","v":"Karolina Breedveld"},{"$f":"Invoeren!F120","v":"Widex Gzc Donk"},{"$f":"Invoeren!J120","v":"X"},{"$f":"Invoeren!I120","v":0},{"$f":"Invoeren!H120","v":"West"}]
[{"$f":"Invoeren!A121","v":115},{"$f":"Invoeren!D121","v":200402892},{"$f":"Invoeren!E121","v":"Floor Speckens"},{"$f":"Invoeren!F121","v":"WVZ"},{"$f":"Invoeren!J121","v":0},{"$f":"Invoeren!I121","v":0},{"$f":"Invoeren!H121","v":"West"}]
[{"$f":"Invoeren!A122","v":116},{"$f":"Invoeren!D122","v":200403516},{"$f":"Invoeren!E122","v":"Ilse Wienen"},{"$f":"Invoeren!F122","v":"Cadans"},{"$f":"Invoeren!J122","v":0},{"$f":"Invoeren!I122","v":0},{"$f":"Invoeren!H122","v":"oost"}]
[{"$f":"Invoeren!A123","v":117},{"$f":"Invoeren!D123","v":200403802},{"$f":"Invoeren!E123","v":"Lisa van Laar"},{"$f":"Invoeren!F123","v":"Polar Bears"},{"$f":"Invoeren!J123","v":0},{"$f":"Invoeren!I123","v":0},{"$f":"Invoeren!H123","v":"Oost"}]
[{"$f":"Invoeren!A124","v":118},{"$f":"Invoeren!D124","v":200501692},{"$f":"Invoeren!E124","v":"Femke Hermans"},{"$f":"Invoeren!F124","v":"ZC.Eijsden"},{"$f":"Invoeren!J124","v":"X"},{"$f":"Invoeren!I124","v":0},{"$f":"Invoeren!H124","v":"Zuid"}]
[{"$f":"Invoeren!A125","v":119},{"$f":"Invoeren!D125","v":200305506},{"$f":"Invoeren!E125","v":"Yza Babcoubei"},{"$f":"Invoeren!F125","v":"Aquarijn"},{"$f":"Invoeren!J125","v":"X"},{"$f":"Invoeren!I125","v":0},{"$f":"Invoeren!H125","v":"MidWest"}]
[{"$f":"Invoeren!A126","v":120},{"$f":"Invoeren!D126","v":200302048},{"$f":"Invoeren!E126","v":"Jasmijn van Appeldorn"},{"$f":"Invoeren!F126","v":"Aqua-Novio '94"},{"$f":"Invoeren!J126","v":0},{"$f":"Invoeren!I126","v":0},{"$f":"Invoeren!H126","v":"Oost"}]
[{"$f":"Invoeren!A127","v":121},{"$f":"Invoeren!D127","v":200304528},{"$f":"Invoeren!E127","v":"Kincsö Biró"},{"$f":"Invoeren!F127","v":"ACZ"},{"$f":"Invoeren!J127","v":0},{"$f":"Invoeren!I127","v":0},{"$f":"Invoeren!H127","v":"West"}]
[{"$f":"Invoeren!A128","v":122},{"$f":"Invoeren!D128","v":200304190},{"$f":"Invoeren!E128","v":"Orane Brunsting"},{"$f":"Invoeren!F128","v":"Z.P.C.H."},{"$f":"Invoeren!J128","v":0},{"$f":"Invoeren!I128","v":0},{"$f":"Invoeren!H128","v":"MidWest"}]
[{"$f":"Invoeren!A129","v":123},{"$f":"Invoeren!D129","v":200403430},{"$f":"Invoeren!E129","v":"Giorgia Gandossi"},{"$f":"Invoeren!F129","v":"DAW"},{"$f":"Invoeren!J129","v":0},{"$f":"Invoeren!I129","v":0},{"$f":"Invoeren!H129","v":"Midwest"}]
[{"$f":"Invoeren!A130","v":124},{"$f":"Invoeren!D130","v":200401294},{"$f":"Invoeren!E130","v":"Eline Braakhuis"},{"$f":"Invoeren!F130","v":"De Dolfijn"},{"$f":"Invoeren!J130","v":0},{"$f":"Invoeren!I130","v":0},{"$f":"Invoeren!H130","v":"Midwest"}]
[{"$f":"Invoeren!A131","v":125},{"$f":"Invoeren!D131","v":200405286},{"$f":"Invoeren!E131","v":"Loïs Vink"},{"$f":"Invoeren!F131","v":"VZC Veenendaal"},{"$f":"Invoeren!J131","v":"X"},{"$f":"Invoeren!I131","v":0},{"$f":"Invoeren!H131","v":"Midwest"}]
[{"$f":"Invoeren!A132","v":126},{"$f":"Invoeren!D132","v":200404488},{"$f":"Invoeren!E132","v":"Jane van Tol"},{"$f":"Invoeren!F132","v":"Widex Gzc Donk"},{"$f":"Invoeren!J132","v":0},{"$f":"Invoeren!I132","v":0},{"$f":"Invoeren!H132","v":"West"}]
[{"$f":"Invoeren!A133","v":127},{"$f":"Invoeren!D133","v":200502078},{"$f":"Invoeren!E133","v":"Naomi de Jong"},{"$f":"Invoeren!F133","v":"Widex Gzc Donk"},{"$f":"Invoeren!J133","v":0},{"$f":"Invoeren!I133","v":0},{"$f":"Invoeren!H133","v":"West"}]
[{"$f":"Invoeren!A134","v":128},{"$f":"Invoeren!D134","v":200405436},{"$f":"Invoeren!E134","v":"Amy Struijk"},{"$f":"Invoeren!F134","v":"WVZ"},{"$f":"Invoeren!J134","v":0},{"$f":"Invoeren!I134","v":0},{"$f":"Invoeren!H134","v":"West"}]
[{"$f":"Invoeren!A135","v":129},{"$f":"Invoeren!D135","v":200301372},{"$f":"Invoeren!E135","v":"Frauke Stok"},{"$f":"Invoeren!F135","v":"Cadans"},{"$f":"Invoeren!J135","v":0},{"$f":"Invoeren!I135","v":0},{"$f":"Invoeren!H135","v":"oost"}]
[{"$f":"Invoeren!A136","v":130},{"$f":"Invoeren!D136","v":200500162},{"$f":"Invoeren!E136","v":"Mija Bussink"},{"$f":"Invoeren!F136","v":"ZC.Eijsden"},{"$f":"Invoeren!J136","v":0},{"$f":"Invoeren!I136","v":0},{"$f":"Invoeren!H136","v":"Zuid"}]
[{"$f":"Invoeren!A137","v":131},{"$f":"Invoeren!D137","v":200502062},{"$f":"Invoeren!E137","v":"Linda Driessen"},{"$f":"Invoeren!F137","v":"HZPC Horst"},{"$f":"Invoeren!J137","v":"X"},{"$f":"Invoeren!I137","v":0},{"$f":"Invoeren!H137","v":"zuid"}]
[{"$f":"Invoeren!A138","v":132},{"$f":"Invoeren!D138","v":200503978},{"$f":"Invoeren!E138","v":"Maud van Breukelen"},{"$f":"Invoeren!F138","v":"Aquarijn"},{"$f":"Invoeren!J138","v":"X"},{"$f":"Invoeren!I138","v":0},{"$f":"Invoeren!H138","v":"MidWest"}]
[{"$f":"Invoeren!A139","v":133},{"$f":"Invoeren!D139","v":200400053},{"$f":"Invoeren!E139","v":"Giovanni van der Zon"},{"$f":"Invoeren!F139","v":"ACZ"},{"$f":"Invoeren!J139","v":0},{"$f":"Invoeren!I139","v":0},{"$f":"Invoeren!H139","v":"West"}]
[{"$f":"Invoeren!A140","v":134},{"$f":"Invoeren!D140","v":200500078},{"$f":"Invoeren!E140","v":"Jody Otte"},{"$f":"Invoeren!F140","v":"Hera'11"},{"$f":"Invoeren!J140","v":0},{"$f":"Invoeren!I140","v":0},{"$f":"Invoeren!H140","v":"Oost"}]
[{"$f":"Invoeren!A141","v":135},{"$f":"Invoeren!D141","v":200303570},{"$f":"Invoeren!E141","v":"Melissa Groeneveld"},{"$f":"Invoeren!F141","v":"De Houtrib"},{"$f":"Invoeren!J141","v":"X"},{"$f":"Invoeren!I141","v":0},{"$f":"Invoeren!H141","v":"Oost"}]
[{"$f":"Invoeren!A142","v":136},{"$f":"Invoeren!D142","v":200302652},{"$f":"Invoeren!E142","v":"Femke Vos"},{"$f":"Invoeren!F142","v":"Z.P.C.H."},{"$f":"Invoeren!J142","v":0},{"$f":"Invoeren!I142","v":0},{"$f":"Invoeren!H142","v":"MidWest"}]
[{"$f":"Invoeren!A143","v":137},{"$f":"Invoeren!D143","v":200404262},{"$f":"Invoeren!E143","v":"Ailani Weltz"},{"$f":"Invoeren!F143","v":"DAW"},{"$f":"Invoeren!J143","v":0},{"$f":"Invoeren!I143","v":0},{"$f":"Invoeren!H143","v":"Midwest"}]
[{"$f":"Invoeren!A144","v":138},{"$f":"Invoeren!D144","v":200403600},{"$f":"Invoeren!E144","v":"Marleen Voesten"},{"$f":"Invoeren!F144","v":"De Dolfijn"},{"$f":"Invoeren!J144","v":0},{"$f":"Invoeren!I144","v":0},{"$f":"Invoeren!H144","v":"MidWest"}]
[{"$f":"Invoeren!A145","v":139},{"$f":"Invoeren!D145","v":200404486},{"$f":"Invoeren!E145","v":"Jessie Sapuletej"},{"$f":"Invoeren!F145","v":"Widex Gzc Donk"},{"$f":"Invoeren!J145","v":0},{"$f":"Invoeren!I145","v":0},{"$f":"Invoeren!H145","v":"West"}]
[{"$f":"Invoeren!A146","v":140},{"$f":"Invoeren!D146","v":200302352},{"$f":"Invoeren!E146","v":"Laura Lai"},{"$f":"Invoeren!F146","v":"De Dolfijn"},{"$f":"Invoeren!J146","v":0},{"$f":"Invoeren!I146","v":0},{"$f":"Invoeren!H146","v":"Midwest"}]
[{"$f":"Invoeren!A147","v":141},{"$f":"Invoeren!D147","v":200404488},{"$f":"Invoeren!E147","v":"Noa Palsgraaf"},{"$f":"Invoeren!F147","v":"Widex Gzc Donk"},{"$f":"Invoeren!J147","v":0},{"$f":"Invoeren!I147","v":0},{"$f":"Invoeren!H147","v":"West"}]
[{"$f":"Invoeren!A148","v":142},{"$f":"Invoeren!D148","v":200405434},{"$f":"Invoeren!E148","v":"Eline Schouten"},{"$f":"Invoeren!F148","v":"WVZ"},{"$f":"Invoeren!J148","v":"X"},{"$f":"Invoeren!I148","v":0},{"$f":"Invoeren!H148","v":"West"}]
[{"$f":"Invoeren!A149","v":143},{"$f":"Invoeren!D149","v":200400606},{"$f":"Invoeren!E149","v":"Fleur Valk"},{"$f":"Invoeren!F149","v":"AZC"},{"$f":"Invoeren!J149","v":0},{"$f":"Invoeren!I149","v":0},{"$f":"Invoeren!H149","v":"West"}]
[{"$f":"Invoeren!A150","v":144},{"$f":"Invoeren!D150","v":200400964},{"$f":"Invoeren!E150","v":"Pauline Radochyn"},{"$f":"Invoeren!F150","v":"Cadans"},{"$f":"Invoeren!J150","v":0},{"$f":"Invoeren!I150","v":0},{"$f":"Invoeren!H150","v":"oost"}]
[{"$f":"Invoeren!A151","v":145},{"$f":"Invoeren!D151","v":200404146},{"$f":"Invoeren!E151","v":"Axana Gerits"},{"$f":"Invoeren!F151","v":"ZC.Eijsden"},{"$f":"Invoeren!J151","v":"X"},{"$f":"Invoeren!I151","v":0},{"$f":"Invoeren!H151","v":"Zuid"}]
[{"$f":"Invoeren!A152","v":146},{"$f":"Invoeren!D152","v":200305228},{"$f":"Invoeren!E152","v":"Dieuwke van de Berg"},{"$f":"Invoeren!F152","v":"Hieronymus"},{"$f":"Invoeren!J152","v":0},{"$f":"Invoeren!I152","v":0},{"$f":"Invoeren!H152","v":"Zuid"}]
[{"$f":"Invoeren!A153","v":147},{"$f":"Invoeren!D153","v":200304002},{"$f":"Invoeren!E153","v":"Femke Maertens"},{"$f":"Invoeren!F153","v":"ACZ"},{"$f":"Invoeren!J153","v":0},{"$f":"Invoeren!I153","v":0},{"$f":"Invoeren!H153","v":"West"}]
[{"$f":"Invoeren!A154","v":148},{"$f":"Invoeren!D154","v":200502010},{"$f":"Invoeren!E154","v":"Joëlle van Tol"},{"$f":"Invoeren!F154","v":"De Houtrib"},{"$f":"Invoeren!J154","v":0},{"$f":"Invoeren!I154","v":0},{"$f":"Invoeren!H154","v":"Oost"}]
[{"$f":"Invoeren!A155","v":149},{"$f":"Invoeren!D155","v":200400354},{"$f":"Invoeren!E155","v":"Noortje Reijnen"},{"$f":"Invoeren!F155","v":"Z.P.C.H."},{"$f":"Invoeren!J155","v":0},{"$f":"Invoeren!I155","v":0},{"$f":"Invoeren!H155","v":"MidWest"}]
[{"$f":"Invoeren!A156","v":150},{"$f":"Invoeren!D156","v":200302354},{"$f":"Invoeren!E156","v":"Britt Huijsman"},{"$f":"Invoeren!F156","v":"De Dolfijn"},{"$f":"Invoeren!J156","v":0},{"$f":"Invoeren!I156","v":0},{"$f":"Invoeren!H156","v":"Midwest"}]
[{"$f":"Invoeren!A157","v":151},{"$f":"Invoeren!D157","v":200503126},{"$f":"Invoeren!E157","v":"Anaïs van der Vliet"},{"$f":"Invoeren!F157","v":"Widex Gzc Donk"},{"$f":"Invoeren!J157","v":0},{"$f":"Invoeren!I157","v":0},{"$f":"Invoeren!H157","v":"West"}]
[{"$f":"Invoeren!A158","v":152},{"$f":"Invoeren!D158","v":200302244},{"$f":"Invoeren!E158","v":"Isa Turnhout"},{"$f":"Invoeren!F158","v":"AZC"},{"$f":"Invoeren!J158","v":0},{"$f":"Invoeren!I158","v":0},{"$f":"Invoeren!H158","v":"West"}]
[{"$f":"Invoeren!A159","v":153},{"$f":"Invoeren!D159","v":200401990},{"$f":"Invoeren!E159","v":"Veerle Boerefijn"},{"$f":"Invoeren!F159","v":"AZC"},{"$f":"Invoeren!J159","v":0},{"$f":"Invoeren!I159","v":0},{"$f":"Invoeren!H159","v":"West"}]
[{"$f":"Invoeren!A160","v":154},{"$f":"Invoeren!D160","v":200400260},{"$f":"Invoeren!E160","v":"Esther Hermsen"},{"$f":"Invoeren!F160","v":"Cadans"},{"$f":"Invoeren!J160","v":0},{"$f":"Invoeren!I160","v":0},{"$f":"Invoeren!H160","v":"oost"}]
[{"$f":"Invoeren!A161","v":155},{"$f":"Invoeren!D161","v":200302570},{"$f":"Invoeren!E161","v":"Jikke Heijne"},{"$f":"Invoeren!F161","v":" Swol 1894"},{"$f":"Invoeren!J161","v":0},{"$f":"Invoeren!I161","v":0},{"$f":"Invoeren!H161","v":"Oost"}]
[{"$f":"Invoeren!A162","v":156},{"$f":"Invoeren!D162","v":200503690},{"$f":"Invoeren!E162","v":"Veerle Bausch"},{"$f":"Invoeren!F162","v":"Hellas-Glana"},{"$f":"Invoeren!J162","v":"X"},{"$f":"Invoeren!I162","v":0},{"$f":"Invoeren!H162","v":"Zuid"}]
[{"$f":"Invoeren!A163","v":157},{"$f":"Invoeren!D163","v":200302798},{"$f":"Invoeren!E163","v":"Esther Lanser"},{"$f":"Invoeren!F163","v":"ACZ"},{"$f":"Invoeren!J163","v":" "},{"$f":"Invoeren!I163","v":0},{"$f":"Invoeren!H163","v":"West"}]
[{"$f":"Invoeren!A164","v":158},{"$f":"Invoeren!D164","v":200302650},{"$f":"Invoeren!E164","v":"Zärrin Sahertian "},{"$f":"Invoeren!F164","v":"Z.P.C.H."},{"$f":"Invoeren!J164","v":0},{"$f":"Invoeren!I164","v":0},{"$f":"Invoeren!H164","v":"MidWest"}]
[{"$f":"Invoeren!A165","v":159},{"$f":"Invoeren!D165","v":200400336},{"$f":"Invoeren!E165","v":"Silke Tolsma"},{"$f":"Invoeren!F165","v":"VZC Veenendaal"},{"$f":"Invoeren!J165","v":0},{"$f":"Invoeren!I165","v":0},{"$f":"Invoeren!H165","v":"Midwest"}]
[{"$f":"Invoeren!A166","v":160},{"$f":"Invoeren!D166","v":200503128},{"$f":"Invoeren!E166","v":"Marielou van der Vliet"},{"$f":"Invoeren!F166","v":"Widex Gzc Donk"},{"$f":"Invoeren!J166","v":0},{"$f":"Invoeren!I166","v":0},{"$f":"Invoeren!H166","v":"West"}]
[{"$f":"Invoeren!A167","v":161},{"$f":"Invoeren!D167","v":200304068},{"$f":"Invoeren!E167","v":"Charlotte Leemburg"},{"$f":"Invoeren!F167","v":"BZ&PC"},{"$f":"Invoeren!J167","v":0},{"$f":"Invoeren!I167","v":0},{"$f":"Invoeren!H167","v":"West"}]
[{"$f":"Invoeren!A168","v":162},{"$f":"Invoeren!D168","v":200400948},{"$f":"Invoeren!E168","v":"Alisa Brandon"},{"$f":"Invoeren!F168","v":" Swol 1894"},{"$f":"Invoeren!J168","v":0},{"$f":"Invoeren!I168","v":0},{"$f":"Invoeren!H168","v":"Oost"}]
[{"$f":"Invoeren!A169","v":163},{"$f":"Invoeren!D169","v":200300796},{"$f":"Invoeren!E169","v":"Anne Willems"},{"$f":"Invoeren!F169","v":"ZC.Eijsden"},{"$f":"Invoeren!J169","v":0},{"$f":"Invoeren!I169","v":0},{"$f":"Invoeren!H169","v":"Zuid"}]
[{"$f":"Invoeren!A170","v":164},{"$f":"Invoeren!D170","v":200501056},{"$f":"Invoeren!E170","v":"Devina Baank"},{"$f":"Invoeren!F170","v":"De Houtrib"},{"$f":"Invoeren!J170","v":"X"},{"$f":"Invoeren!I170","v":0},{"$f":"Invoeren!H170","v":"Oost"}]
[{"$f":"Invoeren!A171","v":165},{"$f":"Invoeren!D171","v":200405606},{"$f":"Invoeren!E171","v":"Marta Podebska"},{"$f":"Invoeren!F171","v":"Z.P.C.H."},{"$f":"Invoeren!J171","v":"X"},{"$f":"Invoeren!I171","v":0},{"$f":"Invoeren!H171","v":"MidWest"}]
[{"$f":"Invoeren!A172","v":166},{"$f":"Invoeren!D172","v":200404874},{"$f":"Invoeren!E172","v":"Elsa Veldhuijzen"},{"$f":"Invoeren!F172","v":"PSV Synchro Team Eindhoven"},{"$f":"Invoeren!J172","v":"X"},{"$f":"Invoeren!I172","v":0},{"$f":"Invoeren!H172","v":"Zuid"}]
[{"$f":"Invoeren!A173","v":167},{"$f":"Invoeren!D173","v":200405556},{"$f":"Invoeren!E173","v":"Kaoutar Ouahadi"},{"$f":"Invoeren!F173","v":"De Dolfijn"},{"$f":"Invoeren!J173","v":"X"},{"$f":"Invoeren!I173","v":0},{"$f":"Invoeren!H173","v":"Midwest"}]
[{"$f":"Invoeren!A174","v":168},{"$f":"Invoeren!D174","v":200501332},{"$f":"Invoeren!E174","v":"Dionne Kulderij"},{"$f":"Invoeren!F174","v":"ZV de Zaan"},{"$f":"Invoeren!J174","v":"X"},{"$f":"Invoeren!I174","v":0},{"$f":"Invoeren!H174","v":"MidWest"}]
[{"$f":"Invoeren!A175","v":169},{"$f":"Invoeren!D175","v":200503582},{"$f":"Invoeren!E175","v":"July Vermeulen"},{"$f":"Invoeren!F175","v":"Widex Gzc Donk"},{"$f":"Invoeren!J175","v":0},{"$f":"Invoeren!I175","v":0},{"$f":"Invoeren!H175","v":"West"}]
[{"$f":"Invoeren!A176","v":170},{"$f":"Invoeren!D176","v":200302568},{"$f":"Invoeren!E176","v":"Maggie Jiroutova"},{"$f":"Invoeren!F176","v":"AZC"},{"$f":"Invoeren!J176","v":0},{"$f":"Invoeren!I176","v":0},{"$f":"Invoeren!H176","v":"West"}]
[{"$f":"Invoeren!A177","v":171},{"$f":"Invoeren!D177","v":200403982},{"$f":"Invoeren!E177","v":"Maike van Vliet"},{"$f":"Invoeren!F177","v":"BZ&PC"},{"$f":"Invoeren!J177","v":0},{"$f":"Invoeren!I177","v":0},{"$f":"Invoeren!H177","v":"West"}]
[{"$f":"Invoeren!A178","v":172},{"$f":"Invoeren!D178","v":200302792},{"$f":"Invoeren!E178","v":"Marit Kramer"},{"$f":"Invoeren!F178","v":" Swol 1894"},{"$f":"Invoeren!J178","v":0},{"$f":"Invoeren!I178","v":0},{"$f":"Invoeren!H178","v":"Oost"}]
[{"$f":"Invoeren!A179","v":173},{"$f":"Invoeren!D179","v":200500724},{"$f":"Invoeren!E179","v":"Arwen Pijpers"},{"$f":"Invoeren!F179","v":"Hellas-Glana"},{"$f":"Invoeren!J179","v":"X"},{"$f":"Invoeren!I179","v":0},{"$f":"Invoeren!H179","v":"Zuid"}]
[{"$f":"Invoeren!A180","v":174},{"$f":"Invoeren!D180","v":200304172},{"$f":"Invoeren!E180","v":"Ymke Tolboom"},{"$f":"Invoeren!F180","v":"PSV Synchro Team Eindhoven"},{"$f":"Invoeren!J180","v":0},{"$f":"Invoeren!I180","v":0},{"$f":"Invoeren!H180","v":"Zuid"}]
[{"$f":"Invoeren!A181","v":175},{"$f":"Invoeren!D181","v":200300946},{"$f":"Invoeren!E181","v":"Annet Meinert"},{"$f":"Invoeren!F181","v":"De Houtrib"},{"$f":"Invoeren!J181","v":0},{"$f":"Invoeren!I181","v":0},{"$f":"Invoeren!H181","v":"Oost"}]
[{"$f":"Invoeren!A182","v":176},{"$f":"Invoeren!D182","v":200500074},{"$f":"Invoeren!E182","v":"Willemijn Buitelaar "},{"$f":"Invoeren!F182","v":"Z.P.C.H."},{"$f":"Invoeren!J182","v":0},{"$f":"Invoeren!I182","v":0},{"$f":"Invoeren!H182","v":"MidWest"}]
[{"$f":"Invoeren!A183","v":177},{"$f":"Invoeren!D183","v":200502082},{"$f":"Invoeren!E183","v":"Yndi Nieuwmans"},{"$f":"Invoeren!F183","v":"Widex Gzc Donk"},{"$f":"Invoeren!J183","v":0},{"$f":"Invoeren!I183","v":0},{"$f":"Invoeren!H183","v":"West"}]
[{"$f":"Invoeren!A184","v":178},{"$f":"Invoeren!D184","v":200402510},{"$f":"Invoeren!E184","v":"Caithlin Reimer"},{"$f":"Invoeren!F184","v":"AZC"},{"$f":"Invoeren!J184","v":0},{"$f":"Invoeren!I184","v":0},{"$f":"Invoeren!H184","v":"West"}]
[{"$f":"Invoeren!A185","v":179},{"$f":"Invoeren!D185","v":200400742},{"$f":"Invoeren!E185","v":"Debbie Geilen"},{"$f":"Invoeren!F185","v":"Hellas-Glana"},{"$f":"Invoeren!J185","v":0},{"$f":"Invoeren!I185","v":0},{"$f":"Invoeren!H185","v":"Zuid"}]
[{"$f":"Invoeren!A186","v":180},{"$f":"Invoeren!D186","v":200500564},{"$f":"Invoeren!E186","v":"Marloes Ardon"},{"$f":"Invoeren!F186","v":"ACZ"},{"$f":"Invoeren!J186","v":0},{"$f":"Invoeren!I186","v":0},{"$f":"Invoeren!H186","v":"West"}]
[{"$f":"Invoeren!A187","v":181},{"$f":"Invoeren!D187","v":200403894},{"$f":"Invoeren!E187","v":"Marin Hokke"},{"$f":"Invoeren!F187","v":"Z.P.C.H."},{"$f":"Invoeren!J187","v":0},{"$f":"Invoeren!I187","v":0},{"$f":"Invoeren!H187","v":"MidWest"}]
[{"$f":"Invoeren!A188","v":182},{"$f":"Invoeren!D188","v":200503994},{"$f":"Invoeren!E188","v":"Kyra van Dijk"},{"$f":"Invoeren!F188","v":"Widex Gzc Donk"},{"$f":"Invoeren!J188","v":0},{"$f":"Invoeren!I188","v":0},{"$f":"Invoeren!H188","v":"West"}]
[{"$f":"Invoeren!A189","v":183},{"$f":"Invoeren!D189","v":200404242},{"$f":"Invoeren!E189","v":"Noah Janssen"},{"$f":"Invoeren!F189","v":"HZPC Horst"},{"$f":"Invoeren!J189","v":0},{"$f":"Invoeren!I189","v":0},{"$f":"Invoeren!H189","v":"zuid"}]
[{"$f":"Invoeren!A190","v":184},{"$f":"Invoeren!D190","v":200502076},{"$f":"Invoeren!E190","v":"Kayra Ozsahin"},{"$f":"Invoeren!F190","v":"ACZ"},{"$f":"Invoeren!J190","v":0},{"$f":"Invoeren!I190","v":0},{"$f":"Invoeren!H190","v":"West"}]
[{"$f":"Invoeren!A191","v":185},{"$f":"Invoeren!D191","v":200504276},{"$f":"Invoeren!E191","v":"Marlinka Grundell"},{"$f":"Invoeren!F191","v":"Z.P.C.H."},{"$f":"Invoeren!J191","v":0},{"$f":"Invoeren!I191","v":0},{"$f":"Invoeren!H191","v":"MidWest"}]
[{"$f":"Invoeren!A192","v":186},{"$f":"Invoeren!D192","v":200304386},{"$f":"Invoeren!E192","v":"Puk van der Laan"},{"$f":"Invoeren!F192","v":"AZC"},{"$f":"Invoeren!J192","v":0},{"$f":"Invoeren!I192","v":0},{"$f":"Invoeren!H192","v":"West"}]
[{"$f":"Invoeren!A193","v":187},{"$f":"Invoeren!D193","v":200302016},{"$f":"Invoeren!E193","v":"Elza van Vliet"},{"$f":"Invoeren!F193","v":"BZ&PC"},{"$f":"Invoeren!J193","v":0},{"$f":"Invoeren!I193","v":0},{"$f":"Invoeren!H193","v":"West"}]
[{"$f":"Invoeren!A194","v":188},{"$f":"Invoeren!D194","v":200301828},{"$f":"Invoeren!E194","v":"Lisanne Verhees"},{"$f":"Invoeren!F194","v":"ZPC Nederweert"},{"$f":"Invoeren!J194","v":0},{"$f":"Invoeren!I194","v":0},{"$f":"Invoeren!H194","v":"Zuid"}]
[{"$f":"Invoeren!A195","v":189},{"$f":"Invoeren!D195","v":200305510},{"$f":"Invoeren!E195","v":"Mirella Schieman"},{"$f":"Invoeren!F195","v":"DSZ"},{"$f":"Invoeren!J195","v":0},{"$f":"Invoeren!I195","v":0},{"$f":"Invoeren!H195","v":"West"}]
[{"$f":"Invoeren!A196","v":190},{"$f":"Invoeren!D196","v":200504590},{"$f":"Invoeren!E196","v":"Iris Schrama"},{"$f":"Invoeren!F196","v":"Z.P.C.H."},{"$f":"Invoeren!J196","v":0},{"$f":"Invoeren!I196","v":0},{"$f":"Invoeren!H196","v":"MidWest"}]
[{"$f":"Invoeren!A197","v":191},{"$f":"Invoeren!D197","v":200503990},{"$f":"Invoeren!E197","v":"Linda Glebbeek"},{"$f":"Invoeren!F197","v":"Widex Gzc Donk"},{"$f":"Invoeren!J197","v":0},{"$f":"Invoeren!I197","v":0},{"$f":"Invoeren!H197","v":"West"}]
[{"$f":"Invoeren!A198","v":192},{"$f":"Invoeren!D198","v":200300784},{"$f":"Invoeren!E198","v":"Charlotte Vos"},{"$f":"Invoeren!F198","v":"ZV de Zaan"},{"$f":"Invoeren!J198","v":0},{"$f":"Invoeren!I198","v":0},{"$f":"Invoeren!H198","v":"MidWest"}]
[{"$f":"Invoeren!A199","v":193},{"$f":"Invoeren!D199","v":200304066},{"$f":"Invoeren!E199","v":"Danielle Verleun"},{"$f":"Invoeren!F199","v":"BZ&PC"},{"$f":"Invoeren!J199","v":0},{"$f":"Invoeren!I199","v":0},{"$f":"Invoeren!H199","v":"West"}]
[{"$f":"Invoeren!A200","v":194},{"$f":"Invoeren!D200","v":200300798},{"$f":"Invoeren!E200","v":"Britt Verhaeg"},{"$f":"Invoeren!F200","v":"HZPC Horst"},{"$f":"Invoeren!J200","v":0},{"$f":"Invoeren!I200","v":0},{"$f":"Invoeren!H200","v":"zuid"}]
[{"$f":"Invoeren!A201","v":195},{"$f":"Invoeren!D201","v":200503006},{"$f":"Invoeren!E201","v":"Marola Youssef"},{"$f":"Invoeren!F201","v":"Z.P.C.H."},{"$f":"Invoeren!J201","v":0},{"$f":"Invoeren!I201","v":0},{"$f":"Invoeren!H201","v":"MidWest"}]
[{"$f":"Invoeren!A202","v":196},{"$f":"Invoeren!D202","v":200503130},{"$f":"Invoeren!E202","v":"Romy van Wijngaarden"},{"$f":"Invoeren!F202","v":"Widex Gzc Donk"},{"$f":"Invoeren!J202","v":0},{"$f":"Invoeren!I202","v":0},{"$f":"Invoeren!H202","v":"West"}]
[{"$f":"Invoeren!A203","v":197},{"$f":"Invoeren!D203","v":200304428},{"$f":"Invoeren!E203","v":"Sophie de Cock"},{"$f":"Invoeren!F203","v":"PSV Synchro Team Eindhoven"},{"$f":"Invoeren!J203","v":0},{"$f":"Invoeren!I203","v":0},{"$f":"Invoeren!H203","v":"Zuid"}]
[{"$f":"Invoeren!A204","v":198},{"$f":"Invoeren!D204","v":200401600},{"$f":"Invoeren!E204","v":"Mirjam Jochemsen"},{"$f":"Invoeren!F204","v":"AZC"},{"$f":"Invoeren!J204","v":0},{"$f":"Invoeren!I204","v":0},{"$f":"Invoeren!H204","v":"West"}]
[{"$f":"Invoeren!A205","v":199},{"$f":"Invoeren!D205","v":200404998},{"$f":"Invoeren!E205","v":"Naomi Baggerman"},{"$f":"Invoeren!F205","v":"DSZ"},{"$f":"Invoeren!J205","v":0},{"$f":"Invoeren!I205","v":0},{"$f":"Invoeren!H205","v":"West"}]
[{"$f":"Invoeren!A206","v":200},{"$f":"Invoeren!D206","v":200300720},{"$f":"Invoeren!E206","v":"Laura Otten"},{"$f":"Invoeren!F206","v":"HZPC Horst"},{"$f":"Invoeren!J206","v":0},{"$f":"Invoeren!I206","v":0},{"$f":"Invoeren!H206","v":"zuid"}]
[{"$f":"Invoeren!A207","v":201},{"$f":"Invoeren!D207","v":200304388},{"$f":"Invoeren!E207","v":"Kyra Roelands "},{"$f":"Invoeren!F207","v":"AZC"},{"$f":"Invoeren!J207","v":0},{"$f":"Invoeren!I207","v":0},{"$f":"Invoeren!H207","v":"West"}]
[{"$f":"Invoeren!A208","v":202},{"$f":"Invoeren!D208","v":200402876},{"$f":"Invoeren!E208","v":"Marije Koot"},{"$f":"Invoeren!F208","v":"BZ&PC"},{"$f":"Invoeren!J208","v":0},{"$f":"Invoeren!I208","v":0},{"$f":"Invoeren!H208","v":"West"}]
[{"$f":"Invoeren!A209","v":203},{"$f":"Invoeren!D209","v":200303876},{"$f":"Invoeren!E209","v":"Julia Derksen"},{"$f":"Invoeren!F209","v":"PSV Synchro Team Eindhoven"},{"$f":"Invoeren!J209","v":0},{"$f":"Invoeren!I209","v":0},{"$f":"Invoeren!H209","v":"Zuid"}]
[{"$f":"Invoeren!A210","v":204},{"$f":"Invoeren!D210","v":200305458},{"$f":"Invoeren!E210","v":"Merian Bazuin"},{"$f":"Invoeren!F210","v":"DSZ"},{"$f":"Invoeren!J210","v":"X"},{"$f":"Invoeren!I210","v":0},{"$f":"Invoeren!H210","v":"West"}]
[{"$f":"Invoeren!A211","v":205},{"$f":"Invoeren!D211","v":200500360},{"$f":"Invoeren!E211","v":"Iris Florisson"},{"$f":"Invoeren!F211","v":"AZC"},{"$f":"Invoeren!J211","v":0},{"$f":"Invoeren!I211","v":0},{"$f":"Invoeren!H211","v":"West"}]
[{"$f":"Invoeren!A212","v":206},{"$f":"Invoeren!D212","v":200602654},{"$f":"Invoeren!E212","v":"Megan Amling"},{"$f":"Invoeren!F212","v":"BZ&PC"},{"$f":"Invoeren!J212","v":"X"},{"$f":"Invoeren!I212","v":"BM"},{"$f":"Invoeren!H212","v":"West"}]
[{"$f":"Invoeren!A213","v":207},{"$f":"Invoeren!D213","v":200503686},{"$f":"Invoeren!E213","v":"Floor van der Heijden"},{"$f":"Invoeren!F213","v":"DSZ"},{"$f":"Invoeren!J213","v":0},{"$f":"Invoeren!I213","v":0},{"$f":"Invoeren!H213","v":"West"}]
[{"$f":"Invoeren!A214","v":208},{"$f":"Invoeren!D214","v":200106068},{"$f":"Invoeren!E214","v":"Evi van Ginneken"},{"$f":"Invoeren!F214","v":"Synchro Breda"},{"$f":"Invoeren!J214","v":"X"},{"$f":"Invoeren!I214","v":"BM"},{"$f":"Invoeren!H214","v":"Zuid"}]
[{"$f":"Invoeren!A215","v":209},{"$f":"Invoeren!D215","v":200304358},{"$f":"Invoeren!E215","v":"Danica Kosoredjo"},{"$f":"Invoeren!F215","v":"DSZ"},{"$f":"Invoeren!J215","v":0},{"$f":"Invoeren!I215","v":0},{"$f":"Invoeren!H215","v":"West"}]
[{"$f":"Invoeren!A216","v":210},{"$f":"Invoeren!D216","v":200300670},{"$f":"Invoeren!E216","v":"Sanne Baars"},{"$f":"Invoeren!F216","v":"BZ&PC"},{"$f":"Invoeren!J216","v":0},{"$f":"Invoeren!I216","v":0},{"$f":"Invoeren!H216","v":"West"}]
[{"$f":"Invoeren!A217","v":211},{"$f":"Invoeren!D217","v":200404996},{"$f":"Invoeren!E217","v":"Femke Boxman"},{"$f":"Invoeren!F217","v":"DSZ"},{"$f":"Invoeren!J217","v":0},{"$f":"Invoeren!I217","v":0},{"$f":"Invoeren!H217","v":"West"}]
[{"$f":"Invoeren!A218","v":212},{"$f":"Invoeren!D218","v":0},{"$f":"Invoeren!E218","v":0},{"$f":"Invoeren!F218","v":0},{"$f":"Invoeren!J218","v":0},{"$f":"Invoeren!I218","v":0},{"$f":"Invoeren!H218","v":0}]
[{"$f":"Invoeren!A219","v":213},{"$f":"Invoeren!D219","v":0},{"$f":"Invoeren!E219","v":0},{"$f":"Invoeren!F219","v":0},{"$f":"Invoeren!J219","v":0},{"$f":"Invoeren!I219","v":0},{"$f":"Invoeren!H219","v":0}]
[{"$f":"Invoeren!A220","v":214},{"$f":"Invoeren!D220","v":0},{"$f":"Invoeren!E220","v":0},{"$f":"Invoeren!F220","v":0},{"$f":"Invoeren!J220","v":0},{"$f":"Invoeren!I220","v":0},{"$f":"Invoeren!H220","v":0}]
[{"$f":"Invoeren!A221","v":215},{"$f":"Invoeren!D221","v":0},{"$f":"Invoeren!E221","v":0},{"$f":"Invoeren!F221","v":0},{"$f":"Invoeren!J221","v":0},{"$f":"Invoeren!I221","v":0},{"$f":"Invoeren!H221","v":0}]
[{"$f":"Invoeren!A222","v":216},{"$f":"Invoeren!D222","v":0},{"$f":"Invoeren!E222","v":0},{"$f":"Invoeren!F222","v":0},{"$f":"Invoeren!J222","v":0},{"$f":"Invoeren!I222","v":0},{"$f":"Invoeren!H222","v":0}]
[{"$f":"Invoeren!A223","v":217},{"$f":"Invoeren!D223","v":0},{"$f":"Invoeren!E223","v":0},{"$f":"Invoeren!F223","v":0},{"$f":"Invoeren!J223","v":0},{"$f":"Invoeren!I223","v":0},{"$f":"Invoeren!H223","v":0}]
[{"$f":"Invoeren!A224","v":218},{"$f":"Invoeren!D224","v":0},{"$f":"Invoeren!E224","v":0},{"$f":"Invoeren!F224","v":0},{"$f":"Invoeren!J224","v":0},{"$f":"Invoeren!I224","v":0},{"$f":"Invoeren!H224","v":0}]
[{"$f":"Invoeren!A225","v":219},{"$f":"Invoeren!D225","v":0},{"$f":"Invoeren!E225","v":0},{"$f":"Invoeren!F225","v":0},{"$f":"Invoeren!J225","v":0},{"$f":"Invoeren!I225","v":0},{"$f":"Invoeren!H225","v":0}]
[{"$f":"Invoeren!A226","v":220},{"$f":"Invoeren!D226","v":0},{"$f":"Invoeren!E226","v":0},{"$f":"Invoeren!F226","v":0},{"$f":"Invoeren!J226","v":0},{"$f":"Invoeren!I226","v":0},{"$f":"Invoeren!H226","v":0}]
[{"$f":"Invoeren!A227","v":221},{"$f":"Invoeren!D227","v":0},{"$f":"Invoeren!E227","v":0},{"$f":"Invoeren!F227","v":0},{"$f":"Invoeren!J227","v":0},{"$f":"Invoeren!I227","v":0},{"$f":"Invoeren!H227","v":0}]
[{"$f":"Invoeren!A228","v":222},{"$f":"Invoeren!D228","v":0},{"$f":"Invoeren!E228","v":0},{"$f":"Invoeren!F228","v":0},{"$f":"Invoeren!J228","v":0},{"$f":"Invoeren!I228","v":0},{"$f":"Invoeren!H228","v":0}]
[{"$f":"Invoeren!A229","v":223},{"$f":"Invoeren!D229","v":0},{"$f":"Invoeren!E229","v":0},{"$f":"Invoeren!F229","v":0},{"$f":"Invoeren!J229","v":0},{"$f":"Invoeren!I229","v":0},{"$f":"Invoeren!H229","v":0}]
[{"$f":"Invoeren!A230","v":224},{"$f":"Invoeren!D230","v":0},{"$f":"Invoeren!E230","v":0},{"$f":"Invoeren!F230","v":0},{"$f":"Invoeren!J230","v":0},{"$f":"Invoeren!I230","v":0},{"$f":"Invoeren!H230","v":0}]
[{"$f":"Invoeren!A231","v":225},{"$f":"Invoeren!D231","v":0},{"$f":"Invoeren!E231","v":0},{"$f":"Invoeren!F231","v":0},{"$f":"Invoeren!J231","v":0},{"$f":"Invoeren!I231","v":0},{"$f":"Invoeren!H231","v":0}]
[{"$f":"Invoeren!A232","v":226},{"$f":"Invoeren!D232","v":0},{"$f":"Invoeren!E232","v":0},{"$f":"Invoeren!F232","v":0},{"$f":"Invoeren!J232","v":0},{"$f":"Invoeren!I232","v":0},{"$f":"Invoeren!H232","v":0}]
[{"$f":"Invoeren!A233","v":227},{"$f":"Invoeren!D233","v":0},{"$f":"Invoeren!E233","v":0},{"$f":"Invoeren!F233","v":0},{"$f":"Invoeren!J233","v":0},{"$f":"Invoeren!I233","v":0},{"$f":"Invoeren!H233","v":0}]
[{"$f":"Invoeren!A234","v":228},{"$f":"Invoeren!D234","v":0},{"$f":"Invoeren!E234","v":0},{"$f":"Invoeren!F234","v":0},{"$f":"Invoeren!J234","v":0},{"$f":"Invoeren!I234","v":0},{"$f":"Invoeren!H234","v":0}]
[{"$f":"Invoeren!A235","v":229},{"$f":"Invoeren!D235","v":0},{"$f":"Invoeren!E235","v":0},{"$f":"Invoeren!F235","v":0},{"$f":"Invoeren!J235","v":0},{"$f":"Invoeren!I235","v":0},{"$f":"Invoeren!H235","v":0}]
[{"$f":"Invoeren!A236","v":230},{"$f":"Invoeren!D236","v":0},{"$f":"Invoeren!E236","v":0},{"$f":"Invoeren!F236","v":0},{"$f":"Invoeren!J236","v":0},{"$f":"Invoeren!I236","v":0},{"$f":"Invoeren!H236","v":0}]
[{"$f":"Invoeren!A237","v":231},{"$f":"Invoeren!D237","v":0},{"$f":"Invoeren!E237","v":0},{"$f":"Invoeren!F237","v":0},{"$f":"Invoeren!J237","v":0},{"$f":"Invoeren!I237","v":0},{"$f":"Invoeren!H237","v":0}]
[{"$f":"Invoeren!A238","v":232},{"$f":"Invoeren!D238","v":0},{"$f":"Invoeren!E238","v":0},{"$f":"Invoeren!F238","v":0},{"$f":"Invoeren!J238","v":0},{"$f":"Invoeren!I238","v":0},{"$f":"Invoeren!H238","v":0}]
[{"$f":"Invoeren!A239","v":233},{"$f":"Invoeren!D239","v":0},{"$f":"Invoeren!E239","v":0},{"$f":"Invoeren!F239","v":0},{"$f":"Invoeren!J239","v":0},{"$f":"Invoeren!I239","v":0},{"$f":"Invoeren!H239","v":0}]
[{"$f":"Invoeren!A240","v":234},{"$f":"Invoeren!D240","v":0},{"$f":"Invoeren!E240","v":0},{"$f":"Invoeren!F240","v":0},{"$f":"Invoeren!J240","v":0},{"$f":"Invoeren!I240","v":0},{"$f":"Invoeren!H240","v":0}]
[{"$f":"Invoeren!A241","v":235},{"$f":"Invoeren!D241","v":0},{"$f":"Invoeren!E241","v":0},{"$f":"Invoeren!F241","v":0},{"$f":"Invoeren!J241","v":0},{"$f":"Invoeren!I241","v":0},{"$f":"Invoeren!H241","v":0}]
[{"$f":"Invoeren!A242","v":236},{"$f":"Invoeren!D242","v":0},{"$f":"Invoeren!E242","v":0},{"$f":"Invoeren!F242","v":0},{"$f":"Invoeren!J242","v":0},{"$f":"Invoeren!I242","v":0},{"$f":"Invoeren!H242","v":0}]
[{"$f":"Invoeren!A243","v":237},{"$f":"Invoeren!D243","v":0},{"$f":"Invoeren!E243","v":0},{"$f":"Invoeren!F243","v":0},{"$f":"Invoeren!J243","v":0},{"$f":"Invoeren!I243","v":0},{"$f":"Invoeren!H243","v":0}]
[{"$f":"Invoeren!A244","v":238},{"$f":"Invoeren!D244","v":0},{"$f":"Invoeren!E244","v":0},{"$f":"Invoeren!F244","v":0},{"$f":"Invoeren!J244","v":0},{"$f":"Invoeren!I244","v":0},{"$f":"Invoeren!H244","v":0}]
[{"$f":"Invoeren!A245","v":239},{"$f":"Invoeren!D245","v":0},{"$f":"Invoeren!E245","v":0},{"$f":"Invoeren!F245","v":0},{"$f":"Invoeren!J245","v":0},{"$f":"Invoeren!I245","v":0},{"$f":"Invoeren!H245","v":0}]
[{"$f":"Invoeren!A246","v":240},{"$f":"Invoeren!D246","v":0},{"$f":"Invoeren!E246","v":0},{"$f":"Invoeren!F246","v":0},{"$f":"Invoeren!J246","v":0},{"$f":"Invoeren!I246","v":0},{"$f":"Invoeren!H246","v":0}]
[{"$f":"Invoeren!A247","v":241},{"$f":"Invoeren!D247","v":0},{"$f":"Invoeren!E247","v":0},{"$f":"Invoeren!F247","v":0},{"$f":"Invoeren!J247","v":0},{"$f":"Invoeren!I247","v":0},{"$f":"Invoeren!H247","v":0}]
[{"$f":"Invoeren!A248","v":242},{"$f":"Invoeren!D248","v":0},{"$f":"Invoeren!E248","v":0},{"$f":"Invoeren!F248","v":0},{"$f":"Invoeren!J248","v":0},{"$f":"Invoeren!I248","v":0},{"$f":"Invoeren!H248","v":0}]
[{"$f":"Invoeren!A249","v":243},{"$f":"Invoeren!D249","v":0},{"$f":"Invoeren!E249","v":0},{"$f":"Invoeren!F249","v":0},{"$f":"Invoeren!J249","v":0},{"$f":"Invoeren!I249","v":0},{"$f":"Invoeren!H249","v":0}]
[{"$f":"Invoeren!A250","v":244},{"$f":"Invoeren!D250","v":0},{"$f":"Invoeren!E250","v":0},{"$f":"Invoeren!F250","v":0},{"$f":"Invoeren!J250","v":0},{"$f":"Invoeren!I250","v":0},{"$f":"Invoeren!H250","v":0}]
[{"$f":"Invoeren!A251","v":245},{"$f":"Invoeren!D251","v":0},{"$f":"Invoeren!E251","v":0},{"$f":"Invoeren!F251","v":0},{"$f":"Invoeren!J251","v":0},{"$f":"Invoeren!I251","v":0},{"$f":"Invoeren!H251","v":0}]
[{"$f":"Invoeren!A252","v":246},{"$f":"Invoeren!D252","v":0},{"$f":"Invoeren!E252","v":0},{"$f":"Invoeren!F252","v":0},{"$f":"Invoeren!J252","v":0},{"$f":"Invoeren!I252","v":0},{"$f":"Invoeren!H252","v":0}]
[{"$f":"Invoeren!A253","v":247},{"$f":"Invoeren!D253","v":0},{"$f":"Invoeren!E253","v":0},{"$f":"Invoeren!F253","v":0},{"$f":"Invoeren!J253","v":0},{"$f":"Invoeren!I253","v":0},{"$f":"Invoeren!H253","v":0}]
[{"$f":"Invoeren!A254","v":248},{"$f":"Invoeren!D254","v":0},{"$f":"Invoeren!E254","v":0},{"$f":"Invoeren!F254","v":0},{"$f":"Invoeren!J254","v":0},{"$f":"Invoeren!I254","v":0},{"$f":"Invoeren!H254","v":0}]
[{"$f":"Invoeren!A255","v":249},{"$f":"Invoeren!D255","v":0},{"$f":"Invoeren!E255","v":0},{"$f":"Invoeren!F255","v":0},{"$f":"Invoeren!J255","v":0},{"$f":"Invoeren!I255","v":0},{"$f":"Invoeren!H255","v":0}]
[{"$f":"Invoeren!A256","v":250},{"$f":"Invoeren!D256","v":0},{"$f":"Invoeren!E256","v":0},{"$f":"Invoeren!F256","v":0},{"$f":"Invoeren!J256","v":0},{"$f":"Invoeren!I256","v":0},{"$f":"Invoeren!H256","v":0}]

{"sheet":"Uitslag figuren","index":4,"n_rows":262,"n_cols":15,"rows_kept":262,"merged":[[0,0,0,6],[0,12,0,13],[1,0,1,6],[1,12,1,13],[2,0,2,3],[4,1,4,3],[6,7,6,8],[6,13,6,14],[7,13,7,14],[10,11,10,14]]}
[{"$f":"Startlijst!A1","v":"Figurenwedstrijd AGE 2 Interregio, Zwembad: De Hoornse Vaart te Alkmaar"},{"$nulls":9},{"$f":"Startlijst!$H1","v":"Datum:"},null,{"$f":"Startlijst!J1","v":"2017-11-11"}]
[{"$f":"Startlijst!A2","v":"Organisatie Regio Midwest ism v/h Kring Noord-Holland"},{"$nulls":9},{"$f":"Startlijst!$H2","v":"Aanvang:"},null,{"$f":"Startlijst!J2","v":"14:30 uur"}]
[{"$f":"Startlijst!A3","v":"Loting: 1"},{"$nulls":3},{"$f":"Startlijst!$D$3","v":"Categorie: AGE II"}]
[]
[null,"UITSLAG FIGUREN",{"$nulls":7},{"$f":"Invoeren!G3","v":"Diploma punten"},null,null,{"$f":"Invoeren!M1","v":0},{"$f":"Invoeren!N1","v":"Limieten:"},{"$f":"Invoeren!O1","v":0}]
[{"$f":"Startlijst!A6","v":1},{"$f":"Startlijst!B6","v":"423 Ariana"},null,null,{"$f":"Startlijst!D6","v":2.2},{"$nulls":4},{"$f":"Invoeren!$H3","v":{"v":45,"d":"45.0000"}},{"$nulls":4},{"$f":"Invoeren!O2","v":""}]
[{"$f":"Startlijst!A7","v":2},{"$f":"Startlijst!B7","v":"301e Barracuda spin down 360°"},null,null,{"$f":"Startlijst!D7","v":2.2},{"$nulls":7},{"$f":"'Wedstrijd gegevens'!D27","v":"2003 en 2004"},{"$f":"Invoeren!N3","v":{"v":49,"d":"49.0000"}}]
[{"$f":"Startlijst!A8","v":3},{"$f":"Startlijst!B8","v":"342 Reiger"},null,null,{"$f":"Startlijst!D8","v":2.1},{"$nulls":7},{"$f":"'Wedstrijd gegevens'!C27","v":2005},{"$f":"Invoeren!N4","v":{"v":47,"d":"47.0000"}}]
[{"$f":"Startlijst!A9","v":4},{"$f":"Startlijst!B9","v":"115 Catalina"},null,null,{"$f":"Startlijst!D9","v":2.3}]
[]
[null,null,"KNZB",{"$nulls":8},"Plaatsing"]
["Plaats","st.nr.","Startnummer","Naam","Vereniging","BM","Regio","Pr.","Lim","Dipl","TOTAAL","Fig. 1","Fig. 2","Fig. 3","Fig. 4"]
[{"$f":"Invoeren!B87","v":1},{"$f":"Invoeren!A87","v":81},{"$f":"Invoeren!$D87","v":200301290},{"$f":"Invoeren!E87","v":"Maria Lorenzini"},{"$f":"Invoeren!F87","v":"ACZ"},{"$f":"Invoeren!$I87","v":0},{"$f":"Invoeren!$H87","v":"West"},{"$f":"Invoeren!L87","v":0},{"$f":"Invoeren!M87","v":"L"},{"$f":"Invoeren!N87","v":""},{"$f":"Invoeren!$C87","v":65.5189},{"$f":"Invoeren!AI87","v":7},{"$f":"Invoeren!BC87","v":1},{"$f":"Invoeren!BW87","v":1},{"$f":"Invoeren!CQ87","v":1}]
[{"$f":"Invoeren!B155","v":2},{"$f":"Invoeren!A155","v":149},{"$f":"Invoeren!$D155","v":200400354},{"$f":"Invoeren!E155","v":"Noortje Reijnen"},{"$f":"Invoeren!F155","v":"Z.P.C.H."},{"$f":"Invoeren!$I155","v":0},{"$f":"Invoeren!$H155","v":"MidWest"},{"$f":"Invoeren!L155","v":0},{"$f":"Invoeren!M155","v":"L"},{"$f":"Invoeren!N155","v":""},{"$f":"Invoeren!$C155","v":63.3484},{"$f":"Invoeren!AI155","v":1},{"$f":"Invoeren!BC155","v":3},{"$f":"Invoeren!BW155","v":7},{"$f":"Invoeren!CQ155","v":8}]
[{"$f":"Invoeren!B164","v":3},{"$f":"Invoeren!A164","v":158},{"$f":"Invoeren!$D164","v":200302650},{"$f":"Invoeren!E164","v":"Zärrin Sahertian "},{"$f":"Invoeren!F164","v":"Z.P.C.H."},{"$f":"Invoeren!$I164","v":0},{"$f":"Invoeren!$H164","v":"MidWest"},{"$f":"Invoeren!L164","v":0},{"$f":"Invoeren!M164","v":"L"},{"$f":"Invoeren!N164","v":""},{"$f":"Invoeren!$C164","v":63.1553},{"$f":"Invoeren!AI164","v":12},{"$f":"Invoeren!BC164","v":4},{"$f":"Invoeren!BW164","v":1},{"$f":"Invoeren!CQ164","v":6}]
[{"$f":"Invoeren!B53","v":4},{"$f":"Invoeren!A53","v":47},{"$f":"Invoeren!$D53","v":200401204},{"$f":"Invoeren!E53","v":"Merel Leuring"},{"$f":"Invoeren!F53","v":"AZC"},{"$f":"Invoeren!$I53","v":0},{"$f":"Invoeren!$H53","v":"West"},{"$f":"Invoeren!L53","v":0},{"$f":"Invoeren!M53","v":"L"},{"$f":"Invoeren!N53","v":""},{"$f":"Invoeren!$C53","v":62.4091},{"$f":"Invoeren!AI53","v":9},{"$f":"Invoeren!BC53","v":4},{"$f":"Invoeren!BW53","v":17},{"$f":"Invoeren!CQ53","v":4}]
[{"$f":"Invoeren!B142","v":5},{"$f":"Invoeren!A142","v":136},{"$f":"Invoeren!$D142","v":200302652},{"$f":"Invoeren!E142","v":"Femke Vos"},{"$f":"Invoeren!F142","v":"Z.P.C.H."},{"$f":"Invoeren!$I142","v":0},{"$f":"Invoeren!$H142","v":"MidWest"},{"$f":"Invoeren!L142","v":0},{"$f":"Invoeren!M142","v":"L"},{"$f":"Invoeren!N142","v":""},{"$f":"Invoeren!$C142","v":62.3636},{"$f":"Invoeren!AI142","v":7},{"$f":"Invoeren!BC142","v":7},{"$f":"Invoeren!BW142","v":6},{"$f":"Invoeren!CQ142","v":5}]
[{"$f":"Invoeren!B52","v":6},{"$f":"Invoeren!A52","v":46},{"$f":"Invoeren!$D52","v":200500012},{"$f":"Invoeren!E52","v":"Marloes Steenbeek"},{"$f":"Invoeren!F52","v":"De Dolfijn"},{"$f":"Invoeren!$I52","v":0},{"$f":"Invoeren!$H52","v":"Midwest"},{"$f":"Invoeren!L52","v":0},{"$f":"Invoeren!M52","v":"L"},{"$f":"Invoeren!N52","v":""},{"$f":"Invoeren!$C52","v":{"v":62.269,"d":"62.2690"}},{"$f":"Invoeren!AI52","v":2},{"$f":"Invoeren!BC52","v":6},{"$f":"Invoeren!BW52","v":28},{"$f":"Invoeren!CQ52","v":3}]
[{"$f":"Invoeren!B158","v":7},{"$f":"Invoeren!A158","v":152},{"$f":"Invoeren!$D158","v":200302244},{"$f":"Invoeren!E158","v":"Isa Turnhout"},{"$f":"Invoeren!F158","v":"AZC"},{"$f":"Invoeren!$I158","v":0},{"$f":"Invoeren!$H158","v":"West"},{"$f":"Invoeren!L158","v":0},{"$f":"Invoeren!M158","v":"L"},{"$f":"Invoeren!N158","v":""},{"$f":"Invoeren!$C158","v":61.5341},{"$f":"Invoeren!AI158","v":5},{"$f":"Invoeren!BC158","v":8},{"$f":"Invoeren!BW158","v":11},{"$f":"Invoeren!CQ158","v":7}]
[{"$f":"Invoeren!B16","v":8},{"$f":"Invoeren!A16","v":10},{"$f":"Invoeren!$D16","v":200400018},{"$f":"Invoeren!E16","v":"Floor Schallenberg"},{"$f":"Invoeren!F16","v":"ACZ"},{"$f":"Invoeren!$I16","v":0},{"$f":"Invoeren!$H16","v":"West"},{"$f":"Invoeren!L16","v":0},{"$f":"Invoeren!M16","v":"L"},{"$f":"Invoeren!N16","v":""},{"$f":"Invoeren!$C16","v":{"v":61.25,"d":"61.2500"}},{"$f":"Invoeren!AI16","v":32},{"$f":"Invoeren!BC16","v":2},{"$f":"Invoeren!BW16","v":5},{"$f":"Invoeren!CQ16","v":11}]
[{"$f":"Invoeren!B101","v":9},{"$f":"Invoeren!A101","v":95},{"$f":"Invoeren!$D101","v":200300438},{"$f":"Invoeren!E101","v":"Eva Schijf"},{"$f":"Invoeren!F101","v":"DAW"},{"$f":"Invoeren!$I101","v":0},{"$f":"Invoeren!$H101","v":"Midwest"},{"$f":"Invoeren!L101","v":0},{"$f":"Invoeren!M101","v":"L"},{"$f":"Invoeren!N101","v":""},{"$f":"Invoeren!$C101","v":61.2386},{"$f":"Invoeren!AI101","v":3},{"$f":"Invoeren!BC101","v":16},{"$f":"Invoeren!BW101","v":4},{"$f":"Invoeren!CQ101","v":12}]
[{"$f":"Invoeren!B121","v":10},{"$f":"Invoeren!A121","v":115},{"$f":"Invoeren!$D121","v":200402892},{"$f":"Invoeren!E121","v":"Floor Speckens"},{"$f":"Invoeren!F121","v":"WVZ"},{"$f":"Invoeren!$I121","v":0},{"$f":"Invoeren!$H121","v":"West"},{"$f":"Invoeren!L121","v":0},{"$f":"Invoeren!M121","v":"L"},{"$f":"Invoeren!N121","v":""},{"$f":"Invoeren!$C121","v":60.7008},{"$f":"Invoeren!AI121","v":9},{"$f":"Invoeren!BC121","v":14},{"$f":"Invoeren!BW121","v":14},{"$f":"Invoeren!CQ121","v":10}]
[{"$f":"Invoeren!B98","v":11},{"$f":"Invoeren!A98","v":92},{"$f":"Invoeren!$D98","v":200400952},{"$f":"Invoeren!E98","v":"Dionne Sijben"},{"$f":"Invoeren!F98","v":"ACZ"},{"$f":"Invoeren!$I98","v":" "},{"$f":"Invoeren!$H98","v":"West"},{"$f":"Invoeren!L98","v":0},{"$f":"Invoeren!M98","v":"L"},{"$f":"Invoeren!N98","v":"Age II"},{"$f":"Invoeren!$C98","v":{"v":60.269,"d":"60.2690"}},{"$f":"Invoeren!AI98","v":20},{"$f":"Invoeren!BC98","v":11},{"$f":"Invoeren!BW98","v":3},{"$f":"Invoeren!CQ98","v":25}]
[{"$f":"Invoeren!B73","v":12},{"$f":"Invoeren!A73","v":67},{"$f":"Invoeren!$D73","v":200600078},{"$f":"Invoeren!E73","v":"Mare Schallenberg"},{"$f":"Invoeren!F73","v":"ACZ"},{"$f":"Invoeren!$I73","v":0},{"$f":"Invoeren!$H73","v":"West"},{"$f":"Invoeren!L73","v":0},{"$f":"Invoeren!M73","v":"L"},{"$f":"Invoeren!N73","v":""},{"$f":"Invoeren!$C73","v":60.2463},{"$f":"Invoeren!AI73","v":19},{"$f":"Invoeren!BC73","v":9},{"$f":"Invoeren!BW73","v":7},{"$f":"Invoeren!CQ73","v":16}]
[{"$f":"Invoeren!B203","v":13},{"$f":"Invoeren!A203","v":197},{"$f":"Invoeren!$D203","v":200304428},{"$f":"Invoeren!E203","v":"Sophie de Cock"},{"$f":"Invoeren!F203","v":"PSV Synchro Team Eindhoven"},{"$f":"Invoeren!$I203","v":0},{"$f":"Invoeren!$H203","v":"Zuid"},{"$f":"Invoeren!L203","v":0},{"$f":"Invoeren!M203","v":"L"},{"$f":"Invoeren!N203","v":""},{"$f":"Invoeren!$C203","v":{"v":60.106,"d":"60.1060"}},{"$f":"Invoeren!AI203","v":4},{"$f":"Invoeren!BC203","v":18},{"$f":"Invoeren!BW203","v":15},{"$f":"Invoeren!CQ203","v":16}]
[{"$f":"Invoeren!B129","v":14},{"$f":"Invoeren!A129","v":123},{"$f":"Invoeren!$D129","v":200403430},{"$f":"Invoeren!E129","v":"Giorgia Gandossi"},{"$f":"Invoeren!F129","v":"DAW"},{"$f":"Invoeren!$I129","v":0},{"$f":"Invoeren!$H129","v":"Midwest"},{"$f":"Invoeren!L129","v":0},{"$f":"Invoeren!M129","v":"L"},{"$f":"Invoeren!N129","v":""},{"$f":"Invoeren!$C129","v":60.0531},{"$f":"Invoeren!AI129","v":12},{"$f":"Invoeren!BC129","v":9},{"$f":"Invoeren!BW129","v":52},{"$f":"Invoeren!CQ129","v":2}]
[{"$f":"Invoeren!B95","v":15},{"$f":"Invoeren!A95","v":89},{"$f":"Invoeren!$D95","v":200301680},{"$f":"Invoeren!E95","v":"Sarah Molensky"},{"$f":"Invoeren!F95","v":"ZVBrunssum"},{"$f":"Invoeren!$I95","v":0},{"$f":"Invoeren!$H95","v":"Zuid"},{"$f":"Invoeren!L95","v":0},{"$f":"Invoeren!M95","v":"L"},{"$f":"Invoeren!N95","v":""},{"$f":"Invoeren!$C95","v":{"v":59.606,"d":"59.6060"}},{"$f":"Invoeren!AI95","v":5},{"$f":"Invoeren!BC95","v":55},{"$f":"Invoeren!BW95","v":10},{"$f":"Invoeren!CQ95","v":8}]
[{"$f":"Invoeren!B144","v":16},{"$f":"Invoeren!A144","v":138},{"$f":"Invoeren!$D144","v":200403600},{"$f":"Invoeren!E144","v":"Marleen Voesten"},{"$f":"Invoeren!F144","v":"De Dolfijn"},{"$f":"Invoeren!$I144","v":0},{"$f":"Invoeren!$H144","v":"MidWest"},{"$f":"Invoeren!L144","v":0},{"$f":"Invoeren!M144","v":"L"},{"$f":"Invoeren!N144","v":""},{"$f":"Invoeren!$C144","v":59.1706},{"$f":"Invoeren!AI144","v":12},{"$f":"Invoeren!BC144","v":21},{"$f":"Invoeren!BW144","v":11},{"$f":"Invoeren!CQ144","v":20}]
[{"$f":"Invoeren!B146","v":17},{"$f":"Invoeren!A146","v":140},{"$f":"Invoeren!$D146","v":200302352},{"$f":"Invoeren!E146","v":"Laura Lai"},{"$f":"Invoeren!F146","v":"De Dolfijn"},{"$f":"Invoeren!$I146","v":0},{"$f":"Invoeren!$H146","v":"Midwest"},{"$f":"Invoeren!L146","v":0},{"$f":"Invoeren!M146","v":"L"},{"$f":"Invoeren!N146","v":""},{"$f":"Invoeren!$C146","v":58.7878},{"$f":"Invoeren!AI146","v":22},{"$f":"Invoeren!BC146","v":12},{"$f":"Invoeren!BW146","v":23},{"$f":"Invoeren!CQ146","v":19}]
[{"$f":"Invoeren!B130","v":18},{"$f":"Invoeren!A130","v":124},{"$f":"Invoeren!$D130","v":200401294},{"$f":"Invoeren!E130","v":"Eline Braakhuis"},{"$f":"Invoeren!F130","v":"De Dolfijn"},{"$f":"Invoeren!$I130","v":0},{"$f":"Invoeren!$H130","v":"Midwest"},{"$f":"Invoeren!L130","v":0},{"$f":"Invoeren!M130","v":"L"},{"$f":"Invoeren!N130","v":""},{"$f":"Invoeren!$C130","v":58.5265},{"$f":"Invoeren!AI130","v":32},{"$f":"Invoeren!BC130","v":18},{"$f":"Invoeren!BW130","v":15},{"$f":"Invoeren!CQ130","v":12}]
[{"$f":"Invoeren!B149","v":19},{"$f":"Invoeren!A149","v":143},{"$f":"Invoeren!$D149","v":200400606},{"$f":"Invoeren!E149","v":"Fleur Valk"},{"$f":"Invoeren!F149","v":"AZC"},{"$f":"Invoeren!$I149","v":0},{"$f":"Invoeren!$H149","v":"West"},{"$f":"Invoeren!L149","v":0},{"$f":"Invoeren!M149","v":"L"},{"$f":"Invoeren!N149","v":""},{"$f":"Invoeren!$C149","v":{"v":58.519,"d":"58.5190"}},{"$f":"Invoeren!AI149","v":22},{"$f":"Invoeren!BC149","v":30},{"$f":"Invoeren!BW149","v":13},{"$f":"Invoeren!CQ149","v":12}]
[{"$f":"Invoeren!B127","v":20},{"$f":"Invoeren!A127","v":121},{"$f":"Invoeren!$D127","v":200304528},{"$f":"Invoeren!E127","v":"Kincsö Biró"},{"$f":"Invoeren!F127","v":"ACZ"},{"$f":"Invoeren!$I127","v":0},{"$f":"Invoeren!$H127","v":"West"},{"$f":"Invoeren!L127","v":0},{"$f":"Invoeren!M127","v":"L"},{"$f":"Invoeren!N127","v":""},{"$f":"Invoeren!$C127","v":57.7992},{"$f":"Invoeren!AI127","v":17},{"$f":"Invoeren!BC127","v":15},{"$f":"Invoeren!BW127","v":47},{"$f":"Invoeren!CQ127","v":27}]
[{"$f":"Invoeren!B18","v":21},{"$f":"Invoeren!A18","v":12},{"$f":"Invoeren!$D18","v":200402252},{"$f":"Invoeren!E18","v":"Ilse de Heij"},{"$f":"Invoeren!F18","v":"Z.P.C.H."},{"$f":"Invoeren!$I18","v":0},{"$f":"Invoeren!$H18","v":"MidWest"},{"$f":"Invoeren!L18","v":0},{"$f":"Invoeren!M18","v":"L"},{"$f":"Invoeren!N18","v":""},{"$f":"Invoeren!$C18","v":57.7273},{"$f":"Invoeren!AI18","v":45},{"$f":"Invoeren!BC18","v":16},{"$f":"Invoeren!BW18","v":31},{"$f":"Invoeren!CQ18","v":12}]
[{"$f":"Invoeren!B61","v":22},{"$f":"Invoeren!A61","v":55},{"$f":"Invoeren!$D61","v":200403278},{"$f":"Invoeren!E61","v":"Eline Penning"},{"$f":"Invoeren!F61","v":"ACZ"},{"$f":"Invoeren!$I61","v":0},{"$f":"Invoeren!$H61","v":"West"},{"$f":"Invoeren!L61","v":0},{"$f":"Invoeren!M61","v":"L"},{"$f":"Invoeren!N61","v":""},{"$f":"Invoeren!$C61","v":{"v":57.553,"d":"57.5530"}},{"$f":"Invoeren!AI61","v":17},{"$f":"Invoeren!BC61","v":26},{"$f":"Invoeren!BW61","v":39},{"$f":"Invoeren!CQ61","v":23}]
[{"$f":"Invoeren!B94","v":23},{"$f":"Invoeren!A94","v":88},{"$f":"Invoeren!$D94","v":200301902},{"$f":"Invoeren!E94","v":"Pleun Boerakker"},{"$f":"Invoeren!F94","v":"Cadans"},{"$f":"Invoeren!$I94","v":0},{"$f":"Invoeren!$H94","v":"oost"},{"$f":"Invoeren!L94","v":0},{"$f":"Invoeren!M94","v":"L"},{"$f":"Invoeren!N94","v":""},{"$f":"Invoeren!$C94","v":57.3447},{"$f":"Invoeren!AI94","v":12},{"$f":"Invoeren!BC94","v":12},{"$f":"Invoeren!BW94","v":42},{"$f":"Invoeren!CQ94","v":44}]
[{"$f":"Invoeren!B100","v":24},{"$f":"Invoeren!A100","v":94},{"$f":"Invoeren!$D100","v":200303794},{"$f":"Invoeren!E100","v":"Xenna Mackay"},{"$f":"Invoeren!F100","v":"Z.P.C.H."},{"$f":"Invoeren!$I100","v":0},{"$f":"Invoeren!$H100","v":"MidWest"},{"$f":"Invoeren!L100","v":0},{"$f":"Invoeren!M100","v":"L"},{"$f":"Invoeren!N100","v":""},{"$f":"Invoeren!$C100","v":57.0341},{"$f":"Invoeren!AI100","v":38},{"$f":"Invoeren!BC100","v":48},{"$f":"Invoeren!BW100","v":18},{"$f":"Invoeren!CQ100","v":16}]
[{"$f":"Invoeren!B76","v":25},{"$f":"Invoeren!A76","v":70},{"$f":"Invoeren!$D76","v":200502158},{"$f":"Invoeren!E76","v":"Newa Hama Hussein"},{"$f":"Invoeren!F76","v":"Cadans"},{"$f":"Invoeren!$I76","v":0},{"$f":"Invoeren!$H76","v":"oost"},{"$f":"Invoeren!L76","v":0},{"$f":"Invoeren!M76","v":"L"},{"$f":"Invoeren!N76","v":""},{"$f":"Invoeren!$C76","v":56.5984},{"$f":"Invoeren!AI76","v":62},{"$f":"Invoeren!BC76","v":23},{"$f":"Invoeren!BW76","v":21},{"$f":"Invoeren!CQ76","v":25}]
[{"$f":"Invoeren!B153","v":26},{"$f":"Invoeren!A153","v":147},{"$f":"Invoeren!$D153","v":200304002},{"$f":"Invoeren!E153","v":"Femke Maertens"},{"$f":"Invoeren!F153","v":"ACZ"},{"$f":"Invoeren!$I153","v":0},{"$f":"Invoeren!$H153","v":"West"},{"$f":"Invoeren!L153","v":0},{"$f":"Invoeren!M153","v":"L"},{"$f":"Invoeren!N153","v":""},{"$f":"Invoeren!$C153","v":56.5341},{"$f":"Invoeren!AI153","v":29},{"$f":"Invoeren!BC153","v":66},{"$f":"Invoeren!BW153","v":7},{"$f":"Invoeren!CQ153","v":36}]
[{"$f":"Invoeren!B91","v":27},{"$f":"Invoeren!A91","v":85},{"$f":"Invoeren!$D91","v":200404456},{"$f":"Invoeren!E91","v":"Amanda Voesten"},{"$f":"Invoeren!F91","v":"De Dolfijn"},{"$f":"Invoeren!$I91","v":0},{"$f":"Invoeren!$H91","v":"MidWest"},{"$f":"Invoeren!L91","v":0},{"$f":"Invoeren!M91","v":"L"},{"$f":"Invoeren!N91","v":""},{"$f":"Invoeren!$C91","v":56.4205},{"$f":"Invoeren!AI91","v":48},{"$f":"Invoeren!BC91","v":32},{"$f":"Invoeren!BW91","v":21},{"$f":"Invoeren!CQ91","v":30}]
[{"$f":"Invoeren!B150","v":28},{"$f":"Invoeren!A150","v":144},{"$f":"Invoeren!$D150","v":200400964},{"$f":"Invoeren!E150","v":"Pauline Radochyn"},{"$f":"Invoeren!F150","v":"Cadans"},{"$f":"Invoeren!$I150","v":0},{"$f":"Invoeren!$H150","v":"oost"},{"$f":"Invoeren!L150","v":0},{"$f":"Invoeren!M150","v":"L"},{"$f":"Invoeren!N150","v":""},{"$f":"Invoeren!$C150","v":56.3674},{"$f":"Invoeren!AI150","v":51},{"$f":"Invoeren!BC150","v":39},{"$f":"Invoeren!BW150","v":25},{"$f":"Invoeren!CQ150","v":23}]
[{"$f":"Invoeren!B193","v":29},{"$f":"Invoeren!A193","v":187},{"$f":"Invoeren!$D193","v":200302016},{"$f":"Invoeren!E193","v":"Elza van Vliet"},{"$f":"Invoeren!F193","v":"BZ&PC"},{"$f":"Invoeren!$I193","v":0},{"$f":"Invoeren!$H193","v":"West"},{"$f":"Invoeren!L193","v":0},{"$f":"Invoeren!M193","v":"L"},{"$f":"Invoeren!N193","v":""},{"$f":"Invoeren!$C193","v":{"v":55.856,"d":"55.8560"}},{"$f":"Invoeren!AI193","v":38},{"$f":"Invoeren!BC193","v":90},{"$f":"Invoeren!BW193","v":18},{"$f":"Invoeren!CQ193","v":21}]
[{"$f":"Invoeren!B37","v":30},{"$f":"Invoeren!A37","v":31},{"$f":"Invoeren!$D37","v":200401126},{"$f":"Invoeren!E37","v":"Keyla Lammers"},{"$f":"Invoeren!F37","v":"AZC"},{"$f":"Invoeren!$I37","v":0},{"$f":"Invoeren!$H37","v":"West"},{"$f":"Invoeren!L37","v":0},{"$f":"Invoeren!M37","v":"L"},{"$f":"Invoeren!N37","v":""},{"$f":"Invoeren!$C37","v":55.6932},{"$f":"Invoeren!AI37","v":26},{"$f":"Invoeren!BC37","v":36},{"$f":"Invoeren!BW37","v":47},{"$f":"Invoeren!CQ37","v":37}]
[{"$f":"Invoeren!B167","v":31},{"$f":"Invoeren!A167","v":161},{"$f":"Invoeren!$D167","v":200304068},{"$f":"Invoeren!E167","v":"Charlotte Leemburg"},{"$f":"Invoeren!F167","v":"BZ&PC"},{"$f":"Invoeren!$I167","v":0},{"$f":"Invoeren!$H167","v":"West"},{"$f":"Invoeren!L167","v":0},{"$f":"Invoeren!M167","v":"L"},{"$f":"Invoeren!N167","v":""},{"$f":"Invoeren!$C167","v":55.6893},{"$f":"Invoeren!AI167","v":32},{"$f":"Invoeren!BC167","v":32},{"$f":"Invoeren!BW167","v":42},{"$f":"Invoeren!CQ167","v":37}]
[{"$f":"Invoeren!B59","v":32},{"$f":"Invoeren!A59","v":53},{"$f":"Invoeren!$D59","v":200403206},{"$f":"Invoeren!E59","v":"Fleur Vergeer"},{"$f":"Invoeren!F59","v":"Aquarijn"},{"$f":"Invoeren!$I59","v":0},{"$f":"Invoeren!$H59","v":"MidWest"},{"$f":"Invoeren!L59","v":0},{"$f":"Invoeren!M59","v":"L"},{"$f":"Invoeren!N59","v":""},{"$f":"Invoeren!$C59","v":55.6136},{"$f":"Invoeren!AI59","v":26},{"$f":"Invoeren!BC59","v":50},{"$f":"Invoeren!BW59","v":39},{"$f":"Invoeren!CQ59","v":32}]
[{"$f":"Invoeren!B192","v":33},{"$f":"Invoeren!A192","v":186},{"$f":"Invoeren!$D192","v":200304386},{"$f":"Invoeren!E192","v":"Puk van der Laan"},{"$f":"Invoeren!F192","v":"AZC"},{"$f":"Invoeren!$I192","v":0},{"$f":"Invoeren!$H192","v":"West"},{"$f":"Invoeren!L192","v":0},{"$f":"Invoeren!M192","v":"L"},{"$f":"Invoeren!N192","v":""},{"$f":"Invoeren!$C192","v":55.6099},{"$f":"Invoeren!AI192","v":29},{"$f":"Invoeren!BC192","v":32},{"$f":"Invoeren!BW192","v":18},{"$f":"Invoeren!CQ192","v":76}]
[{"$f":"Invoeren!B63","v":34},{"$f":"Invoeren!A63","v":57},{"$f":"Invoeren!$D63","v":200304796},{"$f":"Invoeren!E63","v":"Judith Bosman"},{"$f":"Invoeren!F63","v":"Z.P.C.H."},{"$f":"Invoeren!$I63","v":0},{"$f":"Invoeren!$H63","v":"MidWest"},{"$f":"Invoeren!L63","v":0},{"$f":"Invoeren!M63","v":"L"},{"$f":"Invoeren!N63","v":""},{"$f":"Invoeren!$C63","v":{"v":55.591,"d":"55.5910"}},{"$f":"Invoeren!AI63","v":41},{"$f":"Invoeren!BC63","v":50},{"$f":"Invoeren!BW63","v":25},{"$f":"Invoeren!CQ63","v":34}]
[{"$f":"Invoeren!B48","v":35},{"$f":"Invoeren!A48","v":42},{"$f":"Invoeren!$D48","v":200401278},{"$f":"Invoeren!E48","v":"Kate Jutte"},{"$f":"Invoeren!F48","v":"WVZ"},{"$f":"Invoeren!$I48","v":0},{"$f":"Invoeren!$H48","v":"West"},{"$f":"Invoeren!L48","v":0},{"$f":"Invoeren!M48","v":"L"},{"$f":"Invoeren!N48","v":""},{"$f":"Invoeren!$C48","v":55.5378},{"$f":"Invoeren!AI48","v":88},{"$f":"Invoeren!BC48","v":42},{"$f":"Invoeren!BW48","v":25},{"$f":"Invoeren!CQ48","v":21}]
[{"$f":"Invoeren!B90","v":36},{"$f":"Invoeren!A90","v":84},{"$f":"Invoeren!$D90","v":200401490},{"$f":"Invoeren!E90","v":"Anna Darby"},{"$f":"Invoeren!F90","v":"DAW"},{"$f":"Invoeren!$I90","v":0},{"$f":"Invoeren!$H90","v":"Midwest"},{"$f":"Invoeren!L90","v":0},{"$f":"Invoeren!M90","v":"L"},{"$f":"Invoeren!N90","v":""},{"$f":"Invoeren!$C90","v":55.4888},{"$f":"Invoeren!AI90","v":72},{"$f":"Invoeren!BC90","v":28},{"$f":"Invoeren!BW90","v":23},{"$f":"Invoeren!CQ90","v":41}]
[{"$f":"Invoeren!B184","v":37},{"$f":"Invoeren!A184","v":178},{"$f":"Invoeren!$D184","v":200402510},{"$f":"Invoeren!E184","v":"Caithlin Reimer"},{"$f":"Invoeren!F184","v":"AZC"},{"$f":"Invoeren!$I184","v":0},{"$f":"Invoeren!$H184","v":"West"},{"$f":"Invoeren!L184","v":0},{"$f":"Invoeren!M184","v":"L"},{"$f":"Invoeren!N184","v":""},{"$f":"Invoeren!$C184","v":{"v":54.981,"d":"54.9810"}},{"$f":"Invoeren!AI184","v":41},{"$f":"Invoeren!BC184","v":18},{"$f":"Invoeren!BW184","v":47},{"$f":"Invoeren!CQ184","v":83}]
[{"$f":"Invoeren!B46","v":38},{"$f":"Invoeren!A46","v":40},{"$f":"Invoeren!$D46","v":200403890},{"$f":"Invoeren!E46","v":"Mette Bos"},{"$f":"Invoeren!F46","v":"Z.P.C.H."},{"$f":"Invoeren!$I46","v":0},{"$f":"Invoeren!$H46","v":"MidWest"},{"$f":"Invoeren!L46","v":0},{"$f":"Invoeren!M46","v":"L"},{"$f":"Invoeren!N46","v":""},{"$f":"Invoeren!$C46","v":54.8674},{"$f":"Invoeren!AI46","v":11},{"$f":"Invoeren!BC46","v":39},{"$f":"Invoeren!BW46","v":86},{"$f":"Invoeren!CQ46","v":62}]
[{"$f":"Invoeren!B156","v":39},{"$f":"Invoeren!A156","v":150},{"$f":"Invoeren!$D156","v":200302354},{"$f":"Invoeren!E156","v":"Britt Huijsman"},{"$f":"Invoeren!F156","v":"De Dolfijn"},{"$f":"Invoeren!$I156","v":0},{"$f":"Invoeren!$H156","v":"Midwest"},{"$f":"Invoeren!L156","v":0},{"$f":"Invoeren!M156","v":"L"},{"$f":"Invoeren!N156","v":""},{"$f":"Invoeren!$C156","v":54.5266},{"$f":"Invoeren!AI156","v":41},{"$f":"Invoeren!BC156","v":79},{"$f":"Invoeren!BW156","v":39},{"$f":"Invoeren!CQ156","v":34}]
[{"$f":"Invoeren!B185","v":40},{"$f":"Invoeren!A185","v":179},{"$f":"Invoeren!$D185","v":200400742},{"$f":"Invoeren!E185","v":"Debbie Geilen"},{"$f":"Invoeren!F185","v":"Hellas-Glana"},{"$f":"Invoeren!$I185","v":0},{"$f":"Invoeren!$H185","v":"Zuid"},{"$f":"Invoeren!L185","v":0},{"$f":"Invoeren!M185","v":"L"},{"$f":"Invoeren!N185","v":""},{"$f":"Invoeren!$C185","v":54.5265},{"$f":"Invoeren!AI185","v":48},{"$f":"Invoeren!BC185","v":26},{"$f":"Invoeren!BW185","v":71},{"$f":"Invoeren!CQ185","v":53}]
[{"$f":"Invoeren!B180","v":41},{"$f":"Invoeren!A180","v":174},{"$f":"Invoeren!$D180","v":200304172},{"$f":"Invoeren!E180","v":"Ymke Tolboom"},{"$f":"Invoeren!F180","v":"PSV Synchro Team Eindhoven"},{"$f":"Invoeren!$I180","v":0},{"$f":"Invoeren!$H180","v":"Zuid"},{"$f":"Invoeren!L180","v":0},{"$f":"Invoeren!M180","v":"L"},{"$f":"Invoeren!N180","v":""},{"$f":"Invoeren!$C180","v":54.4507},{"$f":"Invoeren!AI180","v":24},{"$f":"Invoeren!BC180","v":46},{"$f":"Invoeren!BW180","v":78},{"$f":"Invoeren!CQ180","v":50}]
[{"$f":"Invoeren!B211","v":42},{"$f":"Invoeren!A211","v":205},{"$f":"Invoeren!$D211","v":200500360},{"$f":"Invoeren!E211","v":"Iris Florisson"},{"$f":"Invoeren!F211","v":"AZC"},{"$f":"Invoeren!$I211","v":0},{"$f":"Invoeren!$H211","v":"West"},{"$f":"Invoeren!L211","v":0},{"$f":"Invoeren!M211","v":"L"},{"$f":"Invoeren!N211","v":""},{"$f":"Invoeren!$C211","v":{"v":54.428,"d":"54.4280"}},{"$f":"Invoeren!AI211","v":26},{"$f":"Invoeren!BC211","v":30},{"$f":"Invoeren!BW211","v":108},{"$f":"Invoeren!CQ211","v":37}]
[{"$f":"Invoeren!B96","v":43},{"$f":"Invoeren!A96","v":90},{"$f":"Invoeren!$D96","v":200302322},{"$f":"Invoeren!E96","v":"Noa van Blijderveen"},{"$f":"Invoeren!F96","v":"Aquarijn"},{"$f":"Invoeren!$I96","v":0},{"$f":"Invoeren!$H96","v":"MidWest"},{"$f":"Invoeren!L96","v":0},{"$f":"Invoeren!M96","v":"L"},{"$f":"Invoeren!N96","v":""},{"$f":"Invoeren!$C96","v":{"v":54.409,"d":"54.4090"}},{"$f":"Invoeren!AI96","v":32},{"$f":"Invoeren!BC96","v":90},{"$f":"Invoeren!BW96","v":28},{"$f":"Invoeren!CQ96","v":44}]
[{"$f":"Invoeren!B187","v":44},{"$f":"Invoeren!A187","v":181},{"$f":"Invoeren!$D187","v":200403894},{"$f":"Invoeren!E187","v":"Marin Hokke"},{"$f":"Invoeren!F187","v":"Z.P.C.H."},{"$f":"Invoeren!$I187","v":0},{"$f":"Invoeren!$H187","v":"MidWest"},{"$f":"Invoeren!L187","v":0},{"$f":"Invoeren!M187","v":"L"},{"$f":"Invoeren!N187","v":""},{"$f":"Invoeren!$C187","v":54.3789},{"$f":"Invoeren!AI187","v":51},{"$f":"Invoeren!BC187","v":79},{"$f":"Invoeren!BW187","v":47},{"$f":"Invoeren!CQ187","v":29}]
[{"$f":"Invoeren!B29","v":45},{"$f":"Invoeren!A29","v":23},{"$f":"Invoeren!$D29","v":200303068},{"$f":"Invoeren!E29","v":"Linda van Heumen"},{"$f":"Invoeren!F29","v":"Aqua-Novio '94"},{"$f":"Invoeren!$I29","v":0},{"$f":"Invoeren!$H29","v":"Oost"},{"$f":"Invoeren!L29","v":0},{"$f":"Invoeren!M29","v":"L"},{"$f":"Invoeren!N29","v":""},{"$f":"Invoeren!$C29","v":54.3636},{"$f":"Invoeren!AI29","v":68},{"$f":"Invoeren!BC29","v":32},{"$f":"Invoeren!BW29","v":63},{"$f":"Invoeren!CQ29","v":43}]
[{"$f":"Invoeren!B208","v":46},{"$f":"Invoeren!A208","v":202},{"$f":"Invoeren!$D208","v":200402876},{"$f":"Invoeren!E208","v":"Marije Koot"},{"$f":"Invoeren!F208","v":"BZ&PC"},{"$f":"Invoeren!$I208","v":0},{"$f":"Invoeren!$H208","v":"West"},{"$f":"Invoeren!L208","v":0},{"$f":"Invoeren!M208","v":"L"},{"$f":"Invoeren!N208","v":""},{"$f":"Invoeren!$C208","v":54.2499},{"$f":"Invoeren!AI208","v":45},{"$f":"Invoeren!BC208","v":55},{"$f":"Invoeren!BW208","v":42},{"$f":"Invoeren!CQ208","v":53}]
[{"$f":"Invoeren!B176","v":47},{"$f":"Invoeren!A176","v":170},{"$f":"Invoeren!$D176","v":200302568},{"$f":"Invoeren!E176","v":"Maggie Jiroutova"},{"$f":"Invoeren!F176","v":"AZC"},{"$f":"Invoeren!$I176","v":0},{"$f":"Invoeren!$H176","v":"West"},{"$f":"Invoeren!L176","v":0},{"$f":"Invoeren!M176","v":"L"},{"$f":"Invoeren!N176","v":""},{"$f":"Invoeren!$C176","v":54.2385},{"$f":"Invoeren!AI176","v":55},{"$f":"Invoeren!BC176","v":55},{"$f":"Invoeren!BW176","v":34},{"$f":"Invoeren!CQ176","v":53}]
[{"$f":"Invoeren!B10","v":48},{"$f":"Invoeren!A10","v":4},{"$f":"Invoeren!$D10","v":200402214},{"$f":"Invoeren!E10","v":"Fiene van Wijk"},{"$f":"Invoeren!F10","v":"WVZ"},{"$f":"Invoeren!$I10","v":0},{"$f":"Invoeren!$H10","v":"West"},{"$f":"Invoeren!L10","v":0},{"$f":"Invoeren!M10","v":"L"},{"$f":"Invoeren!N10","v":""},{"$f":"Invoeren!$C10","v":54.1592},{"$f":"Invoeren!AI10","v":72},{"$f":"Invoeren!BC10","v":21},{"$f":"Invoeren!BW10","v":52},{"$f":"Invoeren!CQ10","v":72}]
[{"$f":"Invoeren!B64","v":49},{"$f":"Invoeren!A64","v":58},{"$f":"Invoeren!$D64","v":200403048},{"$f":"Invoeren!E64","v":"Ninon van Baal"},{"$f":"Invoeren!F64","v":"DAW"},{"$f":"Invoeren!$I64","v":0},{"$f":"Invoeren!$H64","v":"Midwest"},{"$f":"Invoeren!L64","v":0},{"$f":"Invoeren!M64","v":"L"},{"$f":"Invoeren!N64","v":""},{"$f":"Invoeren!$C64","v":54.1553},{"$f":"Invoeren!AI64","v":41},{"$f":"Invoeren!BC64","v":66},{"$f":"Invoeren!BW64","v":37},{"$f":"Invoeren!CQ64","v":58}]
[{"$f":"Invoeren!B65","v":50},{"$f":"Invoeren!A65","v":59},{"$f":"Invoeren!$D65","v":200405168},{"$f":"Invoeren!E65","v":"Isis Braam"},{"$f":"Invoeren!F65","v":"De Dolfijn"},{"$f":"Invoeren!$I65","v":0},{"$f":"Invoeren!$H65","v":"Midwest"},{"$f":"Invoeren!L65","v":0},{"$f":"Invoeren!M65","v":"L"},{"$f":"Invoeren!N65","v":""},{"$f":"Invoeren!$C65","v":54.1439},{"$f":"Invoeren!AI65","v":24},{"$f":"Invoeren!BC65","v":79},{"$f":"Invoeren!BW65","v":34},{"$f":"Invoeren!CQ65","v":65}]
[{"$f":"Invoeren!B168","v":51},{"$f":"Invoeren!A168","v":162},{"$f":"Invoeren!$D168","v":200400948},{"$f":"Invoeren!E168","v":"Alisa Brandon"},{"$f":"Invoeren!F168","v":" Swol 1894"},{"$f":"Invoeren!$I168","v":0},{"$f":"Invoeren!$H168","v":"Oost"},{"$f":"Invoeren!L168","v":0},{"$f":"Invoeren!M168","v":"L"},{"$f":"Invoeren!N168","v":""},{"$f":"Invoeren!$C168","v":54.0265},{"$f":"Invoeren!AI168","v":55},{"$f":"Invoeren!BC168","v":50},{"$f":"Invoeren!BW168","v":63},{"$f":"Invoeren!CQ168","v":44}]
[{"$f":"Invoeren!B113","v":52},{"$f":"Invoeren!A113","v":107},{"$f":"Invoeren!$D113","v":200403554},{"$f":"Invoeren!E113","v":"Tara Vyent"},{"$f":"Invoeren!F113","v":"ACZ"},{"$f":"Invoeren!$I113","v":0},{"$f":"Invoeren!$H113","v":"West"},{"$f":"Invoeren!L113","v":0},{"$f":"Invoeren!M113","v":"L"},{"$f":"Invoeren!N113","v":""},{"$f":"Invoeren!$C113","v":53.8219},{"$f":"Invoeren!AI113","v":62},{"$f":"Invoeren!BC113","v":23},{"$f":"Invoeren!BW113","v":63},{"$f":"Invoeren!CQ113","v":87}]
[{"$f":"Invoeren!B161","v":53},{"$f":"Invoeren!A161","v":155},{"$f":"Invoeren!$D161","v":200302570},{"$f":"Invoeren!E161","v":"Jikke Heijne"},{"$f":"Invoeren!F161","v":" Swol 1894"},{"$f":"Invoeren!$I161","v":0},{"$f":"Invoeren!$H161","v":"Oost"},{"$f":"Invoeren!L161","v":0},{"$f":"Invoeren!M161","v":"L"},{"$f":"Invoeren!N161","v":""},{"$f":"Invoeren!$C161","v":53.6136},{"$f":"Invoeren!AI161","v":72},{"$f":"Invoeren!BC161","v":69},{"$f":"Invoeren!BW161","v":52},{"$f":"Invoeren!CQ161","v":37}]
[{"$f":"Invoeren!B122","v":54},{"$f":"Invoeren!A122","v":116},{"$f":"Invoeren!$D122","v":200403516},{"$f":"Invoeren!E122","v":"Ilse Wienen"},{"$f":"Invoeren!F122","v":"Cadans"},{"$f":"Invoeren!$I122","v":0},{"$f":"Invoeren!$H122","v":"oost"},{"$f":"Invoeren!L122","v":0},{"$f":"Invoeren!M122","v":"L"},{"$f":"Invoeren!N122","v":""},{"$f":"Invoeren!$C122","v":53.6023},{"$f":"Invoeren!AI122","v":32},{"$f":"Invoeren!BC122","v":93},{"$f":"Invoeren!BW122","v":57},{"$f":"Invoeren!CQ122","v":47}]
[{"$f":"Invoeren!B128","v":55},{"$f":"Invoeren!A128","v":122},{"$f":"Invoeren!$D128","v":200304190},{"$f":"Invoeren!E128","v":"Orane Brunsting"},{"$f":"Invoeren!F128","v":"Z.P.C.H."},{"$f":"Invoeren!$I128","v":0},{"$f":"Invoeren!$H128","v":"MidWest"},{"$f":"Invoeren!L128","v":0},{"$f":"Invoeren!M128","v":"L"},{"$f":"Invoeren!N128","v":""},{"$f":"Invoeren!$C128","v":53.4128},{"$f":"Invoeren!AI128","v":45},{"$f":"Invoeren!BC128","v":79},{"$f":"Invoeren!BW128","v":47},{"$f":"Invoeren!CQ128","v":62}]
[{"$f":"Invoeren!B34","v":56},{"$f":"Invoeren!A34","v":28},{"$f":"Invoeren!$D34","v":200401298},{"$f":"Invoeren!E34","v":"Maddy van der Hoeven"},{"$f":"Invoeren!F34","v":"De Dolfijn"},{"$f":"Invoeren!$I34","v":0},{"$f":"Invoeren!$H34","v":"Midwest"},{"$f":"Invoeren!L34","v":0},{"$f":"Invoeren!M34","v":"L"},{"$f":"Invoeren!N34","v":""},{"$f":"Invoeren!$C34","v":53.3295},{"$f":"Invoeren!AI34","v":79},{"$f":"Invoeren!BC34","v":74},{"$f":"Invoeren!BW34","v":34},{"$f":"Invoeren!CQ34","v":47}]
[{"$f":"Invoeren!B79","v":57},{"$f":"Invoeren!A79","v":73},{"$f":"Invoeren!$D79","v":200504282},{"$f":"Invoeren!E79","v":"Noëlle Rienks"},{"$f":"Invoeren!F79","v":"De Watertrappers"},{"$f":"Invoeren!$I79","v":0},{"$f":"Invoeren!$H79","v":"Mid West"},{"$f":"Invoeren!L79","v":0},{"$f":"Invoeren!M79","v":"L"},{"$f":"Invoeren!N79","v":""},{"$f":"Invoeren!$C79","v":53.2917},{"$f":"Invoeren!AI79","v":88},{"$f":"Invoeren!BC79","v":36},{"$f":"Invoeren!BW79","v":82},{"$f":"Invoeren!CQ79","v":47}]
[{"$f":"Invoeren!B105","v":58},{"$f":"Invoeren!A105","v":99},{"$f":"Invoeren!$D105","v":200303742},{"$f":"Invoeren!E105","v":"Nadja van Kralingen"},{"$f":"Invoeren!F105","v":"WVZ"},{"$f":"Invoeren!$I105","v":0},{"$f":"Invoeren!$H105","v":"West"},{"$f":"Invoeren!L105","v":0},{"$f":"Invoeren!M105","v":"L"},{"$f":"Invoeren!N105","v":""},{"$f":"Invoeren!$C105","v":53.0341},{"$f":"Invoeren!AI105","v":105},{"$f":"Invoeren!BC105","v":23},{"$f":"Invoeren!BW105","v":114},{"$f":"Invoeren!CQ105","v":30}]
[{"$f":"Invoeren!B209","v":59},{"$f":"Invoeren!A209","v":203},{"$f":"Invoeren!$D209","v":200303876},{"$f":"Invoeren!E209","v":"Julia Derksen"},{"$f":"Invoeren!F209","v":"PSV Synchro Team Eindhoven"},{"$f":"Invoeren!$I209","v":0},{"$f":"Invoeren!$H209","v":"Zuid"},{"$f":"Invoeren!L209","v":0},{"$f":"Invoeren!M209","v":"L"},{"$f":"Invoeren!N209","v":""},{"$f":"Invoeren!$C209","v":{"v":52.981,"d":"52.9810"}},{"$f":"Invoeren!AI209","v":68},{"$f":"Invoeren!BC209","v":79},{"$f":"Invoeren!BW209","v":37},{"$f":"Invoeren!CQ209","v":65}]
[{"$f":"Invoeren!B143","v":60},{"$f":"Invoeren!A143","v":137},{"$f":"Invoeren!$D143","v":200404262},{"$f":"Invoeren!E143","v":"Ailani Weltz"},{"$f":"Invoeren!F143","v":"DAW"},{"$f":"Invoeren!$I143","v":0},{"$f":"Invoeren!$H143","v":"Midwest"},{"$f":"Invoeren!L143","v":0},{"$f":"Invoeren!M143","v":"L"},{"$f":"Invoeren!N143","v":""},{"$f":"Invoeren!$C143","v":52.9016},{"$f":"Invoeren!AI143","v":29},{"$f":"Invoeren!BC143","v":60},{"$f":"Invoeren!BW143","v":108},{"$f":"Invoeren!CQ143","v":58}]
[{"$f":"Invoeren!B26","v":61},{"$f":"Invoeren!A26","v":20},{"$f":"Invoeren!$D26","v":200401608},{"$f":"Invoeren!E26","v":"Ilyana Guliker"},{"$f":"Invoeren!F26","v":"Polar Bears"},{"$f":"Invoeren!$I26","v":0},{"$f":"Invoeren!$H26","v":"Oost"},{"$f":"Invoeren!L26","v":0},{"$f":"Invoeren!M26","v":"L"},{"$f":"Invoeren!N26","v":""},{"$f":"Invoeren!$C26","v":52.6628},{"$f":"Invoeren!AI26","v":68},{"$f":"Invoeren!BC26","v":46},{"$f":"Invoeren!BW26","v":71},{"$f":"Invoeren!CQ26","v":92}]
[{"$f":"Invoeren!B70","v":62},{"$f":"Invoeren!A70","v":64},{"$f":"Invoeren!$D70","v":200303047},{"$f":"Invoeren!E70","v":"Zody Thode"},{"$f":"Invoeren!F70","v":"Cadans"},{"$f":"Invoeren!$I70","v":0},{"$f":"Invoeren!$H70","v":"oost"},{"$f":"Invoeren!L70","v":0},{"$f":"Invoeren!M70","v":"L"},{"$f":"Invoeren!N70","v":""},{"$f":"Invoeren!$C70","v":52.5985},{"$f":"Invoeren!AI70","v":12},{"$f":"Invoeren!BC70","v":126},{"$f":"Invoeren!BW70","v":82},{"$f":"Invoeren!CQ70","v":76}]
[{"$f":"Invoeren!B86","v":63},{"$f":"Invoeren!A86","v":80},{"$f":"Invoeren!$D86","v":20043346},{"$f":"Invoeren!E86","v":"Renske Veenstra"},{"$f":"Invoeren!F86","v":"DZ&PC"},{"$f":"Invoeren!$I86","v":0},{"$f":"Invoeren!$H86","v":"Noord"},{"$f":"Invoeren!L86","v":0},{"$f":"Invoeren!M86","v":"L"},{"$f":"Invoeren!N86","v":""},{"$f":"Invoeren!$C86","v":52.5038},{"$f":"Invoeren!AI86","v":72},{"$f":"Invoeren!BC86","v":74},{"$f":"Invoeren!BW86","v":63},{"$f":"Invoeren!CQ86","v":65}]
[{"$f":"Invoeren!B54","v":64},{"$f":"Invoeren!A54","v":48},{"$f":"Invoeren!$D54","v":200304568},{"$f":"Invoeren!E54","v":"Jasmijn van Beijnum"},{"$f":"Invoeren!F54","v":"BZ&PC"},{"$f":"Invoeren!$I54","v":0},{"$f":"Invoeren!$H54","v":"West"},{"$f":"Invoeren!L54","v":0},{"$f":"Invoeren!M54","v":"L"},{"$f":"Invoeren!N54","v":""},{"$f":"Invoeren!$C54","v":52.0038},{"$f":"Invoeren!AI54","v":96},{"$f":"Invoeren!BC54","v":111},{"$f":"Invoeren!BW54","v":42},{"$f":"Invoeren!CQ54","v":50}]
[{"$f":"Invoeren!B160","v":65},{"$f":"Invoeren!A160","v":154},{"$f":"Invoeren!$D160","v":200400260},{"$f":"Invoeren!E160","v":"Esther Hermsen"},{"$f":"Invoeren!F160","v":"Cadans"},{"$f":"Invoeren!$I160","v":0},{"$f":"Invoeren!$H160","v":"oost"},{"$f":"Invoeren!L160","v":0},{"$f":"Invoeren!M160","v":"L"},{"$f":"Invoeren!N160","v":""},{"$f":"Invoeren!$C160","v":51.9053},{"$f":"Invoeren!AI160","v":38},{"$f":"Invoeren!BC160","v":93},{"$f":"Invoeren!BW160","v":111},{"$f":"Invoeren!CQ160","v":58}]
[{"$f":"Invoeren!B216","v":66},{"$f":"Invoeren!A216","v":210},{"$f":"Invoeren!$D216","v":200300670},{"$f":"Invoeren!E216","v":"Sanne Baars"},{"$f":"Invoeren!F216","v":"BZ&PC"},{"$f":"Invoeren!$I216","v":0},{"$f":"Invoeren!$H216","v":"West"},{"$f":"Invoeren!L216","v":0},{"$f":"Invoeren!M216","v":"L"},{"$f":"Invoeren!N216","v":""},{"$f":"Invoeren!$C216","v":51.8939},{"$f":"Invoeren!AI216","v":88},{"$f":"Invoeren!BC216","v":119},{"$f":"Invoeren!BW216","v":31},{"$f":"Invoeren!CQ216","v":62}]
[{"$f":"Invoeren!B198","v":67},{"$f":"Invoeren!A198","v":192},{"$f":"Invoeren!$D198","v":200300784},{"$f":"Invoeren!E198","v":"Charlotte Vos"},{"$f":"Invoeren!F198","v":"ZV de Zaan"},{"$f":"Invoeren!$I198","v":0},{"$f":"Invoeren!$H198","v":"MidWest"},{"$f":"Invoeren!L198","v":0},{"$f":"Invoeren!M198","v":"L"},{"$f":"Invoeren!N198","v":""},{"$f":"Invoeren!$C198","v":51.8409},{"$f":"Invoeren!AI198","v":79},{"$f":"Invoeren!BC198","v":60},{"$f":"Invoeren!BW198","v":84},{"$f":"Invoeren!CQ198","v":92}]
[{"$f":"Invoeren!B206","v":68},{"$f":"Invoeren!A206","v":200},{"$f":"Invoeren!$D206","v":200300720},{"$f":"Invoeren!E206","v":"Laura Otten"},{"$f":"Invoeren!F206","v":"HZPC Horst"},{"$f":"Invoeren!$I206","v":0},{"$f":"Invoeren!$H206","v":"zuid"},{"$f":"Invoeren!L206","v":0},{"$f":"Invoeren!M206","v":"L"},{"$f":"Invoeren!N206","v":""},{"$f":"Invoeren!$C206","v":51.7955},{"$f":"Invoeren!AI206","v":58},{"$f":"Invoeren!BC206","v":79},{"$f":"Invoeren!BW206","v":98},{"$f":"Invoeren!CQ206","v":65}]
[{"$f":"Invoeren!B199","v":69},{"$f":"Invoeren!A199","v":193},{"$f":"Invoeren!$D199","v":200304066},{"$f":"Invoeren!E199","v":"Danielle Verleun"},{"$f":"Invoeren!F199","v":"BZ&PC"},{"$f":"Invoeren!$I199","v":0},{"$f":"Invoeren!$H199","v":"West"},{"$f":"Invoeren!L199","v":0},{"$f":"Invoeren!M199","v":"L"},{"$f":"Invoeren!N199","v":""},{"$f":"Invoeren!$C199","v":51.7159},{"$f":"Invoeren!AI199","v":68},{"$f":"Invoeren!BC199","v":36},{"$f":"Invoeren!BW199","v":117},{"$f":"Invoeren!CQ199","v":96}]
[{"$f":"Invoeren!B178","v":70},{"$f":"Invoeren!A178","v":172},{"$f":"Invoeren!$D178","v":200302792},{"$f":"Invoeren!E178","v":"Marit Kramer"},{"$f":"Invoeren!F178","v":" Swol 1894"},{"$f":"Invoeren!$I178","v":0},{"$f":"Invoeren!$H178","v":"Oost"},{"$f":"Invoeren!L178","v":0},{"$f":"Invoeren!M178","v":"L"},{"$f":"Invoeren!N178","v":""},{"$f":"Invoeren!$C178","v":51.6742},{"$f":"Invoeren!AI178","v":88},{"$f":"Invoeren!BC178","v":86},{"$f":"Invoeren!BW178","v":28},{"$f":"Invoeren!CQ178","v":121}]
[{"$f":"Invoeren!B165","v":71},{"$f":"Invoeren!A165","v":159},{"$f":"Invoeren!$D165","v":200400336},{"$f":"Invoeren!E165","v":"Silke Tolsma"},{"$f":"Invoeren!F165","v":"VZC Veenendaal"},{"$f":"Invoeren!$I165","v":0},{"$f":"Invoeren!$H165","v":"Midwest"},{"$f":"Invoeren!L165","v":0},{"$f":"Invoeren!M165","v":"L"},{"$f":"Invoeren!N165","v":""},{"$f":"Invoeren!$C165","v":51.6628},{"$f":"Invoeren!AI165","v":62},{"$f":"Invoeren!BC165","v":44},{"$f":"Invoeren!BW165","v":95},{"$f":"Invoeren!CQ165","v":121}]
[{"$f":"Invoeren!B51","v":72},{"$f":"Invoeren!A51","v":45},{"$f":"Invoeren!$D51","v":200501580},{"$f":"Invoeren!E51","v":"Nayla Verzeide"},{"$f":"Invoeren!F51","v":"Widex Gzc Donk"},{"$f":"Invoeren!$I51","v":0},{"$f":"Invoeren!$H51","v":"West"},{"$f":"Invoeren!L51","v":0},{"$f":"Invoeren!M51","v":"L"},{"$f":"Invoeren!N51","v":""},{"$f":"Invoeren!$C51","v":51.5909},{"$f":"Invoeren!AI51","v":72},{"$f":"Invoeren!BC51","v":93},{"$f":"Invoeren!BW51","v":78},{"$f":"Invoeren!CQ51","v":83}]
[{"$f":"Invoeren!B47","v":73},{"$f":"Invoeren!A47","v":41},{"$f":"Invoeren!$D47","v":200301990},{"$f":"Invoeren!E47","v":"Charissa de Groot"},{"$f":"Invoeren!F47","v":"De Watertrappers"},{"$f":"Invoeren!$I47","v":0},{"$f":"Invoeren!$H47","v":"Mid West"},{"$f":"Invoeren!L47","v":0},{"$f":"Invoeren!M47","v":"L"},{"$f":"Invoeren!N47","v":""},{"$f":"Invoeren!$C47","v":51.4924},{"$f":"Invoeren!AI47","v":79},{"$f":"Invoeren!BC47","v":111},{"$f":"Invoeren!BW47","v":57},{"$f":"Invoeren!CQ47","v":76}]
[{"$f":"Invoeren!B78","v":74},{"$f":"Invoeren!A78","v":72},{"$f":"Invoeren!$D78","v":200501374},{"$f":"Invoeren!E78","v":"Floortje van der Velde"},{"$f":"Invoeren!F78","v":"HZ&PC Heerenveen"},{"$f":"Invoeren!$I78","v":0},{"$f":"Invoeren!$H78","v":"Noord"},{"$f":"Invoeren!L78","v":0},{"$f":"Invoeren!M78","v":"L"},{"$f":"Invoeren!N78","v":""},{"$f":"Invoeren!$C78","v":51.4849},{"$f":"Invoeren!AI78","v":125},{"$f":"Invoeren!BC78","v":55},{"$f":"Invoeren!BW78","v":57},{"$f":"Invoeren!CQ78","v":87}]
[{"$f":"Invoeren!B186","v":75},{"$f":"Invoeren!A186","v":180},{"$f":"Invoeren!$D186","v":200500564},{"$f":"Invoeren!E186","v":"Marloes Ardon"},{"$f":"Invoeren!F186","v":"ACZ"},{"$f":"Invoeren!$I186","v":0},{"$f":"Invoeren!$H186","v":"West"},{"$f":"Invoeren!L186","v":0},{"$f":"Invoeren!M186","v":"L"},{"$f":"Invoeren!N186","v":""},{"$f":"Invoeren!$C186","v":51.4318},{"$f":"Invoeren!AI186","v":79},{"$f":"Invoeren!BC186","v":108},{"$f":"Invoeren!BW186","v":71},{"$f":"Invoeren!CQ186","v":65}]
[{"$f":"Invoeren!B11","v":76},{"$f":"Invoeren!A11","v":5},{"$f":"Invoeren!$D11","v":200501210},{"$f":"Invoeren!E11","v":"Eva Verveld"},{"$f":"Invoeren!F11","v":"AZC"},{"$f":"Invoeren!$I11","v":0},{"$f":"Invoeren!$H11","v":"West"},{"$f":"Invoeren!L11","v":0},{"$f":"Invoeren!M11","v":"L"},{"$f":"Invoeren!N11","v":""},{"$f":"Invoeren!$C11","v":{"v":51.394,"d":"51.3940"}},{"$f":"Invoeren!AI11","v":88},{"$f":"Invoeren!BC11","v":86},{"$f":"Invoeren!BW11","v":63},{"$f":"Invoeren!CQ11","v":103}]
[{"$f":"Invoeren!B85","v":77},{"$f":"Invoeren!A85","v":79},{"$f":"Invoeren!$D85","v":200503980},{"$f":"Invoeren!E85","v":"Sascha van Leeuwen"},{"$f":"Invoeren!F85","v":"Aquarijn"},{"$f":"Invoeren!$I85","v":0},{"$f":"Invoeren!$H85","v":"MidWest"},{"$f":"Invoeren!L85","v":0},{"$f":"Invoeren!M85","v":"L"},{"$f":"Invoeren!N85","v":""},{"$f":"Invoeren!$C85","v":51.3447},{"$f":"Invoeren!AI85","v":32},{"$f":"Invoeren!BC85","v":104},{"$f":"Invoeren!BW85","v":95},{"$f":"Invoeren!CQ85","v":107}]
[{"$f":"Invoeren!B102","v":78},{"$f":"Invoeren!A102","v":96},{"$f":"Invoeren!$D102","v":200503986},{"$f":"Invoeren!E102","v":"Aya Achachi"},{"$f":"Invoeren!F102","v":"De Dolfijn"},{"$f":"Invoeren!$I102","v":0},{"$f":"Invoeren!$H102","v":"Midwest"},{"$f":"Invoeren!L102","v":0},{"$f":"Invoeren!M102","v":"L"},{"$f":"Invoeren!N102","v":""},{"$f":"Invoeren!$C102","v":51.3372},{"$f":"Invoeren!AI102","v":85},{"$f":"Invoeren!BC102","v":98},{"$f":"Invoeren!BW102","v":71},{"$f":"Invoeren!CQ102","v":83}]
[{"$f":"Invoeren!B169","v":79},{"$f":"Invoeren!A169","v":163},{"$f":"Invoeren!$D169","v":200300796},{"$f":"Invoeren!E169","v":"Anne Willems"},{"$f":"Invoeren!F169","v":"ZC.Eijsden"},{"$f":"Invoeren!$I169","v":0},{"$f":"Invoeren!$H169","v":"Zuid"},{"$f":"Invoeren!L169","v":0},{"$f":"Invoeren!M169","v":"L"},{"$f":"Invoeren!N169","v":""},{"$f":"Invoeren!$C169","v":51.3258},{"$f":"Invoeren!AI169","v":58},{"$f":"Invoeren!BC169","v":114},{"$f":"Invoeren!BW169","v":68},{"$f":"Invoeren!CQ169","v":92}]
[{"$f":"Invoeren!B200","v":80},{"$f":"Invoeren!A200","v":194},{"$f":"Invoeren!$D200","v":200300798},{"$f":"Invoeren!E200","v":"Britt Verhaeg"},{"$f":"Invoeren!F200","v":"HZPC Horst"},{"$f":"Invoeren!$I200","v":0},{"$f":"Invoeren!$H200","v":"zuid"},{"$f":"Invoeren!L200","v":0},{"$f":"Invoeren!M200","v":"L"},{"$f":"Invoeren!N200","v":""},{"$f":"Invoeren!$C200","v":51.2917},{"$f":"Invoeren!AI200","v":79},{"$f":"Invoeren!BC200","v":72},{"$f":"Invoeren!BW200","v":101},{"$f":"Invoeren!CQ200","v":76}]
[{"$f":"Invoeren!B157","v":81},{"$f":"Invoeren!A157","v":151},{"$f":"Invoeren!$D157","v":200503126},{"$f":"Invoeren!E157","v":"Anaïs van der Vliet"},{"$f":"Invoeren!F157","v":"Widex Gzc Donk"},{"$f":"Invoeren!$I157","v":0},{"$f":"Invoeren!$H157","v":"West"},{"$f":"Invoeren!L157","v":0},{"$f":"Invoeren!M157","v":"L"},{"$f":"Invoeren!N157","v":""},{"$f":"Invoeren!$C157","v":51.0075},{"$f":"Invoeren!AI157","v":102},{"$f":"Invoeren!BC157","v":69},{"$f":"Invoeren!BW157","v":86},{"$f":"Invoeren!CQ157","v":96}]
[{"$f":"Invoeren!B7","v":82},{"$f":"Invoeren!A7","v":1},{"$f":"Invoeren!$D7","v":200301874},{"$f":"Invoeren!E7","v":"Noëmi Soler Rueda"},{"$f":"Invoeren!F7","v":"DAW"},{"$f":"Invoeren!$I7","v":0},{"$f":"Invoeren!$H7","v":"Midwest"},{"$f":"Invoeren!L7","v":0},{"$f":"Invoeren!M7","v":"L"},{"$f":"Invoeren!N7","v":""},{"$f":"Invoeren!$C7","v":50.8447},{"$f":"Invoeren!AI7","v":112},{"$f":"Invoeren!BC7","v":39},{"$f":"Invoeren!BW7","v":98},{"$f":"Invoeren!CQ7","v":113}]
[{"$f":"Invoeren!B33","v":83},{"$f":"Invoeren!A33","v":27},{"$f":"Invoeren!$D33","v":200501556},{"$f":"Invoeren!E33","v":"Iris Huizinga"},{"$f":"Invoeren!F33","v":"DAW"},{"$f":"Invoeren!$I33","v":0},{"$f":"Invoeren!$H33","v":"Midwest"},{"$f":"Invoeren!L33","v":0},{"$f":"Invoeren!M33","v":"L"},{"$f":"Invoeren!N33","v":""},{"$f":"Invoeren!$C33","v":{"v":50.822,"d":"50.8220"}},{"$f":"Invoeren!AI33","v":112},{"$f":"Invoeren!BC33","v":48},{"$f":"Invoeren!BW33","v":84},{"$f":"Invoeren!CQ33","v":115}]
[{"$f":"Invoeren!B163","v":84},{"$f":"Invoeren!A163","v":157},{"$f":"Invoeren!$D163","v":200302798},{"$f":"Invoeren!E163","v":"Esther Lanser"},{"$f":"Invoeren!F163","v":"ACZ"},{"$f":"Invoeren!$I163","v":0},{"$f":"Invoeren!$H163","v":"West"},{"$f":"Invoeren!L163","v":0},{"$f":"Invoeren!M163","v":"L"},{"$f":"Invoeren!N163","v":"Age II"},{"$f":"Invoeren!$C163","v":50.7766},{"$f":"Invoeren!AI163","v":48},{"$f":"Invoeren!BC163","v":189},{"$f":"Invoeren!BW163","v":52},{"$f":"Invoeren!CQ163","v":41}]
[{"$f":"Invoeren!B92","v":85},{"$f":"Invoeren!A92","v":86},{"$f":"Invoeren!$D92","v":200405160},{"$f":"Invoeren!E92","v":"Iris Mandemaker"},{"$f":"Invoeren!F92","v":"HZ&PC Heerenveen"},{"$f":"Invoeren!$I92","v":0},{"$f":"Invoeren!$H92","v":"Noord"},{"$f":"Invoeren!L92","v":0},{"$f":"Invoeren!M92","v":"L"},{"$f":"Invoeren!N92","v":""},{"$f":"Invoeren!$C92","v":50.6781},{"$f":"Invoeren!AI92","v":105},{"$f":"Invoeren!BC92","v":63},{"$f":"Invoeren!BW92","v":127},{"$f":"Invoeren!CQ92","v":53}]
[{"$f":"Invoeren!B57","v":85},{"$f":"Invoeren!A57","v":51},{"$f":"Invoeren!$D57","v":200400222},{"$f":"Invoeren!E57","v":"Abigail Vievermans"},{"$f":"Invoeren!F57","v":"ZVBrunssum"},{"$f":"Invoeren!$I57","v":0},{"$f":"Invoeren!$H57","v":"Zuid"},{"$f":"Invoeren!L57","v":0},{"$f":"Invoeren!M57","v":"L"},{"$f":"Invoeren!N57","v":""},{"$f":"Invoeren!$C57","v":50.6781},{"$f":"Invoeren!AI57","v":79},{"$f":"Invoeren!BC57","v":132},{"$f":"Invoeren!BW57","v":78},{"$f":"Invoeren!CQ57","v":76}]
[{"$f":"Invoeren!B182","v":87},{"$f":"Invoeren!A182","v":176},{"$f":"Invoeren!$D182","v":200500074},{"$f":"Invoeren!E182","v":"Willemijn Buitelaar "},{"$f":"Invoeren!F182","v":"Z.P.C.H."},{"$f":"Invoeren!$I182","v":0},{"$f":"Invoeren!$H182","v":"MidWest"},{"$f":"Invoeren!L182","v":0},{"$f":"Invoeren!M182","v":"L"},{"$f":"Invoeren!N182","v":""},{"$f":"Invoeren!$C182","v":50.5265},{"$f":"Invoeren!AI182","v":125},{"$f":"Invoeren!BC182","v":74},{"$f":"Invoeren!BW182","v":42},{"$f":"Invoeren!CQ182","v":121}]
[{"$f":"Invoeren!B77","v":88},{"$f":"Invoeren!A77","v":71},{"$f":"Invoeren!$D77","v":200503084},{"$f":"Invoeren!E77","v":"Charelle Spaan"},{"$f":"Invoeren!F77","v":"Z.P.C.H."},{"$f":"Invoeren!$I77","v":0},{"$f":"Invoeren!$H77","v":"MidWest"},{"$f":"Invoeren!L77","v":0},{"$f":"Invoeren!M77","v":"L"},{"$f":"Invoeren!N77","v":""},{"$f":"Invoeren!$C77","v":{"v":50.519,"d":"50.5190"}},{"$f":"Invoeren!AI77","v":88},{"$f":"Invoeren!BC77","v":50},{"$f":"Invoeren!BW77","v":153},{"$f":"Invoeren!CQ77","v":72}]
[{"$f":"Invoeren!B111","v":89},{"$f":"Invoeren!A111","v":105},{"$f":"Invoeren!$D111","v":200401300},{"$f":"Invoeren!E111","v":"Senna Zwezerijnen"},{"$f":"Invoeren!F111","v":"Aquarijn"},{"$f":"Invoeren!$I111","v":0},{"$f":"Invoeren!$H111","v":"MidWest"},{"$f":"Invoeren!L111","v":0},{"$f":"Invoeren!M111","v":"L"},{"$f":"Invoeren!N111","v":""},{"$f":"Invoeren!$C111","v":50.5076},{"$f":"Invoeren!AI111","v":100},{"$f":"Invoeren!BC111","v":159},{"$f":"Invoeren!BW111","v":57},{"$f":"Invoeren!CQ111","v":58}]
[{"$f":"Invoeren!B67","v":90},{"$f":"Invoeren!A67","v":61},{"$f":"Invoeren!$D67","v":200403868},{"$f":"Invoeren!E67","v":"Madelief Volbeda"},{"$f":"Invoeren!F67","v":"HZ&PC Heerenveen"},{"$f":"Invoeren!$I67","v":0},{"$f":"Invoeren!$H67","v":"Noord"},{"$f":"Invoeren!L67","v":0},{"$f":"Invoeren!M67","v":"L"},{"$f":"Invoeren!N67","v":""},{"$f":"Invoeren!$C67","v":50.4622},{"$f":"Invoeren!AI67","v":96},{"$f":"Invoeren!BC67","v":114},{"$f":"Invoeren!BW67","v":57},{"$f":"Invoeren!CQ67","v":115}]
[{"$f":"Invoeren!B107","v":91},{"$f":"Invoeren!A107","v":101},{"$f":"Invoeren!$D107","v":200303732},{"$f":"Invoeren!E107","v":"Jente Doornhein"},{"$f":"Invoeren!F107","v":"BZ&PC"},{"$f":"Invoeren!$I107","v":0},{"$f":"Invoeren!$H107","v":"West"},{"$f":"Invoeren!L107","v":0},{"$f":"Invoeren!M107","v":"L"},{"$f":"Invoeren!N107","v":""},{"$f":"Invoeren!$C107","v":{"v":50.337,"d":"50.3370"}},{"$f":"Invoeren!AI107","v":120},{"$f":"Invoeren!BC107","v":159},{"$f":"Invoeren!BW107","v":86},{"$f":"Invoeren!CQ107","v":27}]
[{"$f":"Invoeren!B106","v":92},{"$f":"Invoeren!A106","v":100},{"$f":"Invoeren!$D106","v":200404010},{"$f":"Invoeren!E106","v":"Romy Koers"},{"$f":"Invoeren!F106","v":"WVZ"},{"$f":"Invoeren!$I106","v":0},{"$f":"Invoeren!$H106","v":"West"},{"$f":"Invoeren!L106","v":0},{"$f":"Invoeren!M106","v":"L"},{"$f":"Invoeren!N106","v":""},{"$f":"Invoeren!$C106","v":50.3333},{"$f":"Invoeren!AI106","v":189},{"$f":"Invoeren!BC106","v":55},{"$f":"Invoeren!BW106","v":92},{"$f":"Invoeren!CQ106","v":32}]
[{"$f":"Invoeren!B43","v":93},{"$f":"Invoeren!A43","v":37},{"$f":"Invoeren!$D43","v":200501856},{"$f":"Invoeren!E43","v":"Tuana Ozsahin"},{"$f":"Invoeren!F43","v":"ACZ"},{"$f":"Invoeren!$I43","v":0},{"$f":"Invoeren!$H43","v":"West"},{"$f":"Invoeren!L43","v":0},{"$f":"Invoeren!M43","v":"L"},{"$f":"Invoeren!N43","v":""},{"$f":"Invoeren!$C43","v":50.2424},{"$f":"Invoeren!AI43","v":120},{"$f":"Invoeren!BC43","v":42},{"$f":"Invoeren!BW43","v":57},{"$f":"Invoeren!CQ43","v":166}]
[{"$f":"Invoeren!B118","v":94},{"$f":"Invoeren!A118","v":112},{"$f":"Invoeren!$D118","v":200405558},{"$f":"Invoeren!E118","v":"Nisrine Aghrib Miou"},{"$f":"Invoeren!F118","v":"De Dolfijn"},{"$f":"Invoeren!$I118","v":0},{"$f":"Invoeren!$H118","v":"Midwest"},{"$f":"Invoeren!L118","v":0},{"$f":"Invoeren!M118","v":"L"},{"$f":"Invoeren!N118","v":""},{"$f":"Invoeren!$C118","v":50.2311},{"$f":"Invoeren!AI118","v":112},{"$f":"Invoeren!BC118","v":98},{"$f":"Invoeren!BW118","v":68},{"$f":"Invoeren!CQ118","v":107}]
[{"$f":"Invoeren!B75","v":95},{"$f":"Invoeren!A75","v":69},{"$f":"Invoeren!$D75","v":200403892},{"$f":"Invoeren!E75","v":"Joy Favie"},{"$f":"Invoeren!F75","v":"Z.P.C.H."},{"$f":"Invoeren!$I75","v":0},{"$f":"Invoeren!$H75","v":"MidWest"},{"$f":"Invoeren!L75","v":0},{"$f":"Invoeren!M75","v":"L"},{"$f":"Invoeren!N75","v":""},{"$f":"Invoeren!$C75","v":50.2159},{"$f":"Invoeren!AI75","v":85},{"$f":"Invoeren!BC75","v":181},{"$f":"Invoeren!BW75","v":31},{"$f":"Invoeren!CQ75","v":76}]
[{"$f":"Invoeren!B145","v":96},{"$f":"Invoeren!A145","v":139},{"$f":"Invoeren!$D145","v":200404486},{"$f":"Invoeren!E145","v":"Jessie Sapuletej"},{"$f":"Invoeren!F145","v":"Widex Gzc Donk"},{"$f":"Invoeren!$I145","v":0},{"$f":"Invoeren!$H145","v":"West"},{"$f":"Invoeren!L145","v":0},{"$f":"Invoeren!M145","v":"L"},{"$f":"Invoeren!N145","v":""},{"$f":"Invoeren!$C145","v":50.1288},{"$f":"Invoeren!AI145","v":62},{"$f":"Invoeren!BC145","v":100},{"$f":"Invoeren!BW145","v":117},{"$f":"Invoeren!CQ145","v":103}]
[{"$f":"Invoeren!B177","v":97},{"$f":"Invoeren!A177","v":171},{"$f":"Invoeren!$D177","v":200403982},{"$f":"Invoeren!E177","v":"Maike van Vliet"},{"$f":"Invoeren!F177","v":"BZ&PC"},{"$f":"Invoeren!$I177","v":0},{"$f":"Invoeren!$H177","v":"West"},{"$f":"Invoeren!L177","v":0},{"$f":"Invoeren!M177","v":"L"},{"$f":"Invoeren!N177","v":""},{"$f":"Invoeren!$C177","v":50.0757},{"$f":"Invoeren!AI177","v":117},{"$f":"Invoeren!BC177","v":66},{"$f":"Invoeren!BW177","v":89},{"$f":"Invoeren!CQ177","v":117}]
[{"$f":"Invoeren!B117","v":98},{"$f":"Invoeren!A117","v":111},{"$f":"Invoeren!$D117","v":200403218},{"$f":"Invoeren!E117","v":"Helena Brons"},{"$f":"Invoeren!F117","v":"DAW"},{"$f":"Invoeren!$I117","v":0},{"$f":"Invoeren!$H117","v":"Midwest"},{"$f":"Invoeren!L117","v":0},{"$f":"Invoeren!M117","v":"L"},{"$f":"Invoeren!N117","v":""},{"$f":"Invoeren!$C117","v":50.0644},{"$f":"Invoeren!AI117","v":57},{"$f":"Invoeren!BC117","v":114},{"$f":"Invoeren!BW117","v":122},{"$f":"Invoeren!CQ117","v":87}]
[{"$f":"Invoeren!B97","v":99},{"$f":"Invoeren!A97","v":91},{"$f":"Invoeren!$D97","v":200302056},{"$f":"Invoeren!E97","v":"Tessa Kemper"},{"$f":"Invoeren!F97","v":"Aqua-Novio '94"},{"$f":"Invoeren!$I97","v":0},{"$f":"Invoeren!$H97","v":"Oost"},{"$f":"Invoeren!L97","v":0},{"$f":"Invoeren!M97","v":"L"},{"$f":"Invoeren!N97","v":""},{"$f":"Invoeren!$C97","v":49.8598},{"$f":"Invoeren!AI97","v":117},{"$f":"Invoeren!BC97","v":152},{"$f":"Invoeren!BW97","v":71},{"$f":"Invoeren!CQ97","v":53}]
[{"$f":"Invoeren!B205","v":100},{"$f":"Invoeren!A205","v":199},{"$f":"Invoeren!$D205","v":200404998},{"$f":"Invoeren!E205","v":"Naomi Baggerman"},{"$f":"Invoeren!F205","v":"DSZ"},{"$f":"Invoeren!$I205","v":0},{"$f":"Invoeren!$H205","v":"West"},{"$f":"Invoeren!L205","v":0},{"$f":"Invoeren!M205","v":"L"},{"$f":"Invoeren!N205","v":""},{"$f":"Invoeren!$C205","v":{"v":49.697,"d":"49.6970"}},{"$f":"Invoeren!AI205","v":143},{"$f":"Invoeren!BC205","v":60},{"$f":"Invoeren!BW205","v":106},{"$f":"Invoeren!CQ205","v":103}]
[{"$f":"Invoeren!B28","v":101},{"$f":"Invoeren!A28","v":22},{"$f":"Invoeren!$D28","v":200303982},{"$f":"Invoeren!E28","v":"Jolien Peeters"},{"$f":"Invoeren!F28","v":"PSV Synchro Team Eindhoven"},{"$f":"Invoeren!$I28","v":0},{"$f":"Invoeren!$H28","v":"Zuid"},{"$f":"Invoeren!L28","v":0},{"$f":"Invoeren!M28","v":"L"},{"$f":"Invoeren!N28","v":""},{"$f":"Invoeren!$C28","v":49.5643},{"$f":"Invoeren!AI28","v":62},{"$f":"Invoeren!BC28","v":172},{"$f":"Invoeren!BW28","v":71},{"$f":"Invoeren!CQ28","v":113}]
[{"$f":"Invoeren!B88","v":102},{"$f":"Invoeren!A88","v":82},{"$f":"Invoeren!$D88","v":200301408},{"$f":"Invoeren!E88","v":"Dagmar Hansman"},{"$f":"Invoeren!F88","v":"Hera'11"},{"$f":"Invoeren!$I88","v":0},{"$f":"Invoeren!$H88","v":"Oost"},{"$f":"Invoeren!L88","v":0},{"$f":"Invoeren!M88","v":"L"},{"$f":"Invoeren!N88","v":""},{"$f":"Invoeren!$C88","v":49.5113},{"$f":"Invoeren!AI88","v":102},{"$f":"Invoeren!BC88","v":74},{"$f":"Invoeren!BW88","v":153},{"$f":"Invoeren!CQ88","v":83}]
[{"$f":"Invoeren!B181","v":103},{"$f":"Invoeren!A181","v":175},{"$f":"Invoeren!$D181","v":200300946},{"$f":"Invoeren!E181","v":"Annet Meinert"},{"$f":"Invoeren!F181","v":"De Houtrib"},{"$f":"Invoeren!$I181","v":0},{"$f":"Invoeren!$H181","v":"Oost"},{"$f":"Invoeren!L181","v":0},{"$f":"Invoeren!M181","v":"L"},{"$f":"Invoeren!N181","v":""},{"$f":"Invoeren!$C181","v":49.4925},{"$f":"Invoeren!AI181","v":165},{"$f":"Invoeren!BC181","v":50},{"$f":"Invoeren!BW181","v":122},{"$f":"Invoeren!CQ181","v":72}]
[{"$f":"Invoeren!B30","v":104},{"$f":"Invoeren!A30","v":24},{"$f":"Invoeren!$D30","v":200502006},{"$f":"Invoeren!E30","v":"Kyara Alexander"},{"$f":"Invoeren!F30","v":"ACZ"},{"$f":"Invoeren!$I30","v":0},{"$f":"Invoeren!$H30","v":"West"},{"$f":"Invoeren!L30","v":0},{"$f":"Invoeren!M30","v":"L"},{"$f":"Invoeren!N30","v":""},{"$f":"Invoeren!$C30","v":49.4773},{"$f":"Invoeren!AI30","v":51},{"$f":"Invoeren!BC30","v":138},{"$f":"Invoeren!BW30","v":127},{"$f":"Invoeren!CQ30","v":96}]
[{"$f":"Invoeren!B126","v":105},{"$f":"Invoeren!A126","v":120},{"$f":"Invoeren!$D126","v":200302048},{"$f":"Invoeren!E126","v":"Jasmijn van Appeldorn"},{"$f":"Invoeren!F126","v":"Aqua-Novio '94"},{"$f":"Invoeren!$I126","v":0},{"$f":"Invoeren!$H126","v":"Oost"},{"$f":"Invoeren!L126","v":0},{"$f":"Invoeren!M126","v":"L"},{"$f":"Invoeren!N126","v":""},{"$f":"Invoeren!$C126","v":49.3901},{"$f":"Invoeren!AI126","v":148},{"$f":"Invoeren!BC126","v":126},{"$f":"Invoeren!BW126","v":95},{"$f":"Invoeren!CQ126","v":50}]
[{"$f":"Invoeren!B56","v":106},{"$f":"Invoeren!A56","v":50},{"$f":"Invoeren!$D56","v":200403514},{"$f":"Invoeren!E56","v":"Auke Kuijk"},{"$f":"Invoeren!F56","v":"Cadans"},{"$f":"Invoeren!$I56","v":0},{"$f":"Invoeren!$H56","v":"oost"},{"$f":"Invoeren!L56","v":0},{"$f":"Invoeren!M56","v":"L"},{"$f":"Invoeren!N56","v":""},{"$f":"Invoeren!$C56","v":49.3711},{"$f":"Invoeren!AI56","v":130},{"$f":"Invoeren!BC56","v":119},{"$f":"Invoeren!BW56","v":52},{"$f":"Invoeren!CQ56","v":117}]
[{"$f":"Invoeren!B60","v":107},{"$f":"Invoeren!A60","v":54},{"$f":"Invoeren!$D60","v":200502828},{"$f":"Invoeren!E60","v":"Lisa Dams"},{"$f":"Invoeren!F60","v":"Aqua-Novio '94"},{"$f":"Invoeren!$I60","v":0},{"$f":"Invoeren!$H60","v":"Oost"},{"$f":"Invoeren!L60","v":0},{"$f":"Invoeren!M60","v":"L"},{"$f":"Invoeren!N60","v":""},{"$f":"Invoeren!$C60","v":49.2992},{"$f":"Invoeren!AI60","v":165},{"$f":"Invoeren!BC60","v":93},{"$f":"Invoeren!BW60","v":101},{"$f":"Invoeren!CQ60","v":65}]
[{"$f":"Invoeren!B72","v":108},{"$f":"Invoeren!A72","v":66},{"$f":"Invoeren!$D72","v":200405166},{"$f":"Invoeren!E72","v":"Daniela Quist"},{"$f":"Invoeren!F72","v":"Aquarijn"},{"$f":"Invoeren!$I72","v":0},{"$f":"Invoeren!$H72","v":"MidWest"},{"$f":"Invoeren!L72","v":0},{"$f":"Invoeren!M72","v":"L"},{"$f":"Invoeren!N72","v":"Age II"},{"$f":"Invoeren!$C72","v":49.1857},{"$f":"Invoeren!AI72","v":72},{"$f":"Invoeren!BC72","v":154},{"$f":"Invoeren!BW72","v":101},{"$f":"Invoeren!CQ72","v":107}]
[{"$f":"Invoeren!B139","v":109},{"$f":"Invoeren!A139","v":133},{"$f":"Invoeren!$D139","v":200400053},{"$f":"Invoeren!E139","v":"Giovanni van der Zon"},{"$f":"Invoeren!F139","v":"ACZ"},{"$f":"Invoeren!$I139","v":0},{"$f":"Invoeren!$H139","v":"West"},{"$f":"Invoeren!L139","v":0},{"$f":"Invoeren!M139","v":"L"},{"$f":"Invoeren!N139","v":""},{"$f":"Invoeren!$C139","v":49.1705},{"$f":"Invoeren!AI139","v":120},{"$f":"Invoeren!BC139","v":164},{"$f":"Invoeren!BW139","v":68},{"$f":"Invoeren!CQ139","v":76}]
[{"$f":"Invoeren!B215","v":110},{"$f":"Invoeren!A215","v":209},{"$f":"Invoeren!$D215","v":200304358},{"$f":"Invoeren!E215","v":"Danica Kosoredjo"},{"$f":"Invoeren!F215","v":"DSZ"},{"$f":"Invoeren!$I215","v":0},{"$f":"Invoeren!$H215","v":"West"},{"$f":"Invoeren!L215","v":0},{"$f":"Invoeren!M215","v":"L"},{"$f":"Invoeren!N215","v":""},{"$f":"Invoeren!$C215","v":49.1402},{"$f":"Invoeren!AI215","v":51},{"$f":"Invoeren!BC215","v":185},{"$f":"Invoeren!BW215","v":108},{"$f":"Invoeren!CQ215","v":72}]
[{"$f":"Invoeren!B201","v":111},{"$f":"Invoeren!A201","v":195},{"$f":"Invoeren!$D201","v":200503006},{"$f":"Invoeren!E201","v":"Marola Youssef"},{"$f":"Invoeren!F201","v":"Z.P.C.H."},{"$f":"Invoeren!$I201","v":0},{"$f":"Invoeren!$H201","v":"MidWest"},{"$f":"Invoeren!L201","v":0},{"$f":"Invoeren!M201","v":"L"},{"$f":"Invoeren!N201","v":""},{"$f":"Invoeren!$C201","v":49.1213},{"$f":"Invoeren!AI201","v":108},{"$f":"Invoeren!BC201","v":108},{"$f":"Invoeren!BW201","v":111},{"$f":"Invoeren!CQ201","v":103}]
[{"$f":"Invoeren!B183","v":112},{"$f":"Invoeren!A183","v":177},{"$f":"Invoeren!$D183","v":200502082},{"$f":"Invoeren!E183","v":"Yndi Nieuwmans"},{"$f":"Invoeren!F183","v":"Widex Gzc Donk"},{"$f":"Invoeren!$I183","v":0},{"$f":"Invoeren!$H183","v":"West"},{"$f":"Invoeren!L183","v":0},{"$f":"Invoeren!M183","v":"L"},{"$f":"Invoeren!N183","v":""},{"$f":"Invoeren!$C183","v":49.0455},{"$f":"Invoeren!AI183","v":85},{"$f":"Invoeren!BC183","v":159},{"$f":"Invoeren!BW183","v":71},{"$f":"Invoeren!CQ183","v":131}]
[{"$f":"Invoeren!B190","v":113},{"$f":"Invoeren!A190","v":184},{"$f":"Invoeren!$D190","v":200502076},{"$f":"Invoeren!E190","v":"Kayra Ozsahin"},{"$f":"Invoeren!F190","v":"ACZ"},{"$f":"Invoeren!$I190","v":0},{"$f":"Invoeren!$H190","v":"West"},{"$f":"Invoeren!L190","v":0},{"$f":"Invoeren!M190","v":"L"},{"$f":"Invoeren!N190","v":""},{"$f":"Invoeren!$C190","v":49.0039},{"$f":"Invoeren!AI190","v":125},{"$f":"Invoeren!BC190","v":44},{"$f":"Invoeren!BW190","v":166},{"$f":"Invoeren!CQ190","v":107}]
[{"$f":"Invoeren!B116","v":114},{"$f":"Invoeren!A116","v":110},{"$f":"Invoeren!$D116","v":200502854},{"$f":"Invoeren!E116","v":"Melida Keizer"},{"$f":"Invoeren!F116","v":"De Watertrappers"},{"$f":"Invoeren!$I116","v":0},{"$f":"Invoeren!$H116","v":"Mid West"},{"$f":"Invoeren!L116","v":0},{"$f":"Invoeren!M116","v":"L"},{"$f":"Invoeren!N116","v":""},{"$f":"Invoeren!$C116","v":48.9091},{"$f":"Invoeren!AI116","v":148},{"$f":"Invoeren!BC116","v":63},{"$f":"Invoeren!BW116","v":142},{"$f":"Invoeren!CQ116","v":92}]
[{"$f":"Invoeren!B20","v":115},{"$f":"Invoeren!A20","v":14},{"$f":"Invoeren!$D20","v":200501860},{"$f":"Invoeren!E20","v":"Amber van Luijn"},{"$f":"Invoeren!F20","v":"De Dolfijn"},{"$f":"Invoeren!$I20","v":0},{"$f":"Invoeren!$H20","v":"Midwest"},{"$f":"Invoeren!L20","v":0},{"$f":"Invoeren!M20","v":"L"},{"$f":"Invoeren!N20","v":""},{"$f":"Invoeren!$C20","v":48.8599},{"$f":"Invoeren!AI20","v":105},{"$f":"Invoeren!BC20","v":90},{"$f":"Invoeren!BW20","v":119},{"$f":"Invoeren!CQ20","v":128}]
[{"$f":"Invoeren!B108","v":116},{"$f":"Invoeren!A108","v":102},{"$f":"Invoeren!$D108","v":200403950},{"$f":"Invoeren!E108","v":"Marit de Locht"},{"$f":"Invoeren!F108","v":"Cadans"},{"$f":"Invoeren!$I108","v":0},{"$f":"Invoeren!$H108","v":"oost"},{"$f":"Invoeren!L108","v":0},{"$f":"Invoeren!M108","v":""},{"$f":"Invoeren!N108","v":""},{"$f":"Invoeren!$C108","v":48.8522},{"$f":"Invoeren!AI108","v":88},{"$f":"Invoeren!BC108","v":134},{"$f":"Invoeren!BW108","v":149},{"$f":"Invoeren!CQ108","v":65}]
[{"$f":"Invoeren!B132","v":117},{"$f":"Invoeren!A132","v":126},{"$f":"Invoeren!$D132","v":200404488},{"$f":"Invoeren!E132","v":"Jane van Tol"},{"$f":"Invoeren!F132","v":"Widex Gzc Donk"},{"$f":"Invoeren!$I132","v":0},{"$f":"Invoeren!$H132","v":"West"},{"$f":"Invoeren!L132","v":0},{"$f":"Invoeren!M132","v":""},{"$f":"Invoeren!N132","v":""},{"$f":"Invoeren!$C132","v":48.6098},{"$f":"Invoeren!AI132","v":102},{"$f":"Invoeren!BC132","v":100},{"$f":"Invoeren!BW132","v":122},{"$f":"Invoeren!CQ132","v":131}]
[{"$f":"Invoeren!B191","v":118},{"$f":"Invoeren!A191","v":185},{"$f":"Invoeren!$D191","v":200504276},{"$f":"Invoeren!E191","v":"Marlinka Grundell"},{"$f":"Invoeren!F191","v":"Z.P.C.H."},{"$f":"Invoeren!$I191","v":0},{"$f":"Invoeren!$H191","v":"MidWest"},{"$f":"Invoeren!L191","v":0},{"$f":"Invoeren!M191","v":"L"},{"$f":"Invoeren!N191","v":""},{"$f":"Invoeren!$C191","v":48.5985},{"$f":"Invoeren!AI191","v":111},{"$f":"Invoeren!BC191","v":79},{"$f":"Invoeren!BW191","v":119},{"$f":"Invoeren!CQ191","v":136}]
[{"$f":"Invoeren!B25","v":119},{"$f":"Invoeren!A25","v":19},{"$f":"Invoeren!$D25","v":200404610},{"$f":"Invoeren!E25","v":"Esqua Swennen"},{"$f":"Invoeren!F25","v":"DSZ"},{"$f":"Invoeren!$I25","v":0},{"$f":"Invoeren!$H25","v":"West"},{"$f":"Invoeren!L25","v":0},{"$f":"Invoeren!M25","v":""},{"$f":"Invoeren!N25","v":""},{"$f":"Invoeren!$C25","v":48.4849},{"$f":"Invoeren!AI25","v":112},{"$f":"Invoeren!BC25","v":63},{"$f":"Invoeren!BW25","v":160},{"$f":"Invoeren!CQ25","v":121}]
[{"$f":"Invoeren!B166","v":120},{"$f":"Invoeren!A166","v":160},{"$f":"Invoeren!$D166","v":200503128},{"$f":"Invoeren!E166","v":"Marielou van der Vliet"},{"$f":"Invoeren!F166","v":"Widex Gzc Donk"},{"$f":"Invoeren!$I166","v":0},{"$f":"Invoeren!$H166","v":"West"},{"$f":"Invoeren!L166","v":0},{"$f":"Invoeren!M166","v":"L"},{"$f":"Invoeren!N166","v":""},{"$f":"Invoeren!$C166","v":48.1516},{"$f":"Invoeren!AI166","v":180},{"$f":"Invoeren!BC166","v":69},{"$f":"Invoeren!BW166","v":127},{"$f":"Invoeren!CQ166","v":87}]
[{"$f":"Invoeren!B39","v":121},{"$f":"Invoeren!A39","v":33},{"$f":"Invoeren!$D39","v":200500620},{"$f":"Invoeren!E39","v":"Norah Steinfort Schaap"},{"$f":"Invoeren!F39","v":"Polar Bears"},{"$f":"Invoeren!$I39","v":0},{"$f":"Invoeren!$H39","v":"Oost"},{"$f":"Invoeren!L39","v":0},{"$f":"Invoeren!M39","v":"L"},{"$f":"Invoeren!N39","v":""},{"$f":"Invoeren!$C39","v":48.0948},{"$f":"Invoeren!AI39","v":178},{"$f":"Invoeren!BC39","v":28},{"$f":"Invoeren!BW39","v":127},{"$f":"Invoeren!CQ39","v":149}]
[{"$f":"Invoeren!B152","v":122},{"$f":"Invoeren!A152","v":146},{"$f":"Invoeren!$D152","v":200305228},{"$f":"Invoeren!E152","v":"Dieuwke van de Berg"},{"$f":"Invoeren!F152","v":"Hieronymus"},{"$f":"Invoeren!$I152","v":0},{"$f":"Invoeren!$H152","v":"Zuid"},{"$f":"Invoeren!L152","v":0},{"$f":"Invoeren!M152","v":""},{"$f":"Invoeren!N152","v":""},{"$f":"Invoeren!$C152","v":{"v":48.038,"d":"48.0380"}},{"$f":"Invoeren!AI152","v":72},{"$f":"Invoeren!BC152","v":164},{"$f":"Invoeren!BW152","v":92},{"$f":"Invoeren!CQ152","v":158}]
[{"$f":"Invoeren!B80","v":123},{"$f":"Invoeren!A80","v":74},{"$f":"Invoeren!$D80","v":200403010},{"$f":"Invoeren!E80","v":"Esmee van den Heuvel"},{"$f":"Invoeren!F80","v":"Widex Gzc Donk"},{"$f":"Invoeren!$I80","v":0},{"$f":"Invoeren!$H80","v":"West"},{"$f":"Invoeren!L80","v":0},{"$f":"Invoeren!M80","v":""},{"$f":"Invoeren!N80","v":""},{"$f":"Invoeren!$C80","v":48.0378},{"$f":"Invoeren!AI80","v":96},{"$f":"Invoeren!BC80","v":119},{"$f":"Invoeren!BW80","v":139},{"$f":"Invoeren!CQ80","v":131}]
[{"$f":"Invoeren!B14","v":124},{"$f":"Invoeren!A14","v":8},{"$f":"Invoeren!$D14","v":200304824},{"$f":"Invoeren!E14","v":"Amber Duijndam"},{"$f":"Invoeren!F14","v":"HZPC Horst"},{"$f":"Invoeren!$I14","v":0},{"$f":"Invoeren!$H14","v":"zuid"},{"$f":"Invoeren!L14","v":0},{"$f":"Invoeren!M14","v":""},{"$f":"Invoeren!N14","v":""},{"$f":"Invoeren!$C14","v":47.9469},{"$f":"Invoeren!AI14","v":62},{"$f":"Invoeren!BC14","v":86},{"$f":"Invoeren!BW14","v":169},{"$f":"Invoeren!CQ14","v":166}]
[{"$f":"Invoeren!B99","v":125},{"$f":"Invoeren!A99","v":93},{"$f":"Invoeren!$D99","v":200501900},{"$f":"Invoeren!E99","v":"Nikita Weidenaar"},{"$f":"Invoeren!F99","v":"De Houtrib"},{"$f":"Invoeren!$I99","v":0},{"$f":"Invoeren!$H99","v":"Oost"},{"$f":"Invoeren!L99","v":0},{"$f":"Invoeren!M99","v":"L"},{"$f":"Invoeren!N99","v":""},{"$f":"Invoeren!$C99","v":47.9091},{"$f":"Invoeren!AI99","v":137},{"$f":"Invoeren!BC99","v":126},{"$f":"Invoeren!BW99","v":98},{"$f":"Invoeren!CQ99","v":131}]
[{"$f":"Invoeren!B135","v":126},{"$f":"Invoeren!A135","v":129},{"$f":"Invoeren!$D135","v":200301372},{"$f":"Invoeren!E135","v":"Frauke Stok"},{"$f":"Invoeren!F135","v":"Cadans"},{"$f":"Invoeren!$I135","v":0},{"$f":"Invoeren!$H135","v":"oost"},{"$f":"Invoeren!L135","v":0},{"$f":"Invoeren!M135","v":""},{"$f":"Invoeren!N135","v":""},{"$f":"Invoeren!$C135","v":47.8523},{"$f":"Invoeren!AI135","v":120},{"$f":"Invoeren!BC135","v":86},{"$f":"Invoeren!BW135","v":135},{"$f":"Invoeren!CQ135","v":144}]
[{"$f":"Invoeren!B194","v":127},{"$f":"Invoeren!A194","v":188},{"$f":"Invoeren!$D194","v":200301828},{"$f":"Invoeren!E194","v":"Lisanne Verhees"},{"$f":"Invoeren!F194","v":"ZPC Nederweert"},{"$f":"Invoeren!$I194","v":0},{"$f":"Invoeren!$H194","v":"Zuid"},{"$f":"Invoeren!L194","v":0},{"$f":"Invoeren!M194","v":""},{"$f":"Invoeren!N194","v":""},{"$f":"Invoeren!$C194","v":47.8031},{"$f":"Invoeren!AI194","v":155},{"$f":"Invoeren!BC194","v":117},{"$f":"Invoeren!BW194","v":89},{"$f":"Invoeren!CQ194","v":139}]
[{"$f":"Invoeren!B27","v":128},{"$f":"Invoeren!A27","v":21},{"$f":"Invoeren!$D27","v":200300794},{"$f":"Invoeren!E27","v":"Jill Mourmans"},{"$f":"Invoeren!F27","v":"ZC.Eijsden"},{"$f":"Invoeren!$I27","v":0},{"$f":"Invoeren!$H27","v":"Zuid"},{"$f":"Invoeren!L27","v":0},{"$f":"Invoeren!M27","v":""},{"$f":"Invoeren!N27","v":""},{"$f":"Invoeren!$C27","v":{"v":47.803,"d":"47.8030"}},{"$f":"Invoeren!AI27","v":130},{"$f":"Invoeren!BC27","v":134},{"$f":"Invoeren!BW27","v":89},{"$f":"Invoeren!CQ27","v":139}]
[{"$f":"Invoeren!B202","v":129},{"$f":"Invoeren!A202","v":196},{"$f":"Invoeren!$D202","v":200503130},{"$f":"Invoeren!E202","v":"Romy van Wijngaarden"},{"$f":"Invoeren!F202","v":"Widex Gzc Donk"},{"$f":"Invoeren!$I202","v":0},{"$f":"Invoeren!$H202","v":"West"},{"$f":"Invoeren!L202","v":0},{"$f":"Invoeren!M202","v":"L"},{"$f":"Invoeren!N202","v":""},{"$f":"Invoeren!$C202","v":47.7385},{"$f":"Invoeren!AI202","v":148},{"$f":"Invoeren!BC202","v":100},{"$f":"Invoeren!BW202","v":106},{"$f":"Invoeren!CQ202","v":144}]
[{"$f":"Invoeren!B22","v":130},{"$f":"Invoeren!A22","v":16},{"$f":"Invoeren!$D22","v":200305120},{"$f":"Invoeren!E22","v":"Saar van den Berg"},{"$f":"Invoeren!F22","v":"Widex Gzc Donk"},{"$f":"Invoeren!$I22","v":0},{"$f":"Invoeren!$H22","v":"West"},{"$f":"Invoeren!L22","v":0},{"$f":"Invoeren!M22","v":""},{"$f":"Invoeren!N22","v":""},{"$f":"Invoeren!$C22","v":47.6516},{"$f":"Invoeren!AI22","v":112},{"$f":"Invoeren!BC22","v":104},{"$f":"Invoeren!BW22","v":114},{"$f":"Invoeren!CQ22","v":158}]
[{"$f":"Invoeren!B104","v":131},{"$f":"Invoeren!A104","v":98},{"$f":"Invoeren!$D104","v":200304178},{"$f":"Invoeren!E104","v":"Birgit Gosselink"},{"$f":"Invoeren!F104","v":"Widex Gzc Donk"},{"$f":"Invoeren!$I104","v":0},{"$f":"Invoeren!$H104","v":"West"},{"$f":"Invoeren!L104","v":0},{"$f":"Invoeren!M104","v":""},{"$f":"Invoeren!N104","v":""},{"$f":"Invoeren!$C104","v":47.6325},{"$f":"Invoeren!AI104","v":117},{"$f":"Invoeren!BC104","v":119},{"$f":"Invoeren!BW104","v":139},{"$f":"Invoeren!CQ104","v":117}]
[{"$f":"Invoeren!B140","v":132},{"$f":"Invoeren!A140","v":134},{"$f":"Invoeren!$D140","v":200500078},{"$f":"Invoeren!E140","v":"Jody Otte"},{"$f":"Invoeren!F140","v":"Hera'11"},{"$f":"Invoeren!$I140","v":0},{"$f":"Invoeren!$H140","v":"Oost"},{"$f":"Invoeren!L140","v":0},{"$f":"Invoeren!M140","v":"L"},{"$f":"Invoeren!N140","v":""},{"$f":"Invoeren!$C140","v":47.6023},{"$f":"Invoeren!AI140","v":58},{"$f":"Invoeren!BC140","v":164},{"$f":"Invoeren!BW140","v":135},{"$f":"Invoeren!CQ140","v":144}]
[{"$f":"Invoeren!B115","v":133},{"$f":"Invoeren!A115","v":109},{"$f":"Invoeren!$D115","v":200304512},{"$f":"Invoeren!E115","v":"Lina El Baoudi"},{"$f":"Invoeren!F115","v":"Z.P.C.H."},{"$f":"Invoeren!$I115","v":0},{"$f":"Invoeren!$H115","v":"MidWest"},{"$f":"Invoeren!L115","v":0},{"$f":"Invoeren!M115","v":""},{"$f":"Invoeren!N115","v":""},{"$f":"Invoeren!$C115","v":47.5833},{"$f":"Invoeren!AI115","v":130},{"$f":"Invoeren!BC115","v":104},{"$f":"Invoeren!BW115","v":160},{"$f":"Invoeren!CQ115","v":107}]
[{"$f":"Invoeren!B133","v":134},{"$f":"Invoeren!A133","v":127},{"$f":"Invoeren!$D133","v":200502078},{"$f":"Invoeren!E133","v":"Naomi de Jong"},{"$f":"Invoeren!F133","v":"Widex Gzc Donk"},{"$f":"Invoeren!$I133","v":0},{"$f":"Invoeren!$H133","v":"West"},{"$f":"Invoeren!L133","v":0},{"$f":"Invoeren!M133","v":"L"},{"$f":"Invoeren!N133","v":""},{"$f":"Invoeren!$C133","v":47.4735},{"$f":"Invoeren!AI133","v":100},{"$f":"Invoeren!BC133","v":177},{"$f":"Invoeren!BW133","v":122},{"$f":"Invoeren!CQ133","v":96}]
[{"$f":"Invoeren!B196","v":135},{"$f":"Invoeren!A196","v":190},{"$f":"Invoeren!$D196","v":200504590},{"$f":"Invoeren!E196","v":"Iris Schrama"},{"$f":"Invoeren!F196","v":"Z.P.C.H."},{"$f":"Invoeren!$I196","v":0},{"$f":"Invoeren!$H196","v":"MidWest"},{"$f":"Invoeren!L196","v":0},{"$f":"Invoeren!M196","v":"L"},{"$f":"Invoeren!N196","v":""},{"$f":"Invoeren!$C196","v":47.4015},{"$f":"Invoeren!AI196","v":148},{"$f":"Invoeren!BC196","v":74},{"$f":"Invoeren!BW196","v":166},{"$f":"Invoeren!CQ196","v":128}]
[{"$f":"Invoeren!B45","v":136},{"$f":"Invoeren!A45","v":39},{"$f":"Invoeren!$D45","v":200404460},{"$f":"Invoeren!E45","v":"Anastasia Ibrahimov"},{"$f":"Invoeren!F45","v":"Z.P.C.H."},{"$f":"Invoeren!$I45","v":0},{"$f":"Invoeren!$H45","v":"MidWest"},{"$f":"Invoeren!L45","v":0},{"$f":"Invoeren!M45","v":""},{"$f":"Invoeren!N45","v":""},{"$f":"Invoeren!$C45","v":{"v":47.356,"d":"47.3560"}},{"$f":"Invoeren!AI45","v":157},{"$f":"Invoeren!BC45","v":119},{"$f":"Invoeren!BW45","v":114},{"$f":"Invoeren!CQ45","v":121}]
[{"$f":"Invoeren!B136","v":137},{"$f":"Invoeren!A136","v":130},{"$f":"Invoeren!$D136","v":200500162},{"$f":"Invoeren!E136","v":"Mija Bussink"},{"$f":"Invoeren!F136","v":"ZC.Eijsden"},{"$f":"Invoeren!$I136","v":0},{"$f":"Invoeren!$H136","v":"Zuid"},{"$f":"Invoeren!L136","v":0},{"$f":"Invoeren!M136","v":"L"},{"$f":"Invoeren!N136","v":""},{"$f":"Invoeren!$C136","v":47.2461},{"$f":"Invoeren!AI136","v":88},{"$f":"Invoeren!BC136","v":176},{"$f":"Invoeren!BW136","v":149},{"$f":"Invoeren!CQ136","v":96}]
[{"$f":"Invoeren!B217","v":138},{"$f":"Invoeren!A217","v":211},{"$f":"Invoeren!$D217","v":200404996},{"$f":"Invoeren!E217","v":"Femke Boxman"},{"$f":"Invoeren!F217","v":"DSZ"},{"$f":"Invoeren!$I217","v":0},{"$f":"Invoeren!$H217","v":"West"},{"$f":"Invoeren!L217","v":0},{"$f":"Invoeren!M217","v":""},{"$f":"Invoeren!N217","v":""},{"$f":"Invoeren!$C217","v":47.2235},{"$f":"Invoeren!AI217","v":20},{"$f":"Invoeren!BC217","v":154},{"$f":"Invoeren!BW217","v":185},{"$f":"Invoeren!CQ217","v":165}]
[{"$f":"Invoeren!B110","v":138},{"$f":"Invoeren!A110","v":104},{"$f":"Invoeren!$D110","v":200305064},{"$f":"Invoeren!E110","v":"Tanja Vorotilova"},{"$f":"Invoeren!F110","v":"PSV Synchro Team Eindhoven"},{"$f":"Invoeren!$I110","v":0},{"$f":"Invoeren!$H110","v":"Zuid"},{"$f":"Invoeren!L110","v":0},{"$f":"Invoeren!M110","v":""},{"$f":"Invoeren!N110","v":""},{"$f":"Invoeren!$C110","v":47.2235},{"$f":"Invoeren!AI110","v":108},{"$f":"Invoeren!BC110","v":108},{"$f":"Invoeren!BW110","v":166},{"$f":"Invoeren!CQ110","v":136}]
[{"$f":"Invoeren!B32","v":140},{"$f":"Invoeren!A32","v":26},{"$f":"Invoeren!$D32","v":200503992},{"$f":"Invoeren!E32","v":"Merel Schrijvers van Zenden"},{"$f":"Invoeren!F32","v":"Widex Gzc Donk"},{"$f":"Invoeren!$I32","v":0},{"$f":"Invoeren!$H32","v":"West"},{"$f":"Invoeren!L32","v":0},{"$f":"Invoeren!M32","v":"L"},{"$f":"Invoeren!N32","v":""},{"$f":"Invoeren!$C32","v":47.1781},{"$f":"Invoeren!AI32","v":143},{"$f":"Invoeren!BC32","v":100},{"$f":"Invoeren!BW32","v":127},{"$f":"Invoeren!CQ32","v":149}]
[{"$f":"Invoeren!B81","v":141},{"$f":"Invoeren!A81","v":75},{"$f":"Invoeren!$D81","v":200504112},{"$f":"Invoeren!E81","v":"Daphne Lutjenhuis"},{"$f":"Invoeren!F81","v":"AZC"},{"$f":"Invoeren!$I81","v":0},{"$f":"Invoeren!$H81","v":"West"},{"$f":"Invoeren!L81","v":0},{"$f":"Invoeren!M81","v":"L"},{"$f":"Invoeren!N81","v":""},{"$f":"Invoeren!$C81","v":47.0909},{"$f":"Invoeren!AI81","v":137},{"$f":"Invoeren!BC81","v":104},{"$f":"Invoeren!BW81","v":127},{"$f":"Invoeren!CQ81","v":153}]
[{"$f":"Invoeren!B189","v":142},{"$f":"Invoeren!A189","v":183},{"$f":"Invoeren!$D189","v":200404242},{"$f":"Invoeren!E189","v":"Noah Janssen"},{"$f":"Invoeren!F189","v":"HZPC Horst"},{"$f":"Invoeren!$I189","v":0},{"$f":"Invoeren!$H189","v":"zuid"},{"$f":"Invoeren!L189","v":0},{"$f":"Invoeren!M189","v":""},{"$f":"Invoeren!N189","v":""},{"$f":"Invoeren!$C189","v":47.0416},{"$f":"Invoeren!AI189","v":148},{"$f":"Invoeren!BC189","v":126},{"$f":"Invoeren!BW189","v":135},{"$f":"Invoeren!CQ189","v":121}]
[{"$f":"Invoeren!B62","v":143},{"$f":"Invoeren!A62","v":56},{"$f":"Invoeren!$D62","v":200400946},{"$f":"Invoeren!E62","v":"Nyanda de Roos"},{"$f":"Invoeren!F62","v":"De Houtrib"},{"$f":"Invoeren!$I62","v":0},{"$f":"Invoeren!$H62","v":"Oost"},{"$f":"Invoeren!L62","v":0},{"$f":"Invoeren!M62","v":""},{"$f":"Invoeren!N62","v":""},{"$f":"Invoeren!$C62","v":46.8333},{"$f":"Invoeren!AI62","v":162},{"$f":"Invoeren!BC62","v":151},{"$f":"Invoeren!BW62","v":144},{"$f":"Invoeren!CQ62","v":87}]
[{"$f":"Invoeren!B38","v":144},{"$f":"Invoeren!A38","v":32},{"$f":"Invoeren!$D38","v":200303042},{"$f":"Invoeren!E38","v":"Eda Karacan"},{"$f":"Invoeren!F38","v":"DSZ"},{"$f":"Invoeren!$I38","v":0},{"$f":"Invoeren!$H38","v":"West"},{"$f":"Invoeren!L38","v":0},{"$f":"Invoeren!M38","v":""},{"$f":"Invoeren!N38","v":""},{"$f":"Invoeren!$C38","v":46.4469},{"$f":"Invoeren!AI38","v":130},{"$f":"Invoeren!BC38","v":144},{"$f":"Invoeren!BW38","v":178},{"$f":"Invoeren!CQ38","v":96}]
[{"$f":"Invoeren!B50","v":145},{"$f":"Invoeren!A50","v":44},{"$f":"Invoeren!$D50","v":200404178},{"$f":"Invoeren!E50","v":"Mandy van der Veen"},{"$f":"Invoeren!F50","v":"HZ&PC Heerenveen"},{"$f":"Invoeren!$I50","v":0},{"$f":"Invoeren!$H50","v":"Noord"},{"$f":"Invoeren!L50","v":0},{"$f":"Invoeren!M50","v":""},{"$f":"Invoeren!N50","v":""},{"$f":"Invoeren!$C50","v":46.2122},{"$f":"Invoeren!AI50","v":58},{"$f":"Invoeren!BC50","v":186},{"$f":"Invoeren!BW50","v":156},{"$f":"Invoeren!CQ50","v":139}]
[{"$f":"Invoeren!B19","v":146},{"$f":"Invoeren!A19","v":13},{"$f":"Invoeren!$D19","v":200300492},{"$f":"Invoeren!E19","v":"Tamara Aarts"},{"$f":"Invoeren!F19","v":"De Watertrappers"},{"$f":"Invoeren!$I19","v":0},{"$f":"Invoeren!$H19","v":"Mid West"},{"$f":"Invoeren!L19","v":0},{"$f":"Invoeren!M19","v":""},{"$f":"Invoeren!N19","v":""},{"$f":"Invoeren!$C19","v":46.2008},{"$f":"Invoeren!AI19","v":137},{"$f":"Invoeren!BC19","v":144},{"$f":"Invoeren!BW19","v":144},{"$f":"Invoeren!CQ19","v":139}]
[{"$f":"Invoeren!B159","v":147},{"$f":"Invoeren!A159","v":153},{"$f":"Invoeren!$D159","v":200401990},{"$f":"Invoeren!E159","v":"Veerle Boerefijn"},{"$f":"Invoeren!F159","v":"AZC"},{"$f":"Invoeren!$I159","v":0},{"$f":"Invoeren!$H159","v":"West"},{"$f":"Invoeren!L159","v":0},{"$f":"Invoeren!M159","v":""},{"$f":"Invoeren!N159","v":""},{"$f":"Invoeren!$C159","v":46.1818},{"$f":"Invoeren!AI159","v":137},{"$f":"Invoeren!BC159","v":126},{"$f":"Invoeren!BW159","v":182},{"$f":"Invoeren!CQ159","v":117}]
[{"$f":"Invoeren!B68","v":148},{"$f":"Invoeren!A68","v":62},{"$f":"Invoeren!$D68","v":200404482},{"$f":"Invoeren!E68","v":"Minke van Dalfsen"},{"$f":"Invoeren!F68","v":"Widex Gzc Donk"},{"$f":"Invoeren!$I68","v":0},{"$f":"Invoeren!$H68","v":"West"},{"$f":"Invoeren!L68","v":0},{"$f":"Invoeren!M68","v":""},{"$f":"Invoeren!N68","v":""},{"$f":"Invoeren!$C68","v":46.1099},{"$f":"Invoeren!AI68","v":137},{"$f":"Invoeren!BC68","v":138},{"$f":"Invoeren!BW68","v":144},{"$f":"Invoeren!CQ68","v":149}]
[{"$f":"Invoeren!B15","v":149},{"$f":"Invoeren!A15","v":9},{"$f":"Invoeren!$D15","v":200503514},{"$f":"Invoeren!E15","v":"Dominique Hoogkamer"},{"$f":"Invoeren!F15","v":"Aquarijn"},{"$f":"Invoeren!$I15","v":0},{"$f":"Invoeren!$H15","v":"MidWest"},{"$f":"Invoeren!L15","v":0},{"$f":"Invoeren!M15","v":""},{"$f":"Invoeren!N15","v":"Age II"},{"$f":"Invoeren!$C15","v":46.0039},{"$f":"Invoeren!AI15","v":188},{"$f":"Invoeren!BC15","v":72},{"$f":"Invoeren!BW15","v":135},{"$f":"Invoeren!CQ15","v":158}]
[{"$f":"Invoeren!B174","v":150},{"$f":"Invoeren!A174","v":168},{"$f":"Invoeren!$D174","v":200501332},{"$f":"Invoeren!E174","v":"Dionne Kulderij"},{"$f":"Invoeren!F174","v":"ZV de Zaan"},{"$f":"Invoeren!$I174","v":0},{"$f":"Invoeren!$H174","v":"MidWest"},{"$f":"Invoeren!L174","v":0},{"$f":"Invoeren!M174","v":""},{"$f":"Invoeren!N174","v":"Age II"},{"$f":"Invoeren!$C174","v":45.9507},{"$f":"Invoeren!AI174","v":130},{"$f":"Invoeren!BC174","v":159},{"$f":"Invoeren!BW174","v":144},{"$f":"Invoeren!CQ174","v":139}]
[{"$f":"Invoeren!B44","v":151},{"$f":"Invoeren!A44","v":38},{"$f":"Invoeren!$D44","v":200503448},{"$f":"Invoeren!E44","v":"Elize Bonhof"},{"$f":"Invoeren!F44","v":"Hera'11"},{"$f":"Invoeren!$I44","v":0},{"$f":"Invoeren!$H44","v":"Oost"},{"$f":"Invoeren!L44","v":0},{"$f":"Invoeren!M44","v":""},{"$f":"Invoeren!N44","v":""},{"$f":"Invoeren!$C44","v":45.6969},{"$f":"Invoeren!AI44","v":137},{"$f":"Invoeren!BC44","v":172},{"$f":"Invoeren!BW44","v":178},{"$f":"Invoeren!CQ44","v":96}]
[{"$f":"Invoeren!B179","v":152},{"$f":"Invoeren!A179","v":173},{"$f":"Invoeren!$D179","v":200500724},{"$f":"Invoeren!E179","v":"Arwen Pijpers"},{"$f":"Invoeren!F179","v":"Hellas-Glana"},{"$f":"Invoeren!$I179","v":0},{"$f":"Invoeren!$H179","v":"Zuid"},{"$f":"Invoeren!L179","v":0},{"$f":"Invoeren!M179","v":""},{"$f":"Invoeren!N179","v":"Age II"},{"$f":"Invoeren!$C179","v":45.6213},{"$f":"Invoeren!AI179","v":155},{"$f":"Invoeren!BC179","v":144},{"$f":"Invoeren!BW179","v":111},{"$f":"Invoeren!CQ179","v":184}]
[{"$f":"Invoeren!B173","v":153},{"$f":"Invoeren!A173","v":167},{"$f":"Invoeren!$D173","v":200405556},{"$f":"Invoeren!E173","v":"Kaoutar Ouahadi"},{"$f":"Invoeren!F173","v":"De Dolfijn"},{"$f":"Invoeren!$I173","v":0},{"$f":"Invoeren!$H173","v":"Midwest"},{"$f":"Invoeren!L173","v":0},{"$f":"Invoeren!M173","v":""},{"$f":"Invoeren!N173","v":"Age II"},{"$f":"Invoeren!$C173","v":45.5341},{"$f":"Invoeren!AI173","v":165},{"$f":"Invoeren!BC173","v":144},{"$f":"Invoeren!BW173","v":149},{"$f":"Invoeren!CQ173","v":144}]
[{"$f":"Invoeren!B9","v":154},{"$f":"Invoeren!A9","v":3},{"$f":"Invoeren!$D9","v":200404894},{"$f":"Invoeren!E9","v":"Yara van der Kraan"},{"$f":"Invoeren!F9","v":"Widex Gzc Donk"},{"$f":"Invoeren!$I9","v":0},{"$f":"Invoeren!$H9","v":"West"},{"$f":"Invoeren!L9","v":0},{"$f":"Invoeren!M9","v":""},{"$f":"Invoeren!N9","v":""},{"$f":"Invoeren!$C9","v":45.3258},{"$f":"Invoeren!AI9","v":172},{"$f":"Invoeren!BC9","v":117},{"$f":"Invoeren!BW9","v":139},{"$f":"Invoeren!CQ9","v":170}]
[{"$f":"Invoeren!B82","v":155},{"$f":"Invoeren!A82","v":76},{"$f":"Invoeren!$D82","v":200503502},{"$f":"Invoeren!E82","v":"Feija Wollring"},{"$f":"Invoeren!F82","v":"Cadans"},{"$f":"Invoeren!$I82","v":0},{"$f":"Invoeren!$H82","v":"oost"},{"$f":"Invoeren!L82","v":0},{"$f":"Invoeren!M82","v":""},{"$f":"Invoeren!N82","v":""},{"$f":"Invoeren!$C82","v":45.2803},{"$f":"Invoeren!AI82","v":125},{"$f":"Invoeren!BC82","v":159},{"$f":"Invoeren!BW82","v":160},{"$f":"Invoeren!CQ82","v":158}]
[{"$f":"Invoeren!B114","v":156},{"$f":"Invoeren!A114","v":108},{"$f":"Invoeren!$D114","v":200502536},{"$f":"Invoeren!E114","v":"Kyra Kemper"},{"$f":"Invoeren!F114","v":"Hera'11"},{"$f":"Invoeren!$I114","v":0},{"$f":"Invoeren!$H114","v":"Oost"},{"$f":"Invoeren!L114","v":0},{"$f":"Invoeren!M114","v":""},{"$f":"Invoeren!N114","v":""},{"$f":"Invoeren!$C114","v":45.0872},{"$f":"Invoeren!AI114","v":157},{"$f":"Invoeren!BC114","v":174},{"$f":"Invoeren!BW114","v":127},{"$f":"Invoeren!CQ114","v":156}]
[{"$f":"Invoeren!B40","v":157},{"$f":"Invoeren!A40","v":34},{"$f":"Invoeren!$D40","v":200501932},{"$f":"Invoeren!E40","v":"Sofie Geurts"},{"$f":"Invoeren!F40","v":"HZPC Horst"},{"$f":"Invoeren!$I40","v":0},{"$f":"Invoeren!$H40","v":"zuid"},{"$f":"Invoeren!L40","v":0},{"$f":"Invoeren!M40","v":""},{"$f":"Invoeren!N40","v":"Age II"},{"$f":"Invoeren!$C40","v":45.0266},{"$f":"Invoeren!AI40","v":165},{"$f":"Invoeren!BC40","v":144},{"$f":"Invoeren!BW40","v":156},{"$f":"Invoeren!CQ40","v":158}]
[{"$f":"Invoeren!B69","v":158},{"$f":"Invoeren!A69","v":63},{"$f":"Invoeren!$D69","v":200503124},{"$f":"Invoeren!E69","v":"Femke van de Ridder"},{"$f":"Invoeren!F69","v":"Widex Gzc Donk"},{"$f":"Invoeren!$I69","v":0},{"$f":"Invoeren!$H69","v":"West"},{"$f":"Invoeren!L69","v":0},{"$f":"Invoeren!M69","v":""},{"$f":"Invoeren!N69","v":""},{"$f":"Invoeren!$C69","v":44.9659},{"$f":"Invoeren!AI69","v":183},{"$f":"Invoeren!BC69","v":138},{"$f":"Invoeren!BW69","v":156},{"$f":"Invoeren!CQ69","v":136}]
[{"$f":"Invoeren!B119","v":159},{"$f":"Invoeren!A119","v":113},{"$f":"Invoeren!$D119","v":200305402},{"$f":"Invoeren!E119","v":"Kim v Hoogevest"},{"$f":"Invoeren!F119","v":"ZV de Zaan"},{"$f":"Invoeren!$I119","v":0},{"$f":"Invoeren!$H119","v":"MidWest"},{"$f":"Invoeren!L119","v":0},{"$f":"Invoeren!M119","v":""},{"$f":"Invoeren!N119","v":""},{"$f":"Invoeren!$C119","v":{"v":44.928,"d":"44.9280"}},{"$f":"Invoeren!AI119","v":162},{"$f":"Invoeren!BC119","v":111},{"$f":"Invoeren!BW119","v":169},{"$f":"Invoeren!CQ119","v":184}]
[{"$f":"Invoeren!B151","v":160},{"$f":"Invoeren!A151","v":145},{"$f":"Invoeren!$D151","v":200404146},{"$f":"Invoeren!E151","v":"Axana Gerits"},{"$f":"Invoeren!F151","v":"ZC.Eijsden"},{"$f":"Invoeren!$I151","v":0},{"$f":"Invoeren!$H151","v":"Zuid"},{"$f":"Invoeren!L151","v":0},{"$f":"Invoeren!M151","v":""},{"$f":"Invoeren!N151","v":""},{"$f":"Invoeren!$C151","v":44.8409},{"$f":"Invoeren!AI151","v":165},{"$f":"Invoeren!BC151","v":138},{"$f":"Invoeren!BW151","v":153},{"$f":"Invoeren!CQ151","v":170}]
[{"$f":"Invoeren!B71","v":161},{"$f":"Invoeren!A71","v":65},{"$f":"Invoeren!$D71","v":200305206},{"$f":"Invoeren!E71","v":"Merle Heuvelmans"},{"$f":"Invoeren!F71","v":"ZVBrunssum"},{"$f":"Invoeren!$I71","v":0},{"$f":"Invoeren!$H71","v":"Zuid"},{"$f":"Invoeren!L71","v":0},{"$f":"Invoeren!M71","v":""},{"$f":"Invoeren!N71","v":""},{"$f":"Invoeren!$C71","v":44.8219},{"$f":"Invoeren!AI71","v":96},{"$f":"Invoeren!BC71","v":175},{"$f":"Invoeren!BW71","v":156},{"$f":"Invoeren!CQ71","v":187}]
[{"$f":"Invoeren!B154","v":162},{"$f":"Invoeren!A154","v":148},{"$f":"Invoeren!$D154","v":200502010},{"$f":"Invoeren!E154","v":"Joëlle van Tol"},{"$f":"Invoeren!F154","v":"De Houtrib"},{"$f":"Invoeren!$I154","v":0},{"$f":"Invoeren!$H154","v":"Oost"},{"$f":"Invoeren!L154","v":0},{"$f":"Invoeren!M154","v":""},{"$f":"Invoeren!N154","v":""},{"$f":"Invoeren!$C154","v":44.7386},{"$f":"Invoeren!AI154","v":143},{"$f":"Invoeren!BC154","v":164},{"$f":"Invoeren!BW154","v":182},{"$f":"Invoeren!CQ154","v":144}]
[{"$f":"Invoeren!B13","v":163},{"$f":"Invoeren!A13","v":7},{"$f":"Invoeren!$D13","v":200405376},{"$f":"Invoeren!E13","v":"Anthea Khnykina"},{"$f":"Invoeren!F13","v":"Swol 1894"},{"$f":"Invoeren!$I13","v":0},{"$f":"Invoeren!$H13","v":"Oost"},{"$f":"Invoeren!L13","v":0},{"$f":"Invoeren!M13","v":""},{"$f":"Invoeren!N13","v":""},{"$f":"Invoeren!$C13","v":44.6553},{"$f":"Invoeren!AI13","v":165},{"$f":"Invoeren!BC13","v":154},{"$f":"Invoeren!BW13","v":101},{"$f":"Invoeren!CQ13","v":197}]
[{"$f":"Invoeren!B162","v":164},{"$f":"Invoeren!A162","v":156},{"$f":"Invoeren!$D162","v":200503690},{"$f":"Invoeren!E162","v":"Veerle Bausch"},{"$f":"Invoeren!F162","v":"Hellas-Glana"},{"$f":"Invoeren!$I162","v":0},{"$f":"Invoeren!$H162","v":"Zuid"},{"$f":"Invoeren!L162","v":0},{"$f":"Invoeren!M162","v":""},{"$f":"Invoeren!N162","v":""},{"$f":"Invoeren!$C162","v":{"v":44.591,"d":"44.5910"}},{"$f":"Invoeren!AI162","v":143},{"$f":"Invoeren!BC162","v":154},{"$f":"Invoeren!BW162","v":160},{"$f":"Invoeren!CQ162","v":179}]
[{"$f":"Invoeren!B147","v":165},{"$f":"Invoeren!A147","v":141},{"$f":"Invoeren!$D147","v":200404488},{"$f":"Invoeren!E147","v":"Noa Palsgraaf"},{"$f":"Invoeren!F147","v":"Widex Gzc Donk"},{"$f":"Invoeren!$I147","v":0},{"$f":"Invoeren!$H147","v":"West"},{"$f":"Invoeren!L147","v":0},{"$f":"Invoeren!M147","v":""},{"$f":"Invoeren!N147","v":""},{"$f":"Invoeren!$C147","v":44.5833},{"$f":"Invoeren!AI147","v":191},{"$f":"Invoeren!BC147","v":93},{"$f":"Invoeren!BW147","v":149},{"$f":"Invoeren!CQ147","v":175}]
[{"$f":"Invoeren!B171","v":166},{"$f":"Invoeren!A171","v":165},{"$f":"Invoeren!$D171","v":200405606},{"$f":"Invoeren!E171","v":"Marta Podebska"},{"$f":"Invoeren!F171","v":"Z.P.C.H."},{"$f":"Invoeren!$I171","v":0},{"$f":"Invoeren!$H171","v":"MidWest"},{"$f":"Invoeren!L171","v":0},{"$f":"Invoeren!M171","v":""},{"$f":"Invoeren!N171","v":""},{"$f":"Invoeren!$C171","v":44.5265},{"$f":"Invoeren!AI171","v":180},{"$f":"Invoeren!BC171","v":181},{"$f":"Invoeren!BW171","v":127},{"$f":"Invoeren!CQ171","v":135}]
[{"$f":"Invoeren!B138","v":167},{"$f":"Invoeren!A138","v":132},{"$f":"Invoeren!$D138","v":200503978},{"$f":"Invoeren!E138","v":"Maud van Breukelen"},{"$f":"Invoeren!F138","v":"Aquarijn"},{"$f":"Invoeren!$I138","v":0},{"$f":"Invoeren!$H138","v":"MidWest"},{"$f":"Invoeren!L138","v":0},{"$f":"Invoeren!M138","v":""},{"$f":"Invoeren!N138","v":""},{"$f":"Invoeren!$C138","v":44.4545},{"$f":"Invoeren!AI138","v":143},{"$f":"Invoeren!BC138","v":138},{"$f":"Invoeren!BW138","v":182},{"$f":"Invoeren!CQ138","v":175}]
[{"$f":"Invoeren!B49","v":168},{"$f":"Invoeren!A49","v":43},{"$f":"Invoeren!$D49","v":200504152},{"$f":"Invoeren!E49","v":"Kazu Landman"},{"$f":"Invoeren!F49","v":"VZC Veenendaal"},{"$f":"Invoeren!$I49","v":0},{"$f":"Invoeren!$H49","v":"Midwest"},{"$f":"Invoeren!L49","v":0},{"$f":"Invoeren!M49","v":""},{"$f":"Invoeren!N49","v":""},{"$f":"Invoeren!$C49","v":44.4205},{"$f":"Invoeren!AI49","v":176},{"$f":"Invoeren!BC49","v":177},{"$f":"Invoeren!BW49","v":122},{"$f":"Invoeren!CQ49","v":153}]
[{"$f":"Invoeren!B84","v":169},{"$f":"Invoeren!A84","v":78},{"$f":"Invoeren!$D84","v":"200405016 "},{"$f":"Invoeren!E84","v":"Anna Kroon"},{"$f":"Invoeren!F84","v":"HZPC Horst"},{"$f":"Invoeren!$I84","v":0},{"$f":"Invoeren!$H84","v":"zuid"},{"$f":"Invoeren!L84","v":0},{"$f":"Invoeren!M84","v":""},{"$f":"Invoeren!N84","v":""},{"$f":"Invoeren!$C84","v":44.0228},{"$f":"Invoeren!AI84","v":157},{"$f":"Invoeren!BC84","v":154},{"$f":"Invoeren!BW84","v":173},{"$f":"Invoeren!CQ84","v":179}]
[{"$f":"Invoeren!B66","v":170},{"$f":"Invoeren!A66","v":60},{"$f":"Invoeren!$D66","v":200502634},{"$f":"Invoeren!E66","v":"Sophie O'Toole"},{"$f":"Invoeren!F66","v":"VZC Veenendaal"},{"$f":"Invoeren!$I66","v":0},{"$f":"Invoeren!$H66","v":"Midwest"},{"$f":"Invoeren!L66","v":0},{"$f":"Invoeren!M66","v":""},{"$f":"Invoeren!N66","v":""},{"$f":"Invoeren!$C66","v":43.8902},{"$f":"Invoeren!AI66","v":157},{"$f":"Invoeren!BC66","v":144},{"$f":"Invoeren!BW66","v":190},{"$f":"Invoeren!CQ66","v":170}]
[{"$f":"Invoeren!B123","v":171},{"$f":"Invoeren!A123","v":117},{"$f":"Invoeren!$D123","v":200403802},{"$f":"Invoeren!E123","v":"Lisa van Laar"},{"$f":"Invoeren!F123","v":"Polar Bears"},{"$f":"Invoeren!$I123","v":0},{"$f":"Invoeren!$H123","v":"Oost"},{"$f":"Invoeren!L123","v":0},{"$f":"Invoeren!M123","v":""},{"$f":"Invoeren!N123","v":""},{"$f":"Invoeren!$C123","v":43.7955},{"$f":"Invoeren!AI123","v":157},{"$f":"Invoeren!BC123","v":186},{"$f":"Invoeren!BW123","v":119},{"$f":"Invoeren!CQ123","v":186}]
[{"$f":"Invoeren!B103","v":172},{"$f":"Invoeren!A103","v":97},{"$f":"Invoeren!$D103","v":200500642},{"$f":"Invoeren!E103","v":"Gwen Kuijpers"},{"$f":"Invoeren!F103","v":"VZC Veenendaal"},{"$f":"Invoeren!$I103","v":0},{"$f":"Invoeren!$H103","v":"Midwest"},{"$f":"Invoeren!L103","v":0},{"$f":"Invoeren!M103","v":""},{"$f":"Invoeren!N103","v":""},{"$f":"Invoeren!$C103","v":43.6742},{"$f":"Invoeren!AI103","v":125},{"$f":"Invoeren!BC103","v":169},{"$f":"Invoeren!BW103","v":175},{"$f":"Invoeren!CQ103","v":190}]
[{"$f":"Invoeren!B8","v":173},{"$f":"Invoeren!A8","v":2},{"$f":"Invoeren!$D8","v":200105142},{"$f":"Invoeren!E8","v":"Lani aan het Rot"},{"$f":"Invoeren!F8","v":"ZV de Zaan"},{"$f":"Invoeren!$I8","v":0},{"$f":"Invoeren!$H8","v":"MidWest"},{"$f":"Invoeren!L8","v":0},{"$f":"Invoeren!M8","v":"BM"},{"$f":"Invoeren!N8","v":""},{"$f":"Invoeren!$C8","v":43.5947},{"$f":"Invoeren!AI8","v":185},{"$f":"Invoeren!BC8","v":144},{"$f":"Invoeren!BW8","v":160},{"$f":"Invoeren!CQ8","v":175}]
[{"$f":"Invoeren!B131","v":174},{"$f":"Invoeren!A131","v":125},{"$f":"Invoeren!$D131","v":200405286},{"$f":"Invoeren!E131","v":"Loïs Vink"},{"$f":"Invoeren!F131","v":"VZC Veenendaal"},{"$f":"Invoeren!$I131","v":0},{"$f":"Invoeren!$H131","v":"Midwest"},{"$f":"Invoeren!L131","v":0},{"$f":"Invoeren!M131","v":""},{"$f":"Invoeren!N131","v":""},{"$f":"Invoeren!$C131","v":43.5833},{"$f":"Invoeren!AI131","v":175},{"$f":"Invoeren!BC131","v":134},{"$f":"Invoeren!BW131","v":171},{"$f":"Invoeren!CQ131","v":190}]
[{"$f":"Invoeren!B12","v":175},{"$f":"Invoeren!A12","v":6},{"$f":"Invoeren!$D12","v":200404994},{"$f":"Invoeren!E12","v":"Stacey Martha"},{"$f":"Invoeren!F12","v":"DSZ"},{"$f":"Invoeren!$I12","v":0},{"$f":"Invoeren!$H12","v":"West"},{"$f":"Invoeren!L12","v":0},{"$f":"Invoeren!M12","v":""},{"$f":"Invoeren!N12","v":""},{"$f":"Invoeren!$C12","v":43.4053},{"$f":"Invoeren!AI12","v":162},{"$f":"Invoeren!BC12","v":188},{"$f":"Invoeren!BW12","v":142},{"$f":"Invoeren!CQ12","v":179}]
[{"$f":"Invoeren!B17","v":176},{"$f":"Invoeren!A17","v":11},{"$f":"Invoeren!$D17","v":200502532},{"$f":"Invoeren!E17","v":"Lizzy Bastiaans"},{"$f":"Invoeren!F17","v":"Hera'11"},{"$f":"Invoeren!$I17","v":0},{"$f":"Invoeren!$H17","v":"Oost"},{"$f":"Invoeren!L17","v":0},{"$f":"Invoeren!M17","v":""},{"$f":"Invoeren!N17","v":""},{"$f":"Invoeren!$C17","v":43.2273},{"$f":"Invoeren!AI17","v":184},{"$f":"Invoeren!BC17","v":169},{"$f":"Invoeren!BW17","v":178},{"$f":"Invoeren!CQ17","v":153}]
[{"$f":"Invoeren!B213","v":177},{"$f":"Invoeren!A213","v":207},{"$f":"Invoeren!$D213","v":200503686},{"$f":"Invoeren!E213","v":"Floor van der Heijden"},{"$f":"Invoeren!F213","v":"DSZ"},{"$f":"Invoeren!$I213","v":0},{"$f":"Invoeren!$H213","v":"West"},{"$f":"Invoeren!L213","v":0},{"$f":"Invoeren!M213","v":""},{"$f":"Invoeren!N213","v":""},{"$f":"Invoeren!$C213","v":43.1211},{"$f":"Invoeren!AI213","v":108},{"$f":"Invoeren!BC213","v":164},{"$f":"Invoeren!BW213","v":192},{"$f":"Invoeren!CQ213","v":196}]
[{"$f":"Invoeren!B42","v":178},{"$f":"Invoeren!A42","v":36},{"$f":"Invoeren!$D42","v":200503578},{"$f":"Invoeren!E42","v":"Marissa Peters"},{"$f":"Invoeren!F42","v":"Aqua-Novio '94"},{"$f":"Invoeren!$I42","v":0},{"$f":"Invoeren!$H42","v":"Oost"},{"$f":"Invoeren!L42","v":0},{"$f":"Invoeren!M42","v":""},{"$f":"Invoeren!N42","v":""},{"$f":"Invoeren!$C42","v":43.0189},{"$f":"Invoeren!AI42","v":191},{"$f":"Invoeren!BC42","v":181},{"$f":"Invoeren!BW42","v":144},{"$f":"Invoeren!CQ42","v":156}]
[{"$f":"Invoeren!B23","v":179},{"$f":"Invoeren!A23","v":17},{"$f":"Invoeren!$D23","v":200503580},{"$f":"Invoeren!E23","v":"Irsah van Oosten"},{"$f":"Invoeren!F23","v":"Widex Gzc Donk"},{"$f":"Invoeren!$I23","v":0},{"$f":"Invoeren!$H23","v":"West"},{"$f":"Invoeren!L23","v":0},{"$f":"Invoeren!M23","v":""},{"$f":"Invoeren!N23","v":""},{"$f":"Invoeren!$C23","v":42.8485},{"$f":"Invoeren!AI23","v":178},{"$f":"Invoeren!BC23","v":152},{"$f":"Invoeren!BW23","v":194},{"$f":"Invoeren!CQ23","v":158}]
[{"$f":"Invoeren!B134","v":180},{"$f":"Invoeren!A134","v":128},{"$f":"Invoeren!$D134","v":200405436},{"$f":"Invoeren!E134","v":"Amy Struijk"},{"$f":"Invoeren!F134","v":"WVZ"},{"$f":"Invoeren!$I134","v":0},{"$f":"Invoeren!$H134","v":"West"},{"$f":"Invoeren!L134","v":0},{"$f":"Invoeren!M134","v":""},{"$f":"Invoeren!N134","v":""},{"$f":"Invoeren!$C134","v":42.7765},{"$f":"Invoeren!AI134","v":194},{"$f":"Invoeren!BC134","v":134},{"$f":"Invoeren!BW134","v":175},{"$f":"Invoeren!CQ134","v":179}]
[{"$f":"Invoeren!B195","v":181},{"$f":"Invoeren!A195","v":189},{"$f":"Invoeren!$D195","v":200305510},{"$f":"Invoeren!E195","v":"Mirella Schieman"},{"$f":"Invoeren!F195","v":"DSZ"},{"$f":"Invoeren!$I195","v":0},{"$f":"Invoeren!$H195","v":"West"},{"$f":"Invoeren!L195","v":0},{"$f":"Invoeren!M195","v":""},{"$f":"Invoeren!N195","v":""},{"$f":"Invoeren!$C195","v":42.7083},{"$f":"Invoeren!AI195","v":130},{"$f":"Invoeren!BC195","v":189},{"$f":"Invoeren!BW195","v":185},{"$f":"Invoeren!CQ195","v":175}]
[{"$f":"Invoeren!B188","v":182},{"$f":"Invoeren!A188","v":182},{"$f":"Invoeren!$D188","v":200503994},{"$f":"Invoeren!E188","v":"Kyra van Dijk"},{"$f":"Invoeren!F188","v":"Widex Gzc Donk"},{"$f":"Invoeren!$I188","v":0},{"$f":"Invoeren!$H188","v":"West"},{"$f":"Invoeren!L188","v":0},{"$f":"Invoeren!M188","v":""},{"$f":"Invoeren!N188","v":""},{"$f":"Invoeren!$C188","v":{"v":42.606,"d":"42.6060"}},{"$f":"Invoeren!AI188","v":171},{"$f":"Invoeren!BC188","v":193},{"$f":"Invoeren!BW188","v":160},{"$f":"Invoeren!CQ188","v":166}]
[{"$f":"Invoeren!B197","v":183},{"$f":"Invoeren!A197","v":191},{"$f":"Invoeren!$D197","v":200503990},{"$f":"Invoeren!E197","v":"Linda Glebbeek"},{"$f":"Invoeren!F197","v":"Widex Gzc Donk"},{"$f":"Invoeren!$I197","v":0},{"$f":"Invoeren!$H197","v":"West"},{"$f":"Invoeren!L197","v":0},{"$f":"Invoeren!M197","v":""},{"$f":"Invoeren!N197","v":""},{"$f":"Invoeren!$C197","v":{"v":42.394,"d":"42.3940"}},{"$f":"Invoeren!AI197","v":185},{"$f":"Invoeren!BC197","v":177},{"$f":"Invoeren!BW197","v":185},{"$f":"Invoeren!CQ197","v":158}]
[{"$f":"Invoeren!B148","v":184},{"$f":"Invoeren!A148","v":142},{"$f":"Invoeren!$D148","v":200405434},{"$f":"Invoeren!E148","v":"Eline Schouten"},{"$f":"Invoeren!F148","v":"WVZ"},{"$f":"Invoeren!$I148","v":0},{"$f":"Invoeren!$H148","v":"West"},{"$f":"Invoeren!L148","v":0},{"$f":"Invoeren!M148","v":""},{"$f":"Invoeren!N148","v":""},{"$f":"Invoeren!$C148","v":42.0531},{"$f":"Invoeren!AI148","v":185},{"$f":"Invoeren!BC148","v":192},{"$f":"Invoeren!BW148","v":171},{"$f":"Invoeren!CQ148","v":149}]
[{"$f":"Invoeren!B170","v":185},{"$f":"Invoeren!A170","v":164},{"$f":"Invoeren!$D170","v":200501056},{"$f":"Invoeren!E170","v":"Devina Baank"},{"$f":"Invoeren!F170","v":"De Houtrib"},{"$f":"Invoeren!$I170","v":0},{"$f":"Invoeren!$H170","v":"Oost"},{"$f":"Invoeren!L170","v":0},{"$f":"Invoeren!M170","v":""},{"$f":"Invoeren!N170","v":""},{"$f":"Invoeren!$C170","v":41.9432},{"$f":"Invoeren!AI170","v":172},{"$f":"Invoeren!BC170","v":169},{"$f":"Invoeren!BW170","v":197},{"$f":"Invoeren!CQ170","v":169}]
[{"$f":"Invoeren!B172","v":186},{"$f":"Invoeren!A172","v":166},{"$f":"Invoeren!$D172","v":200404874},{"$f":"Invoeren!E172","v":"Elsa Veldhuijzen"},{"$f":"Invoeren!F172","v":"PSV Synchro Team Eindhoven"},{"$f":"Invoeren!$I172","v":0},{"$f":"Invoeren!$H172","v":"Zuid"},{"$f":"Invoeren!L172","v":0},{"$f":"Invoeren!M172","v":""},{"$f":"Invoeren!N172","v":""},{"$f":"Invoeren!$C172","v":41.5909},{"$f":"Invoeren!AI172","v":148},{"$f":"Invoeren!BC172","v":195},{"$f":"Invoeren!BW172","v":178},{"$f":"Invoeren!CQ172","v":192}]
[{"$f":"Invoeren!B175","v":187},{"$f":"Invoeren!A175","v":169},{"$f":"Invoeren!$D175","v":200503582},{"$f":"Invoeren!E175","v":"July Vermeulen"},{"$f":"Invoeren!F175","v":"Widex Gzc Donk"},{"$f":"Invoeren!$I175","v":0},{"$f":"Invoeren!$H175","v":"West"},{"$f":"Invoeren!L175","v":0},{"$f":"Invoeren!M175","v":""},{"$f":"Invoeren!N175","v":""},{"$f":"Invoeren!$C175","v":{"v":41.553,"d":"41.5530"}},{"$f":"Invoeren!AI175","v":148},{"$f":"Invoeren!BC175","v":196},{"$f":"Invoeren!BW175","v":189},{"$f":"Invoeren!CQ175","v":170}]
[{"$f":"Invoeren!B35","v":188},{"$f":"Invoeren!A35","v":29},{"$f":"Invoeren!$D35","v":200503998},{"$f":"Invoeren!E35","v":"Savoy Bottse"},{"$f":"Invoeren!F35","v":"HZ&PC Heerenveen"},{"$f":"Invoeren!$I35","v":0},{"$f":"Invoeren!$H35","v":"Noord"},{"$f":"Invoeren!L35","v":0},{"$f":"Invoeren!M35","v":""},{"$f":"Invoeren!N35","v":""},{"$f":"Invoeren!$C35","v":40.8068},{"$f":"Invoeren!AI35","v":197},{"$f":"Invoeren!BC35","v":132},{"$f":"Invoeren!BW35","v":193},{"$f":"Invoeren!CQ35","v":187}]
[{"$f":"Invoeren!B141","v":189},{"$f":"Invoeren!A141","v":135},{"$f":"Invoeren!$D141","v":200303570},{"$f":"Invoeren!E141","v":"Melissa Groeneveld"},{"$f":"Invoeren!F141","v":"De Houtrib"},{"$f":"Invoeren!$I141","v":0},{"$f":"Invoeren!$H141","v":"Oost"},{"$f":"Invoeren!L141","v":0},{"$f":"Invoeren!M141","v":""},{"$f":"Invoeren!N141","v":""},{"$f":"Invoeren!$C141","v":40.3636},{"$f":"Invoeren!AI141","v":194},{"$f":"Invoeren!BC141","v":177},{"$f":"Invoeren!BW141","v":191},{"$f":"Invoeren!CQ141","v":194}]
[{"$f":"Invoeren!B124","v":190},{"$f":"Invoeren!A124","v":118},{"$f":"Invoeren!$D124","v":200501692},{"$f":"Invoeren!E124","v":"Femke Hermans"},{"$f":"Invoeren!F124","v":"ZC.Eijsden"},{"$f":"Invoeren!$I124","v":0},{"$f":"Invoeren!$H124","v":"Zuid"},{"$f":"Invoeren!L124","v":0},{"$f":"Invoeren!M124","v":""},{"$f":"Invoeren!N124","v":""},{"$f":"Invoeren!$C124","v":39.8977},{"$f":"Invoeren!AI124","v":176},{"$f":"Invoeren!BC124","v":189},{"$f":"Invoeren!BW124","v":196},{"$f":"Invoeren!CQ124","v":194}]
[{"$f":"Invoeren!B74","v":191},{"$f":"Invoeren!A74","v":68},{"$f":"Invoeren!$D74","v":200303994},{"$f":"Invoeren!E74","v":"Luciella Janse"},{"$f":"Invoeren!F74","v":"De Houtrib"},{"$f":"Invoeren!$I74","v":0},{"$f":"Invoeren!$H74","v":"Oost"},{"$f":"Invoeren!L74","v":0},{"$f":"Invoeren!M74","v":""},{"$f":"Invoeren!N74","v":""},{"$f":"Invoeren!$C74","v":39.6289},{"$f":"Invoeren!AI74","v":193},{"$f":"Invoeren!BC74","v":197},{"$f":"Invoeren!BW74","v":185},{"$f":"Invoeren!CQ74","v":170}]
[{"$f":"Invoeren!B137","v":192},{"$f":"Invoeren!A137","v":131},{"$f":"Invoeren!$D137","v":200502062},{"$f":"Invoeren!E137","v":"Linda Driessen"},{"$f":"Invoeren!F137","v":"HZPC Horst"},{"$f":"Invoeren!$I137","v":0},{"$f":"Invoeren!$H137","v":"zuid"},{"$f":"Invoeren!L137","v":0},{"$f":"Invoeren!M137","v":""},{"$f":"Invoeren!N137","v":""},{"$f":"Invoeren!$C137","v":39.2463},{"$f":"Invoeren!AI137","v":196},{"$f":"Invoeren!BC137","v":193},{"$f":"Invoeren!BW137","v":195},{"$f":"Invoeren!CQ137","v":179}]
[{"$f":"Invoeren!B125","v":193},{"$f":"Invoeren!A125","v":119},{"$f":"Invoeren!$D125","v":200305506},{"$f":"Invoeren!E125","v":"Yza Babcoubei"},{"$f":"Invoeren!F125","v":"Aquarijn"},{"$f":"Invoeren!$I125","v":0},{"$f":"Invoeren!$H125","v":"MidWest"},{"$f":"Invoeren!L125","v":0},{"$f":"Invoeren!M125","v":""},{"$f":"Invoeren!N125","v":""},{"$f":"Invoeren!$C125","v":0},{"$f":"Invoeren!AI125","v":""},{"$f":"Invoeren!BC125","v":""},{"$f":"Invoeren!BW125","v":""},{"$f":"Invoeren!CQ125","v":""}]
[{"$f":"Invoeren!B204","v":193},{"$f":"Invoeren!A204","v":198},{"$f":"Invoeren!$D204","v":200401600},{"$f":"Invoeren!E204","v":"Mirjam Jochemsen"},{"$f":"Invoeren!F204","v":"AZC"},{"$f":"Invoeren!$I204","v":0},{"$f":"Invoeren!$H204","v":"West"},{"$f":"Invoeren!L204","v":0},{"$f":"Invoeren!M204","v":""},{"$f":"Invoeren!N204","v":""},{"$f":"Invoeren!$C204","v":0},{"$f":"Invoeren!AI204","v":""},{"$f":"Invoeren!BC204","v":""},{"$f":"Invoeren!BW204","v":""},{"$f":"Invoeren!CQ204","v":""}]
[{"$f":"Invoeren!B207","v":193},{"$f":"Invoeren!A207","v":201},{"$f":"Invoeren!$D207","v":200304388},{"$f":"Invoeren!E207","v":"Kyra Roelands "},{"$f":"Invoeren!F207","v":"AZC"},{"$f":"Invoeren!$I207","v":0},{"$f":"Invoeren!$H207","v":"West"},{"$f":"Invoeren!L207","v":0},{"$f":"Invoeren!M207","v":""},{"$f":"Invoeren!N207","v":""},{"$f":"Invoeren!$C207","v":0},{"$f":"Invoeren!AI207","v":""},{"$f":"Invoeren!BC207","v":""},{"$f":"Invoeren!BW207","v":""},{"$f":"Invoeren!CQ207","v":""}]
[{"$f":"Invoeren!B210","v":193},{"$f":"Invoeren!A210","v":204},{"$f":"Invoeren!$D210","v":200305458},{"$f":"Invoeren!E210","v":"Merian Bazuin"},{"$f":"Invoeren!F210","v":"DSZ"},{"$f":"Invoeren!$I210","v":0},{"$f":"Invoeren!$H210","v":"West"},{"$f":"Invoeren!L210","v":0},{"$f":"Invoeren!M210","v":""},{"$f":"Invoeren!N210","v":""},{"$f":"Invoeren!$C210","v":0},{"$f":"Invoeren!AI210","v":""},{"$f":"Invoeren!BC210","v":""},{"$f":"Invoeren!BW210","v":""},{"$f":"Invoeren!CQ210","v":""}]
[{"$f":"Invoeren!B58","v":193},{"$f":"Invoeren!A58","v":52},{"$f":"Invoeren!$D58","v":200404148},{"$f":"Invoeren!E58","v":"Lieke Smeets"},{"$f":"Invoeren!F58","v":"Hellas-Glana"},{"$f":"Invoeren!$I58","v":0},{"$f":"Invoeren!$H58","v":"Zuid"},{"$f":"Invoeren!L58","v":0},{"$f":"Invoeren!M58","v":""},{"$f":"Invoeren!N58","v":""},{"$f":"Invoeren!$C58","v":0},{"$f":"Invoeren!AI58","v":""},{"$f":"Invoeren!BC58","v":""},{"$f":"Invoeren!BW58","v":""},{"$f":"Invoeren!CQ58","v":""}]
[{"$f":"Invoeren!B21","v":193},{"$f":"Invoeren!A21","v":15},{"$f":"Invoeren!$D21","v":200302598},{"$f":"Invoeren!E21","v":"Rikst Schoo"},{"$f":"Invoeren!F21","v":"HZ&PC Heerenveen"},{"$f":"Invoeren!$I21","v":0},{"$f":"Invoeren!$H21","v":"Noord"},{"$f":"Invoeren!L21","v":0},{"$f":"Invoeren!M21","v":""},{"$f":"Invoeren!N21","v":""},{"$f":"Invoeren!$C21","v":0},{"$f":"Invoeren!AI21","v":""},{"$f":"Invoeren!BC21","v":""},{"$f":"Invoeren!BW21","v":""},{"$f":"Invoeren!CQ21","v":""}]
[{"$f":"Invoeren!B41","v":193},{"$f":"Invoeren!A41","v":35},{"$f":"Invoeren!$D41","v":200304550},{"$f":"Invoeren!E41","v":"Margo Rops"},{"$f":"Invoeren!F41","v":"Synchro Breda"},{"$f":"Invoeren!$I41","v":0},{"$f":"Invoeren!$H41","v":"Zuid"},{"$f":"Invoeren!L41","v":0},{"$f":"Invoeren!M41","v":""},{"$f":"Invoeren!N41","v":""},{"$f":"Invoeren!$C41","v":0},{"$f":"Invoeren!AI41","v":""},{"$f":"Invoeren!BC41","v":""},{"$f":"Invoeren!BW41","v":""},{"$f":"Invoeren!CQ41","v":""}]
[{"$f":"Invoeren!B93","v":193},{"$f":"Invoeren!A93","v":87},{"$f":"Invoeren!$D93","v":200304878},{"$f":"Invoeren!E93","v":"Kayleigh Bruins"},{"$f":"Invoeren!F93","v":"Widex Gzc Donk"},{"$f":"Invoeren!$I93","v":0},{"$f":"Invoeren!$H93","v":"West"},{"$f":"Invoeren!L93","v":0},{"$f":"Invoeren!M93","v":""},{"$f":"Invoeren!N93","v":""},{"$f":"Invoeren!$C93","v":0},{"$f":"Invoeren!AI93","v":""},{"$f":"Invoeren!BC93","v":""},{"$f":"Invoeren!BW93","v":""},{"$f":"Invoeren!CQ93","v":""}]
[{"$f":"Invoeren!B120","v":193},{"$f":"Invoeren!A120","v":114},{"$f":"Invoeren!$D120","v":200405184},{"$f":"Invoeren!E120","v":"Karolina Breedveld"},{"$f":"Invoeren!F120","v":"Widex Gzc Donk"},{"$f":"Invoeren!$I120","v":0},{"$f":"Invoeren!$H120","v":"West"},{"$f":"Invoeren!L120","v":0},{"$f":"Invoeren!M120","v":""},{"$f":"Invoeren!N120","v":""},{"$f":"Invoeren!$C120","v":0},{"$f":"Invoeren!AI120","v":""},{"$f":"Invoeren!BC120","v":""},{"$f":"Invoeren!BW120","v":""},{"$f":"Invoeren!CQ120","v":""}]
[{"$f":"Invoeren!B31","v":193},{"$f":"Invoeren!A31","v":25},{"$f":"Invoeren!$D31","v":200304818},{"$f":"Invoeren!E31","v":"Emma Leen"},{"$f":"Invoeren!F31","v":"Z.P.C.H."},{"$f":"Invoeren!$I31","v":0},{"$f":"Invoeren!$H31","v":"MidWest"},{"$f":"Invoeren!L31","v":0},{"$f":"Invoeren!M31","v":""},{"$f":"Invoeren!N31","v":""},{"$f":"Invoeren!$C31","v":0},{"$f":"Invoeren!AI31","v":""},{"$f":"Invoeren!BC31","v":""},{"$f":"Invoeren!BW31","v":""},{"$f":"Invoeren!CQ31","v":""}]
[{"$f":"Invoeren!B36","v":193},{"$f":"Invoeren!A36","v":30},{"$f":"Invoeren!$D36","v":200304194},{"$f":"Invoeren!E36","v":"Sanne van der Waal"},{"$f":"Invoeren!F36","v":"Z.P.C.H."},{"$f":"Invoeren!$I36","v":0},{"$f":"Invoeren!$H36","v":"MidWest"},{"$f":"Invoeren!L36","v":0},{"$f":"Invoeren!M36","v":""},{"$f":"Invoeren!N36","v":""},{"$f":"Invoeren!$C36","v":0},{"$f":"Invoeren!AI36","v":""},{"$f":"Invoeren!BC36","v":""},{"$f":"Invoeren!BW36","v":""},{"$f":"Invoeren!CQ36","v":""}]
[{"$f":"Invoeren!B89","v":193},{"$f":"Invoeren!A89","v":83},{"$f":"Invoeren!$D89","v":200404462},{"$f":"Invoeren!E89","v":"Daniela Ghasseminejad"},{"$f":"Invoeren!F89","v":"Z.P.C.H."},{"$f":"Invoeren!$I89","v":0},{"$f":"Invoeren!$H89","v":"MidWest"},{"$f":"Invoeren!L89","v":0},{"$f":"Invoeren!M89","v":""},{"$f":"Invoeren!N89","v":""},{"$f":"Invoeren!$C89","v":0},{"$f":"Invoeren!AI89","v":""},{"$f":"Invoeren!BC89","v":""},{"$f":"Invoeren!BW89","v":""},{"$f":"Invoeren!CQ89","v":""}]
[{"$f":"Invoeren!B212","v":"BM"},{"$f":"Invoeren!A212","v":206},{"$f":"Invoeren!$D212","v":200602654},{"$f":"Invoeren!E212","v":"Megan Amling"},{"$f":"Invoeren!F212","v":"BZ&PC"},{"$f":"Invoeren!$I212","v":"BM"},{"$f":"Invoeren!$H212","v":"West"},{"$f":"Invoeren!L212","v":0},{"$f":"Invoeren!M212","v":"BM"},{"$f":"Invoeren!N212","v":"Age II"},{"$f":"Invoeren!$C212","v":{"v":48.409,"d":"48.4090"}},{"$f":"Invoeren!AI212","v":130},{"$f":"Invoeren!BC212","v":119},{"$f":"Invoeren!BW212","v":92},{"$f":"Invoeren!CQ212","v":121}]
[{"$f":"Invoeren!B55","v":"BM"},{"$f":"Invoeren!A55","v":49},{"$f":"Invoeren!$D55","v":200602178},{"$f":"Invoeren!E55","v":"Felicia Leemburg"},{"$f":"Invoeren!F55","v":"BZ&PC"},{"$f":"Invoeren!$I55","v":"BM"},{"$f":"Invoeren!$H55","v":"West"},{"$f":"Invoeren!L55","v":0},{"$f":"Invoeren!M55","v":"BM"},{"$f":"Invoeren!N55","v":""},{"$f":"Invoeren!$C55","v":48.0872},{"$f":"Invoeren!AI55","v":120},{"$f":"Invoeren!BC55","v":126},{"$f":"Invoeren!BW55","v":105},{"$f":"Invoeren!CQ55","v":128}]
[{"$f":"Invoeren!B24","v":"BM"},{"$f":"Invoeren!A24","v":18},{"$f":"Invoeren!$D24","v":200104834},{"$f":"Invoeren!E24","v":"Eline Sijl"},{"$f":"Invoeren!F24","v":"AZC"},{"$f":"Invoeren!$I24","v":"BM"},{"$f":"Invoeren!$H24","v":"West"},{"$f":"Invoeren!L24","v":0},{"$f":"Invoeren!M24","v":"BM"},{"$f":"Invoeren!N24","v":""},{"$f":"Invoeren!$C24","v":47.9886},{"$f":"Invoeren!AI24","v":180},{"$f":"Invoeren!BC24","v":119},{"$f":"Invoeren!BW24","v":78},{"$f":"Invoeren!CQ24","v":107}]
[{"$f":"Invoeren!B83","v":"BM"},{"$f":"Invoeren!A83","v":77},{"$f":"Invoeren!$D83","v":200205552},{"$f":"Invoeren!E83","v":"Shariëlle Garia"},{"$f":"Invoeren!F83","v":"ZVBrunssum"},{"$f":"Invoeren!$I83","v":"BM"},{"$f":"Invoeren!$H83","v":"Zuid"},{"$f":"Invoeren!L83","v":0},{"$f":"Invoeren!M83","v":"BM"},{"$f":"Invoeren!N83","v":""},{"$f":"Invoeren!$C83","v":43.4167},{"$f":"Invoeren!AI83","v":172},{"$f":"Invoeren!BC83","v":138},{"$f":"Invoeren!BW83","v":173},{"$f":"Invoeren!CQ83","v":192}]
[{"$f":"Invoeren!B112","v":"BM"},{"$f":"Invoeren!A112","v":106},{"$f":"Invoeren!$D112","v":200200000},{"$f":"Invoeren!E112","v":"Julia Postma"},{"$f":"Invoeren!F112","v":"DZ&PC"},{"$f":"Invoeren!$I112","v":"BM"},{"$f":"Invoeren!$H112","v":"Noord"},{"$f":"Invoeren!L112","v":0},{"$f":"Invoeren!M112","v":"BM"},{"$f":"Invoeren!N112","v":""},{"$f":"Invoeren!$C112","v":41.5114},{"$f":"Invoeren!AI112","v":189},{"$f":"Invoeren!BC112","v":181},{"$f":"Invoeren!BW112","v":175},{"$f":"Invoeren!CQ112","v":187}]
[{"$f":"Invoeren!B214","v":"BM"},{"$f":"Invoeren!A214","v":208},{"$f":"Invoeren!$D214","v":200106068},{"$f":"Invoeren!E214","v":"Evi van Ginneken"},{"$f":"Invoeren!F214","v":"Synchro Breda"},{"$f":"Invoeren!$I214","v":"BM"},{"$f":"Invoeren!$H214","v":"Zuid"},{"$f":"Invoeren!L214","v":0},{"$f":"Invoeren!M214","v":"BM"},{"$f":"Invoeren!N214","v":""},{"$f":"Invoeren!$C214","v":0},{"$f":"Invoeren!AI214","v":""},{"$f":"Invoeren!BC214","v":""},{"$f":"Invoeren!BW214","v":""},{"$f":"Invoeren!CQ214","v":""}]
[{"$f":"Invoeren!B109","v":"BM"},{"$f":"Invoeren!A109","v":103},{"$f":"Invoeren!$D109","v":199806484},{"$f":"Invoeren!E109","v":"Jessica Backes"},{"$f":"Invoeren!F109","v":"ZVBrunssum"},{"$f":"Invoeren!$I109","v":"BM"},{"$f":"Invoeren!$H109","v":"Zuid"},{"$f":"Invoeren!L109","v":0},{"$f":"Invoeren!M109","v":"BM"},{"$f":"Invoeren!N109","v":""},{"$f":"Invoeren!$C109","v":0},{"$f":"Invoeren!AI109","v":""},{"$f":"Invoeren!BC109","v":""},{"$f":"Invoeren!BW109","v":""},{"$f":"Invoeren!CQ109","v":""}]
[{"$f":"Invoeren!B218","v":193},{"$f":"Invoeren!A218","v":212},{"$f":"Invoeren!$D218","v":0},{"$f":"Invoeren!E218","v":0},{"$f":"Invoeren!F218","v":0},{"$f":"Invoeren!$I218","v":0},{"$f":"Invoeren!$H218","v":0},{"$f":"Invoeren!L218","v":0},{"$f":"Invoeren!M218","v":""},{"$f":"Invoeren!N218","v":""},{"$f":"Invoeren!$C218","v":0},{"$f":"Invoeren!AI218","v":""},{"$f":"Invoeren!BC218","v":""},{"$f":"Invoeren!BW218","v":""},{"$f":"Invoeren!CQ218","v":""}]
[{"$f":"Invoeren!B219","v":193},{"$f":"Invoeren!A219","v":213},{"$f":"Invoeren!$D219","v":0},{"$f":"Invoeren!E219","v":0},{"$f":"Invoeren!F219","v":0},{"$f":"Invoeren!$I219","v":0},{"$f":"Invoeren!$H219","v":0},{"$f":"Invoeren!L219","v":0},{"$f":"Invoeren!M219","v":""},{"$f":"Invoeren!N219","v":""},{"$f":"Invoeren!$C219","v":0},{"$f":"Invoeren!AI219","v":""},{"$f":"Invoeren!BC219","v":""},{"$f":"Invoeren!BW219","v":""},{"$f":"Invoeren!CQ219","v":""}]
[{"$f":"Invoeren!B220","v":193},{"$f":"Invoeren!A220","v":214},{"$f":"Invoeren!$D220","v":0},{"$f":"Invoeren!E220","v":0},{"$f":"Invoeren!F220","v":0},{"$f":"Invoeren!$I220","v":0},{"$f":"Invoeren!$H220","v":0},{"$f":"Invoeren!L220","v":0},{"$f":"Invoeren!M220","v":""},{"$f":"Invoeren!N220","v":""},{"$f":"Invoeren!$C220","v":0},{"$f":"Invoeren!AI220","v":""},{"$f":"Invoeren!BC220","v":""},{"$f":"Invoeren!BW220","v":""},{"$f":"Invoeren!CQ220","v":""}]
[{"$f":"Invoeren!B221","v":193},{"$f":"Invoeren!A221","v":215},{"$f":"Invoeren!$D221","v":0},{"$f":"Invoeren!E221","v":0},{"$f":"Invoeren!F221","v":0},{"$f":"Invoeren!$I221","v":0},{"$f":"Invoeren!$H221","v":0},{"$f":"Invoeren!L221","v":0},{"$f":"Invoeren!M221","v":""},{"$f":"Invoeren!N221","v":""},{"$f":"Invoeren!$C221","v":0},{"$f":"Invoeren!AI221","v":""},{"$f":"Invoeren!BC221","v":""},{"$f":"Invoeren!BW221","v":""},{"$f":"Invoeren!CQ221","v":""}]
[{"$f":"Invoeren!B222","v":193},{"$f":"Invoeren!A222","v":216},{"$f":"Invoeren!$D222","v":0},{"$f":"Invoeren!E222","v":0},{"$f":"Invoeren!F222","v":0},{"$f":"Invoeren!$I222","v":0},{"$f":"Invoeren!$H222","v":0},{"$f":"Invoeren!L222","v":0},{"$f":"Invoeren!M222","v":""},{"$f":"Invoeren!N222","v":""},{"$f":"Invoeren!$C222","v":0},{"$f":"Invoeren!AI222","v":""},{"$f":"Invoeren!BC222","v":""},{"$f":"Invoeren!BW222","v":""},{"$f":"Invoeren!CQ222","v":""}]
[{"$f":"Invoeren!B223","v":193},{"$f":"Invoeren!A223","v":217},{"$f":"Invoeren!$D223","v":0},{"$f":"Invoeren!E223","v":0},{"$f":"Invoeren!F223","v":0},{"$f":"Invoeren!$I223","v":0},{"$f":"Invoeren!$H223","v":0},{"$f":"Invoeren!L223","v":0},{"$f":"Invoeren!M223","v":""},{"$f":"Invoeren!N223","v":""},{"$f":"Invoeren!$C223","v":0},{"$f":"Invoeren!AI223","v":""},{"$f":"Invoeren!BC223","v":""},{"$f":"Invoeren!BW223","v":""},{"$f":"Invoeren!CQ223","v":""}]
[{"$f":"Invoeren!B224","v":193},{"$f":"Invoeren!A224","v":218},{"$f":"Invoeren!$D224","v":0},{"$f":"Invoeren!E224","v":0},{"$f":"Invoeren!F224","v":0},{"$f":"Invoeren!$I224","v":0},{"$f":"Invoeren!$H224","v":0},{"$f":"Invoeren!L224","v":0},{"$f":"Invoeren!M224","v":""},{"$f":"Invoeren!N224","v":""},{"$f":"Invoeren!$C224","v":0},{"$f":"Invoeren!AI224","v":""},{"$f":"Invoeren!BC224","v":""},{"$f":"Invoeren!BW224","v":""},{"$f":"Invoeren!CQ224","v":""}]
[{"$f":"Invoeren!B225","v":193},{"$f":"Invoeren!A225","v":219},{"$f":"Invoeren!$D225","v":0},{"$f":"Invoeren!E225","v":0},{"$f":"Invoeren!F225","v":0},{"$f":"Invoeren!$I225","v":0},{"$f":"Invoeren!$H225","v":0},{"$f":"Invoeren!L225","v":0},{"$f":"Invoeren!M225","v":""},{"$f":"Invoeren!N225","v":""},{"$f":"Invoeren!$C225","v":0},{"$f":"Invoeren!AI225","v":""},{"$f":"Invoeren!BC225","v":""},{"$f":"Invoeren!BW225","v":""},{"$f":"Invoeren!CQ225","v":""}]
[{"$f":"Invoeren!B226","v":193},{"$f":"Invoeren!A226","v":220},{"$f":"Invoeren!$D226","v":0},{"$f":"Invoeren!E226","v":0},{"$f":"Invoeren!F226","v":0},{"$f":"Invoeren!$I226","v":0},{"$f":"Invoeren!$H226","v":0},{"$f":"Invoeren!L226","v":0},{"$f":"Invoeren!M226","v":""},{"$f":"Invoeren!N226","v":""},{"$f":"Invoeren!$C226","v":0},{"$f":"Invoeren!AI226","v":""},{"$f":"Invoeren!BC226","v":""},{"$f":"Invoeren!BW226","v":""},{"$f":"Invoeren!CQ226","v":""}]
[{"$f":"Invoeren!B227","v":193},{"$f":"Invoeren!A227","v":221},{"$f":"Invoeren!$D227","v":0},{"$f":"Invoeren!E227","v":0},{"$f":"Invoeren!F227","v":0},{"$f":"Invoeren!$I227","v":0},{"$f":"Invoeren!$H227","v":0},{"$f":"Invoeren!L227","v":0},{"$f":"Invoeren!M227","v":""},{"$f":"Invoeren!N227","v":""},{"$f":"Invoeren!$C227","v":0},{"$f":"Invoeren!AI227","v":""},{"$f":"Invoeren!BC227","v":""},{"$f":"Invoeren!BW227","v":""},{"$f":"Invoeren!CQ227","v":""}]
[{"$f":"Invoeren!B228","v":193},{"$f":"Invoeren!A228","v":222},{"$f":"Invoeren!$D228","v":0},{"$f":"Invoeren!E228","v":0},{"$f":"Invoeren!F228","v":0},{"$f":"Invoeren!$I228","v":0},{"$f":"Invoeren!$H228","v":0},{"$f":"Invoeren!L228","v":0},{"$f":"Invoeren!M228","v":""},{"$f":"Invoeren!N228","v":""},{"$f":"Invoeren!$C228","v":0},{"$f":"Invoeren!AI228","v":""},{"$f":"Invoeren!BC228","v":""},{"$f":"Invoeren!BW228","v":""},{"$f":"Invoeren!CQ228","v":""}]
[{"$f":"Invoeren!B229","v":193},{"$f":"Invoeren!A229","v":223},{"$f":"Invoeren!$D229","v":0},{"$f":"Invoeren!E229","v":0},{"$f":"Invoeren!F229","v":0},{"$f":"Invoeren!$I229","v":0},{"$f":"Invoeren!$H229","v":0},{"$f":"Invoeren!L229","v":0},{"$f":"Invoeren!M229","v":""},{"$f":"Invoeren!N229","v":""},{"$f":"Invoeren!$C229","v":0},{"$f":"Invoeren!AI229","v":""},{"$f":"Invoeren!BC229","v":""},{"$f":"Invoeren!BW229","v":""},{"$f":"Invoeren!CQ229","v":""}]
[{"$f":"Invoeren!B230","v":193},{"$f":"Invoeren!A230","v":224},{"$f":"Invoeren!$D230","v":0},{"$f":"Invoeren!E230","v":0},{"$f":"Invoeren!F230","v":0},{"$f":"Invoeren!$I230","v":0},{"$f":"Invoeren!$H230","v":0},{"$f":"Invoeren!L230","v":0},{"$f":"Invoeren!M230","v":""},{"$f":"Invoeren!N230","v":""},{"$f":"Invoeren!$C230","v":0},{"$f":"Invoeren!AI230","v":""},{"$f":"Invoeren!BC230","v":""},{"$f":"Invoeren!BW230","v":""},{"$f":"Invoeren!CQ230","v":""}]
[{"$f":"Invoeren!B231","v":193},{"$f":"Invoeren!A231","v":225},{"$f":"Invoeren!$D231","v":0},{"$f":"Invoeren!E231","v":0},{"$f":"Invoeren!F231","v":0},{"$f":"Invoeren!$I231","v":0},{"$f":"Invoeren!$H231","v":0},{"$f":"Invoeren!L231","v":0},{"$f":"Invoeren!M231","v":""},{"$f":"Invoeren!N231","v":""},{"$f":"Invoeren!$C231","v":0},{"$f":"Invoeren!AI231","v":""},{"$f":"Invoeren!BC231","v":""},{"$f":"Invoeren!BW231","v":""},{"$f":"Invoeren!CQ231","v":""}]
[{"$f":"Invoeren!B232","v":193},{"$f":"Invoeren!A232","v":226},{"$f":"Invoeren!$D232","v":0},{"$f":"Invoeren!E232","v":0},{"$f":"Invoeren!F232","v":0},{"$f":"Invoeren!$I232","v":0},{"$f":"Invoeren!$H232","v":0},{"$f":"Invoeren!L232","v":0},{"$f":"Invoeren!M232","v":""},{"$f":"Invoeren!N232","v":""},{"$f":"Invoeren!$C232","v":0},{"$f":"Invoeren!AI232","v":""},{"$f":"Invoeren!BC232","v":""},{"$f":"Invoeren!BW232","v":""},{"$f":"Invoeren!CQ232","v":""}]
[{"$f":"Invoeren!B233","v":193},{"$f":"Invoeren!A233","v":227},{"$f":"Invoeren!$D233","v":0},{"$f":"Invoeren!E233","v":0},{"$f":"Invoeren!F233","v":0},{"$f":"Invoeren!$I233","v":0},{"$f":"Invoeren!$H233","v":0},{"$f":"Invoeren!L233","v":0},{"$f":"Invoeren!M233","v":""},{"$f":"Invoeren!N233","v":""},{"$f":"Invoeren!$C233","v":0},{"$f":"Invoeren!AI233","v":""},{"$f":"Invoeren!BC233","v":""},{"$f":"Invoeren!BW233","v":""},{"$f":"Invoeren!CQ233","v":""}]
[{"$f":"Invoeren!B234","v":193},{"$f":"Invoeren!A234","v":228},{"$f":"Invoeren!$D234","v":0},{"$f":"Invoeren!E234","v":0},{"$f":"Invoeren!F234","v":0},{"$f":"Invoeren!$I234","v":0},{"$f":"Invoeren!$H234","v":0},{"$f":"Invoeren!L234","v":0},{"$f":"Invoeren!M234","v":""},{"$f":"Invoeren!N234","v":""},{"$f":"Invoeren!$C234","v":0},{"$f":"Invoeren!AI234","v":""},{"$f":"Invoeren!BC234","v":""},{"$f":"Invoeren!BW234","v":""},{"$f":"Invoeren!CQ234","v":""}]
[{"$f":"Invoeren!B235","v":193},{"$f":"Invoeren!A235","v":229},{"$f":"Invoeren!$D235","v":0},{"$f":"Invoeren!E235","v":0},{"$f":"Invoeren!F235","v":0},{"$f":"Invoeren!$I235","v":0},{"$f":"Invoeren!$H235","v":0},{"$f":"Invoeren!L235","v":0},{"$f":"Invoeren!M235","v":""},{"$f":"Invoeren!N235","v":""},{"$f":"Invoeren!$C235","v":0},{"$f":"Invoeren!AI235","v":""},{"$f":"Invoeren!BC235","v":""},{"$f":"Invoeren!BW235","v":""},{"$f":"Invoeren!CQ235","v":""}]
[{"$f":"Invoeren!B236","v":193},{"$f":"Invoeren!A236","v":230},{"$f":"Invoeren!$D236","v":0},{"$f":"Invoeren!E236","v":0},{"$f":"Invoeren!F236","v":0},{"$f":"Invoeren!$I236","v":0},{"$f":"Invoeren!$H236","v":0},{"$f":"Invoeren!L236","v":0},{"$f":"Invoeren!M236","v":""},{"$f":"Invoeren!N236","v":""},{"$f":"Invoeren!$C236","v":0},{"$f":"Invoeren!AI236","v":""},{"$f":"Invoeren!BC236","v":""},{"$f":"Invoeren!BW236","v":""},{"$f":"Invoeren!CQ236","v":""}]
[{"$f":"Invoeren!B237","v":193},{"$f":"Invoeren!A237","v":231},{"$f":"Invoeren!$D237","v":0},{"$f":"Invoeren!E237","v":0},{"$f":"Invoeren!F237","v":0},{"$f":"Invoeren!$I237","v":0},{"$f":"Invoeren!$H237","v":0},{"$f":"Invoeren!L237","v":0},{"$f":"Invoeren!M237","v":""},{"$f":"Invoeren!N237","v":""},{"$f":"Invoeren!$C237","v":0},{"$f":"Invoeren!AI237","v":""},{"$f":"Invoeren!BC237","v":""},{"$f":"Invoeren!BW237","v":""},{"$f":"Invoeren!CQ237","v":""}]
[{"$f":"Invoeren!B238","v":193},{"$f":"Invoeren!A238","v":232},{"$f":"Invoeren!$D238","v":0},{"$f":"Invoeren!E238","v":0},{"$f":"Invoeren!F238","v":0},{"$f":"Invoeren!$I238","v":0},{"$f":"Invoeren!$H238","v":0},{"$f":"Invoeren!L238","v":0},{"$f":"Invoeren!M238","v":""},{"$f":"Invoeren!N238","v":""},{"$f":"Invoeren!$C238","v":0},{"$f":"Invoeren!AI238","v":""},{"$f":"Invoeren!BC238","v":""},{"$f":"Invoeren!BW238","v":""},{"$f":"Invoeren!CQ238","v":""}]
[{"$f":"Invoeren!B239","v":193},{"$f":"Invoeren!A239","v":233},{"$f":"Invoeren!$D239","v":0},{"$f":"Invoeren!E239","v":0},{"$f":"Invoeren!F239","v":0},{"$f":"Invoeren!$I239","v":0},{"$f":"Invoeren!$H239","v":0},{"$f":"Invoeren!L239","v":0},{"$f":"Invoeren!M239","v":""},{"$f":"Invoeren!N239","v":""},{"$f":"Invoeren!$C239","v":0},{"$f":"Invoeren!AI239","v":""},{"$f":"Invoeren!BC239","v":""},{"$f":"Invoeren!BW239","v":""},{"$f":"Invoeren!CQ239","v":""}]
[{"$f":"Invoeren!B240","v":193},{"$f":"Invoeren!A240","v":234},{"$f":"Invoeren!$D240","v":0},{"$f":"Invoeren!E240","v":0},{"$f":"Invoeren!F240","v":0},{"$f":"Invoeren!$I240","v":0},{"$f":"Invoeren!$H240","v":0},{"$f":"Invoeren!L240","v":0},{"$f":"Invoeren!M240","v":""},{"$f":"Invoeren!N240","v":""},{"$f":"Invoeren!$C240","v":0},{"$f":"Invoeren!AI240","v":""},{"$f":"Invoeren!BC240","v":""},{"$f":"Invoeren!BW240","v":""},{"$f":"Invoeren!CQ240","v":""}]
[{"$f":"Invoeren!B241","v":193},{"$f":"Invoeren!A241","v":235},{"$f":"Invoeren!$D241","v":0},{"$f":"Invoeren!E241","v":0},{"$f":"Invoeren!F241","v":0},{"$f":"Invoeren!$I241","v":0},{"$f":"Invoeren!$H241","v":0},{"$f":"Invoeren!L241","v":0},{"$f":"Invoeren!M241","v":""},{"$f":"Invoeren!N241","v":""},{"$f":"Invoeren!$C241","v":0},{"$f":"Invoeren!AI241","v":""},{"$f":"Invoeren!BC241","v":""},{"$f":"Invoeren!BW241","v":""},{"$f":"Invoeren!CQ241","v":""}]
[{"$f":"Invoeren!B242","v":193},{"$f":"Invoeren!A242","v":236},{"$f":"Invoeren!$D242","v":0},{"$f":"Invoeren!E242","v":0},{"$f":"Invoeren!F242","v":0},{"$f":"Invoeren!$I242","v":0},{"$f":"Invoeren!$H242","v":0},{"$f":"Invoeren!L242","v":0},{"$f":"Invoeren!M242","v":""},{"$f":"Invoeren!N242","v":""},{"$f":"Invoeren!$C242","v":0},{"$f":"Invoeren!AI242","v":""},{"$f":"Invoeren!BC242","v":""},{"$f":"Invoeren!BW242","v":""},{"$f":"Invoeren!CQ242","v":""}]
[{"$f":"Invoeren!B243","v":193},{"$f":"Invoeren!A243","v":237},{"$f":"Invoeren!$D243","v":0},{"$f":"Invoeren!E243","v":0},{"$f":"Invoeren!F243","v":0},{"$f":"Invoeren!$I243","v":0},{"$f":"Invoeren!$H243","v":0},{"$f":"Invoeren!L243","v":0},{"$f":"Invoeren!M243","v":""},{"$f":"Invoeren!N243","v":""},{"$f":"Invoeren!$C243","v":0},{"$f":"Invoeren!AI243","v":""},{"$f":"Invoeren!BC243","v":""},{"$f":"Invoeren!BW243","v":""},{"$f":"Invoeren!CQ243","v":""}]
[{"$f":"Invoeren!B244","v":193},{"$f":"Invoeren!A244","v":238},{"$f":"Invoeren!$D244","v":0},{"$f":"Invoeren!E244","v":0},{"$f":"Invoeren!F244","v":0},{"$f":"Invoeren!$I244","v":0},{"$f":"Invoeren!$H244","v":0},{"$f":"Invoeren!L244","v":0},{"$f":"Invoeren!M244","v":""},{"$f":"Invoeren!N244","v":""},{"$f":"Invoeren!$C244","v":0},{"$f":"Invoeren!AI244","v":""},{"$f":"Invoeren!BC244","v":""},{"$f":"Invoeren!BW244","v":""},{"$f":"Invoeren!CQ244","v":""}]
[{"$f":"Invoeren!B245","v":193},{"$f":"Invoeren!A245","v":239},{"$f":"Invoeren!$D245","v":0},{"$f":"Invoeren!E245","v":0},{"$f":"Invoeren!F245","v":0},{"$f":"Invoeren!$I245","v":0},{"$f":"Invoeren!$H245","v":0},{"$f":"Invoeren!L245","v":0},{"$f":"Invoeren!M245","v":""},{"$f":"Invoeren!N245","v":""},{"$f":"Invoeren!$C245","v":0},{"$f":"Invoeren!AI245","v":""},{"$f":"Invoeren!BC245","v":""},{"$f":"Invoeren!BW245","v":""},{"$f":"Invoeren!CQ245","v":""}]
[{"$f":"Invoeren!B246","v":193},{"$f":"Invoeren!A246","v":240},{"$f":"Invoeren!$D246","v":0},{"$f":"Invoeren!E246","v":0},{"$f":"Invoeren!F246","v":0},{"$f":"Invoeren!$I246","v":0},{"$f":"Invoeren!$H246","v":0},{"$f":"Invoeren!L246","v":0},{"$f":"Invoeren!M246","v":""},{"$f":"Invoeren!N246","v":""},{"$f":"Invoeren!$C246","v":0},{"$f":"Invoeren!AI246","v":""},{"$f":"Invoeren!BC246","v":""},{"$f":"Invoeren!BW246","v":""},{"$f":"Invoeren!CQ246","v":""}]
[{"$f":"Invoeren!B247","v":193},{"$f":"Invoeren!A247","v":241},{"$f":"Invoeren!$D247","v":0},{"$f":"Invoeren!E247","v":0},{"$f":"Invoeren!F247","v":0},{"$f":"Invoeren!$I247","v":0},{"$f":"Invoeren!$H247","v":0},{"$f":"Invoeren!L247","v":0},{"$f":"Invoeren!M247","v":""},{"$f":"Invoeren!N247","v":""},{"$f":"Invoeren!$C247","v":0},{"$f":"Invoeren!AI247","v":""},{"$f":"Invoeren!BC247","v":""},{"$f":"Invoeren!BW247","v":""},{"$f":"Invoeren!CQ247","v":""}]
[{"$f":"Invoeren!B248","v":193},{"$f":"Invoeren!A248","v":242},{"$f":"Invoeren!$D248","v":0},{"$f":"Invoeren!E248","v":0},{"$f":"Invoeren!F248","v":0},{"$f":"Invoeren!$I248","v":0},{"$f":"Invoeren!$H248","v":0},{"$f":"Invoeren!L248","v":0},{"$f":"Invoeren!M248","v":""},{"$f":"Invoeren!N248","v":""},{"$f":"Invoeren!$C248","v":0},{"$f":"Invoeren!AI248","v":""},{"$f":"Invoeren!BC248","v":""},{"$f":"Invoeren!BW248","v":""},{"$f":"Invoeren!CQ248","v":""}]
[{"$f":"Invoeren!B249","v":193},{"$f":"Invoeren!A249","v":243},{"$f":"Invoeren!$D249","v":0},{"$f":"Invoeren!E249","v":0},{"$f":"Invoeren!F249","v":0},{"$f":"Invoeren!$I249","v":0},{"$f":"Invoeren!$H249","v":0},{"$f":"Invoeren!L249","v":0},{"$f":"Invoeren!M249","v":""},{"$f":"Invoeren!N249","v":""},{"$f":"Invoeren!$C249","v":0},{"$f":"Invoeren!AI249","v":""},{"$f":"Invoeren!BC249","v":""},{"$f":"Invoeren!BW249","v":""},{"$f":"Invoeren!CQ249","v":""}]
[{"$f":"Invoeren!B250","v":193},{"$f":"Invoeren!A250","v":244},{"$f":"Invoeren!$D250","v":0},{"$f":"Invoeren!E250","v":0},{"$f":"Invoeren!F250","v":0},{"$f":"Invoeren!$I250","v":0},{"$f":"Invoeren!$H250","v":0},{"$f":"Invoeren!L250","v":0},{"$f":"Invoeren!M250","v":""},{"$f":"Invoeren!N250","v":""},{"$f":"Invoeren!$C250","v":0},{"$f":"Invoeren!AI250","v":""},{"$f":"Invoeren!BC250","v":""},{"$f":"Invoeren!BW250","v":""},{"$f":"Invoeren!CQ250","v":""}]
[{"$f":"Invoeren!B251","v":193},{"$f":"Invoeren!A251","v":245},{"$f":"Invoeren!$D251","v":0},{"$f":"Invoeren!E251","v":0},{"$f":"Invoeren!F251","v":0},{"$f":"Invoeren!$I251","v":0},{"$f":"Invoeren!$H251","v":0},{"$f":"Invoeren!L251","v":0},{"$f":"Invoeren!M251","v":""},{"$f":"Invoeren!N251","v":""},{"$f":"Invoeren!$C251","v":0},{"$f":"Invoeren!AI251","v":""},{"$f":"Invoeren!BC251","v":""},{"$f":"Invoeren!BW251","v":""},{"$f":"Invoeren!CQ251","v":""}]
[{"$f":"Invoeren!B252","v":193},{"$f":"Invoeren!A252","v":246},{"$f":"Invoeren!$D252","v":0},{"$f":"Invoeren!E252","v":0},{"$f":"Invoeren!F252","v":0},{"$f":"Invoeren!$I252","v":0},{"$f":"Invoeren!$H252","v":0},{"$f":"Invoeren!L252","v":0},{"$f":"Invoeren!M252","v":""},{"$f":"Invoeren!N252","v":""},{"$f":"Invoeren!$C252","v":0},{"$f":"Invoeren!AI252","v":""},{"$f":"Invoeren!BC252","v":""},{"$f":"Invoeren!BW252","v":""},{"$f":"Invoeren!CQ252","v":""}]
[{"$f":"Invoeren!B253","v":193},{"$f":"Invoeren!A253","v":247},{"$f":"Invoeren!$D253","v":0},{"$f":"Invoeren!E253","v":0},{"$f":"Invoeren!F253","v":0},{"$f":"Invoeren!$I253","v":0},{"$f":"Invoeren!$H253","v":0},{"$f":"Invoeren!L253","v":0},{"$f":"Invoeren!M253","v":""},{"$f":"Invoeren!N253","v":""},{"$f":"Invoeren!$C253","v":0},{"$f":"Invoeren!AI253","v":""},{"$f":"Invoeren!BC253","v":""},{"$f":"Invoeren!BW253","v":""},{"$f":"Invoeren!CQ253","v":""}]
[{"$f":"Invoeren!B254","v":193},{"$f":"Invoeren!A254","v":248},{"$f":"Invoeren!$D254","v":0},{"$f":"Invoeren!E254","v":0},{"$f":"Invoeren!F254","v":0},{"$f":"Invoeren!$I254","v":0},{"$f":"Invoeren!$H254","v":0},{"$f":"Invoeren!L254","v":0},{"$f":"Invoeren!M254","v":""},{"$f":"Invoeren!N254","v":""},{"$f":"Invoeren!$C254","v":0},{"$f":"Invoeren!AI254","v":""},{"$f":"Invoeren!BC254","v":""},{"$f":"Invoeren!BW254","v":""},{"$f":"Invoeren!CQ254","v":""}]
[{"$f":"Invoeren!B255","v":193},{"$f":"Invoeren!A255","v":249},{"$f":"Invoeren!$D255","v":0},{"$f":"Invoeren!E255","v":0},{"$f":"Invoeren!F255","v":0},{"$f":"Invoeren!$I255","v":0},{"$f":"Invoeren!$H255","v":0},{"$f":"Invoeren!L255","v":0},{"$f":"Invoeren!M255","v":""},{"$f":"Invoeren!N255","v":""},{"$f":"Invoeren!$C255","v":0},{"$f":"Invoeren!AI255","v":""},{"$f":"Invoeren!BC255","v":""},{"$f":"Invoeren!BW255","v":""},{"$f":"Invoeren!CQ255","v":""}]
[{"$f":"Invoeren!B256","v":193},{"$f":"Invoeren!A256","v":250},{"$f":"Invoeren!$D256","v":0},{"$f":"Invoeren!E256","v":0},{"$f":"Invoeren!F256","v":0},{"$f":"Invoeren!$I256","v":0},{"$f":"Invoeren!$H256","v":0},{"$f":"Invoeren!L256","v":0},{"$f":"Invoeren!M256","v":""},{"$f":"Invoeren!N256","v":""},{"$f":"Invoeren!$C256","v":0},{"$f":"Invoeren!AI256","v":""},{"$f":"Invoeren!BC256","v":""},{"$f":"Invoeren!BW256","v":""},{"$f":"Invoeren!CQ256","v":""}]

{"sheet":"Uitslag Ranking","index":5,"n_rows":262,"n_cols":54,"rows_kept":262,"merged":[[0,0,0,3],[0,51,0,52],[1,0,1,3],[1,51,1,52],[2,0,2,2],[4,1,4,2],[5,47,5,48],[6,46,6,47],[6,52,6,53],[7,52,7,53],[8,6,8,14],[8,15,8,23],[8,24,8,32],[8,33,8,41],[8,48,8,49],[10,6,10,14],[10,15,10,23],[10,24,10,32],[10,33,10,41],[10,50,10,53]]}
[{"$f":"Startlijst!A1","v":"Figurenwedstrijd AGE 2 Interregio, Zwembad: De Hoornse Vaart te Alkmaar"},{"$nulls":48},{"$f":"Startlijst!H1","v":"Datum:"},null,{"$f":"Startlijst!J1","v":"2017-11-11"}]
[{"$f":"Startlijst!A2","v":"Organisatie Regio Midwest ism v/h Kring Noord-Holland"},{"$nulls":48},{"$f":"Startlijst!H2","v":"Aanvang:"},null,{"$f":"Startlijst!J2","v":"14:30 uur"}]
[{"$f":"Startlijst!A3","v":"Loting: 1"},{"$nulls":3},{"$f":"Startlijst!$D$3","v":"Categorie: AGE II"}]
[]
[null,"UITSLAG FIGUREN",{"$nulls":43},{"$f":"Invoeren!G3","v":"Diploma punten"},null,null,{"$f":"Invoeren!K1","v":0},"Jun.",null,{"$f":"Invoeren!M1","v":0},{"$f":"Invoeren!N1","v":"Limieten:"},{"$f":"Invoeren!O1","v":0}]
[{"$f":"Startlijst!A6","v":1},{"$f":"Startlijst!B6","v":"423 Ariana"},null,null,{"$f":"Startlijst!D6","v":2.2},{"$nulls":40},{"$f":"Invoeren!H3","v":{"v":45,"d":"45.0000"}},null,{"$f":"Invoeren!K2","v":0},null,{"$f":"'Wedstrijd gegevens'!F27","v":"Brons"},{"$nulls":3},{"$f":"Invoeren!O2","v":""}]
[{"$f":"Startlijst!A7","v":2},{"$f":"Startlijst!B7","v":"301e Barracuda spin down 360°"},null,null,{"$f":"Startlijst!D7","v":2.2},{"$nulls":46},{"$f":"'Wedstrijd gegevens'!D27","v":"2003 en 2004"},{"$f":"Invoeren!N3","v":{"v":49,"d":"49.0000"}}]
[{"$f":"Startlijst!A8","v":3},{"$f":"Startlijst!B8","v":"342 Reiger"},null,null,{"$f":"Startlijst!D8","v":2.1},{"$nulls":46},{"$f":"'Wedstrijd gegevens'!C27","v":2005},{"$f":"Invoeren!N4","v":{"v":47,"d":"47.0000"}}]
[{"$f":"Startlijst!A9","v":4},{"$f":"Startlijst!B9","v":"115 Catalina"},null,null,{"$f":"Startlijst!D9","v":2.3},null,"Figuur 1",{"$nulls":8},"Figuur 2",{"$nulls":8},"Figuur 3",{"$nulls":8},"Figuur 4",{"$nulls":19},{"$f":"Invoeren!O5","v":0}]
[]
[{"$nulls":4},"Geb.",null,"Resultaat",{"$nulls":8},"Resultaat",{"$nulls":8},"Resultaat",{"$nulls":8},"Resultaat",{"$nulls":16},"Plaatsing"]
["Plaats","st.nr.","Naam","Vereniging","jaar","BM","St. 1","St. 2","St. 3","St. 4","St. 5","St. 6","St. 7","- hoog / - laag","Tot. Fig","St. 1","St. 2","St. 3","St. 4","St. 5","St. 6","St. 7","- hoog / - laag","Tot. Fig","St. 1","St. 2","St. 3","St. 4","St. 5","St. 6","St. 7","- hoog / - laag","Tot. Fig","St. 1","St. 2","St. 3","St. 4","St. 5","St. 6","St. 7","- hoog / - laag","Tot. Fig","Totaal figuren","Totaal na herleid.","Totaal str. P.","Eind- totaal","Pr.","Lim","Dipl","Regio","Fig. 1","Fig. 2","Fig. 3","Fig. 4"]
[{"$f":"Invoeren!B7","v":82},{"$f":"Invoeren!A7","v":1},{"$f":"Invoeren!E7","v":"Noëmi Soler Rueda"},{"$f":"Invoeren!F7","v":"DAW"},{"$f":"Invoeren!$K7","v":2003},{"$f":"Invoeren!$I7","v":0},{"$f":"Invoeren!Z7","v":{"v":5,"d":"5.0"}},{"$f":"Invoeren!AA7","v":4.9},{"$f":"Invoeren!AB7","v":{"v":5,"d":"5.0"}},{"$f":"Invoeren!AC7","v":4.8},{"$f":"Invoeren!AD7","v":5.3},{"$f":"Invoeren!AE7","v":""},{"$f":"Invoeren!AF7","v":""},{"$f":"Invoeren!AG7","v":{"v":14.899999999999999,"d":"14.9"}},{"$f":"Invoeren!AH7","v":10.9267},{"$f":"Invoeren!AT7","v":5.4},{"$f":"Invoeren!AU7","v":5.2},{"$f":"Invoeren!AV7","v":5.3},{"$f":"Invoeren!AW7","v":5.6},{"$f":"Invoeren!AX7","v":5.6},{"$f":"Invoeren!AY7","v":""},{"$f":"Invoeren!AZ7","v":""},{"$f":"Invoeren!BA7","v":16.3},{"$f":"Invoeren!BB7","v":11.9533},{"$f":"Invoeren!BN7","v":5.2},{"$f":"Invoeren!BO7","v":{"v":5,"d":"5.0"}},{"$f":"Invoeren!BP7","v":5.8},{"$f":"Invoeren!BQ7","v":5.3},{"$f":"Invoeren!BR7","v":5.4},{"$f":"Invoeren!BS7","v":""},{"$f":"Invoeren!BT7","v":""},{"$f":"Invoeren!BU7","v":{"v":15.900000000000002,"d":"15.9"}},{"$f":"Invoeren!BV7","v":{"v":11.13,"d":"11.1300"}},{"$f":"Invoeren!CH7","v":4.3},{"$f":"Invoeren!CI7","v":{"v":5,"d":"5.0"}},{"$f":"Invoeren!CJ7","v":4.9},{"$f":"Invoeren!CK7","v":4.8},{"$f":"Invoeren!CL7","v":4.3},{"$f":"Invoeren!CM7","v":""},{"$f":"Invoeren!CN7","v":""},{"$f":"Invoeren!CO7","v":{"v":14,"d":"14.0"}},{"$f":"Invoeren!CP7","v":10.7333},{"$f":"Invoeren!CR7","v":{"v":44.743300000000005,"d":"44.7433"}},{"$f":"Invoeren!CS7","v":50.8447},{"$f":"Invoeren!CT7","v":0},{"$f":"Invoeren!C7","v":50.8447},{"$f":"Invoeren!L7","v":0},{"$f":"Invoeren!M7","v":"L"},{"$f":"Invoeren!N7","v":""},{"$f":"Invoeren!H7","v":"Midwest"},{"$f":"Invoeren!AI7","v":112},{"$f":"Invoeren!BC7","v":39},{"$f":"Invoeren!BW7","v":98},{"$f":"Invoeren!CQ7","v":113}]
[{"$f":"Invoeren!B8","v":173},{"$f":"Invoeren!A8","v":2},{"$f":"Invoeren!E8","v":"Lani aan het Rot"},{"$f":"Invoeren!F8","v":"ZV de Zaan"},{"$f":"Invoeren!$K8","v":2001},{"$f":"Invoeren!$I8","v":0},{"$f":"Invoeren!Z8","v":3.9},{"$f":"Invoeren!AA8","v":4.2},{"$f":"Invoeren!AB8","v":4.1},{"$f":"Invoeren!AC8","v":4.4},{"$f":"Invoeren!AD8","v":4.6},{"$f":"Invoeren!AE8","v":""},{"$f":"Invoeren!AF8","v":""},{"$f":"Invoeren!AG8","v":{"v":12.700000000000001,"d":"12.7"}},{"$f":"Invoeren!AH8","v":9.3133},{"$f":"Invoeren!AT8","v":4.3},{"$f":"Invoeren!AU8","v":4.1},{"$f":"Invoeren!AV8","v":4.5},{"$f":"Invoeren!AW8","v":4.6},{"$f":"Invoeren!AX8","v":4.9},{"$f":"Invoeren!AY8","v":""},{"$f":"Invoeren!AZ8","v":""},{"$f":"Invoeren!BA8","v":13.4},{"$f":"Invoeren!BB8","v":9.8267},{"$f":"Invoeren!BN8","v":4.7},{"$f":"Invoeren!BO8","v":4.8},{"$f":"Invoeren!BP8","v":4.4},{"$f":"Invoeren!BQ8","v":4.7},{"$f":"Invoeren!BR8","v":4.7},{"$f":"Invoeren!BS8","v":""},{"$f":"Invoeren!BT8","v":""},{"$f":"Invoeren!BU8","v":14.1},{"$f":"Invoeren!BV8","v":{"v":9.87,"d":"9.8700"}},{"$f":"Invoeren!CH8","v":3.8},{"$f":"Invoeren!CI8","v":4.1},{"$f":"Invoeren!CJ8","v":4.5},{"$f":"Invoeren!CK8","v":4.1},{"$f":"Invoeren!CL8","v":{"v":4,"d":"4.0"}},{"$f":"Invoeren!CM8","v":""},{"$f":"Invoeren!CN8","v":""},{"$f":"Invoeren!CO8","v":12.2},{"$f":"Invoeren!CP8","v":9.3533},{"$f":"Invoeren!CR8","v":{"v":38.363299999999995,"d":"38.3633"}},{"$f":"Invoeren!CS8","v":43.5947},{"$f":"Invoeren!CT8","v":0},{"$f":"Invoeren!C8","v":43.5947},{"$f":"Invoeren!L8","v":0},{"$f":"Invoeren!M8","v":"BM"},{"$f":"Invoeren!N8","v":""},{"$f":"Invoeren!H8","v":"MidWest"},{"$f":"Invoeren!AI8","v":185},{"$f":"Invoeren!BC8","v":144},{"$f":"Invoeren!BW8","v":160},{"$f":"Invoeren!CQ8","v":175}]
[{"$f":"Invoeren!B9","v":154},{"$f":"Invoeren!A9","v":3},{"$f":"Invoeren!E9","v":"Yara van der Kraan"},{"$f":"Invoeren!F9","v":"Widex Gzc Donk"},{"$f":"Invoeren!$K9","v":2004},{"$f":"Invoeren!$I9","v":0},{"$f":"Invoeren!Z9","v":4.3},{"$f":"Invoeren!AA9","v":4.3},{"$f":"Invoeren!AB9","v":4.6},{"$f":"Invoeren!AC9","v":4.6},{"$f":"Invoeren!AD9","v":4.7},{"$f":"Invoeren!AE9","v":""},{"$f":"Invoeren!AF9","v":""},{"$f":"Invoeren!AG9","v":{"v":13.499999999999996,"d":"13.5"}},{"$f":"Invoeren!AH9","v":{"v":9.9,"d":"9.9000"}},{"$f":"Invoeren!AT9","v":4.6},{"$f":"Invoeren!AU9","v":4.4},{"$f":"Invoeren!AV9","v":4.6},{"$f":"Invoeren!AW9","v":4.8},{"$f":"Invoeren!AX9","v":4.8},{"$f":"Invoeren!AY9","v":""},{"$f":"Invoeren!AZ9","v":""},{"$f":"Invoeren!BA9","v":{"v":13.999999999999998,"d":"14.0"}},{"$f":"Invoeren!BB9","v":10.2667},{"$f":"Invoeren!BN9","v":4.8},{"$f":"Invoeren!BO9","v":4.9},{"$f":"Invoeren!BP9","v":{"v":5,"d":"5.0"}},{"$f":"Invoeren!BQ9","v":5.3},{"$f":"Invoeren!BR9","v":4.8},{"$f":"Invoeren!BS9","v":""},{"$f":"Invoeren!BT9","v":""},{"$f":"Invoeren!BU9","v":14.7},{"$f":"Invoeren!BV9","v":{"v":10.29,"d":"10.2900"}},{"$f":"Invoeren!CH9","v":4.3},{"$f":"Invoeren!CI9","v":{"v":4,"d":"4.0"}},{"$f":"Invoeren!CJ9","v":{"v":4,"d":"4.0"}},{"$f":"Invoeren!CK9","v":4.3},{"$f":"Invoeren!CL9","v":3.9},{"$f":"Invoeren!CM9","v":""},{"$f":"Invoeren!CN9","v":""},{"$f":"Invoeren!CO9","v":{"v":12.299999999999999,"d":"12.3"}},{"$f":"Invoeren!CP9","v":{"v":9.43,"d":"9.4300"}},{"$f":"Invoeren!CR9","v":39.8867},{"$f":"Invoeren!CS9","v":45.3258},{"$f":"Invoeren!CT9","v":0},{"$f":"Invoeren!C9","v":45.3258},{"$f":"Invoeren!L9","v":0},{"$f":"Invoeren!M9","v":""},{"$f":"Invoeren!N9","v":""},{"$f":"Invoeren!H9","v":"West"},{"$f":"Invoeren!AI9","v":172},{"$f":"Invoeren!BC9","v":117},{"$f":"Invoeren!BW9","v":139},{"$f":"Invoeren!CQ9","v":170}]
[{"$f":"Invoeren!B10","v":48},{"$f":"Invoeren!A10","v":4},{"$f":"Invoeren!E10","v":"Fiene van Wijk"},{"$f":"Invoeren!F10","v":"WVZ"},{"$f":"Invoeren!$K10","v":2004},{"$f":"Invoeren!$I10","v":0},{"$f":"Invoeren!Z10","v":5.4},{"$f":"Invoeren!AA10","v":5.3},{"$f":"Invoeren!AB10","v":5.4},{"$f":"Invoeren!AC10","v":5.3},{"$f":"Invoeren!AD10","v":5.5},{"$f":"Invoeren!AE10","v":""},{"$f":"Invoeren!AF10","v":""},{"$f":"Invoeren!AG10","v":16.1},{"$f":"Invoeren!AH10","v":11.8067},{"$f":"Invoeren!AT10","v":5.8},{"$f":"Invoeren!AU10","v":4.8},{"$f":"Invoeren!AV10","v":5.7},{"$f":"Invoeren!AW10","v":5.7},{"$f":"Invoeren!AX10","v":5.6},{"$f":"Invoeren!AY10","v":""},{"$f":"Invoeren!AZ10","v":""},{"$f":"Invoeren!BA10","v":{"v":17,"d":"17.0"}},{"$f":"Invoeren!BB10","v":12.4667},{"$f":"Invoeren!BN10","v":5.8},{"$f":"Invoeren!BO10","v":5.4},{"$f":"Invoeren!BP10","v":5.8},{"$f":"Invoeren!BQ10","v":5.6},{"$f":"Invoeren!BR10","v":6.1},{"$f":"Invoeren!BS10","v":""},{"$f":"Invoeren!BT10","v":""},{"$f":"Invoeren!BU10","v":{"v":17.200000000000003,"d":"17.2"}},{"$f":"Invoeren!BV10","v":{"v":12.04,"d":"12.0400"}},{"$f":"Invoeren!CH10","v":4.5},{"$f":"Invoeren!CI10","v":4.9},{"$f":"Invoeren!CJ10","v":5.1},{"$f":"Invoeren!CK10","v":{"v":5,"d":"5.0"}},{"$f":"Invoeren!CL10","v":4.9},{"$f":"Invoeren!CM10","v":""},{"$f":"Invoeren!CN10","v":""},{"$f":"Invoeren!CO10","v":{"v":14.799999999999997,"d":"14.8"}},{"$f":"Invoeren!CP10","v":11.3467},{"$f":"Invoeren!CR10","v":47.6601},{"$f":"Invoeren!CS10","v":54.1592},{"$f":"Invoeren!CT10","v":0},{"$f":"Invoeren!C10","v":54.1592},{"$f":"Invoeren!L10","v":0},{"$f":"Invoeren!M10","v":"L"},{"$f":"Invoeren!N10","v":""},{"$f":"Invoeren!H10","v":"West"},{"$f":"Invoeren!AI10","v":72},{"$f":"Invoeren!BC10","v":21},{"$f":"Invoeren!BW10","v":52},{"$f":"Invoeren!CQ10","v":72}]
[{"$f":"Invoeren!B11","v":76},{"$f":"Invoeren!A11","v":5},{"$f":"Invoeren!E11","v":"Eva Verveld"},{"$f":"Invoeren!F11","v":"AZC"},{"$f":"Invoeren!$K11","v":2005},{"$f":"Invoeren!$I11","v":0},{"$f":"Invoeren!Z11","v":5.3},{"$f":"Invoeren!AA11","v":5.1},{"$f":"Invoeren!AB11","v":5.1},{"$f":"Invoeren!AC11","v":5.5},{"$f":"Invoeren!AD11","v":5.3},{"$f":"Invoeren!AE11","v":""},{"$f":"Invoeren!AF11","v":""},{"$f":"Invoeren!AG11","v":{"v":15.700000000000001,"d":"15.7"}},{"$f":"Invoeren!AH11","v":11.5133},{"$f":"Invoeren!AT11","v":5.2},{"$f":"Invoeren!AU11","v":{"v":5,"d":"5.0"}},{"$f":"Invoeren!AV11","v":4.4},{"$f":"Invoeren!AW11","v":4.8},{"$f":"Invoeren!AX11","v":5.1},{"$f":"Invoeren!AY11","v":""},{"$f":"Invoeren!AZ11","v":""},{"$f":"Invoeren!BA11","v":14.9},{"$f":"Invoeren!BB11","v":10.9267},{"$f":"Invoeren!BN11","v":5.2},{"$f":"Invoeren!BO11","v":{"v":6,"d":"6.0"}},{"$f":"Invoeren!BP11","v":5.6},{"$f":"Invoeren!BQ11","v":5.8},{"$f":"Invoeren!BR11","v":5.6},{"$f":"Invoeren!BS11","v":""},{"$f":"Invoeren!BT11","v":""},{"$f":"Invoeren!BU11","v":{"v":16.999999999999996,"d":"17.0"}},{"$f":"Invoeren!BV11","v":{"v":11.9,"d":"11.9000"}},{"$f":"Invoeren!CH11","v":5.3},{"$f":"Invoeren!CI11","v":4.7},{"$f":"Invoeren!CJ11","v":4.8},{"$f":"Invoeren!CK11","v":4.7},{"$f":"Invoeren!CL11","v":4.3},{"$f":"Invoeren!CM11","v":""},{"$f":"Invoeren!CN11","v":""},{"$f":"Invoeren!CO11","v":14.2},{"$f":"Invoeren!CP11","v":10.8867},{"$f":"Invoeren!CR11","v":{"v":45.226699999999994,"d":"45.2267"}},{"$f":"Invoeren!CS11","v":{"v":51.394,"d":"51.3940"}},{"$f":"Invoeren!CT11","v":0},{"$f":"Invoeren!C11","v":{"v":51.394,"d":"51.3940"}},{"$f":"Invoeren!L11","v":0},{"$f":"Invoeren!M11","v":"L"},{"$f":"Invoeren!N11","v":""},{"$f":"Invoeren!H11","v":"West"},{"$f":"Invoeren!AI11","v":88},{"$f":"Invoeren!BC11","v":86},{"$f":"Invoeren!BW11","v":63},{"$f":"Invoeren!CQ11","v":103}]
[{"$f":"Invoeren!B12","v":175},{"$f":"Invoeren!A12","v":6},{"$f":"Invoeren!E12","v":"Stacey Martha"},{"$f":"Invoeren!F12","v":"DSZ"},{"$f":"Invoeren!$K12","v":2004},{"$f":"Invoeren!$I12","v":0},{"$f":"Invoeren!Z12","v":4.7},{"$f":"Invoeren!AA12","v":4.6},{"$f":"Invoeren!AB12","v":4.4},{"$f":"Invoeren!AC12","v":4.7},{"$f":"Invoeren!AD12","v":4.6},{"$f":"Invoeren!AE12","v":""},{"$f":"Invoeren!AF12","v":""},{"$f":"Invoeren!AG12","v":13.9},{"$f":"Invoeren!AH12","v":10.1933},{"$f":"Invoeren!AT12","v":3.8},{"$f":"Invoeren!AU12","v":3.7},{"$f":"Invoeren!AV12","v":3.8},{"$f":"Invoeren!AW12","v":{"v":4,"d":"4.0"}},{"$f":"Invoeren!AX12","v":4.2},{"$f":"Invoeren!AY12","v":""},{"$f":"Invoeren!AZ12","v":""},{"$f":"Invoeren!BA12","v":{"v":11.600000000000001,"d":"11.6"}},{"$f":"Invoeren!BB12","v":8.5067},{"$f":"Invoeren!BN12","v":4.6},{"$f":"Invoeren!BO12","v":{"v":5,"d":"5.0"}},{"$f":"Invoeren!BP12","v":5.5},{"$f":"Invoeren!BQ12","v":4.8},{"$f":"Invoeren!BR12","v":4.8},{"$f":"Invoeren!BS12","v":""},{"$f":"Invoeren!BT12","v":""},{"$f":"Invoeren!BU12","v":14.6},{"$f":"Invoeren!BV12","v":{"v":10.22,"d":"10.2200"}},{"$f":"Invoeren!CH12","v":3.7},{"$f":"Invoeren!CI12","v":4.1},{"$f":"Invoeren!CJ12","v":4.4},{"$f":"Invoeren!CK12","v":{"v":4,"d":"4.0"}},{"$f":"Invoeren!CL12","v":{"v":4,"d":"4.0"}},{"$f":"Invoeren!CM12","v":""},{"$f":"Invoeren!CN12","v":""},{"$f":"Invoeren!CO12","v":{"v":12.099999999999998,"d":"12.1"}},{"$f":"Invoeren!CP12","v":9.2767},{"$f":"Invoeren!CR12","v":38.1967},{"$f":"Invoeren!CS12","v":43.4053},{"$f":"Invoeren!CT12","v":0},{"$f":"Invoeren!C12","v":43.4053},{"$f":"Invoeren!L12","v":0},{"$f":"Invoeren!M12","v":""},{"$f":"Invoeren!N12","v":""},{"$f":"Invoeren!H12","v":"West"},{"$f":"Invoeren!AI12","v":162},{"$f":"Invoeren!BC12","v":188},{"$f":"Invoeren!BW12","v":142},{"$f":"Invoeren!CQ12","v":179}]
[{"$f":"Invoeren!B13","v":163},{"$f":"Invoeren!A13","v":7},{"$f":"Invoeren!E13","v":"Anthea Khnykina"},{"$f":"Invoeren!F13","v":"Swol 1894"},{"$f":"Invoeren!$K13","v":2004},{"$f":"Invoeren!$I13","v":0},{"$f":"Invoeren!Z13","v":4.1},{"$f":"Invoeren!AA13","v":4.4},{"$f":"Invoeren!AB13","v":4.7},{"$f":"Invoeren!AC13","v":{"v":5,"d":"5.0"}},{"$f":"Invoeren!AD13","v":4.7},{"$f":"Invoeren!AE13","v":""},{"$f":"Invoeren!AF13","v":""},{"$f":"Invoeren!AG13","v":{"v":13.799999999999999,"d":"13.8"}},{"$f":"Invoeren!AH13","v":{"v":10.12,"d":"10.1200"}},{"$f":"Invoeren!AT13","v":4.4},{"$f":"Invoeren!AU13","v":4.4},{"$f":"Invoeren!AV13","v":4.2},{"$f":"Invoeren!AW13","v":4.3},{"$f":"Invoeren!AX13","v":4.5},{"$f":"Invoeren!AY13","v":""},{"$f":"Invoeren!AZ13","v":""},{"$f":"Invoeren!BA13","v":{"v":13.100000000000001,"d":"13.1"}},{"$f":"Invoeren!BB13","v":9.6067},{"$f":"Invoeren!BN13","v":4.9},{"$f":"Invoeren!BO13","v":5.8},{"$f":"Invoeren!BP13","v":5.6},{"$f":"Invoeren!BQ13","v":5.3},{"$f":"Invoeren!BR13","v":4.9},{"$f":"Invoeren!BS13","v":""},{"$f":"Invoeren!BT13","v":""},{"$f":"Invoeren!BU13","v":{"v":15.799999999999999,"d":"15.8"}},{"$f":"Invoeren!BV13","v":{"v":11.06,"d":"11.0600"}},{"$f":"Invoeren!CH13","v":3.4},{"$f":"Invoeren!CI13","v":3.7},{"$f":"Invoeren!CJ13","v":3.7},{"$f":"Invoeren!CK13","v":3.7},{"$f":"Invoeren!CL13","v":3.8},{"$f":"Invoeren!CM13","v":""},{"$f":"Invoeren!CN13","v":""},{"$f":"Invoeren!CO13","v":11.1},{"$f":"Invoeren!CP13","v":{"v":8.51,"d":"8.5100"}},{"$f":"Invoeren!CR13","v":39.2967},{"$f":"Invoeren!CS13","v":44.6553},{"$f":"Invoeren!CT13","v":0},{"$f":"Invoeren!C13","v":44.6553},{"$f":"Invoeren!L13","v":0},{"$f":"Invoeren!M13","v":""},{"$f":"Invoeren!N13","v":""},{"$f":"Invoeren!H13","v":"Oost"},{"$f":"Invoeren!AI13","v":165},{"$f":"Invoeren!BC13","v":154},{"$f":"Invoeren!BW13","v":101},{"$f":"Invoeren!CQ13","v":197}]
[{"$f":"Invoeren!B14","v":124},{"$f":"Invoeren!A14","v":8},{"$f":"Invoeren!E14","v":"Amber Duijndam"},{"$f":"Invoeren!F14","v":"HZPC Horst"},{"$f":"Invoeren!$K14","v":2003},{"$f":"Invoeren!$I14","v":0},{"$f":"Invoeren!Z14","v":5.1},{"$f":"Invoeren!AA14","v":5.7},{"$f":"Invoeren!AB14","v":5.4},{"$f":"Invoeren!AC14","v":5.6},{"$f":"Invoeren!AD14","v":5.3},{"$f":"Invoeren!AE14","v":""},{"$f":"Invoeren!AF14","v":""},{"$f":"Invoeren!AG14","v":{"v":16.300000000000004,"d":"16.3"}},{"$f":"Invoeren!AH14","v":11.9533},{"$f":"Invoeren!AT14","v":4.7},{"$f":"Invoeren!AU14","v":4.8},{"$f":"Invoeren!AV14","v":{"v":5,"d":"5.0"}},{"$f":"Invoeren!AW14","v":5.1},{"$f":"Invoeren!AX14","v":5.5},{"$f":"Invoeren!AY14","v":""},{"$f":"Invoeren!AZ14","v":""},{"$f":"Invoeren!BA14","v":{"v":14.900000000000002,"d":"14.9"}},{"$f":"Invoeren!BB14","v":10.9267},{"$f":"Invoeren!BN14","v":4.7},{"$f":"Invoeren!BO14","v":5.2},{"$f":"Invoeren!BP14","v":4.5},{"$f":"Invoeren!BQ14","v":4.7},{"$f":"Invoeren!BR14","v":4.4},{"$f":"Invoeren!BS14","v":""},{"$f":"Invoeren!BT14","v":""},{"$f":"Invoeren!BU14","v":13.9},{"$f":"Invoeren!BV14","v":{"v":9.73,"d":"9.7300"}},{"$f":"Invoeren!CH14","v":4.2},{"$f":"Invoeren!CI14","v":{"v":4,"d":"4.0"}},{"$f":"Invoeren!CJ14","v":4.2},{"$f":"Invoeren!CK14","v":4.4},{"$f":"Invoeren!CL14","v":4.1},{"$f":"Invoeren!CM14","v":""},{"$f":"Invoeren!CN14","v":""},{"$f":"Invoeren!CO14","v":12.5},{"$f":"Invoeren!CP14","v":9.5833},{"$f":"Invoeren!CR14","v":42.1933},{"$f":"Invoeren!CS14","v":47.9469},{"$f":"Invoeren!CT14","v":0},{"$f":"Invoeren!C14","v":47.9469},{"$f":"Invoeren!L14","v":0},{"$f":"Invoeren!M14","v":""},{"$f":"Invoeren!N14","v":""},{"$f":"Invoeren!H14","v":"zuid"},{"$f":"Invoeren!AI14","v":62},{"$f":"Invoeren!BC14","v":86},{"$f":"Invoeren!BW14","v":169},{"$f":"Invoeren!CQ14","v":166}]
[{"$f":"Invoeren!B15","v":149},{"$f":"Invoeren!A15","v":9},{"$f":"Invoeren!E15","v":"Dominique Hoogkamer"},{"$f":"Invoeren!F15","v":"Aquarijn"},{"$f":"Invoeren!$K15","v":2005},{"$f":"Invoeren!$I15","v":0},{"$f":"Invoeren!Z15","v":{"v":4,"d":"4.0"}},{"$f":"Invoeren!AA15","v":4.2},{"$f":"Invoeren!AB15","v":4.4},{"$f":"Invoeren!AC15","v":3.7},{"$f":"Invoeren!AD15","v":4.5},{"$f":"Invoeren!AE15","v":""},{"$f":"Invoeren!AF15","v":""},{"$f":"Invoeren!AG15","v":{"v":12.600000000000001,"d":"12.6"}},{"$f":"Invoeren!AH15","v":{"v":9.24,"d":"9.2400"}},{"$f":"Invoeren!AT15","v":4.6},{"$f":"Invoeren!AU15","v":{"v":5,"d":"5.0"}},{"$f":"Invoeren!AV15","v":5.1},{"$f":"Invoeren!AW15","v":5.2},{"$f":"Invoeren!AX15","v":5.1},{"$f":"Invoeren!AY15","v":""},{"$f":"Invoeren!AZ15","v":""},{"$f":"Invoeren!BA15","v":{"v":15.200000000000001,"d":"15.2"}},{"$f":"Invoeren!BB15","v":11.1467},{"$f":"Invoeren!BN15","v":4.5},{"$f":"Invoeren!BO15","v":5.3},{"$f":"Invoeren!BP15","v":{"v":5,"d":"5.0"}},{"$f":"Invoeren!BQ15","v":4.9},{"$f":"Invoeren!BR15","v":4.9},{"$f":"Invoeren!BS15","v":""},{"$f":"Invoeren!BT15","v":""},{"$f":"Invoeren!BU15","v":14.8},{"$f":"Invoeren!BV15","v":{"v":10.36,"d":"10.3600"}},{"$f":"Invoeren!CH15","v":{"v":4,"d":"4.0"}},{"$f":"Invoeren!CI15","v":4.2},{"$f":"Invoeren!CJ15","v":4.4},{"$f":"Invoeren!CK15","v":4.3},{"$f":"Invoeren!CL15","v":4.2},{"$f":"Invoeren!CM15","v":""},{"$f":"Invoeren!CN15","v":""},{"$f":"Invoeren!CO15","v":{"v":12.699999999999996,"d":"12.7"}},{"$f":"Invoeren!CP15","v":9.7367},{"$f":"Invoeren!CR15","v":{"v":40.483399999999996,"d":"40.4834"}},{"$f":"Invoeren!CS15","v":46.0039},{"$f":"Invoeren!CT15","v":0},{"$f":"Invoeren!C15","v":46.0039},{"$f":"Invoeren!L15","v":0},{"$f":"Invoeren!M15","v":""},{"$f":"Invoeren!N15","v":"Age II"},{"$f":"Invoeren!H15","v":"MidWest"},{"$f":"Invoeren!AI15","v":188},{"$f":"Invoeren!BC15","v":72},{"$f":"Invoeren!BW15","v":135},{"$f":"Invoeren!CQ15","v":158}]
[{"$f":"Invoeren!B16","v":8},{"$f":"Invoeren!A16","v":10},{"$f":"Invoeren!E16","v":"Floor Schallenberg"},{"$f":"Invoeren!F16","v":"ACZ"},{"$f":"Invoeren!$K16","v":2004},{"$f":"Invoeren!$I16","v":0},{"$f":"Invoeren!Z16","v":5.8},{"$f":"Invoeren!AA16","v":5.5},{"$f":"Invoeren!AB16","v":5.6},{"$f":"Invoeren!AC16","v":5.8},{"$f":"Invoeren!AD16","v":{"v":6,"d":"6.0"}},{"$f":"Invoeren!AE16","v":""},{"$f":"Invoeren!AF16","v":""},{"$f":"Invoeren!AG16","v":17.2},{"$f":"Invoeren!AH16","v":12.6133},{"$f":"Invoeren!AT16","v":6.6},{"$f":"Invoeren!AU16","v":5.9},{"$f":"Invoeren!AV16","v":{"v":6,"d":"6.0"}},{"$f":"Invoeren!AW16","v":6.9},{"$f":"Invoeren!AX16","v":6.8},{"$f":"Invoeren!AY16","v":""},{"$f":"Invoeren!AZ16","v":""},{"$f":"Invoeren!BA16","v":19.4},{"$f":"Invoeren!BB16","v":14.2267},{"$f":"Invoeren!BN16","v":{"v":7,"d":"7.0"}},{"$f":"Invoeren!BO16","v":6.2},{"$f":"Invoeren!BP16","v":6.6},{"$f":"Invoeren!BQ16","v":6.6},{"$f":"Invoeren!BR16","v":6.4},{"$f":"Invoeren!BS16","v":""},{"$f":"Invoeren!BT16","v":""},{"$f":"Invoeren!BU16","v":{"v":19.599999999999998,"d":"19.6"}},{"$f":"Invoeren!BV16","v":{"v":13.72,"d":"13.7200"}},{"$f":"Invoeren!CH16","v":6.4},{"$f":"Invoeren!CI16","v":5.6},{"$f":"Invoeren!CJ16","v":5.6},{"$f":"Invoeren!CK16","v":5.9},{"$f":"Invoeren!CL16","v":5.9},{"$f":"Invoeren!CM16","v":""},{"$f":"Invoeren!CN16","v":""},{"$f":"Invoeren!CO16","v":17.4},{"$f":"Invoeren!CP16","v":{"v":13.34,"d":"13.3400"}},{"$f":"Invoeren!CR16","v":{"v":53.900000000000006,"d":"53.9000"}},{"$f":"Invoeren!CS16","v":{"v":61.25,"d":"61.2500"}},{"$f":"Invoeren!CT16","v":0},{"$f":"Invoeren!C16","v":{"v":61.25,"d":"61.2500"}},{"$f":"Invoeren!L16","v":0},{"$f":"Invoeren!M16","v":"L"},{"$f":"Invoeren!N16","v":""},{"$f":"Invoeren!H16","v":"West"},{"$f":"Invoeren!AI16","v":32},{"$f":"Invoeren!BC16","v":2},{"$f":"Invoeren!BW16","v":5},{"$f":"Invoeren!CQ16","v":11}]
[{"$f":"Invoeren!B17","v":176},{"$f":"Invoeren!A17","v":11},{"$f":"Invoeren!E17","v":"Lizzy Bastiaans"},{"$f":"Invoeren!F17","v":"Hera'11"},{"$f":"Invoeren!$K17","v":2005},{"$f":"Invoeren!$I17","v":0},{"$f":"Invoeren!Z17","v":5.2},{"$f":"Invoeren!AA17","v":3.9},{"$f":"Invoeren!AB17","v":4.2},{"$f":"Invoeren!AC17","v":3.9},{"$f":"Invoeren!AD17","v":4.7},{"$f":"Invoeren!AE17","v":""},{"$f":"Invoeren!AF17","v":""},{"$f":"Invoeren!AG17","v":{"v":12.799999999999999,"d":"12.8"}},{"$f":"Invoeren!AH17","v":9.3867},{"$f":"Invoeren!AT17","v":4.5},{"$f":"Invoeren!AU17","v":4.2},{"$f":"Invoeren!AV17","v":3.9},{"$f":"Invoeren!AW17","v":4.1},{"$f":"Invoeren!AX17","v":4.4},{"$f":"Invoeren!AY17","v":""},{"$f":"Invoeren!AZ17","v":""},{"$f":"Invoeren!BA17","v":{"v":12.700000000000001,"d":"12.7"}},{"$f":"Invoeren!BB17","v":9.3133},{"$f":"Invoeren!BN17","v":4.5},{"$f":"Invoeren!BO17","v":4.8},{"$f":"Invoeren!BP17","v":3.9},{"$f":"Invoeren!BQ17","v":4.4},{"$f":"Invoeren!BR17","v":4.6},{"$f":"Invoeren!BS17","v":""},{"$f":"Invoeren!BT17","v":""},{"$f":"Invoeren!BU17","v":{"v":13.500000000000002,"d":"13.5"}},{"$f":"Invoeren!BV17","v":{"v":9.45,"d":"9.4500"}},{"$f":"Invoeren!CH17","v":{"v":4,"d":"4.0"}},{"$f":"Invoeren!CI17","v":4.3},{"$f":"Invoeren!CJ17","v":4.4},{"$f":"Invoeren!CK17","v":4.2},{"$f":"Invoeren!CL17","v":4.4},{"$f":"Invoeren!CM17","v":""},{"$f":"Invoeren!CN17","v":""},{"$f":"Invoeren!CO17","v":{"v":12.900000000000006,"d":"12.9"}},{"$f":"Invoeren!CP17","v":{"v":9.89,"d":"9.8900"}},{"$f":"Invoeren!CR17","v":{"v":38.04,"d":"38.0400"}},{"$f":"Invoeren!CS17","v":43.2273},{"$f":"Invoeren!CT17","v":0},{"$f":"Invoeren!C17","v":43.2273},{"$f":"Invoeren!L17","v":0},{"$f":"Invoeren!M17","v":""},{"$f":"Invoeren!N17","v":""},{"$f":"Invoeren!H17","v":"Oost"},{"$f":"Invoeren!AI17","v":184},{"$f":"Invoeren!BC17","v":169},{"$f":"Invoeren!BW17","v":178},{"$f":"Invoeren!CQ17","v":153}]
[{"$f":"Invoeren!B18","v":21},{"$f":"Invoeren!A18","v":12},{"$f":"Invoeren!E18","v":"Ilse de Heij"},{"$f":"Invoeren!F18","v":"Z.P.C.H."},{"$f":"Invoeren!$K18","v":2004},{"$f":"Invoeren!$I18","v":0},{"$f":"Invoeren!Z18","v":5.5},{"$f":"Invoeren!AA18","v":5.3},{"$f":"Invoeren!AB18","v":5.7},{"$f":"Invoeren!AC18","v":{"v":6,"d":"6.0"}},{"$f":"Invoeren!AD18","v":5.7},{"$f":"Invoeren!AE18","v":""},{"$f":"Invoeren!AF18","v":""},{"$f":"Invoeren!AG18","v":16.9},{"$f":"Invoeren!AH18","v":12.3933},{"$f":"Invoeren!AT18","v":5.8},{"$f":"Invoeren!AU18","v":5.8},{"$f":"Invoeren!AV18","v":5.8},{"$f":"Invoeren!AW18","v":5.7},{"$f":"Invoeren!AX18","v":5.9},{"$f":"Invoeren!AY18","v":""},{"$f":"Invoeren!AZ18","v":""},{"$f":"Invoeren!BA18","v":{"v":17.400000000000002,"d":"17.4"}},{"$f":"Invoeren!BB18","v":{"v":12.76,"d":"12.7600"}},{"$f":"Invoeren!BN18","v":5.8},{"$f":"Invoeren!BO18","v":6.5},{"$f":"Invoeren!BP18","v":6.1},{"$f":"Invoeren!BQ18","v":5.8},{"$f":"Invoeren!BR18","v":5.9},{"$f":"Invoeren!BS18","v":""},{"$f":"Invoeren!BT18","v":""},{"$f":"Invoeren!BU18","v":17.8},{"$f":"Invoeren!BV18","v":{"v":12.46,"d":"12.4600"}},{"$f":"Invoeren!CH18","v":5.7},{"$f":"Invoeren!CI18","v":5.5},{"$f":"Invoeren!CJ18","v":5.4},{"$f":"Invoeren!CK18","v":{"v":6,"d":"6.0"}},{"$f":"Invoeren!CL18","v":{"v":6,"d":"6.0"}},{"$f":"Invoeren!CM18","v":""},{"$f":"Invoeren!CN18","v":""},{"$f":"Invoeren!CO18","v":{"v":17.200000000000003,"d":"17.2"}},{"$f":"Invoeren!CP18","v":13.1867},{"$f":"Invoeren!CR18","v":{"v":50.800000000000004,"d":"50.8000"}},{"$f":"Invoeren!CS18","v":57.7273},{"$f":"Invoeren!CT18","v":0},{"$f":"Invoeren!C18","v":57.7273},{"$f":"Invoeren!L18","v":0},{"$f":"Invoeren!M18","v":"L"},{"$f":"Invoeren!N18","v":""},{"$f":"Invoeren!H18","v":"MidWest"},{"$f":"Invoeren!AI18","v":45},{"$f":"Invoeren!BC18","v":16},{"$f":"Invoeren!BW18","v":31},{"$f":"Invoeren!CQ18","v":12}]
[{"$f":"Invoeren!B19","v":146},{"$f":"Invoeren!A19","v":13},{"$f":"Invoeren!E19","v":"Tamara Aarts"},{"$f":"Invoeren!F19","v":"De Watertrappers"},{"$f":"Invoeren!$K19","v":2003},{"$f":"Invoeren!$I19","v":0},{"$f":"Invoeren!Z19","v":4.7},{"$f":"Invoeren!AA19","v":4.9},{"$f":"Invoeren!AB19","v":4.7},{"$f":"Invoeren!AC19","v":5.1},{"$f":"Invoeren!AD19","v":4.8},{"$f":"Invoeren!AE19","v":""},{"$f":"Invoeren!AF19","v":""},{"$f":"Invoeren!AG19","v":{"v":14.400000000000002,"d":"14.4"}},{"$f":"Invoeren!AH19","v":{"v":10.56,"d":"10.5600"}},{"$f":"Invoeren!AT19","v":{"v":4,"d":"4.0"}},{"$f":"Invoeren!AU19","v":4.7},{"$f":"Invoeren!AV19","v":4.6},{"$f":"Invoeren!AW19","v":4.5},{"$f":"Invoeren!AX19","v":4.3},{"$f":"Invoeren!AY19","v":""},{"$f":"Invoeren!AZ19","v":""},{"$f":"Invoeren!BA19","v":{"v":13.399999999999999,"d":"13.4"}},{"$f":"Invoeren!BB19","v":9.8267},{"$f":"Invoeren!BN19","v":4.7},{"$f":"Invoeren!BO19","v":{"v":5,"d":"5.0"}},{"$f":"Invoeren!BP19","v":4.3},{"$f":"Invoeren!BQ19","v":4.8},{"$f":"Invoeren!BR19","v":{"v":5,"d":"5.0"}},{"$f":"Invoeren!BS19","v":""},{"$f":"Invoeren!BT19","v":""},{"$f":"Invoeren!BU19","v":14.5},{"$f":"Invoeren!BV19","v":{"v":10.15,"d":"10.1500"}},{"$f":"Invoeren!CH19","v":4.7},{"$f":"Invoeren!CI19","v":4.7},{"$f":"Invoeren!CJ19","v":4.2},{"$f":"Invoeren!CK19","v":4.3},{"$f":"Invoeren!CL19","v":4.1},{"$f":"Invoeren!CM19","v":""},{"$f":"Invoeren!CN19","v":""},{"$f":"Invoeren!CO19","v":{"v":13.200000000000001,"d":"13.2"}},{"$f":"Invoeren!CP19","v":{"v":10.12,"d":"10.1200"}},{"$f":"Invoeren!CR19","v":40.6567},{"$f":"Invoeren!CS19","v":46.2008},{"$f":"Invoeren!CT19","v":0},{"$f":"Invoeren!C19","v":46.2008},{"$f":"Invoeren!L19","v":0},{"$f":"Invoeren!M19","v":""},{"$f":"Invoeren!N19","v":""},{"$f":"Invoeren!H19","v":"Mid West"},{"$f":"Invoeren!AI19","v":137},{"$f":"Invoeren!BC19","v":144},{"$f":"Invoeren!BW19","v":144},{"$f":"Invoeren!CQ19","v":139}]
[{"$f":"Invoeren!B20","v":115},{"$f":"Invoeren!A20","v":14},{"$f":"Invoeren!E20","v":"Amber van Luijn"},{"$f":"Invoeren!F20","v":"De Dolfijn"},{"$f":"Invoeren!$K20","v":2005},{"$f":"Invoeren!$I20","v":0},{"$f":"Invoeren!Z20","v":4.9},{"$f":"Invoeren!AA20","v":5.3},{"$f":"Invoeren!AB20","v":4.8},{"$f":"Invoeren!AC20","v":5.3},{"$f":"Invoeren!AD20","v":{"v":5,"d":"5.0"}},{"$f":"Invoeren!AE20","v":""},{"$f":"Invoeren!AF20","v":""},{"$f":"Invoeren!AG20","v":15.2},{"$f":"Invoeren!AH20","v":11.1467},{"$f":"Invoeren!AT20","v":4.9},{"$f":"Invoeren!AU20","v":{"v":5,"d":"5.0"}},{"$f":"Invoeren!AV20","v":4.8},{"$f":"Invoeren!AW20","v":5.3},{"$f":"Invoeren!AX20","v":4.9},{"$f":"Invoeren!AY20","v":""},{"$f":"Invoeren!AZ20","v":""},{"$f":"Invoeren!BA20","v":{"v":14.799999999999997,"d":"14.8"}},{"$f":"Invoeren!BB20","v":10.8533},{"$f":"Invoeren!BN20","v":4.4},{"$f":"Invoeren!BO20","v":4.9},{"$f":"Invoeren!BP20","v":5.6},{"$f":"Invoeren!BQ20","v":5.4},{"$f":"Invoeren!BR20","v":4.8},{"$f":"Invoeren!BS20","v":""},{"$f":"Invoeren!BT20","v":""},{"$f":"Invoeren!BU20","v":15.1},{"$f":"Invoeren!BV20","v":{"v":10.57,"d":"10.5700"}},{"$f":"Invoeren!CH20","v":4.3},{"$f":"Invoeren!CI20","v":4.9},{"$f":"Invoeren!CJ20","v":4.5},{"$f":"Invoeren!CK20","v":4.7},{"$f":"Invoeren!CL20","v":4.4},{"$f":"Invoeren!CM20","v":""},{"$f":"Invoeren!CN20","v":""},{"$f":"Invoeren!CO20","v":{"v":13.599999999999998,"d":"13.6"}},{"$f":"Invoeren!CP20","v":10.4267},{"$f":"Invoeren!CR20","v":{"v":42.996700000000004,"d":"42.9967"}},{"$f":"Invoeren!CS20","v":48.8599},{"$f":"Invoeren!CT20","v":0},{"$f":"Invoeren!C20","v":48.8599},{"$f":"Invoeren!L20","v":0},{"$f":"Invoeren!M20","v":"L"},{"$f":"Invoeren!N20","v":""},{"$f":"Invoeren!H20","v":"Midwest"},{"$f":"Invoeren!AI20","v":105},{"$f":"Invoeren!BC20","v":90},{"$f":"Invoeren!BW20","v":119},{"$f":"Invoeren!CQ20","v":128}]
[{"$f":"Invoeren!B21","v":193},{"$f":"Invoeren!A21","v":15},{"$f":"Invoeren!E21","v":"Rikst Schoo"},{"$f":"Invoeren!F21","v":"HZ&PC Heerenveen"},{"$f":"Invoeren!$K21","v":2003},{"$f":"Invoeren!$I21","v":0},{"$f":"Invoeren!Z21","v":{"v":0,"d":"0.0"}},{"$f":"Invoeren!AA21","v":{"v":0,"d":"0.0"}},{"$f":"Invoeren!AB21","v":{"v":0,"d":"0.0"}},{"$f":"Invoeren!AC21","v":{"v":0,"d":"0.0"}},{"$f":"Invoeren!AD21","v":{"v":0,"d":"0.0"}},{"$f":"Invoeren!AE21","v":""},{"$f":"Invoeren!AF21","v":""},{"$f":"Invoeren!AG21","v":{"v":0,"d":"0.0"}},{"$f":"Invoeren!AH21","v":{"v":0,"d":"0.0000"}},{"$f":"Invoeren!AT21","v":{"v":0,"d":"0.0"}},{"$f":"Invoeren!AU21","v":{"v":0,"d":"0.0"}},{"$f":"Invoeren!AV21","v":{"v":0,"d":"0.0"}},{"$f":"Invoeren!AW21","v":{"v":0,"d":"0.0"}},{"$f":"Invoeren!AX21","v":{"v":0,"d":"0.0"}},{"$f":"Invoeren!AY21","v":""},{"$f":"Invoeren!AZ21","v":""},{"$f":"Invoeren!BA21","v":{"v":0,"d":"0.0"}},{"$f":"Invoeren!BB21","v":{"v":0,"d":"0.0000"}},{"$f":"Invoeren!BN21","v":{"v":0,"d":"0.0"}},{"$f":"Invoeren!BO21","v":{"v":0,"d":"0.0"}},{"$f":"Invoeren!BP21","v":{"v":0,"d":"0.0"}},{"$f":"Invoeren!BQ21","v":{"v":0,"d":"0.0"}},{"$f":"Invoeren!BR21","v":{"v":0,"d":"0.0"}},{"$f":"Invoeren!BS21","v":""},{"$f":"Invoeren!BT21","v":""},{"$f":"Invoeren!BU21","v":{"v":0,"d":"0.0"}},{"$f":"Invoeren!BV21","v":{"v":0,"d":"0.0000"}},{"$f":"Invoeren!CH21","v":{"v":0,"d":"0.0"}},{"$f":"Invoeren!CI21","v":{"v":0,"d":"0.0"}},{"$f":"Invoeren!CJ21","v":{"v":0,"d":"0.0"}},{"$f":"Invoeren!CK21","v":{"v":0,"d":"0.0"}},{"$f":"Invoeren!CL21","v":{"v":0,"d":"0.0"}},{"$f":"Invoeren!CM21","v":""},{"$f":"Invoeren!CN21","v":""},{"$f":"Invoeren!CO21","v":{"v":0,"d":"0.0"}},{"$f":"Invoeren!CP21","v":{"v":0,"d":"0.0000"}},{"$f":"Invoeren!CR21","v":0},{"$f":"Invoeren!CS21","v":0},{"$f":"Invoeren!CT21","v":0},{"$f":"Invoeren!C21","v":0},{"$f":"Invoeren!L21","v":0},{"$f":"Invoeren!M21","v":""},{"$f":"Invoeren!N21","v":""},{"$f":"Invoeren!H21","v":"Noord"},{"$f":"Invoeren!AI21","v":""},{"$f":"Invoeren!BC21","v":""},{"$f":"Invoeren!BW21","v":""},{"$f":"Invoeren!CQ21","v":""}]
[{"$f":"Invoeren!B22","v":130},{"$f":"Invoeren!A22","v":16},{"$f":"Invoeren!E22","v":"Saar van den Berg"},{"$f":"Invoeren!F22","v":"Widex Gzc Donk"},{"$f":"Invoeren!$K22","v":2003},{"$f":"Invoeren!$I22","v":0},{"$f":"Invoeren!Z22","v":5.4},{"$f":"Invoeren!AA22","v":5.1},{"$f":"Invoeren!AB22","v":4.5},{"$f":"Invoeren!AC22","v":4.7},{"$f":"Invoeren!AD22","v":5.1},{"$f":"Invoeren!AE22","v":""},{"$f":"Invoeren!AF22","v":""},{"$f":"Invoeren!AG22","v":{"v":14.899999999999999,"d":"14.9"}},{"$f":"Invoeren!AH22","v":10.9267},{"$f":"Invoeren!AT22","v":4.7},{"$f":"Invoeren!AU22","v":{"v":5,"d":"5.0"}},{"$f":"Invoeren!AV22","v":4.9},{"$f":"Invoeren!AW22","v":4.5},{"$f":"Invoeren!AX22","v":4.8},{"$f":"Invoeren!AY22","v":""},{"$f":"Invoeren!AZ22","v":""},{"$f":"Invoeren!BA22","v":{"v":14.400000000000002,"d":"14.4"}},{"$f":"Invoeren!BB22","v":{"v":10.56,"d":"10.5600"}},{"$f":"Invoeren!BN22","v":3.7},{"$f":"Invoeren!BO22","v":{"v":5,"d":"5.0"}},{"$f":"Invoeren!BP22","v":5.3},{"$f":"Invoeren!BQ22","v":5.1},{"$f":"Invoeren!BR22","v":5.2},{"$f":"Invoeren!BS22","v":""},{"$f":"Invoeren!BT22","v":""},{"$f":"Invoeren!BU22","v":15.3},{"$f":"Invoeren!BV22","v":{"v":10.71,"d":"10.7100"}},{"$f":"Invoeren!CH22","v":{"v":4,"d":"4.0"}},{"$f":"Invoeren!CI22","v":4.1},{"$f":"Invoeren!CJ22","v":4.2},{"$f":"Invoeren!CK22","v":4.4},{"$f":"Invoeren!CL22","v":4.6},{"$f":"Invoeren!CM22","v":""},{"$f":"Invoeren!CN22","v":""},{"$f":"Invoeren!CO22","v":{"v":12.700000000000003,"d":"12.7"}},{"$f":"Invoeren!CP22","v":9.7367},{"$f":"Invoeren!CR22","v":41.9334},{"$f":"Invoeren!CS22","v":47.6516},{"$f":"Invoeren!CT22","v":0},{"$f":"Invoeren!C22","v":47.6516},{"$f":"Invoeren!L22","v":0},{"$f":"Invoeren!M22","v":""},{"$f":"Invoeren!N22","v":""},{"$f":"Invoeren!H22","v":"West"},{"$f":"Invoeren!AI22","v":112},{"$f":"Invoeren!BC22","v":104},{"$f":"Invoeren!BW22","v":114},{"$f":"Invoeren!CQ22","v":158}]
[{"$f":"Invoeren!B23","v":179},{"$f":"Invoeren!A23","v":17},{"$f":"Invoeren!E23","v":"Irsah van Oosten"},{"$f":"Invoeren!F23","v":"Widex Gzc Donk"},{"$f":"Invoeren!$K23","v":2005},{"$f":"Invoeren!$I23","v":0},{"$f":"Invoeren!Z23","v":4.1},{"$f":"Invoeren!AA23","v":4.3},{"$f":"Invoeren!AB23","v":4.4},{"$f":"Invoeren!AC23","v":4.5},{"$f":"Invoeren!AD23","v":4.6},{"$f":"Invoeren!AE23","v":""},{"$f":"Invoeren!AF23","v":""},{"$f":"Invoeren!AG23","v":{"v":13.199999999999998,"d":"13.2"}},{"$f":"Invoeren!AH23","v":{"v":9.68,"d":"9.6800"}},{"$f":"Invoeren!AT23","v":4.2},{"$f":"Invoeren!AU23","v":4.8},{"$f":"Invoeren!AV23","v":4.2},{"$f":"Invoeren!AW23","v":4.2},{"$f":"Invoeren!AX23","v":4.9},{"$f":"Invoeren!AY23","v":""},{"$f":"Invoeren!AZ23","v":""},{"$f":"Invoeren!BA23","v":13.2},{"$f":"Invoeren!BB23","v":{"v":9.68,"d":"9.6800"}},{"$f":"Invoeren!BN23","v":{"v":4,"d":"4.0"}},{"$f":"Invoeren!BO23","v":4.2},{"$f":"Invoeren!BP23","v":{"v":4,"d":"4.0"}},{"$f":"Invoeren!BQ23","v":4.1},{"$f":"Invoeren!BR23","v":4.6},{"$f":"Invoeren!BS23","v":""},{"$f":"Invoeren!BT23","v":""},{"$f":"Invoeren!BU23","v":{"v":12.299999999999997,"d":"12.3"}},{"$f":"Invoeren!BV23","v":{"v":8.61,"d":"8.6100"}},{"$f":"Invoeren!CH23","v":4.2},{"$f":"Invoeren!CI23","v":4.3},{"$f":"Invoeren!CJ23","v":4.2},{"$f":"Invoeren!CK23","v":4.3},{"$f":"Invoeren!CL23","v":4.1},{"$f":"Invoeren!CM23","v":""},{"$f":"Invoeren!CN23","v":""},{"$f":"Invoeren!CO23","v":{"v":12.700000000000001,"d":"12.7"}},{"$f":"Invoeren!CP23","v":9.7367},{"$f":"Invoeren!CR23","v":37.7067},{"$f":"Invoeren!CS23","v":42.8485},{"$f":"Invoeren!CT23","v":0},{"$f":"Invoeren!C23","v":42.8485},{"$f":"Invoeren!L23","v":0},{"$f":"Invoeren!M23","v":""},{"$f":"Invoeren!N23","v":""},{"$f":"Invoeren!H23","v":"West"},{"$f":"Invoeren!AI23","v":178},{"$f":"Invoeren!BC23","v":152},{"$f":"Invoeren!BW23","v":194},{"$f":"Invoeren!CQ23","v":158}]
[{"$f":"Invoeren!B24","v":"BM"},{"$f":"Invoeren!A24","v":18},{"$f":"Invoeren!E24","v":"Eline Sijl"},{"$f":"Invoeren!F24","v":"AZC"},{"$f":"Invoeren!$K24","v":2001},{"$f":"Invoeren!$I24","v":"BM"},{"$f":"Invoeren!Z24","v":4.3},{"$f":"Invoeren!AA24","v":4.2},{"$f":"Invoeren!AB24","v":4.6},{"$f":"Invoeren!AC24","v":4.2},{"$f":"Invoeren!AD24","v":4.7},{"$f":"Invoeren!AE24","v":""},{"$f":"Invoeren!AF24","v":""},{"$f":"Invoeren!AG24","v":{"v":13.100000000000001,"d":"13.1"}},{"$f":"Invoeren!AH24","v":9.6067},{"$f":"Invoeren!AT24","v":4.8},{"$f":"Invoeren!AU24","v":4.5},{"$f":"Invoeren!AV24","v":4.3},{"$f":"Invoeren!AW24","v":4.6},{"$f":"Invoeren!AX24","v":4.9},{"$f":"Invoeren!AY24","v":""},{"$f":"Invoeren!AZ24","v":""},{"$f":"Invoeren!BA24","v":{"v":13.900000000000002,"d":"13.9"}},{"$f":"Invoeren!BB24","v":10.1933},{"$f":"Invoeren!BN24","v":4.9},{"$f":"Invoeren!BO24","v":5.8},{"$f":"Invoeren!BP24","v":5.6},{"$f":"Invoeren!BQ24","v":5.6},{"$f":"Invoeren!BR24","v":5.4},{"$f":"Invoeren!BS24","v":""},{"$f":"Invoeren!BT24","v":""},{"$f":"Invoeren!BU24","v":{"v":16.599999999999994,"d":"16.6"}},{"$f":"Invoeren!BV24","v":{"v":11.62,"d":"11.6200"}},{"$f":"Invoeren!CH24","v":4.4},{"$f":"Invoeren!CI24","v":4.9},{"$f":"Invoeren!CJ24","v":4.8},{"$f":"Invoeren!CK24","v":4.9},{"$f":"Invoeren!CL24","v":4.3},{"$f":"Invoeren!CM24","v":""},{"$f":"Invoeren!CN24","v":""},{"$f":"Invoeren!CO24","v":{"v":14.099999999999998,"d":"14.1"}},{"$f":"Invoeren!CP24","v":{"v":10.81,"d":"10.8100"}},{"$f":"Invoeren!CR24","v":{"v":42.230000000000004,"d":"42.2300"}},{"$f":"Invoeren!CS24","v":47.9886},{"$f":"Invoeren!CT24","v":0},{"$f":"Invoeren!C24","v":47.9886},{"$f":"Invoeren!L24","v":0},{"$f":"Invoeren!M24","v":"BM"},{"$f":"Invoeren!N24","v":""},{"$f":"Invoeren!H24","v":"West"},{"$f":"Invoeren!AI24","v":180},{"$f":"Invoeren!BC24","v":119},{"$f":"Invoeren!BW24","v":78},{"$f":"Invoeren!CQ24","v":107}]
[{"$f":"Invoeren!B25","v":119},{"$f":"Invoeren!A25","v":19},{"$f":"Invoeren!E25","v":"Esqua Swennen"},{"$f":"Invoeren!F25","v":"DSZ"},{"$f":"Invoeren!$K25","v":2004},{"$f":"Invoeren!$I25","v":0},{"$f":"Invoeren!Z25","v":4.8},{"$f":"Invoeren!AA25","v":4.8},{"$f":"Invoeren!AB25","v":5.2},{"$f":"Invoeren!AC25","v":5.3},{"$f":"Invoeren!AD25","v":4.9},{"$f":"Invoeren!AE25","v":""},{"$f":"Invoeren!AF25","v":""},{"$f":"Invoeren!AG25","v":{"v":14.899999999999999,"d":"14.9"}},{"$f":"Invoeren!AH25","v":10.9267},{"$f":"Invoeren!AT25","v":5.3},{"$f":"Invoeren!AU25","v":{"v":5,"d":"5.0"}},{"$f":"Invoeren!AV25","v":5.2},{"$f":"Invoeren!AW25","v":5.5},{"$f":"Invoeren!AX25","v":{"v":5,"d":"5.0"}},{"$f":"Invoeren!AY25","v":""},{"$f":"Invoeren!AZ25","v":""},{"$f":"Invoeren!BA25","v":15.5},{"$f":"Invoeren!BB25","v":11.3667},{"$f":"Invoeren!BN25","v":4.5},{"$f":"Invoeren!BO25","v":{"v":5,"d":"5.0"}},{"$f":"Invoeren!BP25","v":{"v":5,"d":"5.0"}},{"$f":"Invoeren!BQ25","v":4.2},{"$f":"Invoeren!BR25","v":4.6},{"$f":"Invoeren!BS25","v":""},{"$f":"Invoeren!BT25","v":""},{"$f":"Invoeren!BU25","v":{"v":14.099999999999998,"d":"14.1"}},{"$f":"Invoeren!BV25","v":{"v":9.87,"d":"9.8700"}},{"$f":"Invoeren!CH25","v":4.1},{"$f":"Invoeren!CI25","v":4.7},{"$f":"Invoeren!CJ25","v":4.7},{"$f":"Invoeren!CK25","v":4.5},{"$f":"Invoeren!CL25","v":4.5},{"$f":"Invoeren!CM25","v":""},{"$f":"Invoeren!CN25","v":""},{"$f":"Invoeren!CO25","v":{"v":13.700000000000001,"d":"13.7"}},{"$f":"Invoeren!CP25","v":10.5033},{"$f":"Invoeren!CR25","v":{"v":42.66669999999999,"d":"42.6667"}},{"$f":"Invoeren!CS25","v":48.4849},{"$f":"Invoeren!CT25","v":0},{"$f":"Invoeren!C25","v":48.4849},{"$f":"Invoeren!L25","v":0},{"$f":"Invoeren!M25","v":""},{"$f":"Invoeren!N25","v":""},{"$f":"Invoeren!H25","v":"West"},{"$f":"Invoeren!AI25","v":112},{"$f":"Invoeren!BC25","v":63},{"$f":"Invoeren!BW25","v":160},{"$f":"Invoeren!CQ25","v":121}]
[{"$f":"Invoeren!B26","v":61},{"$f":"Invoeren!A26","v":20},{"$f":"Invoeren!E26","v":"Ilyana Guliker"},{"$f":"Invoeren!F26","v":"Polar Bears"},{"$f":"Invoeren!$K26","v":2004},{"$f":"Invoeren!$I26","v":0},{"$f":"Invoeren!Z26","v":5.2},{"$f":"Invoeren!AA26","v":5.4},{"$f":"Invoeren!AB26","v":5.4},{"$f":"Invoeren!AC26","v":5.6},{"$f":"Invoeren!AD26","v":5.4},{"$f":"Invoeren!AE26","v":""},{"$f":"Invoeren!AF26","v":""},{"$f":"Invoeren!AG26","v":16.2},{"$f":"Invoeren!AH26","v":{"v":11.88,"d":"11.8800"}},{"$f":"Invoeren!AT26","v":5.1},{"$f":"Invoeren!AU26","v":5.2},{"$f":"Invoeren!AV26","v":5.5},{"$f":"Invoeren!AW26","v":5.4},{"$f":"Invoeren!AX26","v":5.4},{"$f":"Invoeren!AY26","v":""},{"$f":"Invoeren!AZ26","v":""},{"$f":"Invoeren!BA26","v":{"v":16,"d":"16.0"}},{"$f":"Invoeren!BB26","v":11.7333},{"$f":"Invoeren!BN26","v":5.3},{"$f":"Invoeren!BO26","v":{"v":6,"d":"6.0"}},{"$f":"Invoeren!BP26","v":5.9},{"$f":"Invoeren!BQ26","v":5.2},{"$f":"Invoeren!BR26","v":5.5},{"$f":"Invoeren!BS26","v":""},{"$f":"Invoeren!BT26","v":""},{"$f":"Invoeren!BU26","v":{"v":16.700000000000003,"d":"16.7"}},{"$f":"Invoeren!BV26","v":{"v":11.69,"d":"11.6900"}},{"$f":"Invoeren!CH26","v":4.8},{"$f":"Invoeren!CI26","v":4.8},{"$f":"Invoeren!CJ26","v":4.8},{"$f":"Invoeren!CK26","v":4.7},{"$f":"Invoeren!CL26","v":4.8},{"$f":"Invoeren!CM26","v":""},{"$f":"Invoeren!CN26","v":""},{"$f":"Invoeren!CO26","v":{"v":14.399999999999999,"d":"14.4"}},{"$f":"Invoeren!CP26","v":{"v":11.04,"d":"11.0400"}},{"$f":"Invoeren!CR26","v":46.3433},{"$f":"Invoeren!CS26","v":52.6628},{"$f":"Invoeren!CT26","v":0},{"$f":"Invoeren!C26","v":52.6628},{"$f":"Invoeren!L26","v":0},{"$f":"Invoeren!M26","v":"L"},{"$f":"Invoeren!N26","v":""},{"$f":"Invoeren!H26","v":"Oost"},{"$f":"Invoeren!AI26","v":68},{"$f":"Invoeren!BC26","v":46},{"$f":"Invoeren!BW26","v":71},{"$f":"Invoeren!CQ26","v":92}]
[{"$f":"Invoeren!B27","v":128},{"$f":"Invoeren!A27","v":21},{"$f":"Invoeren!E27","v":"Jill Mourmans"},{"$f":"Invoeren!F27","v":"ZC.Eijsden"},{"$f":"Invoeren!$K27","v":2003},{"$f":"Invoeren!$I27","v":0},{"$f":"Invoeren!Z27","v":4.9},{"$f":"Invoeren!AA27","v":4.5},{"$f":"Invoeren!AB27","v":4.8},{"$f":"Invoeren!AC27","v":5.4},{"$f":"Invoeren!AD27","v":4.8},{"$f":"Invoeren!AE27","v":""},{"$f":"Invoeren!AF27","v":""},{"$f":"Invoeren!AG27","v":14.5},{"$f":"Invoeren!AH27","v":10.6333},{"$f":"Invoeren!AT27","v":4.8},{"$f":"Invoeren!AU27","v":4.4},{"$f":"Invoeren!AV27","v":{"v":4,"d":"4.0"}},{"$f":"Invoeren!AW27","v":4.4},{"$f":"Invoeren!AX27","v":4.8},{"$f":"Invoeren!AY27","v":""},{"$f":"Invoeren!AZ27","v":""},{"$f":"Invoeren!BA27","v":{"v":13.600000000000001,"d":"13.6"}},{"$f":"Invoeren!BB27","v":9.9733},{"$f":"Invoeren!BN27","v":5.4},{"$f":"Invoeren!BO27","v":5.7},{"$f":"Invoeren!BP27","v":{"v":5,"d":"5.0"}},{"$f":"Invoeren!BQ27","v":5.6},{"$f":"Invoeren!BR27","v":5.2},{"$f":"Invoeren!BS27","v":""},{"$f":"Invoeren!BT27","v":""},{"$f":"Invoeren!BU27","v":{"v":16.200000000000003,"d":"16.2"}},{"$f":"Invoeren!BV27","v":{"v":11.34,"d":"11.3400"}},{"$f":"Invoeren!CH27","v":4.3},{"$f":"Invoeren!CI27","v":4.4},{"$f":"Invoeren!CJ27","v":4.6},{"$f":"Invoeren!CK27","v":4.5},{"$f":"Invoeren!CL27","v":4.3},{"$f":"Invoeren!CM27","v":""},{"$f":"Invoeren!CN27","v":""},{"$f":"Invoeren!CO27","v":13.2},{"$f":"Invoeren!CP27","v":{"v":10.12,"d":"10.1200"}},{"$f":"Invoeren!CR27","v":42.0666},{"$f":"Invoeren!CS27","v":{"v":47.803,"d":"47.8030"}},{"$f":"Invoeren!CT27","v":0},{"$f":"Invoeren!C27","v":{"v":47.803,"d":"47.8030"}},{"$f":"Invoeren!L27","v":0},{"$f":"Invoeren!M27","v":""},{"$f":"Invoeren!N27","v":""},{"$f":"Invoeren!H27","v":"Zuid"},{"$f":"Invoeren!AI27","v":130},{"$f":"Invoeren!BC27","v":134},{"$f":"Invoeren!BW27","v":89},{"$f":"Invoeren!CQ27","v":139}]
[{"$f":"Invoeren!B28","v":101},{"$f":"Invoeren!A28","v":22},{"$f":"Invoeren!E28","v":"Jolien Peeters"},{"$f":"Invoeren!F28","v":"PSV Synchro Team Eindhoven"},{"$f":"Invoeren!$K28","v":2003},{"$f":"Invoeren!$I28","v":0},{"$f":"Invoeren!Z28","v":5.2},{"$f":"Invoeren!AA28","v":5.3},{"$f":"Invoeren!AB28","v":5.3},{"$f":"Invoeren!AC28","v":5.7},{"$f":"Invoeren!AD28","v":5.7},{"$f":"Invoeren!AE28","v":""},{"$f":"Invoeren!AF28","v":""},{"$f":"Invoeren!AG28","v":16.3},{"$f":"Invoeren!AH28","v":11.9533},{"$f":"Invoeren!AT28","v":4.7},{"$f":"Invoeren!AU28","v":3.9},{"$f":"Invoeren!AV28","v":3.7},{"$f":"Invoeren!AW28","v":4.1},{"$f":"Invoeren!AX28","v":4.6},{"$f":"Invoeren!AY28","v":""},{"$f":"Invoeren!AZ28","v":""},{"$f":"Invoeren!BA28","v":{"v":12.600000000000001,"d":"12.6"}},{"$f":"Invoeren!BB28","v":{"v":9.24,"d":"9.2400"}},{"$f":"Invoeren!BN28","v":5.2},{"$f":"Invoeren!BO28","v":5.4},{"$f":"Invoeren!BP28","v":5.9},{"$f":"Invoeren!BQ28","v":5.9},{"$f":"Invoeren!BR28","v":5.4},{"$f":"Invoeren!BS28","v":""},{"$f":"Invoeren!BT28","v":""},{"$f":"Invoeren!BU28","v":16.7},{"$f":"Invoeren!BV28","v":{"v":11.69,"d":"11.6900"}},{"$f":"Invoeren!CH28","v":4.5},{"$f":"Invoeren!CI28","v":{"v":5,"d":"5.0"}},{"$f":"Invoeren!CJ28","v":4.7},{"$f":"Invoeren!CK28","v":4.8},{"$f":"Invoeren!CL28","v":4.2},{"$f":"Invoeren!CM28","v":""},{"$f":"Invoeren!CN28","v":""},{"$f":"Invoeren!CO28","v":{"v":14,"d":"14.0"}},{"$f":"Invoeren!CP28","v":10.7333},{"$f":"Invoeren!CR28","v":43.6166},{"$f":"Invoeren!CS28","v":49.5643},{"$f":"Invoeren!CT28","v":0},{"$f":"Invoeren!C28","v":49.5643},{"$f":"Invoeren!L28","v":0},{"$f":"Invoeren!M28","v":"L"},{"$f":"Invoeren!N28","v":""},{"$f":"Invoeren!H28","v":"Zuid"},{"$f":"Invoeren!AI28","v":62},{"$f":"Invoeren!BC28","v":172},{"$f":"Invoeren!BW28","v":71},{"$f":"Invoeren!CQ28","v":113}]
[{"$f":"Invoeren!B29","v":45},{"$f":"Invoeren!A29","v":23},{"$f":"Invoeren!E29","v":"Linda van Heumen"},{"$f":"Invoeren!F29","v":"Aqua-Novio '94"},{"$f":"Invoeren!$K29","v":2003},{"$f":"Invoeren!$I29","v":0},{"$f":"Invoeren!Z29","v":{"v":5,"d":"5.0"}},{"$f":"Invoeren!AA29","v":5.8},{"$f":"Invoeren!AB29","v":5.1},{"$f":"Invoeren!AC29","v":5.6},{"$f":"Invoeren!AD29","v":5.5},{"$f":"Invoeren!AE29","v":""},{"$f":"Invoeren!AF29","v":""},{"$f":"Invoeren!AG29","v":16.2},{"$f":"Invoeren!AH29","v":{"v":11.88,"d":"11.8800"}},{"$f":"Invoeren!AT29","v":5.5},{"$f":"Invoeren!AU29","v":5.3},{"$f":"Invoeren!AV29","v":5.8},{"$f":"Invoeren!AW29","v":5.4},{"$f":"Invoeren!AX29","v":5.6},{"$f":"Invoeren!AY29","v":""},{"$f":"Invoeren!AZ29","v":""},{"$f":"Invoeren!BA29","v":16.5},{"$f":"Invoeren!BB29","v":{"v":12.1,"d":"12.1000"}},{"$f":"Invoeren!BN29","v":5.2},{"$f":"Invoeren!BO29","v":5.7},{"$f":"Invoeren!BP29","v":5.7},{"$f":"Invoeren!BQ29","v":5.6},{"$f":"Invoeren!BR29","v":5.9},{"$f":"Invoeren!BS29","v":""},{"$f":"Invoeren!BT29","v":""},{"$f":"Invoeren!BU29","v":{"v":17.000000000000004,"d":"17.0"}},{"$f":"Invoeren!BV29","v":{"v":11.9,"d":"11.9000"}},{"$f":"Invoeren!CH29","v":4.7},{"$f":"Invoeren!CI29","v":5.3},{"$f":"Invoeren!CJ29","v":5.3},{"$f":"Invoeren!CK29","v":5.4},{"$f":"Invoeren!CL29","v":{"v":5,"d":"5.0"}},{"$f":"Invoeren!CM29","v":""},{"$f":"Invoeren!CN29","v":""},{"$f":"Invoeren!CO29","v":{"v":15.600000000000005,"d":"15.6"}},{"$f":"Invoeren!CP29","v":{"v":11.96,"d":"11.9600"}},{"$f":"Invoeren!CR29","v":{"v":47.84,"d":"47.8400"}},{"$f":"Invoeren!CS29","v":54.3636},{"$f":"Invoeren!CT29","v":0},{"$f":"Invoeren!C29","v":54.3636},{"$f":"Invoeren!L29","v":0},{"$f":"Invoeren!M29","v":"L"},{"$f":"Invoeren!N29","v":""},{"$f":"Invoeren!H29","v":"Oost"},{"$f":"Invoeren!AI29","v":68},{"$f":"Invoeren!BC29","v":32},{"$f":"Invoeren!BW29","v":63},{"$f":"Invoeren!CQ29","v":43}]
[{"$f":"Invoeren!B30","v":104},{"$f":"Invoeren!A30","v":24},{"$f":"Invoeren!E30","v":"Kyara Alexander"},{"$f":"Invoeren!F30","v":"ACZ"},{"$f":"Invoeren!$K30","v":2005},{"$f":"Invoeren!$I30","v":0},{"$f":"Invoeren!Z30","v":5.5},{"$f":"Invoeren!AA30","v":5.5},{"$f":"Invoeren!AB30","v":5.1},{"$f":"Invoeren!AC30","v":5.8},{"$f":"Invoeren!AD30","v":5.7},{"$f":"Invoeren!AE30","v":""},{"$f":"Invoeren!AF30","v":""},{"$f":"Invoeren!AG30","v":{"v":16.700000000000003,"d":"16.7"}},{"$f":"Invoeren!AH30","v":12.2467},{"$f":"Invoeren!AT30","v":4.5},{"$f":"Invoeren!AU30","v":4.6},{"$f":"Invoeren!AV30","v":4.4},{"$f":"Invoeren!AW30","v":4.3},{"$f":"Invoeren!AX30","v":4.7},{"$f":"Invoeren!AY30","v":""},{"$f":"Invoeren!AZ30","v":""},{"$f":"Invoeren!BA30","v":13.5},{"$f":"Invoeren!BB30","v":{"v":9.9,"d":"9.9000"}},{"$f":"Invoeren!BN30","v":4.7},{"$f":"Invoeren!BO30","v":{"v":5,"d":"5.0"}},{"$f":"Invoeren!BP30","v":5.5},{"$f":"Invoeren!BQ30","v":5.1},{"$f":"Invoeren!BR30","v":4.8},{"$f":"Invoeren!BS30","v":""},{"$f":"Invoeren!BT30","v":""},{"$f":"Invoeren!BU30","v":{"v":14.899999999999999,"d":"14.9"}},{"$f":"Invoeren!BV30","v":{"v":10.43,"d":"10.4300"}},{"$f":"Invoeren!CH30","v":4.5},{"$f":"Invoeren!CI30","v":4.7},{"$f":"Invoeren!CJ30","v":4.8},{"$f":"Invoeren!CK30","v":4.8},{"$f":"Invoeren!CL30","v":4.8},{"$f":"Invoeren!CM30","v":""},{"$f":"Invoeren!CN30","v":""},{"$f":"Invoeren!CO30","v":14.3},{"$f":"Invoeren!CP30","v":10.9633},{"$f":"Invoeren!CR30","v":{"v":43.540000000000006,"d":"43.5400"}},{"$f":"Invoeren!CS30","v":49.4773},{"$f":"Invoeren!CT30","v":0},{"$f":"Invoeren!C30","v":49.4773},{"$f":"Invoeren!L30","v":0},{"$f":"Invoeren!M30","v":"L"},{"$f":"Invoeren!N30","v":""},{"$f":"Invoeren!H30","v":"West"},{"$f":"Invoeren!AI30","v":51},{"$f":"Invoeren!BC30","v":138},{"$f":"Invoeren!BW30","v":127},{"$f":"Invoeren!CQ30","v":96}]
[{"$f":"Invoeren!B31","v":193},{"$f":"Invoeren!A31","v":25},{"$f":"Invoeren!E31","v":"Emma Leen"},{"$f":"Invoeren!F31","v":"Z.P.C.H."},{"$f":"Invoeren!$K31","v":2003},{"$f":"Invoeren!$I31","v":0},{"$f":"Invoeren!Z31","v":{"v":0,"d":"0.0"}},{"$f":"Invoeren!AA31","v":{"v":0,"d":"0.0"}},{"$f":"Invoeren!AB31","v":{"v":0,"d":"0.0"}},{"$f":"Invoeren!AC31","v":{"v":0,"d":"0.0"}},{"$f":"Invoeren!AD31","v":{"v":0,"d":"0.0"}},{"$f":"Invoeren!AE31","v":""},{"$f":"Invoeren!AF31","v":""},{"$f":"Invoeren!AG31","v":{"v":0,"d":"0.0"}},{"$f":"Invoeren!AH31","v":{"v":0,"d":"0.0000"}},{"$f":"Invoeren!AT31","v":{"v":0,"d":"0.0"}},{"$f":"Invoeren!AU31","v":{"v":0,"d":"0.0"}},{"$f":"Invoeren!AV31","v":{"v":0,"d":"0.0"}},{"$f":"Invoeren!AW31","v":{"v":0,"d":"0.0"}},{"$f":"Invoeren!AX31","v":{"v":0,"d":"0.0"}},{"$f":"Invoeren!AY31","v":""},{"$f":"Invoeren!AZ31","v":""},{"$f":"Invoeren!BA31","v":{"v":0,"d":"0.0"}},{"$f":"Invoeren!BB31","v":{"v":0,"d":"0.0000"}},{"$f":"Invoeren!BN31","v":{"v":0,"d":"0.0"}},{"$f":"Invoeren!BO31","v":{"v":0,"d":"0.0"}},{"$f":"Invoeren!BP31","v":{"v":0,"d":"0.0"}},{"$f":"Invoeren!BQ31","v":{"v":0,"d":"0.0"}},{"$f":"Invoeren!BR31","v":{"v":0,"d":"0.0"}},{"$f":"Invoeren!BS31","v":""},{"$f":"Invoeren!BT31","v":""},{"$f":"Invoeren!BU31","v":{"v":0,"d":"0.0"}},{"$f":"Invoeren!BV31","v":{"v":0,"d":"0.0000"}},{"$f":"Invoeren!CH31","v":{"v":0,"d":"0.0"}},{"$f":"Invoeren!CI31","v":{"v":0,"d":"0.0"}},{"$f":"Invoeren!CJ31","v":{"v":0,"d":"0.0"}},{"$f":"Invoeren!CK31","v":{"v":0,"d":"0.0"}},{"$f":"Invoeren!CL31","v":{"v":0,"d":"0.0"}},{"$f":"Invoeren!CM31","v":""},{"$f":"Invoeren!CN31","v":""},{"$f":"Invoeren!CO31","v":{"v":0,"d":"0.0"}},{"$f":"Invoeren!CP31","v":{"v":0,"d":"0.0000"}},{"$f":"Invoeren!CR31","v":0},{"$f":"Invoeren!CS31","v":0},{"$f":"Invoeren!CT31","v":0},{"$f":"Invoeren!C31","v":0},{"$f":"Invoeren!L31","v":0},{"$f":"Invoeren!M31","v":""},{"$f":"Invoeren!N31","v":""},{"$f":"Invoeren!H31","v":"MidWest"},{"$f":"Invoeren!AI31","v":""},{"$f":"Invoeren!BC31","v":""},{"$f":"Invoeren!BW31","v":""},{"$f":"Invoeren!CQ31","v":""}]
[{"$f":"Invoeren!B32","v":140},{"$f":"Invoeren!A32","v":26},{"$f":"Invoeren!E32","v":"Merel Schrijvers van Zenden"},{"$f":"Invoeren!F32","v":"Widex Gzc Donk"},{"$f":"Invoeren!$K32","v":2005},{"$f":"Invoeren!$I32","v":0},{"$f":"Invoeren!Z32","v":4.7},{"$f":"Invoeren!AA32","v":4.9},{"$f":"Invoeren!AB32","v":4.8},{"$f":"Invoeren!AC32","v":4.6},{"$f":"Invoeren!AD32","v":4.8},{"$f":"Invoeren!AE32","v":""},{"$f":"Invoeren!AF32","v":""},{"$f":"Invoeren!AG32","v":{"v":14.299999999999999,"d":"14.3"}},{"$f":"Invoeren!AH32","v":10.4867},{"$f":"Invoeren!AT32","v":4.9},{"$f":"Invoeren!AU32","v":4.9},{"$f":"Invoeren!AV32","v":4.7},{"$f":"Invoeren!AW32","v":4.4},{"$f":"Invoeren!AX32","v":4.9},{"$f":"Invoeren!AY32","v":""},{"$f":"Invoeren!AZ32","v":""},{"$f":"Invoeren!BA32","v":{"v":14.499999999999998,"d":"14.5"}},{"$f":"Invoeren!BB32","v":10.6333},{"$f":"Invoeren!BN32","v":{"v":5,"d":"5.0"}},{"$f":"Invoeren!BO32","v":4.9},{"$f":"Invoeren!BP32","v":{"v":5,"d":"5.0"}},{"$f":"Invoeren!BQ32","v":5.6},{"$f":"Invoeren!BR32","v":4.7},{"$f":"Invoeren!BS32","v":""},{"$f":"Invoeren!BT32","v":""},{"$f":"Invoeren!BU32","v":{"v":14.900000000000002,"d":"14.9"}},{"$f":"Invoeren!BV32","v":{"v":10.43,"d":"10.4300"}},{"$f":"Invoeren!CH32","v":4.1},{"$f":"Invoeren!CI32","v":4.4},{"$f":"Invoeren!CJ32","v":4.6},{"$f":"Invoeren!CK32","v":4.3},{"$f":"Invoeren!CL32","v":4.3},{"$f":"Invoeren!CM32","v":""},{"$f":"Invoeren!CN32","v":""},{"$f":"Invoeren!CO32","v":{"v":13.000000000000002,"d":"13.0"}},{"$f":"Invoeren!CP32","v":9.9667},{"$f":"Invoeren!CR32","v":41.5167},{"$f":"Invoeren!CS32","v":47.1781},{"$f":"Invoeren!CT32","v":0},{"$f":"Invoeren!C32","v":47.1781},{"$f":"Invoeren!L32","v":0},{"$f":"Invoeren!M32","v":"L"},{"$f":"Invoeren!N32","v":""},{"$f":"Invoeren!H32","v":"West"},{"$f":"Invoeren!AI32","v":143},{"$f":"Invoeren!BC32","v":100},{"$f":"Invoeren!BW32","v":127},{"$f":"Invoeren!CQ32","v":149}]
[{"$f":"Invoeren!B33","v":83},{"$f":"Invoeren!A33","v":27},{"$f":"Invoeren!E33","v":"Iris Huizinga"},{"$f":"Invoeren!F33","v":"DAW"},{"$f":"Invoeren!$K33","v":2005},{"$f":"Invoeren!$I33","v":0},{"$f":"Invoeren!Z33","v":5.1},{"$f":"Invoeren!AA33","v":5.1},{"$f":"Invoeren!AB33","v":4.7},{"$f":"Invoeren!AC33","v":4.5},{"$f":"Invoeren!AD33","v":5.3},{"$f":"Invoeren!AE33","v":""},{"$f":"Invoeren!AF33","v":""},{"$f":"Invoeren!AG33","v":{"v":14.899999999999999,"d":"14.9"}},{"$f":"Invoeren!AH33","v":10.9267},{"$f":"Invoeren!AT33","v":4.8},{"$f":"Invoeren!AU33","v":5.4},{"$f":"Invoeren!AV33","v":5.3},{"$f":"Invoeren!AW33","v":5.2},{"$f":"Invoeren!AX33","v":5.5},{"$f":"Invoeren!AY33","v":""},{"$f":"Invoeren!AZ33","v":""},{"$f":"Invoeren!BA33","v":{"v":15.899999999999999,"d":"15.9"}},{"$f":"Invoeren!BB33","v":{"v":11.66,"d":"11.6600"}},{"$f":"Invoeren!BN33","v":5.4},{"$f":"Invoeren!BO33","v":5.6},{"$f":"Invoeren!BP33","v":5.5},{"$f":"Invoeren!BQ33","v":5.3},{"$f":"Invoeren!BR33","v":5.5},{"$f":"Invoeren!BS33","v":""},{"$f":"Invoeren!BT33","v":""},{"$f":"Invoeren!BU33","v":{"v":16.400000000000002,"d":"16.4"}},{"$f":"Invoeren!BV33","v":{"v":11.48,"d":"11.4800"}},{"$f":"Invoeren!CH33","v":4.9},{"$f":"Invoeren!CI33","v":4.6},{"$f":"Invoeren!CJ33","v":4.6},{"$f":"Invoeren!CK33","v":4.7},{"$f":"Invoeren!CL33","v":4.5},{"$f":"Invoeren!CM33","v":""},{"$f":"Invoeren!CN33","v":""},{"$f":"Invoeren!CO33","v":{"v":13.899999999999999,"d":"13.9"}},{"$f":"Invoeren!CP33","v":10.6567},{"$f":"Invoeren!CR33","v":44.7234},{"$f":"Invoeren!CS33","v":{"v":50.822,"d":"50.8220"}},{"$f":"Invoeren!CT33","v":0},{"$f":"Invoeren!C33","v":{"v":50.822,"d":"50.8220"}},{"$f":"Invoeren!L33","v":0},{"$f":"Invoeren!M33","v":"L"},{"$f":"Invoeren!N33","v":""},{"$f":"Invoeren!H33","v":"Midwest"},{"$f":"Invoeren!AI33","v":112},{"$f":"Invoeren!BC33","v":48},{"$f":"Invoeren!BW33","v":84},{"$f":"Invoeren!CQ33","v":115}]
[{"$f":"Invoeren!B34","v":56},{"$f":"Invoeren!A34","v":28},{"$f":"Invoeren!E34","v":"Maddy van der Hoeven"},{"$f":"Invoeren!F34","v":"De Dolfijn"},{"$f":"Invoeren!$K34","v":2004},{"$f":"Invoeren!$I34","v":0},{"$f":"Invoeren!Z34","v":5.3},{"$f":"Invoeren!AA34","v":5.3},{"$f":"Invoeren!AB34","v":5.2},{"$f":"Invoeren!AC34","v":5.3},{"$f":"Invoeren!AD34","v":5.6},{"$f":"Invoeren!AE34","v":""},{"$f":"Invoeren!AF34","v":""},{"$f":"Invoeren!AG34","v":{"v":15.900000000000002,"d":"15.9"}},{"$f":"Invoeren!AH34","v":{"v":11.66,"d":"11.6600"}},{"$f":"Invoeren!AT34","v":{"v":5,"d":"5.0"}},{"$f":"Invoeren!AU34","v":4.9},{"$f":"Invoeren!AV34","v":4.8},{"$f":"Invoeren!AW34","v":5.2},{"$f":"Invoeren!AX34","v":5.2},{"$f":"Invoeren!AY34","v":""},{"$f":"Invoeren!AZ34","v":""},{"$f":"Invoeren!BA34","v":{"v":15.099999999999998,"d":"15.1"}},{"$f":"Invoeren!BB34","v":11.0733},{"$f":"Invoeren!BN34","v":5.5},{"$f":"Invoeren!BO34","v":6.2},{"$f":"Invoeren!BP34","v":{"v":6,"d":"6.0"}},{"$f":"Invoeren!BQ34","v":5.7},{"$f":"Invoeren!BR34","v":{"v":6,"d":"6.0"}},{"$f":"Invoeren!BS34","v":""},{"$f":"Invoeren!BT34","v":""},{"$f":"Invoeren!BU34","v":17.7},{"$f":"Invoeren!BV34","v":{"v":12.39,"d":"12.3900"}},{"$f":"Invoeren!CH34","v":4.8},{"$f":"Invoeren!CI34","v":5.3},{"$f":"Invoeren!CJ34","v":5.2},{"$f":"Invoeren!CK34","v":5.3},{"$f":"Invoeren!CL34","v":4.9},{"$f":"Invoeren!CM34","v":""},{"$f":"Invoeren!CN34","v":""},{"$f":"Invoeren!CO34","v":{"v":15.399999999999999,"d":"15.4"}},{"$f":"Invoeren!CP34","v":11.8067},{"$f":"Invoeren!CR34","v":{"v":46.93,"d":"46.9300"}},{"$f":"Invoeren!CS34","v":53.3295},{"$f":"Invoeren!CT34","v":0},{"$f":"Invoeren!C34","v":53.3295},{"$f":"Invoeren!L34","v":0},{"$f":"Invoeren!M34","v":"L"},{"$f":"Invoeren!N34","v":""},{"$f":"Invoeren!H34","v":"Midwest"},{"$f":"Invoeren!AI34","v":79},{"$f":"Invoeren!BC34","v":74},{"$f":"Invoeren!BW34","v":34},{"$f":"Invoeren!CQ34","v":47}]
[{"$f":"Invoeren!B35","v":188},{"$f":"Invoeren!A35","v":29},{"$f":"Invoeren!E35","v":"Savoy Bottse"},{"$f":"Invoeren!F35","v":"HZ&PC Heerenveen"},{"$f":"Invoeren!$K35","v":2005},{"$f":"Invoeren!$I35","v":0},{"$f":"Invoeren!Z35","v":3.6},{"$f":"Invoeren!AA35","v":3.5},{"$f":"Invoeren!AB35","v":3.8},{"$f":"Invoeren!AC35","v":3.8},{"$f":"Invoeren!AD35","v":{"v":4,"d":"4.0"}},{"$f":"Invoeren!AE35","v":""},{"$f":"Invoeren!AF35","v":""},{"$f":"Invoeren!AG35","v":11.2},{"$f":"Invoeren!AH35","v":8.2133},{"$f":"Invoeren!AT35","v":4.3},{"$f":"Invoeren!AU35","v":4.7},{"$f":"Invoeren!AV35","v":4.4},{"$f":"Invoeren!AW35","v":4.6},{"$f":"Invoeren!AX35","v":4.9},{"$f":"Invoeren!AY35","v":""},{"$f":"Invoeren!AZ35","v":""},{"$f":"Invoeren!BA35","v":13.7},{"$f":"Invoeren!BB35","v":10.0467},{"$f":"Invoeren!BN35","v":4.3},{"$f":"Invoeren!BO35","v":4.5},{"$f":"Invoeren!BP35","v":3.9},{"$f":"Invoeren!BQ35","v":3.7},{"$f":"Invoeren!BR35","v":4.2},{"$f":"Invoeren!BS35","v":""},{"$f":"Invoeren!BT35","v":""},{"$f":"Invoeren!BU35","v":{"v":12.400000000000002,"d":"12.4"}},{"$f":"Invoeren!BV35","v":{"v":8.68,"d":"8.6800"}},{"$f":"Invoeren!CH35","v":3.9},{"$f":"Invoeren!CI35","v":{"v":4,"d":"4.0"}},{"$f":"Invoeren!CJ35","v":3.8},{"$f":"Invoeren!CK35","v":3.8},{"$f":"Invoeren!CL35","v":4.2},{"$f":"Invoeren!CM35","v":""},{"$f":"Invoeren!CN35","v":""},{"$f":"Invoeren!CO35","v":11.7},{"$f":"Invoeren!CP35","v":{"v":8.97,"d":"8.9700"}},{"$f":"Invoeren!CR35","v":{"v":35.91,"d":"35.9100"}},{"$f":"Invoeren!CS35","v":40.8068},{"$f":"Invoeren!CT35","v":0},{"$f":"Invoeren!C35","v":40.8068},{"$f":"Invoeren!L35","v":0},{"$f":"Invoeren!M35","v":""},{"$f":"Invoeren!N35","v":""},{"$f":"Invoeren!H35","v":"Noord"},{"$f":"Invoeren!AI35","v":197},{"$f":"Invoeren!BC35","v":132},{"$f":"Invoeren!BW35","v":193},{"$f":"Invoeren!CQ35","v":187}]
[{"$f":"Invoeren!B36","v":193},{"$f":"Invoeren!A36","v":30},{"$f":"Invoeren!E36","v":"Sanne van der Waal"},{"$f":"Invoeren!F36","v":"Z.P.C.H."},{"$f":"Invoeren!$K36","v":2003},{"$f":"Invoeren!$I36","v":0},{"$f":"Invoeren!Z36","v":{"v":0,"d":"0.0"}},{"$f":"Invoeren!AA36","v":{"v":0,"d":"0.0"}},{"$f":"Invoeren!AB36","v":{"v":0,"d":"0.0"}},{"$f":"Invoeren!AC36","v":{"v":0,"d":"0.0"}},{"$f":"Invoeren!AD36","v":{"v":0,"d":"0.0"}},{"$f":"Invoeren!AE36","v":""},{"$f":"Invoeren!AF36","v":""},{"$f":"Invoeren!AG36","v":{"v":0,"d":"0.0"}},{"$f":"Invoeren!AH36","v":{"v":0,"d":"0.0000"}},{"$f":"Invoeren!AT36","v":{"v":0,"d":"0.0"}},{"$f":"Invoeren!AU36","v":{"v":0,"d":"0.0"}},{"$f":"Invoeren!AV36","v":{"v":0,"d":"0.0"}},{"$f":"Invoeren!AW36","v":{"v":0,"d":"0.0"}},{"$f":"Invoeren!AX36","v":{"v":0,"d":"0.0"}},{"$f":"Invoeren!AY36","v":""},{"$f":"Invoeren!AZ36","v":""},{"$f":"Invoeren!BA36","v":{"v":0,"d":"0.0"}},{"$f":"Invoeren!BB36","v":{"v":0,"d":"0.0000"}},{"$f":"Invoeren!BN36","v":{"v":0,"d":"0.0"}},{"$f":"Invoeren!BO36","v":{"v":0,"d":"0.0"}},{"$f":"Invoeren!BP36","v":{"v":0,"d":"0.0"}},{"$f":"Invoeren!BQ36","v":{"v":0,"d":"0.0"}},{"$f":"Invoeren!BR36","v":{"v":0,"d":"0.0"}},{"$f":"Invoeren!BS36","v":""},{"$f":"Invoeren!BT36","v":""},{"$f":"Invoeren!BU36","v":{"v":0,"d":"0.0"}},{"$f":"Invoeren!BV36","v":{"v":0,"d":"0.0000"}},{"$f":"Invoeren!CH36","v":{"v":0,"d":"0.0"}},{"$f":"Invoeren!CI36","v":{"v":0,"d":"0.0"}},{"$f":"Invoeren!CJ36","v":{"v":0,"d":"0.0"}},{"$f":"Invoeren!CK36","v":{"v":0,"d":"0.0"}},{"$f":"Invoeren!CL36","v":{"v":0,"d":"0.0"}},{"$f":"Invoeren!CM36","v":""},{"$f":"Invoeren!CN36","v":""},{"$f":"Invoeren!CO36","v":{"v":0,"d":"0.0"}},{"$f":"Invoeren!CP36","v":{"v":0,"d":"0.0000"}},{"$f":"Invoeren!CR36","v":0},{"$f":"Invoeren!CS36","v":0},{"$f":"Invoeren!CT36","v":0},{"$f":"Invoeren!C36","v":0},{"$f":"Invoeren!L36","v":0},{"$f":"Invoeren!M36","v":""},{"$f":"Invoeren!N36","v":""},{"$f":"Invoeren!H36","v":"MidWest"},{"$f":"Invoeren!AI36","v":""},{"$f":"Invoeren!BC36","v":""},{"$f":"Invoeren!BW36","v":""},{"$f":"Invoeren!CQ36","v":""}]
[{"$f":"Invoeren!B37","v":30},{"$f":"Invoeren!A37","v":31},{"$f":"Invoeren!E37","v":"Keyla Lammers"},{"$f":"Invoeren!F37","v":"AZC"},{"$f":"Invoeren!$K37","v":2004},{"$f":"Invoeren!$I37","v":0},{"$f":"Invoeren!Z37","v":5.6},{"$f":"Invoeren!AA37","v":5.5},{"$f":"Invoeren!AB37","v":5.9},{"$f":"Invoeren!AC37","v":6.1},{"$f":"Invoeren!AD37","v":5.9},{"$f":"Invoeren!AE37","v":""},{"$f":"Invoeren!AF37","v":""},{"$f":"Invoeren!AG37","v":17.4},{"$f":"Invoeren!AH37","v":{"v":12.76,"d":"12.7600"}},{"$f":"Invoeren!AT37","v":5.6},{"$f":"Invoeren!AU37","v":5.5},{"$f":"Invoeren!AV37","v":5.2},{"$f":"Invoeren!AW37","v":5.4},{"$f":"Invoeren!AX37","v":5.5},{"$f":"Invoeren!AY37","v":""},{"$f":"Invoeren!AZ37","v":""},{"$f":"Invoeren!BA37","v":{"v":16.400000000000002,"d":"16.4"}},{"$f":"Invoeren!BB37","v":12.0267},{"$f":"Invoeren!BN37","v":5.6},{"$f":"Invoeren!BO37","v":{"v":6,"d":"6.0"}},{"$f":"Invoeren!BP37","v":{"v":6,"d":"6.0"}},{"$f":"Invoeren!BQ37","v":5.7},{"$f":"Invoeren!BR37","v":5.6},{"$f":"Invoeren!BS37","v":""},{"$f":"Invoeren!BT37","v":""},{"$f":"Invoeren!BU37","v":{"v":17.299999999999997,"d":"17.3"}},{"$f":"Invoeren!BV37","v":{"v":12.11,"d":"12.1100"}},{"$f":"Invoeren!CH37","v":{"v":5,"d":"5.0"}},{"$f":"Invoeren!CI37","v":5.1},{"$f":"Invoeren!CJ37","v":5.1},{"$f":"Invoeren!CK37","v":5.6},{"$f":"Invoeren!CL37","v":5.7},{"$f":"Invoeren!CM37","v":""},{"$f":"Invoeren!CN37","v":""},{"$f":"Invoeren!CO37","v":{"v":15.799999999999997,"d":"15.8"}},{"$f":"Invoeren!CP37","v":12.1133},{"$f":"Invoeren!CR37","v":{"v":49.01,"d":"49.0100"}},{"$f":"Invoeren!CS37","v":55.6932},{"$f":"Invoeren!CT37","v":0},{"$f":"Invoeren!C37","v":55.6932},{"$f":"Invoeren!L37","v":0},{"$f":"Invoeren!M37","v":"L"},{"$f":"Invoeren!N37","v":""},{"$f":"Invoeren!H37","v":"West"},{"$f":"Invoeren!AI37","v":26},{"$f":"Invoeren!BC37","v":36},{"$f":"Invoeren!BW37","v":47},{"$f":"Invoeren!CQ37","v":37}]
[{"$f":"Invoeren!B38","v":144},{"$f":"Invoeren!A38","v":32},{"$f":"Invoeren!E38","v":"Eda Karacan"},{"$f":"Invoeren!F38","v":"DSZ"},{"$f":"Invoeren!$K38","v":2003},{"$f":"Invoeren!$I38","v":0},{"$f":"Invoeren!Z38","v":4.8},{"$f":"Invoeren!AA38","v":4.2},{"$f":"Invoeren!AB38","v":4.9},{"$f":"Invoeren!AC38","v":5.2},{"$f":"Invoeren!AD38","v":4.8},{"$f":"Invoeren!AE38","v":""},{"$f":"Invoeren!AF38","v":""},{"$f":"Invoeren!AG38","v":{"v":14.500000000000004,"d":"14.5"}},{"$f":"Invoeren!AH38","v":10.6333},{"$f":"Invoeren!AT38","v":4.6},{"$f":"Invoeren!AU38","v":4.8},{"$f":"Invoeren!AV38","v":{"v":4,"d":"4.0"}},{"$f":"Invoeren!AW38","v":4.3},{"$f":"Invoeren!AX38","v":4.5},{"$f":"Invoeren!AY38","v":""},{"$f":"Invoeren!AZ38","v":""},{"$f":"Invoeren!BA38","v":{"v":13.399999999999999,"d":"13.4"}},{"$f":"Invoeren!BB38","v":9.8267},{"$f":"Invoeren!BN38","v":4.4},{"$f":"Invoeren!BO38","v":4.6},{"$f":"Invoeren!BP38","v":4.3},{"$f":"Invoeren!BQ38","v":4.5},{"$f":"Invoeren!BR38","v":4.8},{"$f":"Invoeren!BS38","v":""},{"$f":"Invoeren!BT38","v":""},{"$f":"Invoeren!BU38","v":13.5},{"$f":"Invoeren!BV38","v":{"v":9.45,"d":"9.4500"}},{"$f":"Invoeren!CH38","v":5.2},{"$f":"Invoeren!CI38","v":4.7},{"$f":"Invoeren!CJ38","v":4.8},{"$f":"Invoeren!CK38","v":4.8},{"$f":"Invoeren!CL38","v":4.3},{"$f":"Invoeren!CM38","v":""},{"$f":"Invoeren!CN38","v":""},{"$f":"Invoeren!CO38","v":14.3},{"$f":"Invoeren!CP38","v":10.9633},{"$f":"Invoeren!CR38","v":40.8733},{"$f":"Invoeren!CS38","v":46.4469},{"$f":"Invoeren!CT38","v":0},{"$f":"Invoeren!C38","v":46.4469},{"$f":"Invoeren!L38","v":0},{"$f":"Invoeren!M38","v":""},{"$f":"Invoeren!N38","v":""},{"$f":"Invoeren!H38","v":"West"},{"$f":"Invoeren!AI38","v":130},{"$f":"Invoeren!BC38","v":144},{"$f":"Invoeren!BW38","v":178},{"$f":"Invoeren!CQ38","v":96}]
[{"$f":"Invoeren!B39","v":121},{"$f":"Invoeren!A39","v":33},{"$f":"Invoeren!E39","v":"Norah Steinfort Schaap"},{"$f":"Invoeren!F39","v":"Polar Bears"},{"$f":"Invoeren!$K39","v":2005},{"$f":"Invoeren!$I39","v":0},{"$f":"Invoeren!Z39","v":4.3},{"$f":"Invoeren!AA39","v":4.6},{"$f":"Invoeren!AB39","v":4.3},{"$f":"Invoeren!AC39","v":4.3},{"$f":"Invoeren!AD39","v":4.7},{"$f":"Invoeren!AE39","v":""},{"$f":"Invoeren!AF39","v":""},{"$f":"Invoeren!AG39","v":13.2},{"$f":"Invoeren!AH39","v":{"v":9.68,"d":"9.6800"}},{"$f":"Invoeren!AT39","v":5.4},{"$f":"Invoeren!AU39","v":5.6},{"$f":"Invoeren!AV39","v":5.7},{"$f":"Invoeren!AW39","v":5.8},{"$f":"Invoeren!AX39","v":5.4},{"$f":"Invoeren!AY39","v":""},{"$f":"Invoeren!AZ39","v":""},{"$f":"Invoeren!BA39","v":{"v":16.699999999999996,"d":"16.7"}},{"$f":"Invoeren!BB39","v":12.2467},{"$f":"Invoeren!BN39","v":4.6},{"$f":"Invoeren!BO39","v":{"v":5,"d":"5.0"}},{"$f":"Invoeren!BP39","v":{"v":5,"d":"5.0"}},{"$f":"Invoeren!BQ39","v":4.9},{"$f":"Invoeren!BR39","v":5.2},{"$f":"Invoeren!BS39","v":""},{"$f":"Invoeren!BT39","v":""},{"$f":"Invoeren!BU39","v":14.9},{"$f":"Invoeren!BV39","v":{"v":10.43,"d":"10.4300"}},{"$f":"Invoeren!CH39","v":4.4},{"$f":"Invoeren!CI39","v":4.2},{"$f":"Invoeren!CJ39","v":4.5},{"$f":"Invoeren!CK39","v":4.4},{"$f":"Invoeren!CL39","v":4.1},{"$f":"Invoeren!CM39","v":""},{"$f":"Invoeren!CN39","v":""},{"$f":"Invoeren!CO39","v":{"v":13.000000000000002,"d":"13.0"}},{"$f":"Invoeren!CP39","v":9.9667},{"$f":"Invoeren!CR39","v":{"v":42.32340000000001,"d":"42.3234"}},{"$f":"Invoeren!CS39","v":48.0948},{"$f":"Invoeren!CT39","v":0},{"$f":"Invoeren!C39","v":48.0948},{"$f":"Invoeren!L39","v":0},{"$f":"Invoeren!M39","v":"L"},{"$f":"Invoeren!N39","v":""},{"$f":"Invoeren!H39","v":"Oost"},{"$f":"Invoeren!AI39","v":178},{"$f":"Invoeren!BC39","v":28},{"$f":"Invoeren!BW39","v":127},{"$f":"Invoeren!CQ39","v":149}]
[{"$f":"Invoeren!B40","v":157},{"$f":"Invoeren!A40","v":34},{"$f":"Invoeren!E40","v":"Sofie Geurts"},{"$f":"Invoeren!F40","v":"HZPC Horst"},{"$f":"Invoeren!$K40","v":2005},{"$f":"Invoeren!$I40","v":0},{"$f":"Invoeren!Z40","v":4.7},{"$f":"Invoeren!AA40","v":4.5},{"$f":"Invoeren!AB40","v":4.7},{"$f":"Invoeren!AC40","v":4.4},{"$f":"Invoeren!AD40","v":4.6},{"$f":"Invoeren!AE40","v":""},{"$f":"Invoeren!AF40","v":""},{"$f":"Invoeren!AG40","v":{"v":13.799999999999999,"d":"13.8"}},{"$f":"Invoeren!AH40","v":{"v":10.12,"d":"10.1200"}},{"$f":"Invoeren!AT40","v":4.4},{"$f":"Invoeren!AU40","v":3.9},{"$f":"Invoeren!AV40","v":4.2},{"$f":"Invoeren!AW40","v":4.8},{"$f":"Invoeren!AX40","v":4.9},{"$f":"Invoeren!AY40","v":""},{"$f":"Invoeren!AZ40","v":""},{"$f":"Invoeren!BA40","v":{"v":13.400000000000004,"d":"13.4"}},{"$f":"Invoeren!BB40","v":9.8267},{"$f":"Invoeren!BN40","v":4.8},{"$f":"Invoeren!BO40","v":4.8},{"$f":"Invoeren!BP40","v":5.3},{"$f":"Invoeren!BQ40","v":4.6},{"$f":"Invoeren!BR40","v":4.5},{"$f":"Invoeren!BS40","v":""},{"$f":"Invoeren!BT40","v":""},{"$f":"Invoeren!BU40","v":14.2},{"$f":"Invoeren!BV40","v":{"v":9.94,"d":"9.9400"}},{"$f":"Invoeren!CH40","v":{"v":4,"d":"4.0"}},{"$f":"Invoeren!CI40","v":4.5},{"$f":"Invoeren!CJ40","v":4.5},{"$f":"Invoeren!CK40","v":4.2},{"$f":"Invoeren!CL40","v":3.9},{"$f":"Invoeren!CM40","v":""},{"$f":"Invoeren!CN40","v":""},{"$f":"Invoeren!CO40","v":{"v":12.699999999999998,"d":"12.7"}},{"$f":"Invoeren!CP40","v":9.7367},{"$f":"Invoeren!CR40","v":39.6234},{"$f":"Invoeren!CS40","v":45.0266},{"$f":"Invoeren!CT40","v":0},{"$f":"Invoeren!C40","v":45.0266},{"$f":"Invoeren!L40","v":0},{"$f":"Invoeren!M40","v":""},{"$f":"Invoeren!N40","v":"Age II"},{"$f":"Invoeren!H40","v":"zuid"},{"$f":"Invoeren!AI40","v":165},{"$f":"Invoeren!BC40","v":144},{"$f":"Invoeren!BW40","v":156},{"$f":"Invoeren!CQ40","v":158}]
[{"$f":"Invoeren!B41","v":193},{"$f":"Invoeren!A41","v":35},{"$f":"Invoeren!E41","v":"Margo Rops"},{"$f":"Invoeren!F41","v":"Synchro Breda"},{"$f":"Invoeren!$K41","v":2003},{"$f":"Invoeren!$I41","v":0},{"$f":"Invoeren!Z41","v":{"v":0,"d":"0.0"}},{"$f":"Invoeren!AA41","v":{"v":0,"d":"0.0"}},{"$f":"Invoeren!AB41","v":{"v":0,"d":"0.0"}},{"$f":"Invoeren!AC41","v":{"v":0,"d":"0.0"}},{"$f":"Invoeren!AD41","v":{"v":0,"d":"0.0"}},{"$f":"Invoeren!AE41","v":""},{"$f":"Invoeren!AF41","v":""},{"$f":"Invoeren!AG41","v":{"v":0,"d":"0.0"}},{"$f":"Invoeren!AH41","v":{"v":0,"d":"0.0000"}},{"$f":"Invoeren!AT41","v":{"v":0,"d":"0.0"}},{"$f":"Invoeren!AU41","v":{"v":0,"d":"0.0"}},{"$f":"Invoeren!AV41","v":{"v":0,"d":"0.0"}},{"$f":"Invoeren!AW41","v":{"v":0,"d":"0.0"}},{"$f":"Invoeren!AX41","v":{"v":0,"d":"0.0"}},{"$f":"Invoeren!AY41","v":""},{"$f":"Invoeren!AZ41","v":""},{"$f":"Invoeren!BA41","v":{"v":0,"d":"0.0"}},{"$f":"Invoeren!BB41","v":{"v":0,"d":"0.0000"}},{"$f":"Invoeren!BN41","v":{"v":0,"d":"0.0"}},{"$f":"Invoeren!BO41","v":{"v":0,"d":"0.0"}},{"$f":"Invoeren!BP41","v":{"v":0,"d":"0.0"}},{"$f":"Invoeren!BQ41","v":{"v":0,"d":"0.0"}},{"$f":"Invoeren!BR41","v":{"v":0,"d":"0.0"}},{"$f":"Invoeren!BS41","v":""},{"$f":"Invoeren!BT41","v":""},{"$f":"Invoeren!BU41","v":{"v":0,"d":"0.0"}},{"$f":"Invoeren!BV41","v":{"v":0,"d":"0.0000"}},{"$f":"Invoeren!CH41","v":{"v":0,"d":"0.0"}},{"$f":"Invoeren!CI41","v":{"v":0,"d":"0.0"}},{"$f":"Invoeren!CJ41","v":{"v":0,"d":"0.0"}},{"$f":"Invoeren!CK41","v":{"v":0,"d":"0.0"}},{"$f":"Invoeren!CL41","v":{"v":0,"d":"0.0"}},{"$f":"Invoeren!CM41","v":""},{"$f":"Invoeren!CN41","v":""},{"$f":"Invoeren!CO41","v":{"v":0,"d":"0.0"}},{"$f":"Invoeren!CP41","v":{"v":0,"d":"0.0000"}},{"$f":"Invoeren!CR41","v":0},{"$f":"Invoeren!CS41","v":0},{"$f":"Invoeren!CT41","v":0},{"$f":"Invoeren!C41","v":0},{"$f":"Invoeren!L41","v":0},{"$f":"Invoeren!M41","v":""},{"$f":"Invoeren!N41","v":""},{"$f":"Invoeren!H41","v":"Zuid"},{"$f":"Invoeren!AI41","v":""},{"$f":"Invoeren!BC41","v":""},{"$f":"Invoeren!BW41","v":""},{"$f":"Invoeren!CQ41","v":""}]
[{"$f":"Invoeren!B42","v":178},{"$f":"Invoeren!A42","v":36},{"$f":"Invoeren!E42","v":"Marissa Peters"},{"$f":"Invoeren!F42","v":"Aqua-Novio '94"},{"$f":"Invoeren!$K42","v":2005},{"$f":"Invoeren!$I42","v":0},{"$f":"Invoeren!Z42","v":4.5},{"$f":"Invoeren!AA42","v":4.3},{"$f":"Invoeren!AB42","v":{"v":4,"d":"4.0"}},{"$f":"Invoeren!AC42","v":3.8},{"$f":"Invoeren!AD42","v":{"v":4,"d":"4.0"}},{"$f":"Invoeren!AE42","v":""},{"$f":"Invoeren!AF42","v":""},{"$f":"Invoeren!AG42","v":12.3},{"$f":"Invoeren!AH42","v":{"v":9.02,"d":"9.0200"}},{"$f":"Invoeren!AT42","v":4.3},{"$f":"Invoeren!AU42","v":3.7},{"$f":"Invoeren!AV42","v":3.8},{"$f":"Invoeren!AW42","v":{"v":4,"d":"4.0"}},{"$f":"Invoeren!AX42","v":4.4},{"$f":"Invoeren!AY42","v":""},{"$f":"Invoeren!AZ42","v":""},{"$f":"Invoeren!BA42","v":{"v":12.100000000000001,"d":"12.1"}},{"$f":"Invoeren!BB42","v":8.8733},{"$f":"Invoeren!BN42","v":4.5},{"$f":"Invoeren!BO42","v":5.1},{"$f":"Invoeren!BP42","v":5.2},{"$f":"Invoeren!BQ42","v":4.8},{"$f":"Invoeren!BR42","v":4.6},{"$f":"Invoeren!BS42","v":""},{"$f":"Invoeren!BT42","v":""},{"$f":"Invoeren!BU42","v":{"v":14.500000000000004,"d":"14.5"}},{"$f":"Invoeren!BV42","v":{"v":10.15,"d":"10.1500"}},{"$f":"Invoeren!CH42","v":3.8},{"$f":"Invoeren!CI42","v":4.2},{"$f":"Invoeren!CJ42","v":4.3},{"$f":"Invoeren!CK42","v":4.5},{"$f":"Invoeren!CL42","v":4.3},{"$f":"Invoeren!CM42","v":""},{"$f":"Invoeren!CN42","v":""},{"$f":"Invoeren!CO42","v":12.8},{"$f":"Invoeren!CP42","v":9.8133},{"$f":"Invoeren!CR42","v":37.8566},{"$f":"Invoeren!CS42","v":43.0189},{"$f":"Invoeren!CT42","v":0},{"$f":"Invoeren!C42","v":43.0189},{"$f":"Invoeren!L42","v":0},{"$f":"Invoeren!M42","v":""},{"$f":"Invoeren!N42","v":""},{"$f":"Invoeren!H42","v":"Oost"},{"$f":"Invoeren!AI42","v":191},{"$f":"Invoeren!BC42","v":181},{"$f":"Invoeren!BW42","v":144},{"$f":"Invoeren!CQ42","v":156}]
[{"$f":"Invoeren!B43","v":93},{"$f":"Invoeren!A43","v":37},{"$f":"Invoeren!E43","v":"Tuana Ozsahin"},{"$f":"Invoeren!F43","v":"ACZ"},{"$f":"Invoeren!$K43","v":2005},{"$f":"Invoeren!$I43","v":0},{"$f":"Invoeren!Z43","v":4.8},{"$f":"Invoeren!AA43","v":{"v":5,"d":"5.0"}},{"$f":"Invoeren!AB43","v":4.9},{"$f":"Invoeren!AC43","v":4.6},{"$f":"Invoeren!AD43","v":5.4},{"$f":"Invoeren!AE43","v":""},{"$f":"Invoeren!AF43","v":""},{"$f":"Invoeren!AG43","v":{"v":14.700000000000005,"d":"14.7"}},{"$f":"Invoeren!AH43","v":{"v":10.78,"d":"10.7800"}},{"$f":"Invoeren!AT43","v":5.4},{"$f":"Invoeren!AU43","v":5.2},{"$f":"Invoeren!AV43","v":{"v":6,"d":"6.0"}},{"$f":"Invoeren!AW43","v":5.5},{"$f":"Invoeren!AX43","v":5.3},{"$f":"Invoeren!AY43","v":""},{"$f":"Invoeren!AZ43","v":""},{"$f":"Invoeren!BA43","v":{"v":16.200000000000003,"d":"16.2"}},{"$f":"Invoeren!BB43","v":{"v":11.88,"d":"11.8800"}},{"$f":"Invoeren!BN43","v":4.7},{"$f":"Invoeren!BO43","v":5.9},{"$f":"Invoeren!BP43","v":6.2},{"$f":"Invoeren!BQ43","v":5.8},{"$f":"Invoeren!BR43","v":5.4},{"$f":"Invoeren!BS43","v":""},{"$f":"Invoeren!BT43","v":""},{"$f":"Invoeren!BU43","v":17.1},{"$f":"Invoeren!BV43","v":{"v":11.97,"d":"11.9700"}},{"$f":"Invoeren!CH43","v":4.1},{"$f":"Invoeren!CI43","v":4.4},{"$f":"Invoeren!CJ43","v":4.3},{"$f":"Invoeren!CK43","v":4.1},{"$f":"Invoeren!CL43","v":{"v":4,"d":"4.0"}},{"$f":"Invoeren!CM43","v":""},{"$f":"Invoeren!CN43","v":""},{"$f":"Invoeren!CO43","v":12.5},{"$f":"Invoeren!CP43","v":9.5833},{"$f":"Invoeren!CR43","v":{"v":44.213300000000004,"d":"44.2133"}},{"$f":"Invoeren!CS43","v":50.2424},{"$f":"Invoeren!CT43","v":0},{"$f":"Invoeren!C43","v":50.2424},{"$f":"Invoeren!L43","v":0},{"$f":"Invoeren!M43","v":"L"},{"$f":"Invoeren!N43","v":""},{"$f":"Invoeren!H43","v":"West"},{"$f":"Invoeren!AI43","v":120},{"$f":"Invoeren!BC43","v":42},{"$f":"Invoeren!BW43","v":57},{"$f":"Invoeren!CQ43","v":166}]
[{"$f":"Invoeren!B44","v":151},{"$f":"Invoeren!A44","v":38},{"$f":"Invoeren!E44","v":"Elize Bonhof"},{"$f":"Invoeren!F44","v":"Hera'11"},{"$f":"Invoeren!$K44","v":2005},{"$f":"Invoeren!$I44","v":0},{"$f":"Invoeren!Z44","v":4.5},{"$f":"Invoeren!AA44","v":4.8},{"$f":"Invoeren!AB44","v":4.6},{"$f":"Invoeren!AC44","v":5.1},{"$f":"Invoeren!AD44","v":{"v":5,"d":"5.0"}},{"$f":"Invoeren!AE44","v":""},{"$f":"Invoeren!AF44","v":""},{"$f":"Invoeren!AG44","v":{"v":14.399999999999999,"d":"14.4"}},{"$f":"Invoeren!AH44","v":{"v":10.56,"d":"10.5600"}},{"$f":"Invoeren!AT44","v":4.1},{"$f":"Invoeren!AU44","v":4.6},{"$f":"Invoeren!AV44","v":4.3},{"$f":"Invoeren!AW44","v":4.2},{"$f":"Invoeren!AX44","v":{"v":4,"d":"4.0"}},{"$f":"Invoeren!AY44","v":""},{"$f":"Invoeren!AZ44","v":""},{"$f":"Invoeren!BA44","v":{"v":12.600000000000001,"d":"12.6"}},{"$f":"Invoeren!BB44","v":{"v":9.24,"d":"9.2400"}},{"$f":"Invoeren!BN44","v":4.4},{"$f":"Invoeren!BO44","v":4.5},{"$f":"Invoeren!BP44","v":4.4},{"$f":"Invoeren!BQ44","v":4.6},{"$f":"Invoeren!BR44","v":4.9},{"$f":"Invoeren!BS44","v":""},{"$f":"Invoeren!BT44","v":""},{"$f":"Invoeren!BU44","v":{"v":13.499999999999998,"d":"13.5"}},{"$f":"Invoeren!BV44","v":{"v":9.45,"d":"9.4500"}},{"$f":"Invoeren!CH44","v":4.3},{"$f":"Invoeren!CI44","v":4.9},{"$f":"Invoeren!CJ44","v":4.8},{"$f":"Invoeren!CK44","v":{"v":5,"d":"5.0"}},{"$f":"Invoeren!CL44","v":4.6},{"$f":"Invoeren!CM44","v":""},{"$f":"Invoeren!CN44","v":""},{"$f":"Invoeren!CO44","v":14.3},{"$f":"Invoeren!CP44","v":10.9633},{"$f":"Invoeren!CR44","v":{"v":40.213300000000004,"d":"40.2133"}},{"$f":"Invoeren!CS44","v":45.6969},{"$f":"Invoeren!CT44","v":0},{"$f":"Invoeren!C44","v":45.6969},{"$f":"Invoeren!L44","v":0},{"$f":"Invoeren!M44","v":""},{"$f":"Invoeren!N44","v":""},{"$f":"Invoeren!H44","v":"Oost"},{"$f":"Invoeren!AI44","v":137},{"$f":"Invoeren!BC44","v":172},{"$f":"Invoeren!BW44","v":178},{"$f":"Invoeren!CQ44","v":96}]
[{"$f":"Invoeren!B45","v":136},{"$f":"Invoeren!A45","v":39},{"$f":"Invoeren!E45","v":"Anastasia Ibrahimov"},{"$f":"Invoeren!F45","v":"Z.P.C.H."},{"$f":"Invoeren!$K45","v":2004},{"$f":"Invoeren!$I45","v":0},{"$f":"Invoeren!Z45","v":4.6},{"$f":"Invoeren!AA45","v":{"v":5,"d":"5.0"}},{"$f":"Invoeren!AB45","v":4.8},{"$f":"Invoeren!AC45","v":4.6},{"$f":"Invoeren!AD45","v":4.6},{"$f":"Invoeren!AE45","v":""},{"$f":"Invoeren!AF45","v":""},{"$f":"Invoeren!AG45","v":{"v":14.000000000000002,"d":"14.0"}},{"$f":"Invoeren!AH45","v":10.2667},{"$f":"Invoeren!AT45","v":4.4},{"$f":"Invoeren!AU45","v":4.4},{"$f":"Invoeren!AV45","v":{"v":5,"d":"5.0"}},{"$f":"Invoeren!AW45","v":4.9},{"$f":"Invoeren!AX45","v":4.6},{"$f":"Invoeren!AY45","v":""},{"$f":"Invoeren!AZ45","v":""},{"$f":"Invoeren!BA45","v":{"v":13.900000000000004,"d":"13.9"}},{"$f":"Invoeren!BB45","v":10.1933},{"$f":"Invoeren!BN45","v":4.6},{"$f":"Invoeren!BO45","v":{"v":5,"d":"5.0"}},{"$f":"Invoeren!BP45","v":5.6},{"$f":"Invoeren!BQ45","v":{"v":5,"d":"5.0"}},{"$f":"Invoeren!BR45","v":5.3},{"$f":"Invoeren!BS45","v":""},{"$f":"Invoeren!BT45","v":""},{"$f":"Invoeren!BU45","v":{"v":15.299999999999999,"d":"15.3"}},{"$f":"Invoeren!BV45","v":{"v":10.71,"d":"10.7100"}},{"$f":"Invoeren!CH45","v":4.5},{"$f":"Invoeren!CI45","v":4.7},{"$f":"Invoeren!CJ45","v":4.6},{"$f":"Invoeren!CK45","v":4.6},{"$f":"Invoeren!CL45","v":4.5},{"$f":"Invoeren!CM45","v":""},{"$f":"Invoeren!CN45","v":""},{"$f":"Invoeren!CO45","v":13.7},{"$f":"Invoeren!CP45","v":10.5033},{"$f":"Invoeren!CR45","v":41.6733},{"$f":"Invoeren!CS45","v":{"v":47.356,"d":"47.3560"}},{"$f":"Invoeren!CT45","v":0},{"$f":"Invoeren!C45","v":{"v":47.356,"d":"47.3560"}},{"$f":"Invoeren!L45","v":0},{"$f":"Invoeren!M45","v":""},{"$f":"Invoeren!N45","v":""},{"$f":"Invoeren!H45","v":"MidWest"},{"$f":"Invoeren!AI45","v":157},{"$f":"Invoeren!BC45","v":119},{"$f":"Invoeren!BW45","v":114},{"$f":"Invoeren!CQ45","v":121}]
[{"$f":"Invoeren!B46","v":38},{"$f":"Invoeren!A46","v":40},{"$f":"Invoeren!E46","v":"Mette Bos"},{"$f":"Invoeren!F46","v":"Z.P.C.H."},{"$f":"Invoeren!$K46","v":2004},{"$f":"Invoeren!$I46","v":0},{"$f":"Invoeren!Z46","v":5.9},{"$f":"Invoeren!AA46","v":6.1},{"$f":"Invoeren!AB46","v":6.2},{"$f":"Invoeren!AC46","v":{"v":6,"d":"6.0"}},{"$f":"Invoeren!AD46","v":6.2},{"$f":"Invoeren!AE46","v":""},{"$f":"Invoeren!AF46","v":""},{"$f":"Invoeren!AG46","v":{"v":18.299999999999997,"d":"18.3"}},{"$f":"Invoeren!AH46","v":{"v":13.42,"d":"13.4200"}},{"$f":"Invoeren!AT46","v":4.7},{"$f":"Invoeren!AU46","v":5.1},{"$f":"Invoeren!AV46","v":5.8},{"$f":"Invoeren!AW46","v":5.5},{"$f":"Invoeren!AX46","v":5.7},{"$f":"Invoeren!AY46","v":""},{"$f":"Invoeren!AZ46","v":""},{"$f":"Invoeren!BA46","v":16.3},{"$f":"Invoeren!BB46","v":11.9533},{"$f":"Invoeren!BN46","v":5.4},{"$f":"Invoeren!BO46","v":5.6},{"$f":"Invoeren!BP46","v":5.5},{"$f":"Invoeren!BQ46","v":5.2},{"$f":"Invoeren!BR46","v":5.4},{"$f":"Invoeren!BS46","v":""},{"$f":"Invoeren!BT46","v":""},{"$f":"Invoeren!BU46","v":16.3},{"$f":"Invoeren!BV46","v":{"v":11.41,"d":"11.4100"}},{"$f":"Invoeren!CH46","v":4.9},{"$f":"Invoeren!CI46","v":{"v":5,"d":"5.0"}},{"$f":"Invoeren!CJ46","v":5.1},{"$f":"Invoeren!CK46","v":{"v":5,"d":"5.0"}},{"$f":"Invoeren!CL46","v":{"v":5,"d":"5.0"}},{"$f":"Invoeren!CM46","v":""},{"$f":"Invoeren!CN46","v":""},{"$f":"Invoeren!CO46","v":{"v":14.999999999999998,"d":"15.0"}},{"$f":"Invoeren!CP46","v":{"v":11.5,"d":"11.5000"}},{"$f":"Invoeren!CR46","v":48.2833},{"$f":"Invoeren!CS46","v":54.8674},{"$f":"Invoeren!CT46","v":0},{"$f":"Invoeren!C46","v":54.8674},{"$f":"Invoeren!L46","v":0},{"$f":"Invoeren!M46","v":"L"},{"$f":"Invoeren!N46","v":""},{"$f":"Invoeren!H46","v":"MidWest"},{"$f":"Invoeren!AI46","v":11},{"$f":"Invoeren!BC46","v":39},{"$f":"Invoeren!BW46","v":86},{"$f":"Invoeren!CQ46","v":62}]
[{"$f":"Invoeren!B47","v":73},{"$f":"Invoeren!A47","v":41},{"$f":"Invoeren!E47","v":"Charissa de Groot"},{"$f":"Invoeren!F47","v":"De Watertrappers"},{"$f":"Invoeren!$K47","v":2003},{"$f":"Invoeren!$I47","v":0},{"$f":"Invoeren!Z47","v":4.9},{"$f":"Invoeren!AA47","v":5.3},{"$f":"Invoeren!AB47","v":5.3},{"$f":"Invoeren!AC47","v":5.7},{"$f":"Invoeren!AD47","v":5.3},{"$f":"Invoeren!AE47","v":""},{"$f":"Invoeren!AF47","v":""},{"$f":"Invoeren!AG47","v":15.9},{"$f":"Invoeren!AH47","v":{"v":11.66,"d":"11.6600"}},{"$f":"Invoeren!AT47","v":4.9},{"$f":"Invoeren!AU47","v":4.7},{"$f":"Invoeren!AV47","v":4.5},{"$f":"Invoeren!AW47","v":4.6},{"$f":"Invoeren!AX47","v":{"v":5,"d":"5.0"}},{"$f":"Invoeren!AY47","v":""},{"$f":"Invoeren!AZ47","v":""},{"$f":"Invoeren!BA47","v":{"v":14.200000000000003,"d":"14.2"}},{"$f":"Invoeren!BB47","v":10.4133},{"$f":"Invoeren!BN47","v":5.6},{"$f":"Invoeren!BO47","v":5.8},{"$f":"Invoeren!BP47","v":{"v":6,"d":"6.0"}},{"$f":"Invoeren!BQ47","v":5.7},{"$f":"Invoeren!BR47","v":5.6},{"$f":"Invoeren!BS47","v":""},{"$f":"Invoeren!BT47","v":""},{"$f":"Invoeren!BU47","v":{"v":17.099999999999994,"d":"17.1"}},{"$f":"Invoeren!BV47","v":{"v":11.97,"d":"11.9700"}},{"$f":"Invoeren!CH47","v":{"v":5,"d":"5.0"}},{"$f":"Invoeren!CI47","v":4.7},{"$f":"Invoeren!CJ47","v":{"v":5,"d":"5.0"}},{"$f":"Invoeren!CK47","v":5.1},{"$f":"Invoeren!CL47","v":4.5},{"$f":"Invoeren!CM47","v":""},{"$f":"Invoeren!CN47","v":""},{"$f":"Invoeren!CO47","v":{"v":14.699999999999996,"d":"14.7"}},{"$f":"Invoeren!CP47","v":{"v":11.27,"d":"11.2700"}},{"$f":"Invoeren!CR47","v":45.3133},{"$f":"Invoeren!CS47","v":51.4924},{"$f":"Invoeren!CT47","v":0},{"$f":"Invoeren!C47","v":51.4924},{"$f":"Invoeren!L47","v":0},{"$f":"Invoeren!M47","v":"L"},{"$f":"Invoeren!N47","v":""},{"$f":"Invoeren!H47","v":"Mid West"},{"$f":"Invoeren!AI47","v":79},{"$f":"Invoeren!BC47","v":111},{"$f":"Invoeren!BW47","v":57},{"$f":"Invoeren!CQ47","v":76}]
[{"$f":"Invoeren!B48","v":35},{"$f":"Invoeren!A48","v":42},{"$f":"Invoeren!E48","v":"Kate Jutte"},{"$f":"Invoeren!F48","v":"WVZ"},{"$f":"Invoeren!$K48","v":2004},{"$f":"Invoeren!$I48","v":0},{"$f":"Invoeren!Z48","v":5.2},{"$f":"Invoeren!AA48","v":5.1},{"$f":"Invoeren!AB48","v":5.9},{"$f":"Invoeren!AC48","v":4.8},{"$f":"Invoeren!AD48","v":5.4},{"$f":"Invoeren!AE48","v":""},{"$f":"Invoeren!AF48","v":""},{"$f":"Invoeren!AG48","v":{"v":15.700000000000006,"d":"15.7"}},{"$f":"Invoeren!AH48","v":11.5133},{"$f":"Invoeren!AT48","v":5.4},{"$f":"Invoeren!AU48","v":5.2},{"$f":"Invoeren!AV48","v":4.9},{"$f":"Invoeren!AW48","v":5.6},{"$f":"Invoeren!AX48","v":5.7},{"$f":"Invoeren!AY48","v":""},{"$f":"Invoeren!AZ48","v":""},{"$f":"Invoeren!BA48","v":{"v":16.200000000000003,"d":"16.2"}},{"$f":"Invoeren!BB48","v":{"v":11.88,"d":"11.8800"}},{"$f":"Invoeren!BN48","v":5.4},{"$f":"Invoeren!BO48","v":6.2},{"$f":"Invoeren!BP48","v":6.1},{"$f":"Invoeren!BQ48","v":6.2},{"$f":"Invoeren!BR48","v":5.7},{"$f":"Invoeren!BS48","v":""},{"$f":"Invoeren!BT48","v":""},{"$f":"Invoeren!BU48","v":{"v":18,"d":"18.0"}},{"$f":"Invoeren!BV48","v":{"v":12.6,"d":"12.6000"}},{"$f":"Invoeren!CH48","v":5.9},{"$f":"Invoeren!CI48","v":5.6},{"$f":"Invoeren!CJ48","v":5.5},{"$f":"Invoeren!CK48","v":5.7},{"$f":"Invoeren!CL48","v":5.5},{"$f":"Invoeren!CM48","v":""},{"$f":"Invoeren!CN48","v":""},{"$f":"Invoeren!CO48","v":{"v":16.799999999999997,"d":"16.8"}},{"$f":"Invoeren!CP48","v":{"v":12.88,"d":"12.8800"}},{"$f":"Invoeren!CR48","v":48.8733},{"$f":"Invoeren!CS48","v":55.5378},{"$f":"Invoeren!CT48","v":0},{"$f":"Invoeren!C48","v":55.5378},{"$f":"Invoeren!L48","v":0},{"$f":"Invoeren!M48","v":"L"},{"$f":"Invoeren!N48","v":""},{"$f":"Invoeren!H48","v":"West"},{"$f":"Invoeren!AI48","v":88},{"$f":"Invoeren!BC48","v":42},{"$f":"Invoeren!BW48","v":25},{"$f":"Invoeren!CQ48","v":21}]
[{"$f":"Invoeren!B49","v":168},{"$f":"Invoeren!A49","v":43},{"$f":"Invoeren!E49","v":"Kazu Landman"},{"$f":"Invoeren!F49","v":"VZC Veenendaal"},{"$f":"Invoeren!$K49","v":2005},{"$f":"Invoeren!$I49","v":0},{"$f":"Invoeren!Z49","v":4.4},{"$f":"Invoeren!AA49","v":4.4},{"$f":"Invoeren!AB49","v":4.5},{"$f":"Invoeren!AC49","v":5.3},{"$f":"Invoeren!AD49","v":{"v":4,"d":"4.0"}},{"$f":"Invoeren!AE49","v":""},{"$f":"Invoeren!AF49","v":""},{"$f":"Invoeren!AG49","v":13.3},{"$f":"Invoeren!AH49","v":9.7533},{"$f":"Invoeren!AT49","v":3.6},{"$f":"Invoeren!AU49","v":3.8},{"$f":"Invoeren!AV49","v":4.5},{"$f":"Invoeren!AW49","v":4.4},{"$f":"Invoeren!AX49","v":{"v":4,"d":"4.0"}},{"$f":"Invoeren!AY49","v":""},{"$f":"Invoeren!AZ49","v":""},{"$f":"Invoeren!BA49","v":{"v":12.200000000000001,"d":"12.2"}},{"$f":"Invoeren!BB49","v":8.9467},{"$f":"Invoeren!BN49","v":4.3},{"$f":"Invoeren!BO49","v":4.7},{"$f":"Invoeren!BP49","v":{"v":5,"d":"5.0"}},{"$f":"Invoeren!BQ49","v":5.6},{"$f":"Invoeren!BR49","v":5.3},{"$f":"Invoeren!BS49","v":""},{"$f":"Invoeren!BT49","v":""},{"$f":"Invoeren!BU49","v":{"v":15.000000000000004,"d":"15.0"}},{"$f":"Invoeren!BV49","v":{"v":10.5,"d":"10.5000"}},{"$f":"Invoeren!CH49","v":{"v":4,"d":"4.0"}},{"$f":"Invoeren!CI49","v":4.4},{"$f":"Invoeren!CJ49","v":4.7},{"$f":"Invoeren!CK49","v":4.5},{"$f":"Invoeren!CL49","v":3.9},{"$f":"Invoeren!CM49","v":""},{"$f":"Invoeren!CN49","v":""},{"$f":"Invoeren!CO49","v":12.9},{"$f":"Invoeren!CP49","v":{"v":9.89,"d":"9.8900"}},{"$f":"Invoeren!CR49","v":{"v":39.09,"d":"39.0900"}},{"$f":"Invoeren!CS49","v":44.4205},{"$f":"Invoeren!CT49","v":0},{"$f":"Invoeren!C49","v":44.4205},{"$f":"Invoeren!L49","v":0},{"$f":"Invoeren!M49","v":""},{"$f":"Invoeren!N49","v":""},{"$f":"Invoeren!H49","v":"Midwest"},{"$f":"Invoeren!AI49","v":176},{"$f":"Invoeren!BC49","v":177},{"$f":"Invoeren!BW49","v":122},{"$f":"Invoeren!CQ49","v":153}]
[{"$f":"Invoeren!B50","v":145},{"$f":"Invoeren!A50","v":44},{"$f":"Invoeren!E50","v":"Mandy van der Veen"},{"$f":"Invoeren!F50","v":"HZ&PC Heerenveen"},{"$f":"Invoeren!$K50","v":2004},{"$f":"Invoeren!$I50","v":0},{"$f":"Invoeren!Z50","v":5.4},{"$f":"Invoeren!AA50","v":5.6},{"$f":"Invoeren!AB50","v":5.4},{"$f":"Invoeren!AC50","v":5.7},{"$f":"Invoeren!AD50","v":5.3},{"$f":"Invoeren!AE50","v":""},{"$f":"Invoeren!AF50","v":""},{"$f":"Invoeren!AG50","v":16.4},{"$f":"Invoeren!AH50","v":12.0267},{"$f":"Invoeren!AT50","v":4.2},{"$f":"Invoeren!AU50","v":3.4},{"$f":"Invoeren!AV50","v":3.6},{"$f":"Invoeren!AW50","v":3.9},{"$f":"Invoeren!AX50","v":4.2},{"$f":"Invoeren!AY50","v":""},{"$f":"Invoeren!AZ50","v":""},{"$f":"Invoeren!BA50","v":{"v":11.700000000000001,"d":"11.7"}},{"$f":"Invoeren!BB50","v":{"v":8.58,"d":"8.5800"}},{"$f":"Invoeren!BN50","v":4.6},{"$f":"Invoeren!BO50","v":4.6},{"$f":"Invoeren!BP50","v":4.8},{"$f":"Invoeren!BQ50","v":{"v":5,"d":"5.0"}},{"$f":"Invoeren!BR50","v":4.8},{"$f":"Invoeren!BS50","v":""},{"$f":"Invoeren!BT50","v":""},{"$f":"Invoeren!BU50","v":{"v":14.200000000000001,"d":"14.2"}},{"$f":"Invoeren!BV50","v":{"v":9.94,"d":"9.9400"}},{"$f":"Invoeren!CH50","v":3.9},{"$f":"Invoeren!CI50","v":4.2},{"$f":"Invoeren!CJ50","v":4.7},{"$f":"Invoeren!CK50","v":4.4},{"$f":"Invoeren!CL50","v":4.6},{"$f":"Invoeren!CM50","v":""},{"$f":"Invoeren!CN50","v":""},{"$f":"Invoeren!CO50","v":{"v":13.200000000000005,"d":"13.2"}},{"$f":"Invoeren!CP50","v":{"v":10.12,"d":"10.1200"}},{"$f":"Invoeren!CR50","v":40.6667},{"$f":"Invoeren!CS50","v":46.2122},{"$f":"Invoeren!CT50","v":0},{"$f":"Invoeren!C50","v":46.2122},{"$f":"Invoeren!L50","v":0},{"$f":"Invoeren!M50","v":""},{"$f":"Invoeren!N50","v":""},{"$f":"Invoeren!H50","v":"Noord"},{"$f":"Invoeren!AI50","v":58},{"$f":"Invoeren!BC50","v":186},{"$f":"Invoeren!BW50","v":156},{"$f":"Invoeren!CQ50","v":139}]
[{"$f":"Invoeren!B51","v":72},{"$f":"Invoeren!A51","v":45},{"$f":"Invoeren!E51","v":"Nayla Verzeide"},{"$f":"Invoeren!F51","v":"Widex Gzc Donk"},{"$f":"Invoeren!$K51","v":2005},{"$f":"Invoeren!$I51","v":0},{"$f":"Invoeren!Z51","v":{"v":5,"d":"5.0"}},{"$f":"Invoeren!AA51","v":5.4},{"$f":"Invoeren!AB51","v":5.3},{"$f":"Invoeren!AC51","v":5.5},{"$f":"Invoeren!AD51","v":5.4},{"$f":"Invoeren!AE51","v":""},{"$f":"Invoeren!AF51","v":""},{"$f":"Invoeren!AG51","v":16.1},{"$f":"Invoeren!AH51","v":11.8067},{"$f":"Invoeren!AT51","v":4.9},{"$f":"Invoeren!AU51","v":4.9},{"$f":"Invoeren!AV51","v":4.9},{"$f":"Invoeren!AW51","v":5.2},{"$f":"Invoeren!AX51","v":4.6},{"$f":"Invoeren!AY51","v":""},{"$f":"Invoeren!AZ51","v":""},{"$f":"Invoeren!BA51","v":{"v":14.700000000000001,"d":"14.7"}},{"$f":"Invoeren!BB51","v":{"v":10.78,"d":"10.7800"}},{"$f":"Invoeren!BN51","v":{"v":5,"d":"5.0"}},{"$f":"Invoeren!BO51","v":5.3},{"$f":"Invoeren!BP51","v":5.8},{"$f":"Invoeren!BQ51","v":5.7},{"$f":"Invoeren!BR51","v":5.6},{"$f":"Invoeren!BS51","v":""},{"$f":"Invoeren!BT51","v":""},{"$f":"Invoeren!BU51","v":{"v":16.599999999999998,"d":"16.6"}},{"$f":"Invoeren!BV51","v":{"v":11.62,"d":"11.6200"}},{"$f":"Invoeren!CH51","v":{"v":5,"d":"5.0"}},{"$f":"Invoeren!CI51","v":4.8},{"$f":"Invoeren!CJ51","v":4.7},{"$f":"Invoeren!CK51","v":4.8},{"$f":"Invoeren!CL51","v":{"v":5,"d":"5.0"}},{"$f":"Invoeren!CM51","v":""},{"$f":"Invoeren!CN51","v":""},{"$f":"Invoeren!CO51","v":{"v":14.600000000000001,"d":"14.6"}},{"$f":"Invoeren!CP51","v":11.1933},{"$f":"Invoeren!CR51","v":{"v":45.4,"d":"45.4000"}},{"$f":"Invoeren!CS51","v":51.5909},{"$f":"Invoeren!CT51","v":0},{"$f":"Invoeren!C51","v":51.5909},{"$f":"Invoeren!L51","v":0},{"$f":"Invoeren!M51","v":"L"},{"$f":"Invoeren!N51","v":""},{"$f":"Invoeren!H51","v":"West"},{"$f":"Invoeren!AI51","v":72},{"$f":"Invoeren!BC51","v":93},{"$f":"Invoeren!BW51","v":78},{"$f":"Invoeren!CQ51","v":83}]
[{"$f":"Invoeren!B52","v":6},{"$f":"Invoeren!A52","v":46},{"$f":"Invoeren!E52","v":"Marloes Steenbeek"},{"$f":"Invoeren!F52","v":"De Dolfijn"},{"$f":"Invoeren!$K52","v":2005},{"$f":"Invoeren!$I52","v":0},{"$f":"Invoeren!Z52","v":6.4},{"$f":"Invoeren!AA52","v":6.4},{"$f":"Invoeren!AB52","v":6.6},{"$f":"Invoeren!AC52","v":6.7},{"$f":"Invoeren!AD52","v":6.5},{"$f":"Invoeren!AE52","v":""},{"$f":"Invoeren!AF52","v":""},{"$f":"Invoeren!AG52","v":{"v":19.499999999999993,"d":"19.5"}},{"$f":"Invoeren!AH52","v":{"v":14.3,"d":"14.3000"}},{"$f":"Invoeren!AT52","v":6.4},{"$f":"Invoeren!AU52","v":6.5},{"$f":"Invoeren!AV52","v":6.2},{"$f":"Invoeren!AW52","v":6.3},{"$f":"Invoeren!AX52","v":6.2},{"$f":"Invoeren!AY52","v":""},{"$f":"Invoeren!AZ52","v":""},{"$f":"Invoeren!BA52","v":{"v":18.900000000000002,"d":"18.9"}},{"$f":"Invoeren!BB52","v":{"v":13.86,"d":"13.8600"}},{"$f":"Invoeren!BN52","v":{"v":6,"d":"6.0"}},{"$f":"Invoeren!BO52","v":5.4},{"$f":"Invoeren!BP52","v":6.4},{"$f":"Invoeren!BQ52","v":5.9},{"$f":"Invoeren!BR52","v":{"v":6,"d":"6.0"}},{"$f":"Invoeren!BS52","v":""},{"$f":"Invoeren!BT52","v":""},{"$f":"Invoeren!BU52","v":{"v":17.900000000000006,"d":"17.9"}},{"$f":"Invoeren!BV52","v":{"v":12.53,"d":"12.5300"}},{"$f":"Invoeren!CH52","v":5.8},{"$f":"Invoeren!CI52","v":5.9},{"$f":"Invoeren!CJ52","v":6.2},{"$f":"Invoeren!CK52","v":6.3},{"$f":"Invoeren!CL52","v":6.3},{"$f":"Invoeren!CM52","v":""},{"$f":"Invoeren!CN52","v":""},{"$f":"Invoeren!CO52","v":18.4},{"$f":"Invoeren!CP52","v":14.1067},{"$f":"Invoeren!CR52","v":54.7967},{"$f":"Invoeren!CS52","v":{"v":62.269,"d":"62.2690"}},{"$f":"Invoeren!CT52","v":0},{"$f":"Invoeren!C52","v":{"v":62.269,"d":"62.2690"}},{"$f":"Invoeren!L52","v":0},{"$f":"Invoeren!M52","v":"L"},{"$f":"Invoeren!N52","v":""},{"$f":"Invoeren!H52","v":"Midwest"},{"$f":"Invoeren!AI52","v":2},{"$f":"Invoeren!BC52","v":6},{"$f":"Invoeren!BW52","v":28},{"$f":"Invoeren!CQ52","v":3}]
[{"$f":"Invoeren!B53","v":4},{"$f":"Invoeren!A53","v":47},{"$f":"Invoeren!E53","v":"Merel Leuring"},{"$f":"Invoeren!F53","v":"AZC"},{"$f":"Invoeren!$K53","v":2004},{"$f":"Invoeren!$I53","v":0},{"$f":"Invoeren!Z53","v":6.4},{"$f":"Invoeren!AA53","v":5.9},{"$f":"Invoeren!AB53","v":6.3},{"$f":"Invoeren!AC53","v":6.3},{"$f":"Invoeren!AD53","v":6.3},{"$f":"Invoeren!AE53","v":""},{"$f":"Invoeren!AF53","v":""},{"$f":"Invoeren!AG53","v":{"v":18.900000000000006,"d":"18.9"}},{"$f":"Invoeren!AH53","v":{"v":13.86,"d":"13.8600"}},{"$f":"Invoeren!AT53","v":6.1},{"$f":"Invoeren!AU53","v":5.7},{"$f":"Invoeren!AV53","v":6.2},{"$f":"Invoeren!AW53","v":7.1},{"$f":"Invoeren!AX53","v":6.9},{"$f":"Invoeren!AY53","v":""},{"$f":"Invoeren!AZ53","v":""},{"$f":"Invoeren!BA53","v":19.2},{"$f":"Invoeren!BB53","v":{"v":14.08,"d":"14.0800"}},{"$f":"Invoeren!BN53","v":5.9},{"$f":"Invoeren!BO53","v":6.2},{"$f":"Invoeren!BP53","v":6.2},{"$f":"Invoeren!BQ53","v":6.1},{"$f":"Invoeren!BR53","v":6.4},{"$f":"Invoeren!BS53","v":""},{"$f":"Invoeren!BT53","v":""},{"$f":"Invoeren!BU53","v":18.5},{"$f":"Invoeren!BV53","v":{"v":12.95,"d":"12.9500"}},{"$f":"Invoeren!CH53","v":{"v":6,"d":"6.0"}},{"$f":"Invoeren!CI53","v":6.1},{"$f":"Invoeren!CJ53","v":6.1},{"$f":"Invoeren!CK53","v":6.3},{"$f":"Invoeren!CL53","v":6.1},{"$f":"Invoeren!CM53","v":""},{"$f":"Invoeren!CN53","v":""},{"$f":"Invoeren!CO53","v":18.3},{"$f":"Invoeren!CP53","v":{"v":14.03,"d":"14.0300"}},{"$f":"Invoeren!CR53","v":{"v":54.92,"d":"54.9200"}},{"$f":"Invoeren!CS53","v":62.4091},{"$f":"Invoeren!CT53","v":0},{"$f":"Invoeren!C53","v":62.4091},{"$f":"Invoeren!L53","v":0},{"$f":"Invoeren!M53","v":"L"},{"$f":"Invoeren!N53","v":""},{"$f":"Invoeren!H53","v":"West"},{"$f":"Invoeren!AI53","v":9},{"$f":"Invoeren!BC53","v":4},{"$f":"Invoeren!BW53","v":17},{"$f":"Invoeren!CQ53","v":4}]
[{"$f":"Invoeren!B54","v":64},{"$f":"Invoeren!A54","v":48},{"$f":"Invoeren!E54","v":"Jasmijn van Beijnum"},{"$f":"Invoeren!F54","v":"BZ&PC"},{"$f":"Invoeren!$K54","v":2003},{"$f":"Invoeren!$I54","v":0},{"$f":"Invoeren!Z54","v":4.8},{"$f":"Invoeren!AA54","v":5.1},{"$f":"Invoeren!AB54","v":5.3},{"$f":"Invoeren!AC54","v":5.2},{"$f":"Invoeren!AD54","v":5.3},{"$f":"Invoeren!AE54","v":""},{"$f":"Invoeren!AF54","v":""},{"$f":"Invoeren!AG54","v":{"v":15.599999999999998,"d":"15.6"}},{"$f":"Invoeren!AH54","v":{"v":11.44,"d":"11.4400"}},{"$f":"Invoeren!AT54","v":4.5},{"$f":"Invoeren!AU54","v":4.3},{"$f":"Invoeren!AV54","v":4.9},{"$f":"Invoeren!AW54","v":{"v":5,"d":"5.0"}},{"$f":"Invoeren!AX54","v":4.8},{"$f":"Invoeren!AY54","v":""},{"$f":"Invoeren!AZ54","v":""},{"$f":"Invoeren!BA54","v":{"v":14.200000000000003,"d":"14.2"}},{"$f":"Invoeren!BB54","v":10.4133},{"$f":"Invoeren!BN54","v":5.9},{"$f":"Invoeren!BO54","v":6.4},{"$f":"Invoeren!BP54","v":5.8},{"$f":"Invoeren!BQ54","v":5.5},{"$f":"Invoeren!BR54","v":5.7},{"$f":"Invoeren!BS54","v":""},{"$f":"Invoeren!BT54","v":""},{"$f":"Invoeren!BU54","v":17.4},{"$f":"Invoeren!BV54","v":{"v":12.18,"d":"12.1800"}},{"$f":"Invoeren!CH54","v":{"v":5,"d":"5.0"}},{"$f":"Invoeren!CI54","v":5.2},{"$f":"Invoeren!CJ54","v":5.1},{"$f":"Invoeren!CK54","v":4.9},{"$f":"Invoeren!CL54","v":5.2},{"$f":"Invoeren!CM54","v":""},{"$f":"Invoeren!CN54","v":""},{"$f":"Invoeren!CO54","v":{"v":15.299999999999999,"d":"15.3"}},{"$f":"Invoeren!CP54","v":{"v":11.73,"d":"11.7300"}},{"$f":"Invoeren!CR54","v":45.7633},{"$f":"Invoeren!CS54","v":52.0038},{"$f":"Invoeren!CT54","v":0},{"$f":"Invoeren!C54","v":52.0038},{"$f":"Invoeren!L54","v":0},{"$f":"Invoeren!M54","v":"L"},{"$f":"Invoeren!N54","v":""},{"$f":"Invoeren!H54","v":"West"},{"$f":"Invoeren!AI54","v":96},{"$f":"Invoeren!BC54","v":111},{"$f":"Invoeren!BW54","v":42},{"$f":"Invoeren!CQ54","v":50}]
[{"$f":"Invoeren!B55","v":"BM"},{"$f":"Invoeren!A55","v":49},{"$f":"Invoeren!E55","v":"Felicia Leemburg"},{"$f":"Invoeren!F55","v":"BZ&PC"},{"$f":"Invoeren!$K55","v":2006},{"$f":"Invoeren!$I55","v":"BM"},{"$f":"Invoeren!Z55","v":4.7},{"$f":"Invoeren!AA55","v":4.8},{"$f":"Invoeren!AB55","v":5.1},{"$f":"Invoeren!AC55","v":5.7},{"$f":"Invoeren!AD55","v":4.8},{"$f":"Invoeren!AE55","v":""},{"$f":"Invoeren!AF55","v":""},{"$f":"Invoeren!AG55","v":{"v":14.700000000000003,"d":"14.7"}},{"$f":"Invoeren!AH55","v":{"v":10.78,"d":"10.7800"}},{"$f":"Invoeren!AT55","v":4.6},{"$f":"Invoeren!AU55","v":4.8},{"$f":"Invoeren!AV55","v":4.6},{"$f":"Invoeren!AW55","v":4.6},{"$f":"Invoeren!AX55","v":4.5},{"$f":"Invoeren!AY55","v":""},{"$f":"Invoeren!AZ55","v":""},{"$f":"Invoeren!BA55","v":{"v":13.799999999999997,"d":"13.8"}},{"$f":"Invoeren!BB55","v":{"v":10.12,"d":"10.1200"}},{"$f":"Invoeren!BN55","v":5.1},{"$f":"Invoeren!BO55","v":5.3},{"$f":"Invoeren!BP55","v":5.3},{"$f":"Invoeren!BQ55","v":5.7},{"$f":"Invoeren!BR55","v":4.7},{"$f":"Invoeren!BS55","v":""},{"$f":"Invoeren!BT55","v":""},{"$f":"Invoeren!BU55","v":15.7},{"$f":"Invoeren!BV55","v":{"v":10.99,"d":"10.9900"}},{"$f":"Invoeren!CH55","v":4.4},{"$f":"Invoeren!CI55","v":4.5},{"$f":"Invoeren!CJ55","v":4.7},{"$f":"Invoeren!CK55","v":4.6},{"$f":"Invoeren!CL55","v":4.5},{"$f":"Invoeren!CM55","v":""},{"$f":"Invoeren!CN55","v":""},{"$f":"Invoeren!CO55","v":{"v":13.600000000000003,"d":"13.6"}},{"$f":"Invoeren!CP55","v":10.4267},{"$f":"Invoeren!CR55","v":42.3167},{"$f":"Invoeren!CS55","v":48.0872},{"$f":"Invoeren!CT55","v":0},{"$f":"Invoeren!C55","v":48.0872},{"$f":"Invoeren!L55","v":0},{"$f":"Invoeren!M55","v":"BM"},{"$f":"Invoeren!N55","v":""},{"$f":"Invoeren!H55","v":"West"},{"$f":"Invoeren!AI55","v":120},{"$f":"Invoeren!BC55","v":126},{"$f":"Invoeren!BW55","v":105},{"$f":"Invoeren!CQ55","v":128}]
[{"$f":"Invoeren!B56","v":106},{"$f":"Invoeren!A56","v":50},{"$f":"Invoeren!E56","v":"Auke Kuijk"},{"$f":"Invoeren!F56","v":"Cadans"},{"$f":"Invoeren!$K56","v":2004},{"$f":"Invoeren!$I56","v":0},{"$f":"Invoeren!Z56","v":5.3},{"$f":"Invoeren!AA56","v":4.7},{"$f":"Invoeren!AB56","v":{"v":5,"d":"5.0"}},{"$f":"Invoeren!AC56","v":4.8},{"$f":"Invoeren!AD56","v":4.6},{"$f":"Invoeren!AE56","v":""},{"$f":"Invoeren!AF56","v":""},{"$f":"Invoeren!AG56","v":{"v":14.499999999999998,"d":"14.5"}},{"$f":"Invoeren!AH56","v":10.6333},{"$f":"Invoeren!AT56","v":4.4},{"$f":"Invoeren!AU56","v":4.2},{"$f":"Invoeren!AV56","v":4.7},{"$f":"Invoeren!AW56","v":4.8},{"$f":"Invoeren!AX56","v":5.1},{"$f":"Invoeren!AY56","v":""},{"$f":"Invoeren!AZ56","v":""},{"$f":"Invoeren!BA56","v":{"v":13.900000000000002,"d":"13.9"}},{"$f":"Invoeren!BB56","v":10.1933},{"$f":"Invoeren!BN56","v":5.4},{"$f":"Invoeren!BO56","v":{"v":6,"d":"6.0"}},{"$f":"Invoeren!BP56","v":5.9},{"$f":"Invoeren!BQ56","v":5.9},{"$f":"Invoeren!BR56","v":5.4},{"$f":"Invoeren!BS56","v":""},{"$f":"Invoeren!BT56","v":""},{"$f":"Invoeren!BU56","v":{"v":17.200000000000003,"d":"17.2"}},{"$f":"Invoeren!BV56","v":{"v":12.04,"d":"12.0400"}},{"$f":"Invoeren!CH56","v":3.8},{"$f":"Invoeren!CI56","v":4.8},{"$f":"Invoeren!CJ56","v":4.8},{"$f":"Invoeren!CK56","v":4.8},{"$f":"Invoeren!CL56","v":4.2},{"$f":"Invoeren!CM56","v":""},{"$f":"Invoeren!CN56","v":""},{"$f":"Invoeren!CO56","v":{"v":13.799999999999997,"d":"13.8"}},{"$f":"Invoeren!CP56","v":{"v":10.58,"d":"10.5800"}},{"$f":"Invoeren!CR56","v":43.4466},{"$f":"Invoeren!CS56","v":49.3711},{"$f":"Invoeren!CT56","v":0},{"$f":"Invoeren!C56","v":49.3711},{"$f":"Invoeren!L56","v":0},{"$f":"Invoeren!M56","v":"L"},{"$f":"Invoeren!N56","v":""},{"$f":"Invoeren!H56","v":"oost"},{"$f":"Invoeren!AI56","v":130},{"$f":"Invoeren!BC56","v":119},{"$f":"Invoeren!BW56","v":52},{"$f":"Invoeren!CQ56","v":117}]
[{"$f":"Invoeren!B57","v":85},{"$f":"Invoeren!A57","v":51},{"$f":"Invoeren!E57","v":"Abigail Vievermans"},{"$f":"Invoeren!F57","v":"ZVBrunssum"},{"$f":"Invoeren!$K57","v":2004},{"$f":"Invoeren!$I57","v":0},{"$f":"Invoeren!Z57","v":5.1},{"$f":"Invoeren!AA57","v":4.5},{"$f":"Invoeren!AB57","v":5.5},{"$f":"Invoeren!AC57","v":5.6},{"$f":"Invoeren!AD57","v":5.3},{"$f":"Invoeren!AE57","v":""},{"$f":"Invoeren!AF57","v":""},{"$f":"Invoeren!AG57","v":{"v":15.899999999999999,"d":"15.9"}},{"$f":"Invoeren!AH57","v":{"v":11.66,"d":"11.6600"}},{"$f":"Invoeren!AT57","v":4.7},{"$f":"Invoeren!AU57","v":4.3},{"$f":"Invoeren!AV57","v":4.5},{"$f":"Invoeren!AW57","v":4.5},{"$f":"Invoeren!AX57","v":4.7},{"$f":"Invoeren!AY57","v":""},{"$f":"Invoeren!AZ57","v":""},{"$f":"Invoeren!BA57","v":13.7},{"$f":"Invoeren!BB57","v":10.0467},{"$f":"Invoeren!BN57","v":5.1},{"$f":"Invoeren!BO57","v":5.7},{"$f":"Invoeren!BP57","v":5.8},{"$f":"Invoeren!BQ57","v":5.7},{"$f":"Invoeren!BR57","v":5.2},{"$f":"Invoeren!BS57","v":""},{"$f":"Invoeren!BT57","v":""},{"$f":"Invoeren!BU57","v":16.6},{"$f":"Invoeren!BV57","v":{"v":11.62,"d":"11.6200"}},{"$f":"Invoeren!CH57","v":4.6},{"$f":"Invoeren!CI57","v":5.1},{"$f":"Invoeren!CJ57","v":4.9},{"$f":"Invoeren!CK57","v":4.9},{"$f":"Invoeren!CL57","v":4.9},{"$f":"Invoeren!CM57","v":""},{"$f":"Invoeren!CN57","v":""},{"$f":"Invoeren!CO57","v":{"v":14.699999999999998,"d":"14.7"}},{"$f":"Invoeren!CP57","v":{"v":11.27,"d":"11.2700"}},{"$f":"Invoeren!CR57","v":44.5967},{"$f":"Invoeren!CS57","v":50.6781},{"$f":"Invoeren!CT57","v":0},{"$f":"Invoeren!C57","v":50.6781},{"$f":"Invoeren!L57","v":0},{"$f":"Invoeren!M57","v":"L"},{"$f":"Invoeren!N57","v":""},{"$f":"Invoeren!H57","v":"Zuid"},{"$f":"Invoeren!AI57","v":79},{"$f":"Invoeren!BC57","v":132},{"$f":"Invoeren!BW57","v":78},{"$f":"Invoeren!CQ57","v":76}]
[{"$f":"Invoeren!B58","v":193},{"$f":"Invoeren!A58","v":52},{"$f":"Invoeren!E58","v":"Lieke Smeets"},{"$f":"Invoeren!F58","v":"Hellas-Glana"},{"$f":"Invoeren!$K58","v":2004},{"$f":"Invoeren!$I58","v":0},{"$f":"Invoeren!Z58","v":{"v":0,"d":"0.0"}},{"$f":"Invoeren!AA58","v":{"v":0,"d":"0.0"}},{"$f":"Invoeren!AB58","v":{"v":0,"d":"0.0"}},{"$f":"Invoeren!AC58","v":{"v":0,"d":"0.0"}},{"$f":"Invoeren!AD58","v":{"v":0,"d":"0.0"}},{"$f":"Invoeren!AE58","v":""},{"$f":"Invoeren!AF58","v":""},{"$f":"Invoeren!AG58","v":{"v":0,"d":"0.0"}},{"$f":"Invoeren!AH58","v":{"v":0,"d":"0.0000"}},{"$f":"Invoeren!AT58","v":{"v":0,"d":"0.0"}},{"$f":"Invoeren!AU58","v":{"v":0,"d":"0.0"}},{"$f":"Invoeren!AV58","v":{"v":0,"d":"0.0"}},{"$f":"Invoeren!AW58","v":{"v":0,"d":"0.0"}},{"$f":"Invoeren!AX58","v":{"v":0,"d":"0.0"}},{"$f":"Invoeren!AY58","v":""},{"$f":"Invoeren!AZ58","v":""},{"$f":"Invoeren!BA58","v":{"v":0,"d":"0.0"}},{"$f":"Invoeren!BB58","v":{"v":0,"d":"0.0000"}},{"$f":"Invoeren!BN58","v":{"v":0,"d":"0.0"}},{"$f":"Invoeren!BO58","v":{"v":0,"d":"0.0"}},{"$f":"Invoeren!BP58","v":{"v":0,"d":"0.0"}},{"$f":"Invoeren!BQ58","v":{"v":0,"d":"0.0"}},{"$f":"Invoeren!BR58","v":{"v":0,"d":"0.0"}},{"$f":"Invoeren!BS58","v":""},{"$f":"Invoeren!BT58","v":""},{"$f":"Invoeren!BU58","v":{"v":0,"d":"0.0"}},{"$f":"Invoeren!BV58","v":{"v":0,"d":"0.0000"}},{"$f":"Invoeren!CH58","v":{"v":0,"d":"0.0"}},{"$f":"Invoeren!CI58","v":{"v":0,"d":"0.0"}},{"$f":"Invoeren!CJ58","v":{"v":0,"d":"0.0"}},{"$f":"Invoeren!CK58","v":{"v":0,"d":"0.0"}},{"$f":"Invoeren!CL58","v":{"v":0,"d":"0.0"}},{"$f":"Invoeren!CM58","v":""},{"$f":"Invoeren!CN58","v":""},{"$f":"Invoeren!CO58","v":{"v":0,"d":"0.0"}},{"$f":"Invoeren!CP58","v":{"v":0,"d":"0.0000"}},{"$f":"Invoeren!CR58","v":0},{"$f":"Invoeren!CS58","v":0},{"$f":"Invoeren!CT58","v":0},{"$f":"Invoeren!C58","v":0},{"$f":"Invoeren!L58","v":0},{"$f":"Invoeren!M58","v":""},{"$f":"Invoeren!N58","v":""},{"$f":"Invoeren!H58","v":"Zuid"},{"$f":"Invoeren!AI58","v":""},{"$f":"Invoeren!BC58","v":""},{"$f":"Invoeren!BW58","v":""},{"$f":"Invoeren!CQ58","v":""}]
[{"$f":"Invoeren!B59","v":32},{"$f":"Invoeren!A59","v":53},{"$f":"Invoeren!E59","v":"Fleur Vergeer"},{"$f":"Invoeren!F59","v":"Aquarijn"},{"$f":"Invoeren!$K59","v":2004},{"$f":"Invoeren!$I59","v":0},{"$f":"Invoeren!Z59","v":5.7},{"$f":"Invoeren!AA59","v":{"v":6,"d":"6.0"}},{"$f":"Invoeren!AB59","v":5.8},{"$f":"Invoeren!AC59","v":5.3},{"$f":"Invoeren!AD59","v":5.9},{"$f":"Invoeren!AE59","v":""},{"$f":"Invoeren!AF59","v":""},{"$f":"Invoeren!AG59","v":{"v":17.400000000000002,"d":"17.4"}},{"$f":"Invoeren!AH59","v":{"v":12.76,"d":"12.7600"}},{"$f":"Invoeren!AT59","v":5.2},{"$f":"Invoeren!AU59","v":{"v":5,"d":"5.0"}},{"$f":"Invoeren!AV59","v":5.3},{"$f":"Invoeren!AW59","v":5.3},{"$f":"Invoeren!AX59","v":5.5},{"$f":"Invoeren!AY59","v":""},{"$f":"Invoeren!AZ59","v":""},{"$f":"Invoeren!BA59","v":15.8},{"$f":"Invoeren!BB59","v":11.5867},{"$f":"Invoeren!BN59","v":4.9},{"$f":"Invoeren!BO59","v":6.1},{"$f":"Invoeren!BP59","v":5.6},{"$f":"Invoeren!BQ59","v":{"v":6,"d":"6.0"}},{"$f":"Invoeren!BR59","v":5.9},{"$f":"Invoeren!BS59","v":""},{"$f":"Invoeren!BT59","v":""},{"$f":"Invoeren!BU59","v":17.5},{"$f":"Invoeren!BV59","v":{"v":12.25,"d":"12.2500"}},{"$f":"Invoeren!CH59","v":5.4},{"$f":"Invoeren!CI59","v":5.3},{"$f":"Invoeren!CJ59","v":5.2},{"$f":"Invoeren!CK59","v":5.4},{"$f":"Invoeren!CL59","v":5.4},{"$f":"Invoeren!CM59","v":""},{"$f":"Invoeren!CN59","v":""},{"$f":"Invoeren!CO59","v":{"v":16.099999999999998,"d":"16.1"}},{"$f":"Invoeren!CP59","v":12.3433},{"$f":"Invoeren!CR59","v":{"v":48.94,"d":"48.9400"}},{"$f":"Invoeren!CS59","v":55.6136},{"$f":"Invoeren!CT59","v":0},{"$f":"Invoeren!C59","v":55.6136},{"$f":"Invoeren!L59","v":0},{"$f":"Invoeren!M59","v":"L"},{"$f":"Invoeren!N59","v":""},{"$f":"Invoeren!H59","v":"MidWest"},{"$f":"Invoeren!AI59","v":26},{"$f":"Invoeren!BC59","v":50},{"$f":"Invoeren!BW59","v":39},{"$f":"Invoeren!CQ59","v":32}]
[{"$f":"Invoeren!B60","v":107},{"$f":"Invoeren!A60","v":54},{"$f":"Invoeren!E60","v":"Lisa Dams"},{"$f":"Invoeren!F60","v":"Aqua-Novio '94"},{"$f":"Invoeren!$K60","v":2005},{"$f":"Invoeren!$I60","v":0},{"$f":"Invoeren!Z60","v":4.8},{"$f":"Invoeren!AA60","v":4.5},{"$f":"Invoeren!AB60","v":4.5},{"$f":"Invoeren!AC60","v":4.8},{"$f":"Invoeren!AD60","v":4.3},{"$f":"Invoeren!AE60","v":""},{"$f":"Invoeren!AF60","v":""},{"$f":"Invoeren!AG60","v":13.8},{"$f":"Invoeren!AH60","v":{"v":10.12,"d":"10.1200"}},{"$f":"Invoeren!AT60","v":4.8},{"$f":"Invoeren!AU60","v":{"v":5,"d":"5.0"}},{"$f":"Invoeren!AV60","v":{"v":5,"d":"5.0"}},{"$f":"Invoeren!AW60","v":4.7},{"$f":"Invoeren!AX60","v":4.9},{"$f":"Invoeren!AY60","v":""},{"$f":"Invoeren!AZ60","v":""},{"$f":"Invoeren!BA60","v":14.7},{"$f":"Invoeren!BB60","v":{"v":10.78,"d":"10.7800"}},{"$f":"Invoeren!BN60","v":4.8},{"$f":"Invoeren!BO60","v":5.6},{"$f":"Invoeren!BP60","v":5.4},{"$f":"Invoeren!BQ60","v":5.1},{"$f":"Invoeren!BR60","v":5.3},{"$f":"Invoeren!BS60","v":""},{"$f":"Invoeren!BT60","v":""},{"$f":"Invoeren!BU60","v":15.8},{"$f":"Invoeren!BV60","v":{"v":11.06,"d":"11.0600"}},{"$f":"Invoeren!CH60","v":5.2},{"$f":"Invoeren!CI60","v":{"v":5,"d":"5.0"}},{"$f":"Invoeren!CJ60","v":{"v":5,"d":"5.0"}},{"$f":"Invoeren!CK60","v":4.9},{"$f":"Invoeren!CL60","v":4.9},{"$f":"Invoeren!CM60","v":""},{"$f":"Invoeren!CN60","v":""},{"$f":"Invoeren!CO60","v":14.9},{"$f":"Invoeren!CP60","v":11.4233},{"$f":"Invoeren!CR60","v":43.3833},{"$f":"Invoeren!CS60","v":49.2992},{"$f":"Invoeren!CT60","v":0},{"$f":"Invoeren!C60","v":49.2992},{"$f":"Invoeren!L60","v":0},{"$f":"Invoeren!M60","v":"L"},{"$f":"Invoeren!N60","v":""},{"$f":"Invoeren!H60","v":"Oost"},{"$f":"Invoeren!AI60","v":165},{"$f":"Invoeren!BC60","v":93},{"$f":"Invoeren!BW60","v":101},{"$f":"Invoeren!CQ60","v":65}]
[{"$f":"Invoeren!B61","v":22},{"$f":"Invoeren!A61","v":55},{"$f":"Invoeren!E61","v":"Eline Penning"},{"$f":"Invoeren!F61","v":"ACZ"},{"$f":"Invoeren!$K61","v":2004},{"$f":"Invoeren!$I61","v":0},{"$f":"Invoeren!Z61","v":{"v":6,"d":"6.0"}},{"$f":"Invoeren!AA61","v":5.9},{"$f":"Invoeren!AB61","v":6.1},{"$f":"Invoeren!AC61","v":6.3},{"$f":"Invoeren!AD61","v":{"v":6,"d":"6.0"}},{"$f":"Invoeren!AE61","v":""},{"$f":"Invoeren!AF61","v":""},{"$f":"Invoeren!AG61","v":18.1},{"$f":"Invoeren!AH61","v":13.2733},{"$f":"Invoeren!AT61","v":5.5},{"$f":"Invoeren!AU61","v":5.2},{"$f":"Invoeren!AV61","v":5.4},{"$f":"Invoeren!AW61","v":5.9},{"$f":"Invoeren!AX61","v":6.1},{"$f":"Invoeren!AY61","v":""},{"$f":"Invoeren!AZ61","v":""},{"$f":"Invoeren!BA61","v":16.8},{"$f":"Invoeren!BB61","v":{"v":12.32,"d":"12.3200"}},{"$f":"Invoeren!BN61","v":5.8},{"$f":"Invoeren!BO61","v":5.5},{"$f":"Invoeren!BP61","v":6.1},{"$f":"Invoeren!BQ61","v":5.6},{"$f":"Invoeren!BR61","v":6.5},{"$f":"Invoeren!BS61","v":""},{"$f":"Invoeren!BT61","v":""},{"$f":"Invoeren!BU61","v":17.5},{"$f":"Invoeren!BV61","v":{"v":12.25,"d":"12.2500"}},{"$f":"Invoeren!CH61","v":{"v":6,"d":"6.0"}},{"$f":"Invoeren!CI61","v":5.6},{"$f":"Invoeren!CJ61","v":{"v":5,"d":"5.0"}},{"$f":"Invoeren!CK61","v":5.9},{"$f":"Invoeren!CL61","v":5.2},{"$f":"Invoeren!CM61","v":""},{"$f":"Invoeren!CN61","v":""},{"$f":"Invoeren!CO61","v":16.7},{"$f":"Invoeren!CP61","v":12.8033},{"$f":"Invoeren!CR61","v":50.6466},{"$f":"Invoeren!CS61","v":{"v":57.553,"d":"57.5530"}},{"$f":"Invoeren!CT61","v":0},{"$f":"Invoeren!C61","v":{"v":57.553,"d":"57.5530"}},{"$f":"Invoeren!L61","v":0},{"$f":"Invoeren!M61","v":"L"},{"$f":"Invoeren!N61","v":""},{"$f":"Invoeren!H61","v":"West"},{"$f":"Invoeren!AI61","v":17},{"$f":"Invoeren!BC61","v":26},{"$f":"Invoeren!BW61","v":39},{"$f":"Invoeren!CQ61","v":23}]
[{"$f":"Invoeren!B62","v":143},{"$f":"Invoeren!A62","v":56},{"$f":"Invoeren!E62","v":"Nyanda de Roos"},{"$f":"Invoeren!F62","v":"De Houtrib"},{"$f":"Invoeren!$K62","v":2004},{"$f":"Invoeren!$I62","v":0},{"$f":"Invoeren!Z62","v":4.5},{"$f":"Invoeren!AA62","v":4.6},{"$f":"Invoeren!AB62","v":4.8},{"$f":"Invoeren!AC62","v":4.8},{"$f":"Invoeren!AD62","v":4.5},{"$f":"Invoeren!AE62","v":""},{"$f":"Invoeren!AF62","v":""},{"$f":"Invoeren!AG62","v":{"v":13.899999999999999,"d":"13.9"}},{"$f":"Invoeren!AH62","v":10.1933},{"$f":"Invoeren!AT62","v":4.1},{"$f":"Invoeren!AU62","v":4.6},{"$f":"Invoeren!AV62","v":4.2},{"$f":"Invoeren!AW62","v":4.6},{"$f":"Invoeren!AX62","v":4.5},{"$f":"Invoeren!AY62","v":""},{"$f":"Invoeren!AZ62","v":""},{"$f":"Invoeren!BA62","v":{"v":13.299999999999999,"d":"13.3"}},{"$f":"Invoeren!BB62","v":9.7533},{"$f":"Invoeren!BN62","v":4.5},{"$f":"Invoeren!BO62","v":4.5},{"$f":"Invoeren!BP62","v":{"v":5,"d":"5.0"}},{"$f":"Invoeren!BQ62","v":{"v":5,"d":"5.0"}},{"$f":"Invoeren!BR62","v":5.3},{"$f":"Invoeren!BS62","v":""},{"$f":"Invoeren!BT62","v":""},{"$f":"Invoeren!BU62","v":14.5},{"$f":"Invoeren!BV62","v":{"v":10.15,"d":"10.1500"}},{"$f":"Invoeren!CH62","v":4.7},{"$f":"Invoeren!CI62","v":4.9},{"$f":"Invoeren!CJ62","v":4.8},{"$f":"Invoeren!CK62","v":4.8},{"$f":"Invoeren!CL62","v":4.9},{"$f":"Invoeren!CM62","v":""},{"$f":"Invoeren!CN62","v":""},{"$f":"Invoeren!CO62","v":{"v":14.500000000000004,"d":"14.5"}},{"$f":"Invoeren!CP62","v":11.1167},{"$f":"Invoeren!CR62","v":{"v":41.213300000000004,"d":"41.2133"}},{"$f":"Invoeren!CS62","v":46.8333},{"$f":"Invoeren!CT62","v":0},{"$f":"Invoeren!C62","v":46.8333},{"$f":"Invoeren!L62","v":0},{"$f":"Invoeren!M62","v":""},{"$f":"Invoeren!N62","v":""},{"$f":"Invoeren!H62","v":"Oost"},{"$f":"Invoeren!AI62","v":162},{"$f":"Invoeren!BC62","v":151},{"$f":"Invoeren!BW62","v":144},{"$f":"Invoeren!CQ62","v":87}]
[{"$f":"Invoeren!B63","v":34},{"$f":"Invoeren!A63","v":57},{"$f":"Invoeren!E63","v":"Judith Bosman"},{"$f":"Invoeren!F63","v":"Z.P.C.H."},{"$f":"Invoeren!$K63","v":2003},{"$f":"Invoeren!$I63","v":0},{"$f":"Invoeren!Z63","v":5.9},{"$f":"Invoeren!AA63","v":5.6},{"$f":"Invoeren!AB63","v":5.6},{"$f":"Invoeren!AC63","v":5.6},{"$f":"Invoeren!AD63","v":5.8},{"$f":"Invoeren!AE63","v":""},{"$f":"Invoeren!AF63","v":""},{"$f":"Invoeren!AG63","v":{"v":17,"d":"17.0"}},{"$f":"Invoeren!AH63","v":12.4667},{"$f":"Invoeren!AT63","v":5.6},{"$f":"Invoeren!AU63","v":4.9},{"$f":"Invoeren!AV63","v":4.7},{"$f":"Invoeren!AW63","v":5.3},{"$f":"Invoeren!AX63","v":5.8},{"$f":"Invoeren!AY63","v":""},{"$f":"Invoeren!AZ63","v":""},{"$f":"Invoeren!BA63","v":15.8},{"$f":"Invoeren!BB63","v":11.5867},{"$f":"Invoeren!BN63","v":{"v":6,"d":"6.0"}},{"$f":"Invoeren!BO63","v":{"v":6,"d":"6.0"}},{"$f":"Invoeren!BP63","v":{"v":6,"d":"6.0"}},{"$f":"Invoeren!BQ63","v":{"v":6,"d":"6.0"}},{"$f":"Invoeren!BR63","v":5.9},{"$f":"Invoeren!BS63","v":""},{"$f":"Invoeren!BT63","v":""},{"$f":"Invoeren!BU63","v":{"v":18,"d":"18.0"}},{"$f":"Invoeren!BV63","v":{"v":12.6,"d":"12.6000"}},{"$f":"Invoeren!CH63","v":5.1},{"$f":"Invoeren!CI63","v":5.6},{"$f":"Invoeren!CJ63","v":5.3},{"$f":"Invoeren!CK63","v":5.2},{"$f":"Invoeren!CL63","v":5.5},{"$f":"Invoeren!CM63","v":""},{"$f":"Invoeren!CN63","v":""},{"$f":"Invoeren!CO63","v":{"v":16,"d":"16.0"}},{"$f":"Invoeren!CP63","v":12.2667},{"$f":"Invoeren!CR63","v":48.9201},{"$f":"Invoeren!CS63","v":{"v":55.591,"d":"55.5910"}},{"$f":"Invoeren!CT63","v":0},{"$f":"Invoeren!C63","v":{"v":55.591,"d":"55.5910"}},{"$f":"Invoeren!L63","v":0},{"$f":"Invoeren!M63","v":"L"},{"$f":"Invoeren!N63","v":""},{"$f":"Invoeren!H63","v":"MidWest"},{"$f":"Invoeren!AI63","v":41},{"$f":"Invoeren!BC63","v":50},{"$f":"Invoeren!BW63","v":25},{"$f":"Invoeren!CQ63","v":34}]
[{"$f":"Invoeren!B64","v":49},{"$f":"Invoeren!A64","v":58},{"$f":"Invoeren!E64","v":"Ninon van Baal"},{"$f":"Invoeren!F64","v":"DAW"},{"$f":"Invoeren!$K64","v":2004},{"$f":"Invoeren!$I64","v":0},{"$f":"Invoeren!Z64","v":5.8},{"$f":"Invoeren!AA64","v":5.7},{"$f":"Invoeren!AB64","v":5.6},{"$f":"Invoeren!AC64","v":5.4},{"$f":"Invoeren!AD64","v":5.7},{"$f":"Invoeren!AE64","v":""},{"$f":"Invoeren!AF64","v":""},{"$f":"Invoeren!AG64","v":{"v":17,"d":"17.0"}},{"$f":"Invoeren!AH64","v":12.4667},{"$f":"Invoeren!AT64","v":5.2},{"$f":"Invoeren!AU64","v":5.1},{"$f":"Invoeren!AV64","v":5.1},{"$f":"Invoeren!AW64","v":5.1},{"$f":"Invoeren!AX64","v":5.4},{"$f":"Invoeren!AY64","v":""},{"$f":"Invoeren!AZ64","v":""},{"$f":"Invoeren!BA64","v":15.4},{"$f":"Invoeren!BB64","v":11.2933},{"$f":"Invoeren!BN64","v":5.7},{"$f":"Invoeren!BO64","v":6.1},{"$f":"Invoeren!BP64","v":5.7},{"$f":"Invoeren!BQ64","v":5.8},{"$f":"Invoeren!BR64","v":6.1},{"$f":"Invoeren!BS64","v":""},{"$f":"Invoeren!BT64","v":""},{"$f":"Invoeren!BU64","v":{"v":17.599999999999998,"d":"17.6"}},{"$f":"Invoeren!BV64","v":{"v":12.32,"d":"12.3200"}},{"$f":"Invoeren!CH64","v":4.7},{"$f":"Invoeren!CI64","v":{"v":5,"d":"5.0"}},{"$f":"Invoeren!CJ64","v":{"v":5,"d":"5.0"}},{"$f":"Invoeren!CK64","v":5.1},{"$f":"Invoeren!CL64","v":5.1},{"$f":"Invoeren!CM64","v":""},{"$f":"Invoeren!CN64","v":""},{"$f":"Invoeren!CO64","v":{"v":15.099999999999998,"d":"15.1"}},{"$f":"Invoeren!CP64","v":11.5767},{"$f":"Invoeren!CR64","v":47.6567},{"$f":"Invoeren!CS64","v":54.1553},{"$f":"Invoeren!CT64","v":0},{"$f":"Invoeren!C64","v":54.1553},{"$f":"Invoeren!L64","v":0},{"$f":"Invoeren!M64","v":"L"},{"$f":"Invoeren!N64","v":""},{"$f":"Invoeren!H64","v":"Midwest"},{"$f":"Invoeren!AI64","v":41},{"$f":"Invoeren!BC64","v":66},{"$f":"Invoeren!BW64","v":37},{"$f":"Invoeren!CQ64","v":58}]
[{"$f":"Invoeren!B65","v":50},{"$f":"Invoeren!A65","v":59},{"$f":"Invoeren!E65","v":"Isis Braam"},{"$f":"Invoeren!F65","v":"De Dolfijn"},{"$f":"Invoeren!$K65","v":2004},{"$f":"Invoeren!$I65","v":0},{"$f":"Invoeren!Z65","v":5.6},{"$f":"Invoeren!AA65","v":5.6},{"$f":"Invoeren!AB65","v":5.9},{"$f":"Invoeren!AC65","v":6.2},{"$f":"Invoeren!AD65","v":{"v":6,"d":"6.0"}},{"$f":"Invoeren!AE65","v":""},{"$f":"Invoeren!AF65","v":""},{"$f":"Invoeren!AG65","v":17.5},{"$f":"Invoeren!AH65","v":12.8333},{"$f":"Invoeren!AT65","v":5.1},{"$f":"Invoeren!AU65","v":{"v":5,"d":"5.0"}},{"$f":"Invoeren!AV65","v":{"v":5,"d":"5.0"}},{"$f":"Invoeren!AW65","v":4.8},{"$f":"Invoeren!AX65","v":{"v":5,"d":"5.0"}},{"$f":"Invoeren!AY65","v":""},{"$f":"Invoeren!AZ65","v":""},{"$f":"Invoeren!BA65","v":{"v":14.999999999999996,"d":"15.0"}},{"$f":"Invoeren!BB65","v":{"v":11,"d":"11.0000"}},{"$f":"Invoeren!BN65","v":5.6},{"$f":"Invoeren!BO65","v":6.3},{"$f":"Invoeren!BP65","v":6.1},{"$f":"Invoeren!BQ65","v":{"v":6,"d":"6.0"}},{"$f":"Invoeren!BR65","v":5.6},{"$f":"Invoeren!BS65","v":""},{"$f":"Invoeren!BT65","v":""},{"$f":"Invoeren!BU65","v":{"v":17.700000000000003,"d":"17.7"}},{"$f":"Invoeren!BV65","v":{"v":12.39,"d":"12.3900"}},{"$f":"Invoeren!CH65","v":5.2},{"$f":"Invoeren!CI65","v":5.2},{"$f":"Invoeren!CJ65","v":4.9},{"$f":"Invoeren!CK65","v":4.8},{"$f":"Invoeren!CL65","v":4.8},{"$f":"Invoeren!CM65","v":""},{"$f":"Invoeren!CN65","v":""},{"$f":"Invoeren!CO65","v":{"v":14.900000000000002,"d":"14.9"}},{"$f":"Invoeren!CP65","v":11.4233},{"$f":"Invoeren!CR65","v":47.6466},{"$f":"Invoeren!CS65","v":54.1439},{"$f":"Invoeren!CT65","v":0},{"$f":"Invoeren!C65","v":54.1439},{"$f":"Invoeren!L65","v":0},{"$f":"Invoeren!M65","v":"L"},{"$f":"Invoeren!N65","v":""},{"$f":"Invoeren!H65","v":"Midwest"},{"$f":"Invoeren!AI65","v":24},{"$f":"Invoeren!BC65","v":79},{"$f":"Invoeren!BW65","v":34},{"$f":"Invoeren!CQ65","v":65}]
[{"$f":"Invoeren!B66","v":170},{"$f":"Invoeren!A66","v":60},{"$f":"Invoeren!E66","v":"Sophie O'Toole"},{"$f":"Invoeren!F66","v":"VZC Veenendaal"},{"$f":"Invoeren!$K66","v":2005},{"$f":"Invoeren!$I66","v":0},{"$f":"Invoeren!Z66","v":4.7},{"$f":"Invoeren!AA66","v":4.6},{"$f":"Invoeren!AB66","v":4.7},{"$f":"Invoeren!AC66","v":4.8},{"$f":"Invoeren!AD66","v":4.3},{"$f":"Invoeren!AE66","v":""},{"$f":"Invoeren!AF66","v":""},{"$f":"Invoeren!AG66","v":{"v":14,"d":"14.0"}},{"$f":"Invoeren!AH66","v":10.2667},{"$f":"Invoeren!AT66","v":4.9},{"$f":"Invoeren!AU66","v":4.7},{"$f":"Invoeren!AV66","v":4.5},{"$f":"Invoeren!AW66","v":4.2},{"$f":"Invoeren!AX66","v":4.1},{"$f":"Invoeren!AY66","v":""},{"$f":"Invoeren!AZ66","v":""},{"$f":"Invoeren!BA66","v":13.4},{"$f":"Invoeren!BB66","v":9.8267},{"$f":"Invoeren!BN66","v":4.4},{"$f":"Invoeren!BO66","v":4.9},{"$f":"Invoeren!BP66","v":{"v":4,"d":"4.0"}},{"$f":"Invoeren!BQ66","v":3.9},{"$f":"Invoeren!BR66","v":4.6},{"$f":"Invoeren!BS66","v":""},{"$f":"Invoeren!BT66","v":""},{"$f":"Invoeren!BU66","v":{"v":12.999999999999998,"d":"13.0"}},{"$f":"Invoeren!BV66","v":{"v":9.1,"d":"9.1000"}},{"$f":"Invoeren!CH66","v":3.9},{"$f":"Invoeren!CI66","v":4.1},{"$f":"Invoeren!CJ66","v":4.4},{"$f":"Invoeren!CK66","v":4.3},{"$f":"Invoeren!CL66","v":3.9},{"$f":"Invoeren!CM66","v":""},{"$f":"Invoeren!CN66","v":""},{"$f":"Invoeren!CO66","v":{"v":12.299999999999995,"d":"12.3"}},{"$f":"Invoeren!CP66","v":{"v":9.43,"d":"9.4300"}},{"$f":"Invoeren!CR66","v":{"v":38.623400000000004,"d":"38.6234"}},{"$f":"Invoeren!CS66","v":43.8902},{"$f":"Invoeren!CT66","v":0},{"$f":"Invoeren!C66","v":43.8902},{"$f":"Invoeren!L66","v":0},{"$f":"Invoeren!M66","v":""},{"$f":"Invoeren!N66","v":""},{"$f":"Invoeren!H66","v":"Midwest"},{"$f":"Invoeren!AI66","v":157},{"$f":"Invoeren!BC66","v":144},{"$f":"Invoeren!BW66","v":190},{"$f":"Invoeren!CQ66","v":170}]
[{"$f":"Invoeren!B67","v":90},{"$f":"Invoeren!A67","v":61},{"$f":"Invoeren!E67","v":"Madelief Volbeda"},{"$f":"Invoeren!F67","v":"HZ&PC Heerenveen"},{"$f":"Invoeren!$K67","v":2004},{"$f":"Invoeren!$I67","v":0},{"$f":"Invoeren!Z67","v":5.2},{"$f":"Invoeren!AA67","v":5.3},{"$f":"Invoeren!AB67","v":5.1},{"$f":"Invoeren!AC67","v":5.6},{"$f":"Invoeren!AD67","v":{"v":5,"d":"5.0"}},{"$f":"Invoeren!AE67","v":""},{"$f":"Invoeren!AF67","v":""},{"$f":"Invoeren!AG67","v":{"v":15.600000000000001,"d":"15.6"}},{"$f":"Invoeren!AH67","v":{"v":11.44,"d":"11.4400"}},{"$f":"Invoeren!AT67","v":4.8},{"$f":"Invoeren!AU67","v":4.4},{"$f":"Invoeren!AV67","v":4.6},{"$f":"Invoeren!AW67","v":4.7},{"$f":"Invoeren!AX67","v":{"v":5,"d":"5.0"}},{"$f":"Invoeren!AY67","v":""},{"$f":"Invoeren!AZ67","v":""},{"$f":"Invoeren!BA67","v":14.1},{"$f":"Invoeren!BB67","v":{"v":10.34,"d":"10.3400"}},{"$f":"Invoeren!BN67","v":5.5},{"$f":"Invoeren!BO67","v":{"v":6,"d":"6.0"}},{"$f":"Invoeren!BP67","v":{"v":6,"d":"6.0"}},{"$f":"Invoeren!BQ67","v":5.3},{"$f":"Invoeren!BR67","v":5.6},{"$f":"Invoeren!BS67","v":""},{"$f":"Invoeren!BT67","v":""},{"$f":"Invoeren!BU67","v":{"v":17.099999999999998,"d":"17.1"}},{"$f":"Invoeren!BV67","v":{"v":11.97,"d":"11.9700"}},{"$f":"Invoeren!CH67","v":4.2},{"$f":"Invoeren!CI67","v":4.8},{"$f":"Invoeren!CJ67","v":4.6},{"$f":"Invoeren!CK67","v":4.5},{"$f":"Invoeren!CL67","v":4.9},{"$f":"Invoeren!CM67","v":""},{"$f":"Invoeren!CN67","v":""},{"$f":"Invoeren!CO67","v":{"v":13.900000000000002,"d":"13.9"}},{"$f":"Invoeren!CP67","v":10.6567},{"$f":"Invoeren!CR67","v":44.4067},{"$f":"Invoeren!CS67","v":50.4622},{"$f":"Invoeren!CT67","v":0},{"$f":"Invoeren!C67","v":50.4622},{"$f":"Invoeren!L67","v":0},{"$f":"Invoeren!M67","v":"L"},{"$f":"Invoeren!N67","v":""},{"$f":"Invoeren!H67","v":"Noord"},{"$f":"Invoeren!AI67","v":96},{"$f":"Invoeren!BC67","v":114},{"$f":"Invoeren!BW67","v":57},{"$f":"Invoeren!CQ67","v":115}]
[{"$f":"Invoeren!B68","v":148},{"$f":"Invoeren!A68","v":62},{"$f":"Invoeren!E68","v":"Minke van Dalfsen"},{"$f":"Invoeren!F68","v":"Widex Gzc Donk"},{"$f":"Invoeren!$K68","v":2004},{"$f":"Invoeren!$I68","v":0},{"$f":"Invoeren!Z68","v":4.7},{"$f":"Invoeren!AA68","v":4.8},{"$f":"Invoeren!AB68","v":4.9},{"$f":"Invoeren!AC68","v":5.5},{"$f":"Invoeren!AD68","v":4.7},{"$f":"Invoeren!AE68","v":""},{"$f":"Invoeren!AF68","v":""},{"$f":"Invoeren!AG68","v":{"v":14.399999999999999,"d":"14.4"}},{"$f":"Invoeren!AH68","v":{"v":10.56,"d":"10.5600"}},{"$f":"Invoeren!AT68","v":4.4},{"$f":"Invoeren!AU68","v":4.6},{"$f":"Invoeren!AV68","v":4.4},{"$f":"Invoeren!AW68","v":4.5},{"$f":"Invoeren!AX68","v":4.6},{"$f":"Invoeren!AY68","v":""},{"$f":"Invoeren!AZ68","v":""},{"$f":"Invoeren!BA68","v":{"v":13.499999999999998,"d":"13.5"}},{"$f":"Invoeren!BB68","v":{"v":9.9,"d":"9.9000"}},{"$f":"Invoeren!BN68","v":4.9},{"$f":"Invoeren!BO68","v":4.8},{"$f":"Invoeren!BP68","v":5.1},{"$f":"Invoeren!BQ68","v":4.5},{"$f":"Invoeren!BR68","v":4.8},{"$f":"Invoeren!BS68","v":""},{"$f":"Invoeren!BT68","v":""},{"$f":"Invoeren!BU68","v":14.5},{"$f":"Invoeren!BV68","v":{"v":10.15,"d":"10.1500"}},{"$f":"Invoeren!CH68","v":{"v":4,"d":"4.0"}},{"$f":"Invoeren!CI68","v":4.5},{"$f":"Invoeren!CJ68","v":4.4},{"$f":"Invoeren!CK68","v":4.3},{"$f":"Invoeren!CL68","v":4.3},{"$f":"Invoeren!CM68","v":""},{"$f":"Invoeren!CN68","v":""},{"$f":"Invoeren!CO68","v":{"v":13,"d":"13.0"}},{"$f":"Invoeren!CP68","v":9.9667},{"$f":"Invoeren!CR68","v":40.5767},{"$f":"Invoeren!CS68","v":46.1099},{"$f":"Invoeren!CT68","v":0},{"$f":"Invoeren!C68","v":46.1099},{"$f":"Invoeren!L68","v":0},{"$f":"Invoeren!M68","v":""},{"$f":"Invoeren!N68","v":""},{"$f":"Invoeren!H68","v":"West"},{"$f":"Invoeren!AI68","v":137},{"$f":"Invoeren!BC68","v":138},{"$f":"Invoeren!BW68","v":144},{"$f":"Invoeren!CQ68","v":149}]
[{"$f":"Invoeren!B69","v":158},{"$f":"Invoeren!A69","v":63},{"$f":"Invoeren!E69","v":"Femke van de Ridder"},{"$f":"Invoeren!F69","v":"Widex Gzc Donk"},{"$f":"Invoeren!$K69","v":2005},{"$f":"Invoeren!$I69","v":0},{"$f":"Invoeren!Z69","v":3.8},{"$f":"Invoeren!AA69","v":4.7},{"$f":"Invoeren!AB69","v":4.8},{"$f":"Invoeren!AC69","v":4.3},{"$f":"Invoeren!AD69","v":{"v":4,"d":"4.0"}},{"$f":"Invoeren!AE69","v":""},{"$f":"Invoeren!AF69","v":""},{"$f":"Invoeren!AG69","v":{"v":13,"d":"13.0"}},{"$f":"Invoeren!AH69","v":9.5333},{"$f":"Invoeren!AT69","v":4.5},{"$f":"Invoeren!AU69","v":4.4},{"$f":"Invoeren!AV69","v":4.7},{"$f":"Invoeren!AW69","v":4.1},{"$f":"Invoeren!AX69","v":4.6},{"$f":"Invoeren!AY69","v":""},{"$f":"Invoeren!AZ69","v":""},{"$f":"Invoeren!BA69","v":{"v":13.500000000000005,"d":"13.5"}},{"$f":"Invoeren!BB69","v":{"v":9.9,"d":"9.9000"}},{"$f":"Invoeren!BN69","v":4.7},{"$f":"Invoeren!BO69","v":{"v":5,"d":"5.0"}},{"$f":"Invoeren!BP69","v":4.8},{"$f":"Invoeren!BQ69","v":4.7},{"$f":"Invoeren!BR69","v":4.5},{"$f":"Invoeren!BS69","v":""},{"$f":"Invoeren!BT69","v":""},{"$f":"Invoeren!BU69","v":14.2},{"$f":"Invoeren!BV69","v":{"v":9.94,"d":"9.9400"}},{"$f":"Invoeren!CH69","v":4.3},{"$f":"Invoeren!CI69","v":4.4},{"$f":"Invoeren!CJ69","v":4.6},{"$f":"Invoeren!CK69","v":4.7},{"$f":"Invoeren!CL69","v":4.1},{"$f":"Invoeren!CM69","v":""},{"$f":"Invoeren!CN69","v":""},{"$f":"Invoeren!CO69","v":{"v":13.300000000000002,"d":"13.3"}},{"$f":"Invoeren!CP69","v":10.1967},{"$f":"Invoeren!CR69","v":{"v":39.57,"d":"39.5700"}},{"$f":"Invoeren!CS69","v":44.9659},{"$f":"Invoeren!CT69","v":0},{"$f":"Invoeren!C69","v":44.9659},{"$f":"Invoeren!L69","v":0},{"$f":"Invoeren!M69","v":""},{"$f":"Invoeren!N69","v":""},{"$f":"Invoeren!H69","v":"West"},{"$f":"Invoeren!AI69","v":183},{"$f":"Invoeren!BC69","v":138},{"$f":"Invoeren!BW69","v":156},{"$f":"Invoeren!CQ69","v":136}]
[{"$f":"Invoeren!B70","v":62},{"$f":"Invoeren!A70","v":64},{"$f":"Invoeren!E70","v":"Zody Thode"},{"$f":"Invoeren!F70","v":"Cadans"},{"$f":"Invoeren!$K70","v":2003},{"$f":"Invoeren!$I70","v":0},{"$f":"Invoeren!Z70","v":5.7},{"$f":"Invoeren!AA70","v":5.8},{"$f":"Invoeren!AB70","v":6.3},{"$f":"Invoeren!AC70","v":6.3},{"$f":"Invoeren!AD70","v":6.1},{"$f":"Invoeren!AE70","v":""},{"$f":"Invoeren!AF70","v":""},{"$f":"Invoeren!AG70","v":{"v":18.200000000000003,"d":"18.2"}},{"$f":"Invoeren!AH70","v":13.3467},{"$f":"Invoeren!AT70","v":5.2},{"$f":"Invoeren!AU70","v":4.2},{"$f":"Invoeren!AV70","v":4.3},{"$f":"Invoeren!AW70","v":4.5},{"$f":"Invoeren!AX70","v":{"v":5,"d":"5.0"}},{"$f":"Invoeren!AY70","v":""},{"$f":"Invoeren!AZ70","v":""},{"$f":"Invoeren!BA70","v":13.8},{"$f":"Invoeren!BB70","v":{"v":10.12,"d":"10.1200"}},{"$f":"Invoeren!BN70","v":5.7},{"$f":"Invoeren!BO70","v":5.2},{"$f":"Invoeren!BP70","v":5.7},{"$f":"Invoeren!BQ70","v":{"v":5,"d":"5.0"}},{"$f":"Invoeren!BR70","v":5.6},{"$f":"Invoeren!BS70","v":""},{"$f":"Invoeren!BT70","v":""},{"$f":"Invoeren!BU70","v":{"v":16.500000000000004,"d":"16.5"}},{"$f":"Invoeren!BV70","v":{"v":11.55,"d":"11.5500"}},{"$f":"Invoeren!CH70","v":4.9},{"$f":"Invoeren!CI70","v":4.9},{"$f":"Invoeren!CJ70","v":4.9},{"$f":"Invoeren!CK70","v":4.9},{"$f":"Invoeren!CL70","v":4.7},{"$f":"Invoeren!CM70","v":""},{"$f":"Invoeren!CN70","v":""},{"$f":"Invoeren!CO70","v":14.7},{"$f":"Invoeren!CP70","v":{"v":11.27,"d":"11.2700"}},{"$f":"Invoeren!CR70","v":{"v":46.286699999999996,"d":"46.2867"}},{"$f":"Invoeren!CS70","v":52.5985},{"$f":"Invoeren!CT70","v":0},{"$f":"Invoeren!C70","v":52.5985},{"$f":"Invoeren!L70","v":0},{"$f":"Invoeren!M70","v":"L"},{"$f":"Invoeren!N70","v":""},{"$f":"Invoeren!H70","v":"oost"},{"$f":"Invoeren!AI70","v":12},{"$f":"Invoeren!BC70","v":126},{"$f":"Invoeren!BW70","v":82},{"$f":"Invoeren!CQ70","v":76}]
[{"$f":"Invoeren!B71","v":161},{"$f":"Invoeren!A71","v":65},{"$f":"Invoeren!E71","v":"Merle Heuvelmans"},{"$f":"Invoeren!F71","v":"ZVBrunssum"},{"$f":"Invoeren!$K71","v":2003},{"$f":"Invoeren!$I71","v":0},{"$f":"Invoeren!Z71","v":4.8},{"$f":"Invoeren!AA71","v":5.5},{"$f":"Invoeren!AB71","v":5.1},{"$f":"Invoeren!AC71","v":5.8},{"$f":"Invoeren!AD71","v":{"v":5,"d":"5.0"}},{"$f":"Invoeren!AE71","v":""},{"$f":"Invoeren!AF71","v":""},{"$f":"Invoeren!AG71","v":{"v":15.599999999999998,"d":"15.6"}},{"$f":"Invoeren!AH71","v":{"v":11.44,"d":"11.4400"}},{"$f":"Invoeren!AT71","v":4.4},{"$f":"Invoeren!AU71","v":4.1},{"$f":"Invoeren!AV71","v":4.2},{"$f":"Invoeren!AW71","v":4.1},{"$f":"Invoeren!AX71","v":{"v":4,"d":"4.0"}},{"$f":"Invoeren!AY71","v":""},{"$f":"Invoeren!AZ71","v":""},{"$f":"Invoeren!BA71","v":{"v":12.399999999999999,"d":"12.4"}},{"$f":"Invoeren!BB71","v":9.0933},{"$f":"Invoeren!BN71","v":4.3},{"$f":"Invoeren!BO71","v":4.7},{"$f":"Invoeren!BP71","v":5.5},{"$f":"Invoeren!BQ71","v":4.7},{"$f":"Invoeren!BR71","v":4.8},{"$f":"Invoeren!BS71","v":""},{"$f":"Invoeren!BT71","v":""},{"$f":"Invoeren!BU71","v":14.2},{"$f":"Invoeren!BV71","v":{"v":9.94,"d":"9.9400"}},{"$f":"Invoeren!CH71","v":3.8},{"$f":"Invoeren!CI71","v":3.9},{"$f":"Invoeren!CJ71","v":3.9},{"$f":"Invoeren!CK71","v":3.9},{"$f":"Invoeren!CL71","v":4.2},{"$f":"Invoeren!CM71","v":""},{"$f":"Invoeren!CN71","v":""},{"$f":"Invoeren!CO71","v":11.7},{"$f":"Invoeren!CP71","v":{"v":8.97,"d":"8.9700"}},{"$f":"Invoeren!CR71","v":{"v":39.443299999999994,"d":"39.4433"}},{"$f":"Invoeren!CS71","v":44.8219},{"$f":"Invoeren!CT71","v":0},{"$f":"Invoeren!C71","v":44.8219},{"$f":"Invoeren!L71","v":0},{"$f":"Invoeren!M71","v":""},{"$f":"Invoeren!N71","v":""},{"$f":"Invoeren!H71","v":"Zuid"},{"$f":"Invoeren!AI71","v":96},{"$f":"Invoeren!BC71","v":175},{"$f":"Invoeren!BW71","v":156},{"$f":"Invoeren!CQ71","v":187}]
[{"$f":"Invoeren!B72","v":108},{"$f":"Invoeren!A72","v":66},{"$f":"Invoeren!E72","v":"Daniela Quist"},{"$f":"Invoeren!F72","v":"Aquarijn"},{"$f":"Invoeren!$K72","v":2004},{"$f":"Invoeren!$I72","v":0},{"$f":"Invoeren!Z72","v":4.9},{"$f":"Invoeren!AA72","v":5.3},{"$f":"Invoeren!AB72","v":5.5},{"$f":"Invoeren!AC72","v":5.6},{"$f":"Invoeren!AD72","v":5.3},{"$f":"Invoeren!AE72","v":""},{"$f":"Invoeren!AF72","v":""},{"$f":"Invoeren!AG72","v":16.1},{"$f":"Invoeren!AH72","v":11.8067},{"$f":"Invoeren!AT72","v":4.2},{"$f":"Invoeren!AU72","v":4.2},{"$f":"Invoeren!AV72","v":4.5},{"$f":"Invoeren!AW72","v":4.4},{"$f":"Invoeren!AX72","v":4.7},{"$f":"Invoeren!AY72","v":""},{"$f":"Invoeren!AZ72","v":""},{"$f":"Invoeren!BA72","v":{"v":13.100000000000001,"d":"13.1"}},{"$f":"Invoeren!BB72","v":9.6067},{"$f":"Invoeren!BN72","v":4.4},{"$f":"Invoeren!BO72","v":5.4},{"$f":"Invoeren!BP72","v":5.3},{"$f":"Invoeren!BQ72","v":5.3},{"$f":"Invoeren!BR72","v":5.2},{"$f":"Invoeren!BS72","v":""},{"$f":"Invoeren!BT72","v":""},{"$f":"Invoeren!BU72","v":{"v":15.800000000000002,"d":"15.8"}},{"$f":"Invoeren!BV72","v":{"v":11.06,"d":"11.0600"}},{"$f":"Invoeren!CH72","v":4.6},{"$f":"Invoeren!CI72","v":4.8},{"$f":"Invoeren!CJ72","v":4.8},{"$f":"Invoeren!CK72","v":4.7},{"$f":"Invoeren!CL72","v":4.6},{"$f":"Invoeren!CM72","v":""},{"$f":"Invoeren!CN72","v":""},{"$f":"Invoeren!CO72","v":14.1},{"$f":"Invoeren!CP72","v":{"v":10.81,"d":"10.8100"}},{"$f":"Invoeren!CR72","v":43.2834},{"$f":"Invoeren!CS72","v":49.1857},{"$f":"Invoeren!CT72","v":0},{"$f":"Invoeren!C72","v":49.1857},{"$f":"Invoeren!L72","v":0},{"$f":"Invoeren!M72","v":"L"},{"$f":"Invoeren!N72","v":"Age II"},{"$f":"Invoeren!H72","v":"MidWest"},{"$f":"Invoeren!AI72","v":72},{"$f":"Invoeren!BC72","v":154},{"$f":"Invoeren!BW72","v":101},{"$f":"Invoeren!CQ72","v":107}]
[{"$f":"Invoeren!B73","v":12},{"$f":"Invoeren!A73","v":67},{"$f":"Invoeren!E73","v":"Mare Schallenberg"},{"$f":"Invoeren!F73","v":"ACZ"},{"$f":"Invoeren!$K73","v":2006},{"$f":"Invoeren!$I73","v":0},{"$f":"Invoeren!Z73","v":{"v":6,"d":"6.0"}},{"$f":"Invoeren!AA73","v":{"v":6,"d":"6.0"}},{"$f":"Invoeren!AB73","v":6.2},{"$f":"Invoeren!AC73","v":5.9},{"$f":"Invoeren!AD73","v":5.9},{"$f":"Invoeren!AE73","v":""},{"$f":"Invoeren!AF73","v":""},{"$f":"Invoeren!AG73","v":17.9},{"$f":"Invoeren!AH73","v":13.1267},{"$f":"Invoeren!AT73","v":{"v":6,"d":"6.0"}},{"$f":"Invoeren!AU73","v":{"v":6,"d":"6.0"}},{"$f":"Invoeren!AV73","v":{"v":6,"d":"6.0"}},{"$f":"Invoeren!AW73","v":6.8},{"$f":"Invoeren!AX73","v":5.8},{"$f":"Invoeren!AY73","v":""},{"$f":"Invoeren!AZ73","v":""},{"$f":"Invoeren!BA73","v":{"v":18,"d":"18.0"}},{"$f":"Invoeren!BB73","v":{"v":13.2,"d":"13.2000"}},{"$f":"Invoeren!BN73","v":6.1},{"$f":"Invoeren!BO73","v":6.4},{"$f":"Invoeren!BP73","v":6.4},{"$f":"Invoeren!BQ73","v":6.6},{"$f":"Invoeren!BR73","v":7.2},{"$f":"Invoeren!BS73","v":""},{"$f":"Invoeren!BT73","v":""},{"$f":"Invoeren!BU73","v":{"v":19.400000000000006,"d":"19.4"}},{"$f":"Invoeren!BV73","v":{"v":13.58,"d":"13.5800"}},{"$f":"Invoeren!CH73","v":6.1},{"$f":"Invoeren!CI73","v":{"v":6,"d":"6.0"}},{"$f":"Invoeren!CJ73","v":5.4},{"$f":"Invoeren!CK73","v":5.4},{"$f":"Invoeren!CL73","v":5.7},{"$f":"Invoeren!CM73","v":""},{"$f":"Invoeren!CN73","v":""},{"$f":"Invoeren!CO73","v":17.1},{"$f":"Invoeren!CP73","v":{"v":13.11,"d":"13.1100"}},{"$f":"Invoeren!CR73","v":53.0167},{"$f":"Invoeren!CS73","v":60.2463},{"$f":"Invoeren!CT73","v":0},{"$f":"Invoeren!C73","v":60.2463},{"$f":"Invoeren!L73","v":0},{"$f":"Invoeren!M73","v":"L"},{"$f":"Invoeren!N73","v":""},{"$f":"Invoeren!H73","v":"West"},{"$f":"Invoeren!AI73","v":19},{"$f":"Invoeren!BC73","v":9},{"$f":"Invoeren!BW73","v":7},{"$f":"Invoeren!CQ73","v":16}]
[{"$f":"Invoeren!B74","v":191},{"$f":"Invoeren!A74","v":68},{"$f":"Invoeren!E74","v":"Luciella Janse"},{"$f":"Invoeren!F74","v":"De Houtrib"},{"$f":"Invoeren!$K74","v":2003},{"$f":"Invoeren!$I74","v":0},{"$f":"Invoeren!Z74","v":4.2},{"$f":"Invoeren!AA74","v":{"v":4,"d":"4.0"}},{"$f":"Invoeren!AB74","v":{"v":4,"d":"4.0"}},{"$f":"Invoeren!AC74","v":4.2},{"$f":"Invoeren!AD74","v":3.9},{"$f":"Invoeren!AE74","v":""},{"$f":"Invoeren!AF74","v":""},{"$f":"Invoeren!AG74","v":{"v":12.199999999999998,"d":"12.2"}},{"$f":"Invoeren!AH74","v":8.9467},{"$f":"Invoeren!AT74","v":3.3},{"$f":"Invoeren!AU74","v":3.5},{"$f":"Invoeren!AV74","v":3.7},{"$f":"Invoeren!AW74","v":2.1},{"$f":"Invoeren!AX74","v":{"v":3,"d":"3.0"}},{"$f":"Invoeren!AY74","v":""},{"$f":"Invoeren!AZ74","v":""},{"$f":"Invoeren!BA74","v":{"v":9.799999999999999,"d":"9.8"}},{"$f":"Invoeren!BB74","v":7.1867},{"$f":"Invoeren!BN74","v":3.8},{"$f":"Invoeren!BO74","v":4.3},{"$f":"Invoeren!BP74","v":4.6},{"$f":"Invoeren!BQ74","v":4.6},{"$f":"Invoeren!BR74","v":4.4},{"$f":"Invoeren!BS74","v":""},{"$f":"Invoeren!BT74","v":""},{"$f":"Invoeren!BU74","v":{"v":13.299999999999994,"d":"13.3"}},{"$f":"Invoeren!BV74","v":{"v":9.31,"d":"9.3100"}},{"$f":"Invoeren!CH74","v":{"v":4,"d":"4.0"}},{"$f":"Invoeren!CI74","v":{"v":4,"d":"4.0"}},{"$f":"Invoeren!CJ74","v":4.3},{"$f":"Invoeren!CK74","v":4.6},{"$f":"Invoeren!CL74","v":{"v":4,"d":"4.0"}},{"$f":"Invoeren!CM74","v":""},{"$f":"Invoeren!CN74","v":""},{"$f":"Invoeren!CO74","v":{"v":12.299999999999997,"d":"12.3"}},{"$f":"Invoeren!CP74","v":{"v":9.43,"d":"9.4300"}},{"$f":"Invoeren!CR74","v":{"v":34.873400000000004,"d":"34.8734"}},{"$f":"Invoeren!CS74","v":39.6289},{"$f":"Invoeren!CT74","v":0},{"$f":"Invoeren!C74","v":39.6289},{"$f":"Invoeren!L74","v":0},{"$f":"Invoeren!M74","v":""},{"$f":"Invoeren!N74","v":""},{"$f":"Invoeren!H74","v":"Oost"},{"$f":"Invoeren!AI74","v":193},{"$f":"Invoeren!BC74","v":197},{"$f":"Invoeren!BW74","v":185},{"$f":"Invoeren!CQ74","v":170}]
[{"$f":"Invoeren!B75","v":95},{"$f":"Invoeren!A75","v":69},{"$f":"Invoeren!E75","v":"Joy Favie"},{"$f":"Invoeren!F75","v":"Z.P.C.H."},{"$f":"Invoeren!$K75","v":2004},{"$f":"Invoeren!$I75","v":0},{"$f":"Invoeren!Z75","v":4.8},{"$f":"Invoeren!AA75","v":{"v":5,"d":"5.0"}},{"$f":"Invoeren!AB75","v":5.4},{"$f":"Invoeren!AC75","v":5.4},{"$f":"Invoeren!AD75","v":5.4},{"$f":"Invoeren!AE75","v":""},{"$f":"Invoeren!AF75","v":""},{"$f":"Invoeren!AG75","v":15.8},{"$f":"Invoeren!AH75","v":11.5867},{"$f":"Invoeren!AT75","v":4.2},{"$f":"Invoeren!AU75","v":3.7},{"$f":"Invoeren!AV75","v":{"v":4,"d":"4.0"}},{"$f":"Invoeren!AW75","v":3.9},{"$f":"Invoeren!AX75","v":4.3},{"$f":"Invoeren!AY75","v":""},{"$f":"Invoeren!AZ75","v":""},{"$f":"Invoeren!BA75","v":{"v":12.100000000000001,"d":"12.1"}},{"$f":"Invoeren!BB75","v":8.8733},{"$f":"Invoeren!BN75","v":6.2},{"$f":"Invoeren!BO75","v":5.8},{"$f":"Invoeren!BP75","v":6.5},{"$f":"Invoeren!BQ75","v":5.8},{"$f":"Invoeren!BR75","v":5.3},{"$f":"Invoeren!BS75","v":""},{"$f":"Invoeren!BT75","v":""},{"$f":"Invoeren!BU75","v":17.8},{"$f":"Invoeren!BV75","v":{"v":12.46,"d":"12.4600"}},{"$f":"Invoeren!CH75","v":5.7},{"$f":"Invoeren!CI75","v":4.8},{"$f":"Invoeren!CJ75","v":4.9},{"$f":"Invoeren!CK75","v":4.9},{"$f":"Invoeren!CL75","v":4.9},{"$f":"Invoeren!CM75","v":""},{"$f":"Invoeren!CN75","v":""},{"$f":"Invoeren!CO75","v":{"v":14.700000000000003,"d":"14.7"}},{"$f":"Invoeren!CP75","v":{"v":11.27,"d":"11.2700"}},{"$f":"Invoeren!CR75","v":{"v":44.19,"d":"44.1900"}},{"$f":"Invoeren!CS75","v":50.2159},{"$f":"Invoeren!CT75","v":0},{"$f":"Invoeren!C75","v":50.2159},{"$f":"Invoeren!L75","v":0},{"$f":"Invoeren!M75","v":"L"},{"$f":"Invoeren!N75","v":""},{"$f":"Invoeren!H75","v":"MidWest"},{"$f":"Invoeren!AI75","v":85},{"$f":"Invoeren!BC75","v":181},{"$f":"Invoeren!BW75","v":31},{"$f":"Invoeren!CQ75","v":76}]
[{"$f":"Invoeren!B76","v":25},{"$f":"Invoeren!A76","v":70},{"$f":"Invoeren!E76","v":"Newa Hama Hussein"},{"$f":"Invoeren!F76","v":"Cadans"},{"$f":"Invoeren!$K76","v":2005},{"$f":"Invoeren!$I76","v":0},{"$f":"Invoeren!Z76","v":5.5},{"$f":"Invoeren!AA76","v":5.7},{"$f":"Invoeren!AB76","v":5.6},{"$f":"Invoeren!AC76","v":5.2},{"$f":"Invoeren!AD76","v":5.1},{"$f":"Invoeren!AE76","v":""},{"$f":"Invoeren!AF76","v":""},{"$f":"Invoeren!AG76","v":{"v":16.299999999999997,"d":"16.3"}},{"$f":"Invoeren!AH76","v":11.9533},{"$f":"Invoeren!AT76","v":5.6},{"$f":"Invoeren!AU76","v":4.5},{"$f":"Invoeren!AV76","v":5.5},{"$f":"Invoeren!AW76","v":5.8},{"$f":"Invoeren!AX76","v":{"v":6,"d":"6.0"}},{"$f":"Invoeren!AY76","v":""},{"$f":"Invoeren!AZ76","v":""},{"$f":"Invoeren!BA76","v":16.9},{"$f":"Invoeren!BB76","v":12.3933},{"$f":"Invoeren!BN76","v":5.9},{"$f":"Invoeren!BO76","v":6.1},{"$f":"Invoeren!BP76","v":{"v":6,"d":"6.0"}},{"$f":"Invoeren!BQ76","v":6.2},{"$f":"Invoeren!BR76","v":6.4},{"$f":"Invoeren!BS76","v":""},{"$f":"Invoeren!BT76","v":""},{"$f":"Invoeren!BU76","v":{"v":18.300000000000004,"d":"18.3"}},{"$f":"Invoeren!BV76","v":{"v":12.81,"d":"12.8100"}},{"$f":"Invoeren!CH76","v":5.1},{"$f":"Invoeren!CI76","v":5.6},{"$f":"Invoeren!CJ76","v":5.5},{"$f":"Invoeren!CK76","v":5.8},{"$f":"Invoeren!CL76","v":5.4},{"$f":"Invoeren!CM76","v":""},{"$f":"Invoeren!CN76","v":""},{"$f":"Invoeren!CO76","v":16.5},{"$f":"Invoeren!CP76","v":{"v":12.65,"d":"12.6500"}},{"$f":"Invoeren!CR76","v":49.8066},{"$f":"Invoeren!CS76","v":56.5984},{"$f":"Invoeren!CT76","v":0},{"$f":"Invoeren!C76","v":56.5984},{"$f":"Invoeren!L76","v":0},{"$f":"Invoeren!M76","v":"L"},{"$f":"Invoeren!N76","v":""},{"$f":"Invoeren!H76","v":"oost"},{"$f":"Invoeren!AI76","v":62},{"$f":"Invoeren!BC76","v":23},{"$f":"Invoeren!BW76","v":21},{"$f":"Invoeren!CQ76","v":25}]
[{"$f":"Invoeren!B77","v":88},{"$f":"Invoeren!A77","v":71},{"$f":"Invoeren!E77","v":"Charelle Spaan"},{"$f":"Invoeren!F77","v":"Z.P.C.H."},{"$f":"Invoeren!$K77","v":2005},{"$f":"Invoeren!$I77","v":0},{"$f":"Invoeren!Z77","v":5.2},{"$f":"Invoeren!AA77","v":5.1},{"$f":"Invoeren!AB77","v":5.8},{"$f":"Invoeren!AC77","v":5.1},{"$f":"Invoeren!AD77","v":5.4},{"$f":"Invoeren!AE77","v":""},{"$f":"Invoeren!AF77","v":""},{"$f":"Invoeren!AG77","v":{"v":15.700000000000001,"d":"15.7"}},{"$f":"Invoeren!AH77","v":11.5133},{"$f":"Invoeren!AT77","v":5.2},{"$f":"Invoeren!AU77","v":4.7},{"$f":"Invoeren!AV77","v":5.6},{"$f":"Invoeren!AW77","v":5.2},{"$f":"Invoeren!AX77","v":5.4},{"$f":"Invoeren!AY77","v":""},{"$f":"Invoeren!AZ77","v":""},{"$f":"Invoeren!BA77","v":15.8},{"$f":"Invoeren!BB77","v":11.5867},{"$f":"Invoeren!BN77","v":4.7},{"$f":"Invoeren!BO77","v":4.9},{"$f":"Invoeren!BP77","v":5.9},{"$f":"Invoeren!BQ77","v":4.7},{"$f":"Invoeren!BR77","v":4.6},{"$f":"Invoeren!BS77","v":""},{"$f":"Invoeren!BT77","v":""},{"$f":"Invoeren!BU77","v":{"v":14.300000000000006,"d":"14.3"}},{"$f":"Invoeren!BV77","v":{"v":10.01,"d":"10.0100"}},{"$f":"Invoeren!CH77","v":4.6},{"$f":"Invoeren!CI77","v":{"v":5,"d":"5.0"}},{"$f":"Invoeren!CJ77","v":4.9},{"$f":"Invoeren!CK77","v":4.9},{"$f":"Invoeren!CL77","v":5.1},{"$f":"Invoeren!CM77","v":""},{"$f":"Invoeren!CN77","v":""},{"$f":"Invoeren!CO77","v":{"v":14.799999999999999,"d":"14.8"}},{"$f":"Invoeren!CP77","v":11.3467},{"$f":"Invoeren!CR77","v":44.4567},{"$f":"Invoeren!CS77","v":{"v":50.519,"d":"50.5190"}},{"$f":"Invoeren!CT77","v":0},{"$f":"Invoeren!C77","v":{"v":50.519,"d":"50.5190"}},{"$f":"Invoeren!L77","v":0},{"$f":"Invoeren!M77","v":"L"},{"$f":"Invoeren!N77","v":""},{"$f":"Invoeren!H77","v":"MidWest"},{"$f":"Invoeren!AI77","v":88},{"$f":"Invoeren!BC77","v":50},{"$f":"Invoeren!BW77","v":153},{"$f":"Invoeren!CQ77","v":72}]
[{"$f":"Invoeren!B78","v":74},{"$f":"Invoeren!A78","v":72},{"$f":"Invoeren!E78","v":"Floortje van der Velde"},{"$f":"Invoeren!F78","v":"HZ&PC Heerenveen"},{"$f":"Invoeren!$K78","v":2005},{"$f":"Invoeren!$I78","v":0},{"$f":"Invoeren!Z78","v":5.1},{"$f":"Invoeren!AA78","v":4.8},{"$f":"Invoeren!AB78","v":4.8},{"$f":"Invoeren!AC78","v":4.7},{"$f":"Invoeren!AD78","v":{"v":5,"d":"5.0"}},{"$f":"Invoeren!AE78","v":""},{"$f":"Invoeren!AF78","v":""},{"$f":"Invoeren!AG78","v":{"v":14.599999999999998,"d":"14.6"}},{"$f":"Invoeren!AH78","v":10.7067},{"$f":"Invoeren!AT78","v":5.3},{"$f":"Invoeren!AU78","v":{"v":5,"d":"5.0"}},{"$f":"Invoeren!AV78","v":5.2},{"$f":"Invoeren!AW78","v":5.4},{"$f":"Invoeren!AX78","v":5.2},{"$f":"Invoeren!AY78","v":""},{"$f":"Invoeren!AZ78","v":""},{"$f":"Invoeren!BA78","v":{"v":15.699999999999996,"d":"15.7"}},{"$f":"Invoeren!BB78","v":11.5133},{"$f":"Invoeren!BN78","v":5.1},{"$f":"Invoeren!BO78","v":6.2},{"$f":"Invoeren!BP78","v":{"v":6,"d":"6.0"}},{"$f":"Invoeren!BQ78","v":5.9},{"$f":"Invoeren!BR78","v":5.2},{"$f":"Invoeren!BS78","v":""},{"$f":"Invoeren!BT78","v":""},{"$f":"Invoeren!BU78","v":17.1},{"$f":"Invoeren!BV78","v":{"v":11.97,"d":"11.9700"}},{"$f":"Invoeren!CH78","v":4.9},{"$f":"Invoeren!CI78","v":4.9},{"$f":"Invoeren!CJ78","v":4.8},{"$f":"Invoeren!CK78","v":4.7},{"$f":"Invoeren!CL78","v":4.8},{"$f":"Invoeren!CM78","v":""},{"$f":"Invoeren!CN78","v":""},{"$f":"Invoeren!CO78","v":{"v":14.500000000000004,"d":"14.5"}},{"$f":"Invoeren!CP78","v":11.1167},{"$f":"Invoeren!CR78","v":45.3067},{"$f":"Invoeren!CS78","v":51.4849},{"$f":"Invoeren!CT78","v":0},{"$f":"Invoeren!C78","v":51.4849},{"$f":"Invoeren!L78","v":0},{"$f":"Invoeren!M78","v":"L"},{"$f":"Invoeren!N78","v":""},{"$f":"Invoeren!H78","v":"Noord"},{"$f":"Invoeren!AI78","v":125},{"$f":"Invoeren!BC78","v":55},{"$f":"Invoeren!BW78","v":57},{"$f":"Invoeren!CQ78","v":87}]
[{"$f":"Invoeren!B79","v":57},{"$f":"Invoeren!A79","v":73},{"$f":"Invoeren!E79","v":"Noëlle Rienks"},{"$f":"Invoeren!F79","v":"De Watertrappers"},{"$f":"Invoeren!$K79","v":2005},{"$f":"Invoeren!$I79","v":0},{"$f":"Invoeren!Z79","v":5.2},{"$f":"Invoeren!AA79","v":{"v":5,"d":"5.0"}},{"$f":"Invoeren!AB79","v":5.4},{"$f":"Invoeren!AC79","v":5.4},{"$f":"Invoeren!AD79","v":5.1},{"$f":"Invoeren!AE79","v":""},{"$f":"Invoeren!AF79","v":""},{"$f":"Invoeren!AG79","v":{"v":15.700000000000003,"d":"15.7"}},{"$f":"Invoeren!AH79","v":11.5133},{"$f":"Invoeren!AT79","v":4.7},{"$f":"Invoeren!AU79","v":5.9},{"$f":"Invoeren!AV79","v":5.6},{"$f":"Invoeren!AW79","v":5.5},{"$f":"Invoeren!AX79","v":5.3},{"$f":"Invoeren!AY79","v":""},{"$f":"Invoeren!AZ79","v":""},{"$f":"Invoeren!BA79","v":{"v":16.400000000000002,"d":"16.4"}},{"$f":"Invoeren!BB79","v":12.0267},{"$f":"Invoeren!BN79","v":5.1},{"$f":"Invoeren!BO79","v":5.7},{"$f":"Invoeren!BP79","v":5.7},{"$f":"Invoeren!BQ79","v":5.4},{"$f":"Invoeren!BR79","v":5.4},{"$f":"Invoeren!BS79","v":""},{"$f":"Invoeren!BT79","v":""},{"$f":"Invoeren!BU79","v":16.5},{"$f":"Invoeren!BV79","v":{"v":11.55,"d":"11.5500"}},{"$f":"Invoeren!CH79","v":5.2},{"$f":"Invoeren!CI79","v":5.1},{"$f":"Invoeren!CJ79","v":4.9},{"$f":"Invoeren!CK79","v":5.3},{"$f":"Invoeren!CL79","v":5.1},{"$f":"Invoeren!CM79","v":""},{"$f":"Invoeren!CN79","v":""},{"$f":"Invoeren!CO79","v":15.4},{"$f":"Invoeren!CP79","v":11.8067},{"$f":"Invoeren!CR79","v":46.8967},{"$f":"Invoeren!CS79","v":53.2917},{"$f":"Invoeren!CT79","v":0},{"$f":"Invoeren!C79","v":53.2917},{"$f":"Invoeren!L79","v":0},{"$f":"Invoeren!M79","v":"L"},{"$f":"Invoeren!N79","v":""},{"$f":"Invoeren!H79","v":"Mid West"},{"$f":"Invoeren!AI79","v":88},{"$f":"Invoeren!BC79","v":36},{"$f":"Invoeren!BW79","v":82},{"$f":"Invoeren!CQ79","v":47}]
[{"$f":"Invoeren!B80","v":123},{"$f":"Invoeren!A80","v":74},{"$f":"Invoeren!E80","v":"Esmee van den Heuvel"},{"$f":"Invoeren!F80","v":"Widex Gzc Donk"},{"$f":"Invoeren!$K80","v":2004},{"$f":"Invoeren!$I80","v":0},{"$f":"Invoeren!Z80","v":4.9},{"$f":"Invoeren!AA80","v":5.1},{"$f":"Invoeren!AB80","v":5.5},{"$f":"Invoeren!AC80","v":5.1},{"$f":"Invoeren!AD80","v":5.4},{"$f":"Invoeren!AE80","v":""},{"$f":"Invoeren!AF80","v":""},{"$f":"Invoeren!AG80","v":15.6},{"$f":"Invoeren!AH80","v":{"v":11.44,"d":"11.4400"}},{"$f":"Invoeren!AT80","v":4.5},{"$f":"Invoeren!AU80","v":4.6},{"$f":"Invoeren!AV80","v":4.7},{"$f":"Invoeren!AW80","v":4.6},{"$f":"Invoeren!AX80","v":4.9},{"$f":"Invoeren!AY80","v":""},{"$f":"Invoeren!AZ80","v":""},{"$f":"Invoeren!BA80","v":{"v":13.899999999999999,"d":"13.9"}},{"$f":"Invoeren!BB80","v":10.1933},{"$f":"Invoeren!BN80","v":4.8},{"$f":"Invoeren!BO80","v":{"v":5,"d":"5.0"}},{"$f":"Invoeren!BP80","v":4.7},{"$f":"Invoeren!BQ80","v":4.9},{"$f":"Invoeren!BR80","v":{"v":5,"d":"5.0"}},{"$f":"Invoeren!BS80","v":""},{"$f":"Invoeren!BT80","v":""},{"$f":"Invoeren!BU80","v":14.7},{"$f":"Invoeren!BV80","v":{"v":10.29,"d":"10.2900"}},{"$f":"Invoeren!CH80","v":4.4},{"$f":"Invoeren!CI80","v":4.5},{"$f":"Invoeren!CJ80","v":4.5},{"$f":"Invoeren!CK80","v":4.5},{"$f":"Invoeren!CL80","v":4.6},{"$f":"Invoeren!CM80","v":""},{"$f":"Invoeren!CN80","v":""},{"$f":"Invoeren!CO80","v":{"v":13.499999999999998,"d":"13.5"}},{"$f":"Invoeren!CP80","v":{"v":10.35,"d":"10.3500"}},{"$f":"Invoeren!CR80","v":42.2733},{"$f":"Invoeren!CS80","v":48.0378},{"$f":"Invoeren!CT80","v":0},{"$f":"Invoeren!C80","v":48.0378},{"$f":"Invoeren!L80","v":0},{"$f":"Invoeren!M80","v":""},{"$f":"Invoeren!N80","v":""},{"$f":"Invoeren!H80","v":"West"},{"$f":"Invoeren!AI80","v":96},{"$f":"Invoeren!BC80","v":119},{"$f":"Invoeren!BW80","v":139},{"$f":"Invoeren!CQ80","v":131}]
[{"$f":"Invoeren!B81","v":141},{"$f":"Invoeren!A81","v":75},{"$f":"Invoeren!E81","v":"Daphne Lutjenhuis"},{"$f":"Invoeren!F81","v":"AZC"},{"$f":"Invoeren!$K81","v":2005},{"$f":"Invoeren!$I81","v":0},{"$f":"Invoeren!Z81","v":{"v":5,"d":"5.0"}},{"$f":"Invoeren!AA81","v":4.5},{"$f":"Invoeren!AB81","v":4.7},{"$f":"Invoeren!AC81","v":5.1},{"$f":"Invoeren!AD81","v":4.7},{"$f":"Invoeren!AE81","v":""},{"$f":"Invoeren!AF81","v":""},{"$f":"Invoeren!AG81","v":{"v":14.399999999999999,"d":"14.4"}},{"$f":"Invoeren!AH81","v":{"v":10.56,"d":"10.5600"}},{"$f":"Invoeren!AT81","v":4.9},{"$f":"Invoeren!AU81","v":4.7},{"$f":"Invoeren!AV81","v":4.5},{"$f":"Invoeren!AW81","v":{"v":5,"d":"5.0"}},{"$f":"Invoeren!AX81","v":4.8},{"$f":"Invoeren!AY81","v":""},{"$f":"Invoeren!AZ81","v":""},{"$f":"Invoeren!BA81","v":{"v":14.400000000000002,"d":"14.4"}},{"$f":"Invoeren!BB81","v":{"v":10.56,"d":"10.5600"}},{"$f":"Invoeren!BN81","v":4.9},{"$f":"Invoeren!BO81","v":4.9},{"$f":"Invoeren!BP81","v":{"v":5,"d":"5.0"}},{"$f":"Invoeren!BQ81","v":{"v":5,"d":"5.0"}},{"$f":"Invoeren!BR81","v":5.3},{"$f":"Invoeren!BS81","v":""},{"$f":"Invoeren!BT81","v":""},{"$f":"Invoeren!BU81","v":14.9},{"$f":"Invoeren!BV81","v":{"v":10.43,"d":"10.4300"}},{"$f":"Invoeren!CH81","v":4.3},{"$f":"Invoeren!CI81","v":4.3},{"$f":"Invoeren!CJ81","v":4.3},{"$f":"Invoeren!CK81","v":4.4},{"$f":"Invoeren!CL81","v":4.2},{"$f":"Invoeren!CM81","v":""},{"$f":"Invoeren!CN81","v":""},{"$f":"Invoeren!CO81","v":{"v":12.899999999999995,"d":"12.9"}},{"$f":"Invoeren!CP81","v":{"v":9.89,"d":"9.8900"}},{"$f":"Invoeren!CR81","v":{"v":41.44,"d":"41.4400"}},{"$f":"Invoeren!CS81","v":47.0909},{"$f":"Invoeren!CT81","v":0},{"$f":"Invoeren!C81","v":47.0909},{"$f":"Invoeren!L81","v":0},{"$f":"Invoeren!M81","v":"L"},{"$f":"Invoeren!N81","v":""},{"$f":"Invoeren!H81","v":"West"},{"$f":"Invoeren!AI81","v":137},{"$f":"Invoeren!BC81","v":104},{"$f":"Invoeren!BW81","v":127},{"$f":"Invoeren!CQ81","v":153}]
[{"$f":"Invoeren!B82","v":155},{"$f":"Invoeren!A82","v":76},{"$f":"Invoeren!E82","v":"Feija Wollring"},{"$f":"Invoeren!F82","v":"Cadans"},{"$f":"Invoeren!$K82","v":2005},{"$f":"Invoeren!$I82","v":0},{"$f":"Invoeren!Z82","v":4.8},{"$f":"Invoeren!AA82","v":{"v":5,"d":"5.0"}},{"$f":"Invoeren!AB82","v":5.2},{"$f":"Invoeren!AC82","v":4.7},{"$f":"Invoeren!AD82","v":4.8},{"$f":"Invoeren!AE82","v":""},{"$f":"Invoeren!AF82","v":""},{"$f":"Invoeren!AG82","v":{"v":14.600000000000001,"d":"14.6"}},{"$f":"Invoeren!AH82","v":10.7067},{"$f":"Invoeren!AT82","v":4.3},{"$f":"Invoeren!AU82","v":4.3},{"$f":"Invoeren!AV82","v":4.8},{"$f":"Invoeren!AW82","v":4.1},{"$f":"Invoeren!AX82","v":4.4},{"$f":"Invoeren!AY82","v":""},{"$f":"Invoeren!AZ82","v":""},{"$f":"Invoeren!BA82","v":{"v":12.999999999999998,"d":"13.0"}},{"$f":"Invoeren!BB82","v":9.5333},{"$f":"Invoeren!BN82","v":4.7},{"$f":"Invoeren!BO82","v":4.7},{"$f":"Invoeren!BP82","v":4.9},{"$f":"Invoeren!BQ82","v":4.2},{"$f":"Invoeren!BR82","v":4.7},{"$f":"Invoeren!BS82","v":""},{"$f":"Invoeren!BT82","v":""},{"$f":"Invoeren!BU82","v":{"v":14.099999999999998,"d":"14.1"}},{"$f":"Invoeren!BV82","v":{"v":9.87,"d":"9.8700"}},{"$f":"Invoeren!CH82","v":4.1},{"$f":"Invoeren!CI82","v":4.5},{"$f":"Invoeren!CJ82","v":4.6},{"$f":"Invoeren!CK82","v":4.1},{"$f":"Invoeren!CL82","v":{"v":4,"d":"4.0"}},{"$f":"Invoeren!CM82","v":""},{"$f":"Invoeren!CN82","v":""},{"$f":"Invoeren!CO82","v":{"v":12.699999999999996,"d":"12.7"}},{"$f":"Invoeren!CP82","v":9.7367},{"$f":"Invoeren!CR82","v":39.8467},{"$f":"Invoeren!CS82","v":45.2803},{"$f":"Invoeren!CT82","v":0},{"$f":"Invoeren!C82","v":45.2803},{"$f":"Invoeren!L82","v":0},{"$f":"Invoeren!M82","v":""},{"$f":"Invoeren!N82","v":""},{"$f":"Invoeren!H82","v":"oost"},{"$f":"Invoeren!AI82","v":125},{"$f":"Invoeren!BC82","v":159},{"$f":"Invoeren!BW82","v":160},{"$f":"Invoeren!CQ82","v":158}]
[{"$f":"Invoeren!B83","v":"BM"},{"$f":"Invoeren!A83","v":77},{"$f":"Invoeren!E83","v":"Shariëlle Garia"},{"$f":"Invoeren!F83","v":"ZVBrunssum"},{"$f":"Invoeren!$K83","v":2002},{"$f":"Invoeren!$I83","v":"BM"},{"$f":"Invoeren!Z83","v":4.3},{"$f":"Invoeren!AA83","v":4.3},{"$f":"Invoeren!AB83","v":4.5},{"$f":"Invoeren!AC83","v":4.7},{"$f":"Invoeren!AD83","v":4.7},{"$f":"Invoeren!AE83","v":""},{"$f":"Invoeren!AF83","v":""},{"$f":"Invoeren!AG83","v":13.5},{"$f":"Invoeren!AH83","v":{"v":9.9,"d":"9.9000"}},{"$f":"Invoeren!AT83","v":{"v":4,"d":"4.0"}},{"$f":"Invoeren!AU83","v":4.5},{"$f":"Invoeren!AV83","v":4.5},{"$f":"Invoeren!AW83","v":4.6},{"$f":"Invoeren!AX83","v":4.5},{"$f":"Invoeren!AY83","v":""},{"$f":"Invoeren!AZ83","v":""},{"$f":"Invoeren!BA83","v":13.5},{"$f":"Invoeren!BB83","v":{"v":9.9,"d":"9.9000"}},{"$f":"Invoeren!BN83","v":4.6},{"$f":"Invoeren!BO83","v":4.6},{"$f":"Invoeren!BP83","v":4.8},{"$f":"Invoeren!BQ83","v":4.5},{"$f":"Invoeren!BR83","v":4.4},{"$f":"Invoeren!BS83","v":""},{"$f":"Invoeren!BT83","v":""},{"$f":"Invoeren!BU83","v":{"v":13.699999999999998,"d":"13.7"}},{"$f":"Invoeren!BV83","v":{"v":9.59,"d":"9.5900"}},{"$f":"Invoeren!CH83","v":3.5},{"$f":"Invoeren!CI83","v":{"v":4,"d":"4.0"}},{"$f":"Invoeren!CJ83","v":{"v":4,"d":"4.0"}},{"$f":"Invoeren!CK83","v":3.7},{"$f":"Invoeren!CL83","v":3.8},{"$f":"Invoeren!CM83","v":""},{"$f":"Invoeren!CN83","v":""},{"$f":"Invoeren!CO83","v":11.5},{"$f":"Invoeren!CP83","v":8.8167},{"$f":"Invoeren!CR83","v":38.2067},{"$f":"Invoeren!CS83","v":43.4167},{"$f":"Invoeren!CT83","v":0},{"$f":"Invoeren!C83","v":43.4167},{"$f":"Invoeren!L83","v":0},{"$f":"Invoeren!M83","v":"BM"},{"$f":"Invoeren!N83","v":""},{"$f":"Invoeren!H83","v":"Zuid"},{"$f":"Invoeren!AI83","v":172},{"$f":"Invoeren!BC83","v":138},{"$f":"Invoeren!BW83","v":173},{"$f":"Invoeren!CQ83","v":192}]
[{"$f":"Invoeren!B84","v":169},{"$f":"Invoeren!A84","v":78},{"$f":"Invoeren!E84","v":"Anna Kroon"},{"$f":"Invoeren!F84","v":"HZPC Horst"},{"$f":"Invoeren!$K84","v":2004},{"$f":"Invoeren!$I84","v":0},{"$f":"Invoeren!Z84","v":4.4},{"$f":"Invoeren!AA84","v":4.2},{"$f":"Invoeren!AB84","v":4.8},{"$f":"Invoeren!AC84","v":5.4},{"$f":"Invoeren!AD84","v":4.8},{"$f":"Invoeren!AE84","v":""},{"$f":"Invoeren!AF84","v":""},{"$f":"Invoeren!AG84","v":{"v":14.000000000000004,"d":"14.0"}},{"$f":"Invoeren!AH84","v":10.2667},{"$f":"Invoeren!AT84","v":4.6},{"$f":"Invoeren!AU84","v":4.2},{"$f":"Invoeren!AV84","v":4.3},{"$f":"Invoeren!AW84","v":{"v":4,"d":"4.0"}},{"$f":"Invoeren!AX84","v":4.6},{"$f":"Invoeren!AY84","v":""},{"$f":"Invoeren!AZ84","v":""},{"$f":"Invoeren!BA84","v":{"v":13.100000000000001,"d":"13.1"}},{"$f":"Invoeren!BB84","v":9.6067},{"$f":"Invoeren!BN84","v":4.4},{"$f":"Invoeren!BO84","v":4.5},{"$f":"Invoeren!BP84","v":4.6},{"$f":"Invoeren!BQ84","v":4.8},{"$f":"Invoeren!BR84","v":4.6},{"$f":"Invoeren!BS84","v":""},{"$f":"Invoeren!BT84","v":""},{"$f":"Invoeren!BU84","v":{"v":13.699999999999998,"d":"13.7"}},{"$f":"Invoeren!BV84","v":{"v":9.59,"d":"9.5900"}},{"$f":"Invoeren!CH84","v":{"v":4,"d":"4.0"}},{"$f":"Invoeren!CI84","v":4.1},{"$f":"Invoeren!CJ84","v":{"v":4,"d":"4.0"}},{"$f":"Invoeren!CK84","v":4.1},{"$f":"Invoeren!CL84","v":3.6},{"$f":"Invoeren!CM84","v":""},{"$f":"Invoeren!CN84","v":""},{"$f":"Invoeren!CO84","v":{"v":12.100000000000001,"d":"12.1"}},{"$f":"Invoeren!CP84","v":9.2767},{"$f":"Invoeren!CR84","v":38.7401},{"$f":"Invoeren!CS84","v":44.0228},{"$f":"Invoeren!CT84","v":0},{"$f":"Invoeren!C84","v":44.0228},{"$f":"Invoeren!L84","v":0},{"$f":"Invoeren!M84","v":""},{"$f":"Invoeren!N84","v":""},{"$f":"Invoeren!H84","v":"zuid"},{"$f":"Invoeren!AI84","v":157},{"$f":"Invoeren!BC84","v":154},{"$f":"Invoeren!BW84","v":173},{"$f":"Invoeren!CQ84","v":179}]
[{"$f":"Invoeren!B85","v":77},{"$f":"Invoeren!A85","v":79},{"$f":"Invoeren!E85","v":"Sascha van Leeuwen"},{"$f":"Invoeren!F85","v":"Aquarijn"},{"$f":"Invoeren!$K85","v":2005},{"$f":"Invoeren!$I85","v":0},{"$f":"Invoeren!Z85","v":5.5},{"$f":"Invoeren!AA85","v":5.5},{"$f":"Invoeren!AB85","v":6.1},{"$f":"Invoeren!AC85","v":6.2},{"$f":"Invoeren!AD85","v":5.6},{"$f":"Invoeren!AE85","v":""},{"$f":"Invoeren!AF85","v":""},{"$f":"Invoeren!AG85","v":17.2},{"$f":"Invoeren!AH85","v":12.6133},{"$f":"Invoeren!AT85","v":4.1},{"$f":"Invoeren!AU85","v":4.7},{"$f":"Invoeren!AV85","v":4.7},{"$f":"Invoeren!AW85","v":{"v":5,"d":"5.0"}},{"$f":"Invoeren!AX85","v":{"v":5,"d":"5.0"}},{"$f":"Invoeren!AY85","v":""},{"$f":"Invoeren!AZ85","v":""},{"$f":"Invoeren!BA85","v":14.4},{"$f":"Invoeren!BB85","v":{"v":10.56,"d":"10.5600"}},{"$f":"Invoeren!BN85","v":5.4},{"$f":"Invoeren!BO85","v":5.8},{"$f":"Invoeren!BP85","v":5.3},{"$f":"Invoeren!BQ85","v":5.3},{"$f":"Invoeren!BR85","v":4.7},{"$f":"Invoeren!BS85","v":""},{"$f":"Invoeren!BT85","v":""},{"$f":"Invoeren!BU85","v":{"v":16,"d":"16.0"}},{"$f":"Invoeren!BV85","v":{"v":11.2,"d":"11.2000"}},{"$f":"Invoeren!CH85","v":4.9},{"$f":"Invoeren!CI85","v":4.5},{"$f":"Invoeren!CJ85","v":4.5},{"$f":"Invoeren!CK85","v":4.8},{"$f":"Invoeren!CL85","v":4.8},{"$f":"Invoeren!CM85","v":""},{"$f":"Invoeren!CN85","v":""},{"$f":"Invoeren!CO85","v":{"v":14.100000000000001,"d":"14.1"}},{"$f":"Invoeren!CP85","v":{"v":10.81,"d":"10.8100"}},{"$f":"Invoeren!CR85","v":45.1833},{"$f":"Invoeren!CS85","v":51.3447},{"$f":"Invoeren!CT85","v":0},{"$f":"Invoeren!C85","v":51.3447},{"$f":"Invoeren!L85","v":0},{"$f":"Invoeren!M85","v":"L"},{"$f":"Invoeren!N85","v":""},{"$f":"Invoeren!H85","v":"MidWest"},{"$f":"Invoeren!AI85","v":32},{"$f":"Invoeren!BC85","v":104},{"$f":"Invoeren!BW85","v":95},{"$f":"Invoeren!CQ85","v":107}]
[{"$f":"Invoeren!B86","v":63},{"$f":"Invoeren!A86","v":80},{"$f":"Invoeren!E86","v":"Renske Veenstra"},{"$f":"Invoeren!F86","v":"DZ&PC"},{"$f":"Invoeren!$K86","v":2004},{"$f":"Invoeren!$I86","v":0},{"$f":"Invoeren!Z86","v":5.3},{"$f":"Invoeren!AA86","v":5.3},{"$f":"Invoeren!AB86","v":5.5},{"$f":"Invoeren!AC86","v":6.1},{"$f":"Invoeren!AD86","v":{"v":5,"d":"5.0"}},{"$f":"Invoeren!AE86","v":""},{"$f":"Invoeren!AF86","v":""},{"$f":"Invoeren!AG86","v":16.1},{"$f":"Invoeren!AH86","v":11.8067},{"$f":"Invoeren!AT86","v":4.4},{"$f":"Invoeren!AU86","v":4.9},{"$f":"Invoeren!AV86","v":5.2},{"$f":"Invoeren!AW86","v":5.1},{"$f":"Invoeren!AX86","v":5.1},{"$f":"Invoeren!AY86","v":""},{"$f":"Invoeren!AZ86","v":""},{"$f":"Invoeren!BA86","v":{"v":15.100000000000003,"d":"15.1"}},{"$f":"Invoeren!BB86","v":11.0733},{"$f":"Invoeren!BN86","v":5.4},{"$f":"Invoeren!BO86","v":5.6},{"$f":"Invoeren!BP86","v":5.9},{"$f":"Invoeren!BQ86","v":5.8},{"$f":"Invoeren!BR86","v":5.6},{"$f":"Invoeren!BS86","v":""},{"$f":"Invoeren!BT86","v":""},{"$f":"Invoeren!BU86","v":{"v":17,"d":"17.0"}},{"$f":"Invoeren!BV86","v":{"v":11.9,"d":"11.9000"}},{"$f":"Invoeren!CH86","v":4.5},{"$f":"Invoeren!CI86","v":4.9},{"$f":"Invoeren!CJ86","v":4.9},{"$f":"Invoeren!CK86","v":5.1},{"$f":"Invoeren!CL86","v":5.2},{"$f":"Invoeren!CM86","v":""},{"$f":"Invoeren!CN86","v":""},{"$f":"Invoeren!CO86","v":{"v":14.899999999999999,"d":"14.9"}},{"$f":"Invoeren!CP86","v":11.4233},{"$f":"Invoeren!CR86","v":46.2033},{"$f":"Invoeren!CS86","v":52.5038},{"$f":"Invoeren!CT86","v":0},{"$f":"Invoeren!C86","v":52.5038},{"$f":"Invoeren!L86","v":0},{"$f":"Invoeren!M86","v":"L"},{"$f":"Invoeren!N86","v":""},{"$f":"Invoeren!H86","v":"Noord"},{"$f":"Invoeren!AI86","v":72},{"$f":"Invoeren!BC86","v":74},{"$f":"Invoeren!BW86","v":63},{"$f":"Invoeren!CQ86","v":65}]
[{"$f":"Invoeren!B87","v":1},{"$f":"Invoeren!A87","v":81},{"$f":"Invoeren!E87","v":"Maria Lorenzini"},{"$f":"Invoeren!F87","v":"ACZ"},{"$f":"Invoeren!$K87","v":2003},{"$f":"Invoeren!$I87","v":0},{"$f":"Invoeren!Z87","v":6.2},{"$f":"Invoeren!AA87","v":6.4},{"$f":"Invoeren!AB87","v":6.4},{"$f":"Invoeren!AC87","v":6.2},{"$f":"Invoeren!AD87","v":6.5},{"$f":"Invoeren!AE87","v":""},{"$f":"Invoeren!AF87","v":""},{"$f":"Invoeren!AG87","v":{"v":19,"d":"19.0"}},{"$f":"Invoeren!AH87","v":13.9333},{"$f":"Invoeren!AT87","v":{"v":7,"d":"7.0"}},{"$f":"Invoeren!AU87","v":6.2},{"$f":"Invoeren!AV87","v":6.3},{"$f":"Invoeren!AW87","v":7.1},{"$f":"Invoeren!AX87","v":7.1},{"$f":"Invoeren!AY87","v":""},{"$f":"Invoeren!AZ87","v":""},{"$f":"Invoeren!BA87","v":{"v":20.400000000000002,"d":"20.4"}},{"$f":"Invoeren!BB87","v":{"v":14.96,"d":"14.9600"}},{"$f":"Invoeren!BN87","v":7.3},{"$f":"Invoeren!BO87","v":6.2},{"$f":"Invoeren!BP87","v":6.3},{"$f":"Invoeren!BQ87","v":{"v":7,"d":"7.0"}},{"$f":"Invoeren!BR87","v":7.2},{"$f":"Invoeren!BS87","v":""},{"$f":"Invoeren!BT87","v":""},{"$f":"Invoeren!BU87","v":20.5},{"$f":"Invoeren!BV87","v":{"v":14.35,"d":"14.3500"}},{"$f":"Invoeren!CH87","v":6.4},{"$f":"Invoeren!CI87","v":5.9},{"$f":"Invoeren!CJ87","v":6.3},{"$f":"Invoeren!CK87","v":6.1},{"$f":"Invoeren!CL87","v":6.4},{"$f":"Invoeren!CM87","v":""},{"$f":"Invoeren!CN87","v":""},{"$f":"Invoeren!CO87","v":{"v":18.800000000000004,"d":"18.8"}},{"$f":"Invoeren!CP87","v":14.4133},{"$f":"Invoeren!CR87","v":57.6566},{"$f":"Invoeren!CS87","v":65.5189},{"$f":"Invoeren!CT87","v":0},{"$f":"Invoeren!C87","v":65.5189},{"$f":"Invoeren!L87","v":0},{"$f":"Invoeren!M87","v":"L"},{"$f":"Invoeren!N87","v":""},{"$f":"Invoeren!H87","v":"West"},{"$f":"Invoeren!AI87","v":7},{"$f":"Invoeren!BC87","v":1},{"$f":"Invoeren!BW87","v":1},{"$f":"Invoeren!CQ87","v":1}]
[{"$f":"Invoeren!B88","v":102},{"$f":"Invoeren!A88","v":82},{"$f":"Invoeren!E88","v":"Dagmar Hansman"},{"$f":"Invoeren!F88","v":"Hera'11"},{"$f":"Invoeren!$K88","v":2003},{"$f":"Invoeren!$I88","v":0},{"$f":"Invoeren!Z88","v":5.2},{"$f":"Invoeren!AA88","v":5.1},{"$f":"Invoeren!AB88","v":5.1},{"$f":"Invoeren!AC88","v":5.5},{"$f":"Invoeren!AD88","v":{"v":5,"d":"5.0"}},{"$f":"Invoeren!AE88","v":""},{"$f":"Invoeren!AF88","v":""},{"$f":"Invoeren!AG88","v":{"v":15.399999999999999,"d":"15.4"}},{"$f":"Invoeren!AH88","v":11.2933},{"$f":"Invoeren!AT88","v":{"v":5,"d":"5.0"}},{"$f":"Invoeren!AU88","v":5.4},{"$f":"Invoeren!AV88","v":4.5},{"$f":"Invoeren!AW88","v":{"v":5,"d":"5.0"}},{"$f":"Invoeren!AX88","v":5.1},{"$f":"Invoeren!AY88","v":""},{"$f":"Invoeren!AZ88","v":""},{"$f":"Invoeren!BA88","v":{"v":15.100000000000001,"d":"15.1"}},{"$f":"Invoeren!BB88","v":11.0733},{"$f":"Invoeren!BN88","v":4.8},{"$f":"Invoeren!BO88","v":5.8},{"$f":"Invoeren!BP88","v":4.8},{"$f":"Invoeren!BQ88","v":4.6},{"$f":"Invoeren!BR88","v":4.7},{"$f":"Invoeren!BS88","v":""},{"$f":"Invoeren!BT88","v":""},{"$f":"Invoeren!BU88","v":{"v":14.299999999999999,"d":"14.3"}},{"$f":"Invoeren!BV88","v":{"v":10.01,"d":"10.0100"}},{"$f":"Invoeren!CH88","v":5.1},{"$f":"Invoeren!CI88","v":4.9},{"$f":"Invoeren!CJ88","v":4.9},{"$f":"Invoeren!CK88","v":4.8},{"$f":"Invoeren!CL88","v":4.7},{"$f":"Invoeren!CM88","v":""},{"$f":"Invoeren!CN88","v":""},{"$f":"Invoeren!CO88","v":{"v":14.599999999999998,"d":"14.6"}},{"$f":"Invoeren!CP88","v":11.1933},{"$f":"Invoeren!CR88","v":43.5699},{"$f":"Invoeren!CS88","v":49.5113},{"$f":"Invoeren!CT88","v":0},{"$f":"Invoeren!C88","v":49.5113},{"$f":"Invoeren!L88","v":0},{"$f":"Invoeren!M88","v":"L"},{"$f":"Invoeren!N88","v":""},{"$f":"Invoeren!H88","v":"Oost"},{"$f":"Invoeren!AI88","v":102},{"$f":"Invoeren!BC88","v":74},{"$f":"Invoeren!BW88","v":153},{"$f":"Invoeren!CQ88","v":83}]
[{"$f":"Invoeren!B89","v":193},{"$f":"Invoeren!A89","v":83},{"$f":"Invoeren!E89","v":"Daniela Ghasseminejad"},{"$f":"Invoeren!F89","v":"Z.P.C.H."},{"$f":"Invoeren!$K89","v":2004},{"$f":"Invoeren!$I89","v":0},{"$f":"Invoeren!Z89","v":{"v":0,"d":"0.0"}},{"$f":"Invoeren!AA89","v":{"v":0,"d":"0.0"}},{"$f":"Invoeren!AB89","v":{"v":0,"d":"0.0"}},{"$f":"Invoeren!AC89","v":{"v":0,"d":"0.0"}},{"$f":"Invoeren!AD89","v":{"v":0,"d":"0.0"}},{"$f":"Invoeren!AE89","v":""},{"$f":"Invoeren!AF89","v":""},{"$f":"Invoeren!AG89","v":{"v":0,"d":"0.0"}},{"$f":"Invoeren!AH89","v":{"v":0,"d":"0.0000"}},{"$f":"Invoeren!AT89","v":{"v":0,"d":"0.0"}},{"$f":"Invoeren!AU89","v":{"v":0,"d":"0.0"}},{"$f":"Invoeren!AV89","v":{"v":0,"d":"0.0"}},{"$f":"Invoeren!AW89","v":{"v":0,"d":"0.0"}},{"$f":"Invoeren!AX89","v":{"v":0,"d":"0.0"}},{"$f":"Invoeren!AY89","v":""},{"$f":"Invoeren!AZ89","v":""},{"$f":"Invoeren!BA89","v":{"v":0,"d":"0.0"}},{"$f":"Invoeren!BB89","v":{"v":0,"d":"0.0000"}},{"$f":"Invoeren!BN89","v":{"v":0,"d":"0.0"}},{"$f":"Invoeren!BO89","v":{"v":0,"d":"0.0"}},{"$f":"Invoeren!BP89","v":{"v":0,"d":"0.0"}},{"$f":"Invoeren!BQ89","v":{"v":0,"d":"0.0"}},{"$f":"Invoeren!BR89","v":{"v":0,"d":"0.0"}},{"$f":"Invoeren!BS89","v":""},{"$f":"Invoeren!BT89","v":""},{"$f":"Invoeren!BU89","v":{"v":0,"d":"0.0"}},{"$f":"Invoeren!BV89","v":{"v":0,"d":"0.0000"}},{"$f":"Invoeren!CH89","v":{"v":0,"d":"0.0"}},{"$f":"Invoeren!CI89","v":{"v":0,"d":"0.0"}},{"$f":"Invoeren!CJ89","v":{"v":0,"d":"0.0"}},{"$f":"Invoeren!CK89","v":{"v":0,"d":"0.0"}},{"$f":"Invoeren!CL89","v":{"v":0,"d":"0.0"}},{"$f":"Invoeren!CM89","v":""},{"$f":"Invoeren!CN89","v":""},{"$f":"Invoeren!CO89","v":{"v":0,"d":"0.0"}},{"$f":"Invoeren!CP89","v":{"v":0,"d":"0.0000"}},{"$f":"Invoeren!CR89","v":0},{"$f":"Invoeren!CS89","v":0},{"$f":"Invoeren!CT89","v":0},{"$f":"Invoeren!C89","v":0},{"$f":"Invoeren!L89","v":0},{"$f":"Invoeren!M89","v":""},{"$f":"Invoeren!N89","v":""},{"$f":"Invoeren!H89","v":"MidWest"},{"$f":"Invoeren!AI89","v":""},{"$f":"Invoeren!BC89","v":""},{"$f":"Invoeren!BW89","v":""},{"$f":"Invoeren!CQ89","v":""}]
[{"$f":"Invoeren!B90","v":36},{"$f":"Invoeren!A90","v":84},{"$f":"Invoeren!E90","v":"Anna Darby"},{"$f":"Invoeren!F90","v":"DAW"},{"$f":"Invoeren!$K90","v":2004},{"$f":"Invoeren!$I90","v":0},{"$f":"Invoeren!Z90","v":{"v":5,"d":"5.0"}},{"$f":"Invoeren!AA90","v":4.9},{"$f":"Invoeren!AB90","v":5.4},{"$f":"Invoeren!AC90","v":5.8},{"$f":"Invoeren!AD90","v":5.7},{"$f":"Invoeren!AE90","v":""},{"$f":"Invoeren!AF90","v":""},{"$f":"Invoeren!AG90","v":16.1},{"$f":"Invoeren!AH90","v":11.8067},{"$f":"Invoeren!AT90","v":5.5},{"$f":"Invoeren!AU90","v":4.9},{"$f":"Invoeren!AV90","v":5.3},{"$f":"Invoeren!AW90","v":5.9},{"$f":"Invoeren!AX90","v":{"v":6,"d":"6.0"}},{"$f":"Invoeren!AY90","v":""},{"$f":"Invoeren!AZ90","v":""},{"$f":"Invoeren!BA90","v":{"v":16.700000000000003,"d":"16.7"}},{"$f":"Invoeren!BB90","v":12.2467},{"$f":"Invoeren!BN90","v":6.1},{"$f":"Invoeren!BO90","v":6.3},{"$f":"Invoeren!BP90","v":6.2},{"$f":"Invoeren!BQ90","v":5.8},{"$f":"Invoeren!BR90","v":5.9},{"$f":"Invoeren!BS90","v":""},{"$f":"Invoeren!BT90","v":""},{"$f":"Invoeren!BU90","v":{"v":18.199999999999996,"d":"18.2"}},{"$f":"Invoeren!BV90","v":{"v":12.74,"d":"12.7400"}},{"$f":"Invoeren!CH90","v":{"v":5,"d":"5.0"}},{"$f":"Invoeren!CI90","v":5.6},{"$f":"Invoeren!CJ90","v":5.3},{"$f":"Invoeren!CK90","v":5.4},{"$f":"Invoeren!CL90","v":4.9},{"$f":"Invoeren!CM90","v":""},{"$f":"Invoeren!CN90","v":""},{"$f":"Invoeren!CO90","v":{"v":15.699999999999994,"d":"15.7"}},{"$f":"Invoeren!CP90","v":12.0367},{"$f":"Invoeren!CR90","v":48.8301},{"$f":"Invoeren!CS90","v":55.4888},{"$f":"Invoeren!CT90","v":0},{"$f":"Invoeren!C90","v":55.4888},{"$f":"Invoeren!L90","v":0},{"$f":"Invoeren!M90","v":"L"},{"$f":"Invoeren!N90","v":""},{"$f":"Invoeren!H90","v":"Midwest"},{"$f":"Invoeren!AI90","v":72},{"$f":"Invoeren!BC90","v":28},{"$f":"Invoeren!BW90","v":23},{"$f":"Invoeren!CQ90","v":41}]
[{"$f":"Invoeren!B91","v":27},{"$f":"Invoeren!A91","v":85},{"$f":"Invoeren!E91","v":"Amanda Voesten"},{"$f":"Invoeren!F91","v":"De Dolfijn"},{"$f":"Invoeren!$K91","v":2004},{"$f":"Invoeren!$I91","v":0},{"$f":"Invoeren!Z91","v":5.4},{"$f":"Invoeren!AA91","v":5.4},{"$f":"Invoeren!AB91","v":5.8},{"$f":"Invoeren!AC91","v":5.6},{"$f":"Invoeren!AD91","v":{"v":6,"d":"6.0"}},{"$f":"Invoeren!AE91","v":""},{"$f":"Invoeren!AF91","v":""},{"$f":"Invoeren!AG91","v":{"v":16.800000000000004,"d":"16.8"}},{"$f":"Invoeren!AH91","v":{"v":12.32,"d":"12.3200"}},{"$f":"Invoeren!AT91","v":5.3},{"$f":"Invoeren!AU91","v":5.3},{"$f":"Invoeren!AV91","v":5.6},{"$f":"Invoeren!AW91","v":5.6},{"$f":"Invoeren!AX91","v":5.8},{"$f":"Invoeren!AY91","v":""},{"$f":"Invoeren!AZ91","v":""},{"$f":"Invoeren!BA91","v":{"v":16.499999999999996,"d":"16.5"}},{"$f":"Invoeren!BB91","v":{"v":12.1,"d":"12.1000"}},{"$f":"Invoeren!BN91","v":6.4},{"$f":"Invoeren!BO91","v":5.9},{"$f":"Invoeren!BP91","v":{"v":6,"d":"6.0"}},{"$f":"Invoeren!BQ91","v":{"v":6,"d":"6.0"}},{"$f":"Invoeren!BR91","v":6.3},{"$f":"Invoeren!BS91","v":""},{"$f":"Invoeren!BT91","v":""},{"$f":"Invoeren!BU91","v":{"v":18.300000000000004,"d":"18.3"}},{"$f":"Invoeren!BV91","v":{"v":12.81,"d":"12.8100"}},{"$f":"Invoeren!CH91","v":5.4},{"$f":"Invoeren!CI91","v":5.4},{"$f":"Invoeren!CJ91","v":5.4},{"$f":"Invoeren!CK91","v":5.6},{"$f":"Invoeren!CL91","v":5.2},{"$f":"Invoeren!CM91","v":""},{"$f":"Invoeren!CN91","v":""},{"$f":"Invoeren!CO91","v":{"v":16.200000000000006,"d":"16.2"}},{"$f":"Invoeren!CP91","v":{"v":12.42,"d":"12.4200"}},{"$f":"Invoeren!CR91","v":{"v":49.650000000000006,"d":"49.6500"}},{"$f":"Invoeren!CS91","v":56.4205},{"$f":"Invoeren!CT91","v":0},{"$f":"Invoeren!C91","v":56.4205},{"$f":"Invoeren!L91","v":0},{"$f":"Invoeren!M91","v":"L"},{"$f":"Invoeren!N91","v":""},{"$f":"Invoeren!H91","v":"MidWest"},{"$f":"Invoeren!AI91","v":48},{"$f":"Invoeren!BC91","v":32},{"$f":"Invoeren!BW91","v":21},{"$f":"Invoeren!CQ91","v":30}]
[{"$f":"Invoeren!B92","v":85},{"$f":"Invoeren!A92","v":86},{"$f":"Invoeren!E92","v":"Iris Mandemaker"},{"$f":"Invoeren!F92","v":"HZ&PC Heerenveen"},{"$f":"Invoeren!$K92","v":2004},{"$f":"Invoeren!$I92","v":0},{"$f":"Invoeren!Z92","v":4.8},{"$f":"Invoeren!AA92","v":4.9},{"$f":"Invoeren!AB92","v":5.3},{"$f":"Invoeren!AC92","v":5.4},{"$f":"Invoeren!AD92","v":{"v":5,"d":"5.0"}},{"$f":"Invoeren!AE92","v":""},{"$f":"Invoeren!AF92","v":""},{"$f":"Invoeren!AG92","v":15.2},{"$f":"Invoeren!AH92","v":11.1467},{"$f":"Invoeren!AT92","v":5.2},{"$f":"Invoeren!AU92","v":5.1},{"$f":"Invoeren!AV92","v":5.4},{"$f":"Invoeren!AW92","v":4.9},{"$f":"Invoeren!AX92","v":5.2},{"$f":"Invoeren!AY92","v":""},{"$f":"Invoeren!AZ92","v":""},{"$f":"Invoeren!BA92","v":{"v":15.499999999999998,"d":"15.5"}},{"$f":"Invoeren!BB92","v":11.3667},{"$f":"Invoeren!BN92","v":{"v":5,"d":"5.0"}},{"$f":"Invoeren!BO92","v":4.9},{"$f":"Invoeren!BP92","v":4.7},{"$f":"Invoeren!BQ92","v":{"v":5,"d":"5.0"}},{"$f":"Invoeren!BR92","v":5.5},{"$f":"Invoeren!BS92","v":""},{"$f":"Invoeren!BT92","v":""},{"$f":"Invoeren!BU92","v":{"v":14.900000000000002,"d":"14.9"}},{"$f":"Invoeren!BV92","v":{"v":10.43,"d":"10.4300"}},{"$f":"Invoeren!CH92","v":5.3},{"$f":"Invoeren!CI92","v":5.2},{"$f":"Invoeren!CJ92","v":{"v":5,"d":"5.0"}},{"$f":"Invoeren!CK92","v":{"v":5,"d":"5.0"}},{"$f":"Invoeren!CL92","v":4.6},{"$f":"Invoeren!CM92","v":""},{"$f":"Invoeren!CN92","v":""},{"$f":"Invoeren!CO92","v":{"v":15.200000000000001,"d":"15.2"}},{"$f":"Invoeren!CP92","v":11.6533},{"$f":"Invoeren!CR92","v":44.5967},{"$f":"Invoeren!CS92","v":50.6781},{"$f":"Invoeren!CT92","v":0},{"$f":"Invoeren!C92","v":50.6781},{"$f":"Invoeren!L92","v":0},{"$f":"Invoeren!M92","v":"L"},{"$f":"Invoeren!N92","v":""},{"$f":"Invoeren!H92","v":"Noord"},{"$f":"Invoeren!AI92","v":105},{"$f":"Invoeren!BC92","v":63},{"$f":"Invoeren!BW92","v":127},{"$f":"Invoeren!CQ92","v":53}]
[{"$f":"Invoeren!B93","v":193},{"$f":"Invoeren!A93","v":87},{"$f":"Invoeren!E93","v":"Kayleigh Bruins"},{"$f":"Invoeren!F93","v":"Widex Gzc Donk"},{"$f":"Invoeren!$K93","v":2003},{"$f":"Invoeren!$I93","v":0},{"$f":"Invoeren!Z93","v":{"v":0,"d":"0.0"}},{"$f":"Invoeren!AA93","v":{"v":0,"d":"0.0"}},{"$f":"Invoeren!AB93","v":{"v":0,"d":"0.0"}},{"$f":"Invoeren!AC93","v":{"v":0,"d":"0.0"}},{"$f":"Invoeren!AD93","v":{"v":0,"d":"0.0"}},{"$f":"Invoeren!AE93","v":""},{"$f":"Invoeren!AF93","v":""},{"$f":"Invoeren!AG93","v":{"v":0,"d":"0.0"}},{"$f":"Invoeren!AH93","v":{"v":0,"d":"0.0000"}},{"$f":"Invoeren!AT93","v":{"v":0,"d":"0.0"}},{"$f":"Invoeren!AU93","v":{"v":0,"d":"0.0"}},{"$f":"Invoeren!AV93","v":{"v":0,"d":"0.0"}},{"$f":"Invoeren!AW93","v":{"v":0,"d":"0.0"}},{"$f":"Invoeren!AX93","v":{"v":0,"d":"0.0"}},{"$f":"Invoeren!AY93","v":""},{"$f":"Invoeren!AZ93","v":""},{"$f":"Invoeren!BA93","v":{"v":0,"d":"0.0"}},{"$f":"Invoeren!BB93","v":{"v":0,"d":"0.0000"}},{"$f":"Invoeren!BN93","v":{"v":0,"d":"0.0"}},{"$f":"Invoeren!BO93","v":{"v":0,"d":"0.0"}},{"$f":"Invoeren!BP93","v":{"v":0,"d":"0.0"}},{"$f":"Invoeren!BQ93","v":{"v":0,"d":"0.0"}},{"$f":"Invoeren!BR93","v":{"v":0,"d":"0.0"}},{"$f":"Invoeren!BS93","v":""},{"$f":"Invoeren!BT93","v":""},{"$f":"Invoeren!BU93","v":{"v":0,"d":"0.0"}},{"$f":"Invoeren!BV93","v":{"v":0,"d":"0.0000"}},{"$f":"Invoeren!CH93","v":{"v":0,"d":"0.0"}},{"$f":"Invoeren!CI93","v":{"v":0,"d":"0.0"}},{"$f":"Invoeren!CJ93","v":{"v":0,"d":"0.0"}},{"$f":"Invoeren!CK93","v":{"v":0,"d":"0.0"}},{"$f":"Invoeren!CL93","v":{"v":0,"d":"0.0"}},{"$f":"Invoeren!CM93","v":""},{"$f":"Invoeren!CN93","v":""},{"$f":"Invoeren!CO93","v":{"v":0,"d":"0.0"}},{"$f":"Invoeren!CP93","v":{"v":0,"d":"0.0000"}},{"$f":"Invoeren!CR93","v":0},{"$f":"Invoeren!CS93","v":0},{"$f":"Invoeren!CT93","v":0},{"$f":"Invoeren!C93","v":0},{"$f":"Invoeren!L93","v":0},{"$f":"Invoeren!M93","v":""},{"$f":"Invoeren!N93","v":""},{"$f":"Invoeren!H93","v":"West"},{"$f":"Invoeren!AI93","v":""},{"$f":"Invoeren!BC93","v":""},{"$f":"Invoeren!BW93","v":""},{"$f":"Invoeren!CQ93","v":""}]
[{"$f":"Invoeren!B94","v":23},{"$f":"Invoeren!A94","v":88},{"$f":"Invoeren!E94","v":"Pleun Boerakker"},{"$f":"Invoeren!F94","v":"Cadans"},{"$f":"Invoeren!$K94","v":2003},{"$f":"Invoeren!$I94","v":0},{"$f":"Invoeren!Z94","v":6.1},{"$f":"Invoeren!AA94","v":6.7},{"$f":"Invoeren!AB94","v":{"v":6,"d":"6.0"}},{"$f":"Invoeren!AC94","v":{"v":6,"d":"6.0"}},{"$f":"Invoeren!AD94","v":6.1},{"$f":"Invoeren!AE94","v":""},{"$f":"Invoeren!AF94","v":""},{"$f":"Invoeren!AG94","v":18.2},{"$f":"Invoeren!AH94","v":13.3467},{"$f":"Invoeren!AT94","v":5.8},{"$f":"Invoeren!AU94","v":5.8},{"$f":"Invoeren!AV94","v":5.3},{"$f":"Invoeren!AW94","v":6.2},{"$f":"Invoeren!AX94","v":6.8},{"$f":"Invoeren!AY94","v":""},{"$f":"Invoeren!AZ94","v":""},{"$f":"Invoeren!BA94","v":{"v":17.799999999999997,"d":"17.8"}},{"$f":"Invoeren!BB94","v":13.0533},{"$f":"Invoeren!BN94","v":5.8},{"$f":"Invoeren!BO94","v":5.3},{"$f":"Invoeren!BP94","v":6.2},{"$f":"Invoeren!BQ94","v":5.4},{"$f":"Invoeren!BR94","v":6.2},{"$f":"Invoeren!BS94","v":""},{"$f":"Invoeren!BT94","v":""},{"$f":"Invoeren!BU94","v":{"v":17.400000000000002,"d":"17.4"}},{"$f":"Invoeren!BV94","v":{"v":12.18,"d":"12.1800"}},{"$f":"Invoeren!CH94","v":4.8},{"$f":"Invoeren!CI94","v":5.6},{"$f":"Invoeren!CJ94","v":5.1},{"$f":"Invoeren!CK94","v":5.1},{"$f":"Invoeren!CL94","v":5.3},{"$f":"Invoeren!CM94","v":""},{"$f":"Invoeren!CN94","v":""},{"$f":"Invoeren!CO94","v":{"v":15.499999999999996,"d":"15.5"}},{"$f":"Invoeren!CP94","v":11.8833},{"$f":"Invoeren!CR94","v":50.4633},{"$f":"Invoeren!CS94","v":57.3447},{"$f":"Invoeren!CT94","v":0},{"$f":"Invoeren!C94","v":57.3447},{"$f":"Invoeren!L94","v":0},{"$f":"Invoeren!M94","v":"L"},{"$f":"Invoeren!N94","v":""},{"$f":"Invoeren!H94","v":"oost"},{"$f":"Invoeren!AI94","v":12},{"$f":"Invoeren!BC94","v":12},{"$f":"Invoeren!BW94","v":42},{"$f":"Invoeren!CQ94","v":44}]
[{"$f":"Invoeren!B95","v":15},{"$f":"Invoeren!A95","v":89},{"$f":"Invoeren!E95","v":"Sarah Molensky"},{"$f":"Invoeren!F95","v":"ZVBrunssum"},{"$f":"Invoeren!$K95","v":2003},{"$f":"Invoeren!$I95","v":0},{"$f":"Invoeren!Z95","v":6.2},{"$f":"Invoeren!AA95","v":6.4},{"$f":"Invoeren!AB95","v":6.3},{"$f":"Invoeren!AC95","v":6.6},{"$f":"Invoeren!AD95","v":6.4},{"$f":"Invoeren!AE95","v":""},{"$f":"Invoeren!AF95","v":""},{"$f":"Invoeren!AG95","v":{"v":19.099999999999998,"d":"19.1"}},{"$f":"Invoeren!AH95","v":14.0067},{"$f":"Invoeren!AT95","v":5.5},{"$f":"Invoeren!AU95","v":4.9},{"$f":"Invoeren!AV95","v":5.1},{"$f":"Invoeren!AW95","v":5.3},{"$f":"Invoeren!AX95","v":5.3},{"$f":"Invoeren!AY95","v":""},{"$f":"Invoeren!AZ95","v":""},{"$f":"Invoeren!BA95","v":{"v":15.700000000000001,"d":"15.7"}},{"$f":"Invoeren!BB95","v":11.5133},{"$f":"Invoeren!BN95","v":6.4},{"$f":"Invoeren!BO95","v":6.1},{"$f":"Invoeren!BP95","v":6.4},{"$f":"Invoeren!BQ95","v":6.6},{"$f":"Invoeren!BR95","v":6.4},{"$f":"Invoeren!BS95","v":""},{"$f":"Invoeren!BT95","v":""},{"$f":"Invoeren!BU95","v":{"v":19.199999999999996,"d":"19.2"}},{"$f":"Invoeren!BV95","v":{"v":13.44,"d":"13.4400"}},{"$f":"Invoeren!CH95","v":5.7},{"$f":"Invoeren!CI95","v":5.9},{"$f":"Invoeren!CJ95","v":5.8},{"$f":"Invoeren!CK95","v":5.9},{"$f":"Invoeren!CL95","v":{"v":6,"d":"6.0"}},{"$f":"Invoeren!CM95","v":""},{"$f":"Invoeren!CN95","v":""},{"$f":"Invoeren!CO95","v":{"v":17.600000000000005,"d":"17.6"}},{"$f":"Invoeren!CP95","v":13.4933},{"$f":"Invoeren!CR95","v":52.4533},{"$f":"Invoeren!CS95","v":{"v":59.606,"d":"59.6060"}},{"$f":"Invoeren!CT95","v":0},{"$f":"Invoeren!C95","v":{"v":59.606,"d":"59.6060"}},{"$f":"Invoeren!L95","v":0},{"$f":"Invoeren!M95","v":"L"},{"$f":"Invoeren!N95","v":""},{"$f":"Invoeren!H95","v":"Zuid"},{"$f":"Invoeren!AI95","v":5},{"$f":"Invoeren!BC95","v":55},{"$f":"Invoeren!BW95","v":10},{"$f":"Invoeren!CQ95","v":8}]
[{"$f":"Invoeren!B96","v":43},{"$f":"Invoeren!A96","v":90},{"$f":"Invoeren!E96","v":"Noa van Blijderveen"},{"$f":"Invoeren!F96","v":"Aquarijn"},{"$f":"Invoeren!$K96","v":2003},{"$f":"Invoeren!$I96","v":0},{"$f":"Invoeren!Z96","v":5.7},{"$f":"Invoeren!AA96","v":5.7},{"$f":"Invoeren!AB96","v":5.8},{"$f":"Invoeren!AC96","v":5.6},{"$f":"Invoeren!AD96","v":5.8},{"$f":"Invoeren!AE96","v":""},{"$f":"Invoeren!AF96","v":""},{"$f":"Invoeren!AG96","v":{"v":17.199999999999996,"d":"17.2"}},{"$f":"Invoeren!AH96","v":12.6133},{"$f":"Invoeren!AT96","v":4.8},{"$f":"Invoeren!AU96","v":4.8},{"$f":"Invoeren!AV96","v":{"v":5,"d":"5.0"}},{"$f":"Invoeren!AW96","v":{"v":5,"d":"5.0"}},{"$f":"Invoeren!AX96","v":5.2},{"$f":"Invoeren!AY96","v":""},{"$f":"Invoeren!AZ96","v":""},{"$f":"Invoeren!BA96","v":14.8},{"$f":"Invoeren!BB96","v":10.8533},{"$f":"Invoeren!BN96","v":5.9},{"$f":"Invoeren!BO96","v":{"v":6,"d":"6.0"}},{"$f":"Invoeren!BP96","v":{"v":6,"d":"6.0"}},{"$f":"Invoeren!BQ96","v":{"v":6,"d":"6.0"}},{"$f":"Invoeren!BR96","v":5.1},{"$f":"Invoeren!BS96","v":""},{"$f":"Invoeren!BT96","v":""},{"$f":"Invoeren!BU96","v":17.9},{"$f":"Invoeren!BV96","v":{"v":12.53,"d":"12.5300"}},{"$f":"Invoeren!CH96","v":5.8},{"$f":"Invoeren!CI96","v":5.1},{"$f":"Invoeren!CJ96","v":4.9},{"$f":"Invoeren!CK96","v":5.5},{"$f":"Invoeren!CL96","v":4.8},{"$f":"Invoeren!CM96","v":""},{"$f":"Invoeren!CN96","v":""},{"$f":"Invoeren!CO96","v":{"v":15.499999999999996,"d":"15.5"}},{"$f":"Invoeren!CP96","v":11.8833},{"$f":"Invoeren!CR96","v":47.8799},{"$f":"Invoeren!CS96","v":{"v":54.409,"d":"54.4090"}},{"$f":"Invoeren!CT96","v":0},{"$f":"Invoeren!C96","v":{"v":54.409,"d":"54.4090"}},{"$f":"Invoeren!L96","v":0},{"$f":"Invoeren!M96","v":"L"},{"$f":"Invoeren!N96","v":""},{"$f":"Invoeren!H96","v":"MidWest"},{"$f":"Invoeren!AI96","v":32},{"$f":"Invoeren!BC96","v":90},{"$f":"Invoeren!BW96","v":28},{"$f":"Invoeren!CQ96","v":44}]
[{"$f":"Invoeren!B97","v":99},{"$f":"Invoeren!A97","v":91},{"$f":"Invoeren!E97","v":"Tessa Kemper"},{"$f":"Invoeren!F97","v":"Aqua-Novio '94"},{"$f":"Invoeren!$K97","v":2003},{"$f":"Invoeren!$I97","v":0},{"$f":"Invoeren!Z97","v":4.7},{"$f":"Invoeren!AA97","v":{"v":5,"d":"5.0"}},{"$f":"Invoeren!AB97","v":{"v":5,"d":"5.0"}},{"$f":"Invoeren!AC97","v":4.8},{"$f":"Invoeren!AD97","v":5.1},{"$f":"Invoeren!AE97","v":""},{"$f":"Invoeren!AF97","v":""},{"$f":"Invoeren!AG97","v":14.8},{"$f":"Invoeren!AH97","v":10.8533},{"$f":"Invoeren!AT97","v":4.2},{"$f":"Invoeren!AU97","v":4.5},{"$f":"Invoeren!AV97","v":4.5},{"$f":"Invoeren!AW97","v":4.4},{"$f":"Invoeren!AX97","v":4.3},{"$f":"Invoeren!AY97","v":""},{"$f":"Invoeren!AZ97","v":""},{"$f":"Invoeren!BA97","v":{"v":13.200000000000003,"d":"13.2"}},{"$f":"Invoeren!BB97","v":{"v":9.68,"d":"9.6800"}},{"$f":"Invoeren!BN97","v":5.7},{"$f":"Invoeren!BO97","v":5.8},{"$f":"Invoeren!BP97","v":4.6},{"$f":"Invoeren!BQ97","v":5.5},{"$f":"Invoeren!BR97","v":5.5},{"$f":"Invoeren!BS97","v":""},{"$f":"Invoeren!BT97","v":""},{"$f":"Invoeren!BU97","v":{"v":16.700000000000003,"d":"16.7"}},{"$f":"Invoeren!BV97","v":{"v":11.69,"d":"11.6900"}},{"$f":"Invoeren!CH97","v":{"v":5,"d":"5.0"}},{"$f":"Invoeren!CI97","v":5.2},{"$f":"Invoeren!CJ97","v":5.1},{"$f":"Invoeren!CK97","v":5.1},{"$f":"Invoeren!CL97","v":4.9},{"$f":"Invoeren!CM97","v":""},{"$f":"Invoeren!CN97","v":""},{"$f":"Invoeren!CO97","v":{"v":15.199999999999998,"d":"15.2"}},{"$f":"Invoeren!CP97","v":11.6533},{"$f":"Invoeren!CR97","v":43.8766},{"$f":"Invoeren!CS97","v":49.8598},{"$f":"Invoeren!CT97","v":0},{"$f":"Invoeren!C97","v":49.8598},{"$f":"Invoeren!L97","v":0},{"$f":"Invoeren!M97","v":"L"},{"$f":"Invoeren!N97","v":""},{"$f":"Invoeren!H97","v":"Oost"},{"$f":"Invoeren!AI97","v":117},{"$f":"Invoeren!BC97","v":152},{"$f":"Invoeren!BW97","v":71},{"$f":"Invoeren!CQ97","v":53}]
[{"$f":"Invoeren!B98","v":11},{"$f":"Invoeren!A98","v":92},{"$f":"Invoeren!E98","v":"Dionne Sijben"},{"$f":"Invoeren!F98","v":"ACZ"},{"$f":"Invoeren!$K98","v":2004},{"$f":"Invoeren!$I98","v":" "},{"$f":"Invoeren!Z98","v":6.6},{"$f":"Invoeren!AA98","v":5.6},{"$f":"Invoeren!AB98","v":5.9},{"$f":"Invoeren!AC98","v":5.9},{"$f":"Invoeren!AD98","v":5.9},{"$f":"Invoeren!AE98","v":""},{"$f":"Invoeren!AF98","v":""},{"$f":"Invoeren!AG98","v":{"v":17.699999999999996,"d":"17.7"}},{"$f":"Invoeren!AH98","v":{"v":12.98,"d":"12.9800"}},{"$f":"Invoeren!AT98","v":6.1},{"$f":"Invoeren!AU98","v":5.4},{"$f":"Invoeren!AV98","v":5.8},{"$f":"Invoeren!AW98","v":{"v":6,"d":"6.0"}},{"$f":"Invoeren!AX98","v":6.7},{"$f":"Invoeren!AY98","v":""},{"$f":"Invoeren!AZ98","v":""},{"$f":"Invoeren!BA98","v":17.9},{"$f":"Invoeren!BB98","v":13.1267},{"$f":"Invoeren!BN98","v":6.7},{"$f":"Invoeren!BO98","v":6.6},{"$f":"Invoeren!BP98","v":6.5},{"$f":"Invoeren!BQ98","v":7.1},{"$f":"Invoeren!BR98","v":7.1},{"$f":"Invoeren!BS98","v":""},{"$f":"Invoeren!BT98","v":""},{"$f":"Invoeren!BU98","v":20.4},{"$f":"Invoeren!BV98","v":{"v":14.28,"d":"14.2800"}},{"$f":"Invoeren!CH98","v":5.7},{"$f":"Invoeren!CI98","v":5.4},{"$f":"Invoeren!CJ98","v":5.3},{"$f":"Invoeren!CK98","v":5.4},{"$f":"Invoeren!CL98","v":5.7},{"$f":"Invoeren!CM98","v":""},{"$f":"Invoeren!CN98","v":""},{"$f":"Invoeren!CO98","v":{"v":16.500000000000004,"d":"16.5"}},{"$f":"Invoeren!CP98","v":{"v":12.65,"d":"12.6500"}},{"$f":"Invoeren!CR98","v":{"v":53.036699999999996,"d":"53.0367"}},{"$f":"Invoeren!CS98","v":{"v":60.269,"d":"60.2690"}},{"$f":"Invoeren!CT98","v":0},{"$f":"Invoeren!C98","v":{"v":60.269,"d":"60.2690"}},{"$f":"Invoeren!L98","v":0},{"$f":"Invoeren!M98","v":"L"},{"$f":"Invoeren!N98","v":"Age II"},{"$f":"Invoeren!H98","v":"West"},{"$f":"Invoeren!AI98","v":20},{"$f":"Invoeren!BC98","v":11},{"$f":"Invoeren!BW98","v":3},{"$f":"Invoeren!CQ98","v":25}]
[{"$f":"Invoeren!B99","v":125},{"$f":"Invoeren!A99","v":93},{"$f":"Invoeren!E99","v":"Nikita Weidenaar"},{"$f":"Invoeren!F99","v":"De Houtrib"},{"$f":"Invoeren!$K99","v":2005},{"$f":"Invoeren!$I99","v":0},{"$f":"Invoeren!Z99","v":4.9},{"$f":"Invoeren!AA99","v":4.8},{"$f":"Invoeren!AB99","v":4.8},{"$f":"Invoeren!AC99","v":4.8},{"$f":"Invoeren!AD99","v":4.6},{"$f":"Invoeren!AE99","v":""},{"$f":"Invoeren!AF99","v":""},{"$f":"Invoeren!AG99","v":14.4},{"$f":"Invoeren!AH99","v":{"v":10.56,"d":"10.5600"}},{"$f":"Invoeren!AT99","v":4.6},{"$f":"Invoeren!AU99","v":4.9},{"$f":"Invoeren!AV99","v":4.6},{"$f":"Invoeren!AW99","v":4.5},{"$f":"Invoeren!AX99","v":4.6},{"$f":"Invoeren!AY99","v":""},{"$f":"Invoeren!AZ99","v":""},{"$f":"Invoeren!BA99","v":{"v":13.800000000000004,"d":"13.8"}},{"$f":"Invoeren!BB99","v":{"v":10.12,"d":"10.1200"}},{"$f":"Invoeren!BN99","v":{"v":5,"d":"5.0"}},{"$f":"Invoeren!BO99","v":5.7},{"$f":"Invoeren!BP99","v":{"v":5,"d":"5.0"}},{"$f":"Invoeren!BQ99","v":5.7},{"$f":"Invoeren!BR99","v":5.2},{"$f":"Invoeren!BS99","v":""},{"$f":"Invoeren!BT99","v":""},{"$f":"Invoeren!BU99","v":{"v":15.899999999999999,"d":"15.9"}},{"$f":"Invoeren!BV99","v":{"v":11.13,"d":"11.1300"}},{"$f":"Invoeren!CH99","v":4.6},{"$f":"Invoeren!CI99","v":4.4},{"$f":"Invoeren!CJ99","v":4.5},{"$f":"Invoeren!CK99","v":4.6},{"$f":"Invoeren!CL99","v":4.4},{"$f":"Invoeren!CM99","v":""},{"$f":"Invoeren!CN99","v":""},{"$f":"Invoeren!CO99","v":{"v":13.499999999999998,"d":"13.5"}},{"$f":"Invoeren!CP99","v":{"v":10.35,"d":"10.3500"}},{"$f":"Invoeren!CR99","v":{"v":42.160000000000004,"d":"42.1600"}},{"$f":"Invoeren!CS99","v":47.9091},{"$f":"Invoeren!CT99","v":0},{"$f":"Invoeren!C99","v":47.9091},{"$f":"Invoeren!L99","v":0},{"$f":"Invoeren!M99","v":"L"},{"$f":"Invoeren!N99","v":""},{"$f":"Invoeren!H99","v":"Oost"},{"$f":"Invoeren!AI99","v":137},{"$f":"Invoeren!BC99","v":126},{"$f":"Invoeren!BW99","v":98},{"$f":"Invoeren!CQ99","v":131}]
[{"$f":"Invoeren!B100","v":24},{"$f":"Invoeren!A100","v":94},{"$f":"Invoeren!E100","v":"Xenna Mackay"},{"$f":"Invoeren!F100","v":"Z.P.C.H."},{"$f":"Invoeren!$K100","v":2003},{"$f":"Invoeren!$I100","v":0},{"$f":"Invoeren!Z100","v":5.5},{"$f":"Invoeren!AA100","v":{"v":5,"d":"5.0"}},{"$f":"Invoeren!AB100","v":{"v":6,"d":"6.0"}},{"$f":"Invoeren!AC100","v":5.8},{"$f":"Invoeren!AD100","v":5.8},{"$f":"Invoeren!AE100","v":""},{"$f":"Invoeren!AF100","v":""},{"$f":"Invoeren!AG100","v":17.1},{"$f":"Invoeren!AH100","v":{"v":12.54,"d":"12.5400"}},{"$f":"Invoeren!AT100","v":5.7},{"$f":"Invoeren!AU100","v":5.4},{"$f":"Invoeren!AV100","v":5.3},{"$f":"Invoeren!AW100","v":5.1},{"$f":"Invoeren!AX100","v":5.2},{"$f":"Invoeren!AY100","v":""},{"$f":"Invoeren!AZ100","v":""},{"$f":"Invoeren!BA100","v":15.9},{"$f":"Invoeren!BB100","v":{"v":11.66,"d":"11.6600"}},{"$f":"Invoeren!BN100","v":5.9},{"$f":"Invoeren!BO100","v":6.2},{"$f":"Invoeren!BP100","v":6.3},{"$f":"Invoeren!BQ100","v":5.9},{"$f":"Invoeren!BR100","v":6.4},{"$f":"Invoeren!BS100","v":""},{"$f":"Invoeren!BT100","v":""},{"$f":"Invoeren!BU100","v":{"v":18.400000000000006,"d":"18.4"}},{"$f":"Invoeren!BV100","v":{"v":12.88,"d":"12.8800"}},{"$f":"Invoeren!CH100","v":5.8},{"$f":"Invoeren!CI100","v":5.7},{"$f":"Invoeren!CJ100","v":5.6},{"$f":"Invoeren!CK100","v":5.8},{"$f":"Invoeren!CL100","v":4.9},{"$f":"Invoeren!CM100","v":""},{"$f":"Invoeren!CN100","v":""},{"$f":"Invoeren!CO100","v":17.1},{"$f":"Invoeren!CP100","v":{"v":13.11,"d":"13.1100"}},{"$f":"Invoeren!CR100","v":{"v":50.19,"d":"50.1900"}},{"$f":"Invoeren!CS100","v":57.0341},{"$f":"Invoeren!CT100","v":0},{"$f":"Invoeren!C100","v":57.0341},{"$f":"Invoeren!L100","v":0},{"$f":"Invoeren!M100","v":"L"},{"$f":"Invoeren!N100","v":""},{"$f":"Invoeren!H100","v":"MidWest"},{"$f":"Invoeren!AI100","v":38},{"$f":"Invoeren!BC100","v":48},{"$f":"Invoeren!BW100","v":18},{"$f":"Invoeren!CQ100","v":16}]
[{"$f":"Invoeren!B101","v":9},{"$f":"Invoeren!A101","v":95},{"$f":"Invoeren!E101","v":"Eva Schijf"},{"$f":"Invoeren!F101","v":"DAW"},{"$f":"Invoeren!$K101","v":2003},{"$f":"Invoeren!$I101","v":0},{"$f":"Invoeren!Z101","v":{"v":7,"d":"7.0"}},{"$f":"Invoeren!AA101","v":6.3},{"$f":"Invoeren!AB101","v":6.2},{"$f":"Invoeren!AC101","v":6.5},{"$f":"Invoeren!AD101","v":6.5},{"$f":"Invoeren!AE101","v":""},{"$f":"Invoeren!AF101","v":""},{"$f":"Invoeren!AG101","v":19.3},{"$f":"Invoeren!AH101","v":14.1533},{"$f":"Invoeren!AT101","v":5.8},{"$f":"Invoeren!AU101","v":5.6},{"$f":"Invoeren!AV101","v":{"v":6,"d":"6.0"}},{"$f":"Invoeren!AW101","v":5.8},{"$f":"Invoeren!AX101","v":5.8},{"$f":"Invoeren!AY101","v":""},{"$f":"Invoeren!AZ101","v":""},{"$f":"Invoeren!BA101","v":17.4},{"$f":"Invoeren!BB101","v":{"v":12.76,"d":"12.7600"}},{"$f":"Invoeren!BN101","v":6.5},{"$f":"Invoeren!BO101","v":6.5},{"$f":"Invoeren!BP101","v":6.4},{"$f":"Invoeren!BQ101","v":6.9},{"$f":"Invoeren!BR101","v":6.7},{"$f":"Invoeren!BS101","v":""},{"$f":"Invoeren!BT101","v":""},{"$f":"Invoeren!BU101","v":{"v":19.700000000000003,"d":"19.7"}},{"$f":"Invoeren!BV101","v":{"v":13.79,"d":"13.7900"}},{"$f":"Invoeren!CH101","v":5.5},{"$f":"Invoeren!CI101","v":5.8},{"$f":"Invoeren!CJ101","v":5.2},{"$f":"Invoeren!CK101","v":5.9},{"$f":"Invoeren!CL101","v":5.9},{"$f":"Invoeren!CM101","v":""},{"$f":"Invoeren!CN101","v":""},{"$f":"Invoeren!CO101","v":17.2},{"$f":"Invoeren!CP101","v":13.1867},{"$f":"Invoeren!CR101","v":{"v":53.89,"d":"53.8900"}},{"$f":"Invoeren!CS101","v":61.2386},{"$f":"Invoeren!CT101","v":0},{"$f":"Invoeren!C101","v":61.2386},{"$f":"Invoeren!L101","v":0},{"$f":"Invoeren!M101","v":"L"},{"$f":"Invoeren!N101","v":""},{"$f":"Invoeren!H101","v":"Midwest"},{"$f":"Invoeren!AI101","v":3},{"$f":"Invoeren!BC101","v":16},{"$f":"Invoeren!BW101","v":4},{"$f":"Invoeren!CQ101","v":12}]
[{"$f":"Invoeren!B102","v":78},{"$f":"Invoeren!A102","v":96},{"$f":"Invoeren!E102","v":"Aya Achachi"},{"$f":"Invoeren!F102","v":"De Dolfijn"},{"$f":"Invoeren!$K102","v":2005},{"$f":"Invoeren!$I102","v":0},{"$f":"Invoeren!Z102","v":{"v":5,"d":"5.0"}},{"$f":"Invoeren!AA102","v":4.6},{"$f":"Invoeren!AB102","v":5.2},{"$f":"Invoeren!AC102","v":5.8},{"$f":"Invoeren!AD102","v":5.6},{"$f":"Invoeren!AE102","v":""},{"$f":"Invoeren!AF102","v":""},{"$f":"Invoeren!AG102","v":{"v":15.800000000000002,"d":"15.8"}},{"$f":"Invoeren!AH102","v":11.5867},{"$f":"Invoeren!AT102","v":4.9},{"$f":"Invoeren!AU102","v":4.9},{"$f":"Invoeren!AV102","v":4.8},{"$f":"Invoeren!AW102","v":4.9},{"$f":"Invoeren!AX102","v":4.8},{"$f":"Invoeren!AY102","v":""},{"$f":"Invoeren!AZ102","v":""},{"$f":"Invoeren!BA102","v":{"v":14.599999999999998,"d":"14.6"}},{"$f":"Invoeren!BB102","v":10.7067},{"$f":"Invoeren!BN102","v":5.7},{"$f":"Invoeren!BO102","v":5.2},{"$f":"Invoeren!BP102","v":5.8},{"$f":"Invoeren!BQ102","v":5.4},{"$f":"Invoeren!BR102","v":5.6},{"$f":"Invoeren!BS102","v":""},{"$f":"Invoeren!BT102","v":""},{"$f":"Invoeren!BU102","v":{"v":16.700000000000003,"d":"16.7"}},{"$f":"Invoeren!BV102","v":{"v":11.69,"d":"11.6900"}},{"$f":"Invoeren!CH102","v":4.9},{"$f":"Invoeren!CI102","v":4.8},{"$f":"Invoeren!CJ102","v":4.9},{"$f":"Invoeren!CK102","v":4.7},{"$f":"Invoeren!CL102","v":{"v":5,"d":"5.0"}},{"$f":"Invoeren!CM102","v":""},{"$f":"Invoeren!CN102","v":""},{"$f":"Invoeren!CO102","v":{"v":14.600000000000001,"d":"14.6"}},{"$f":"Invoeren!CP102","v":11.1933},{"$f":"Invoeren!CR102","v":45.1767},{"$f":"Invoeren!CS102","v":51.3372},{"$f":"Invoeren!CT102","v":0},{"$f":"Invoeren!C102","v":51.3372},{"$f":"Invoeren!L102","v":0},{"$f":"Invoeren!M102","v":"L"},{"$f":"Invoeren!N102","v":""},{"$f":"Invoeren!H102","v":"Midwest"},{"$f":"Invoeren!AI102","v":85},{"$f":"Invoeren!BC102","v":98},{"$f":"Invoeren!BW102","v":71},{"$f":"Invoeren!CQ102","v":83}]
[{"$f":"Invoeren!B103","v":172},{"$f":"Invoeren!A103","v":97},{"$f":"Invoeren!E103","v":"Gwen Kuijpers"},{"$f":"Invoeren!F103","v":"VZC Veenendaal"},{"$f":"Invoeren!$K103","v":2005},{"$f":"Invoeren!$I103","v":0},{"$f":"Invoeren!Z103","v":4.8},{"$f":"Invoeren!AA103","v":4.5},{"$f":"Invoeren!AB103","v":4.8},{"$f":"Invoeren!AC103","v":5.2},{"$f":"Invoeren!AD103","v":{"v":5,"d":"5.0"}},{"$f":"Invoeren!AE103","v":""},{"$f":"Invoeren!AF103","v":""},{"$f":"Invoeren!AG103","v":{"v":14.600000000000001,"d":"14.6"}},{"$f":"Invoeren!AH103","v":10.7067},{"$f":"Invoeren!AT103","v":4.2},{"$f":"Invoeren!AU103","v":4.5},{"$f":"Invoeren!AV103","v":4.5},{"$f":"Invoeren!AW103","v":{"v":4,"d":"4.0"}},{"$f":"Invoeren!AX103","v":{"v":4,"d":"4.0"}},{"$f":"Invoeren!AY103","v":""},{"$f":"Invoeren!AZ103","v":""},{"$f":"Invoeren!BA103","v":12.7},{"$f":"Invoeren!BB103","v":9.3133},{"$f":"Invoeren!BN103","v":4.5},{"$f":"Invoeren!BO103","v":4.5},{"$f":"Invoeren!BP103","v":4.4},{"$f":"Invoeren!BQ103","v":4.6},{"$f":"Invoeren!BR103","v":4.7},{"$f":"Invoeren!BS103","v":""},{"$f":"Invoeren!BT103","v":""},{"$f":"Invoeren!BU103","v":13.6},{"$f":"Invoeren!BV103","v":{"v":9.52,"d":"9.5200"}},{"$f":"Invoeren!CH103","v":{"v":4,"d":"4.0"}},{"$f":"Invoeren!CI103","v":3.8},{"$f":"Invoeren!CJ103","v":3.8},{"$f":"Invoeren!CK103","v":3.8},{"$f":"Invoeren!CL103","v":4.2},{"$f":"Invoeren!CM103","v":""},{"$f":"Invoeren!CN103","v":""},{"$f":"Invoeren!CO103","v":{"v":11.599999999999998,"d":"11.6"}},{"$f":"Invoeren!CP103","v":8.8933},{"$f":"Invoeren!CR103","v":38.4333},{"$f":"Invoeren!CS103","v":43.6742},{"$f":"Invoeren!CT103","v":0},{"$f":"Invoeren!C103","v":43.6742},{"$f":"Invoeren!L103","v":0},{"$f":"Invoeren!M103","v":""},{"$f":"Invoeren!N103","v":""},{"$f":"Invoeren!H103","v":"Midwest"},{"$f":"Invoeren!AI103","v":125},{"$f":"Invoeren!BC103","v":169},{"$f":"Invoeren!BW103","v":175},{"$f":"Invoeren!CQ103","v":190}]
[{"$f":"Invoeren!B104","v":131},{"$f":"Invoeren!A104","v":98},{"$f":"Invoeren!E104","v":"Birgit Gosselink"},{"$f":"Invoeren!F104","v":"Widex Gzc Donk"},{"$f":"Invoeren!$K104","v":2003},{"$f":"Invoeren!$I104","v":0},{"$f":"Invoeren!Z104","v":3.8},{"$f":"Invoeren!AA104","v":5.1},{"$f":"Invoeren!AB104","v":5.1},{"$f":"Invoeren!AC104","v":4.7},{"$f":"Invoeren!AD104","v":{"v":5,"d":"5.0"}},{"$f":"Invoeren!AE104","v":""},{"$f":"Invoeren!AF104","v":""},{"$f":"Invoeren!AG104","v":14.8},{"$f":"Invoeren!AH104","v":10.8533},{"$f":"Invoeren!AT104","v":4.5},{"$f":"Invoeren!AU104","v":4.8},{"$f":"Invoeren!AV104","v":4.8},{"$f":"Invoeren!AW104","v":4.6},{"$f":"Invoeren!AX104","v":4.5},{"$f":"Invoeren!AY104","v":""},{"$f":"Invoeren!AZ104","v":""},{"$f":"Invoeren!BA104","v":{"v":13.900000000000002,"d":"13.9"}},{"$f":"Invoeren!BB104","v":10.1933},{"$f":"Invoeren!BN104","v":4.8},{"$f":"Invoeren!BO104","v":4.6},{"$f":"Invoeren!BP104","v":5.5},{"$f":"Invoeren!BQ104","v":4.9},{"$f":"Invoeren!BR104","v":{"v":5,"d":"5.0"}},{"$f":"Invoeren!BS104","v":""},{"$f":"Invoeren!BT104","v":""},{"$f":"Invoeren!BU104","v":{"v":14.699999999999998,"d":"14.7"}},{"$f":"Invoeren!BV104","v":{"v":10.29,"d":"10.2900"}},{"$f":"Invoeren!CH104","v":{"v":5,"d":"5.0"}},{"$f":"Invoeren!CI104","v":4.5},{"$f":"Invoeren!CJ104","v":4.7},{"$f":"Invoeren!CK104","v":4.6},{"$f":"Invoeren!CL104","v":4.5},{"$f":"Invoeren!CM104","v":""},{"$f":"Invoeren!CN104","v":""},{"$f":"Invoeren!CO104","v":{"v":13.799999999999997,"d":"13.8"}},{"$f":"Invoeren!CP104","v":{"v":10.58,"d":"10.5800"}},{"$f":"Invoeren!CR104","v":41.9166},{"$f":"Invoeren!CS104","v":47.6325},{"$f":"Invoeren!CT104","v":0},{"$f":"Invoeren!C104","v":47.6325},{"$f":"Invoeren!L104","v":0},{"$f":"Invoeren!M104","v":""},{"$f":"Invoeren!N104","v":""},{"$f":"Invoeren!H104","v":"West"},{"$f":"Invoeren!AI104","v":117},{"$f":"Invoeren!BC104","v":119},{"$f":"Invoeren!BW104","v":139},{"$f":"Invoeren!CQ104","v":117}]
[{"$f":"Invoeren!B105","v":58},{"$f":"Invoeren!A105","v":99},{"$f":"Invoeren!E105","v":"Nadja van Kralingen"},{"$f":"Invoeren!F105","v":"WVZ"},{"$f":"Invoeren!$K105","v":2003},{"$f":"Invoeren!$I105","v":0},{"$f":"Invoeren!Z105","v":5.1},{"$f":"Invoeren!AA105","v":4.7},{"$f":"Invoeren!AB105","v":5.3},{"$f":"Invoeren!AC105","v":4.9},{"$f":"Invoeren!AD105","v":5.2},{"$f":"Invoeren!AE105","v":""},{"$f":"Invoeren!AF105","v":""},{"$f":"Invoeren!AG105","v":15.2},{"$f":"Invoeren!AH105","v":11.1467},{"$f":"Invoeren!AT105","v":5.7},{"$f":"Invoeren!AU105","v":5.1},{"$f":"Invoeren!AV105","v":5.5},{"$f":"Invoeren!AW105","v":5.7},{"$f":"Invoeren!AX105","v":6.1},{"$f":"Invoeren!AY105","v":""},{"$f":"Invoeren!AZ105","v":""},{"$f":"Invoeren!BA105","v":16.9},{"$f":"Invoeren!BB105","v":12.3933},{"$f":"Invoeren!BN105","v":4.9},{"$f":"Invoeren!BO105","v":{"v":5,"d":"5.0"}},{"$f":"Invoeren!BP105","v":{"v":5,"d":"5.0"}},{"$f":"Invoeren!BQ105","v":5.3},{"$f":"Invoeren!BR105","v":5.4},{"$f":"Invoeren!BS105","v":""},{"$f":"Invoeren!BT105","v":""},{"$f":"Invoeren!BU105","v":{"v":15.300000000000002,"d":"15.3"}},{"$f":"Invoeren!BV105","v":{"v":10.71,"d":"10.7100"}},{"$f":"Invoeren!CH105","v":5.5},{"$f":"Invoeren!CI105","v":5.5},{"$f":"Invoeren!CJ105","v":5.1},{"$f":"Invoeren!CK105","v":5.4},{"$f":"Invoeren!CL105","v":5.3},{"$f":"Invoeren!CM105","v":""},{"$f":"Invoeren!CN105","v":""},{"$f":"Invoeren!CO105","v":{"v":16.200000000000003,"d":"16.2"}},{"$f":"Invoeren!CP105","v":{"v":12.42,"d":"12.4200"}},{"$f":"Invoeren!CR105","v":{"v":46.67,"d":"46.6700"}},{"$f":"Invoeren!CS105","v":53.0341},{"$f":"Invoeren!CT105","v":0},{"$f":"Invoeren!C105","v":53.0341},{"$f":"Invoeren!L105","v":0},{"$f":"Invoeren!M105","v":"L"},{"$f":"Invoeren!N105","v":""},{"$f":"Invoeren!H105","v":"West"},{"$f":"Invoeren!AI105","v":105},{"$f":"Invoeren!BC105","v":23},{"$f":"Invoeren!BW105","v":114},{"$f":"Invoeren!CQ105","v":30}]
[{"$f":"Invoeren!B106","v":92},{"$f":"Invoeren!A106","v":100},{"$f":"Invoeren!E106","v":"Romy Koers"},{"$f":"Invoeren!F106","v":"WVZ"},{"$f":"Invoeren!$K106","v":2004},{"$f":"Invoeren!$I106","v":0},{"$f":"Invoeren!Z106","v":3.9},{"$f":"Invoeren!AA106","v":3.8},{"$f":"Invoeren!AB106","v":4.6},{"$f":"Invoeren!AC106","v":4.6},{"$f":"Invoeren!AD106","v":{"v":4,"d":"4.0"}},{"$f":"Invoeren!AE106","v":""},{"$f":"Invoeren!AF106","v":""},{"$f":"Invoeren!AG106","v":{"v":12.499999999999996,"d":"12.5"}},{"$f":"Invoeren!AH106","v":9.1667},{"$f":"Invoeren!AT106","v":5.5},{"$f":"Invoeren!AU106","v":{"v":5,"d":"5.0"}},{"$f":"Invoeren!AV106","v":{"v":5,"d":"5.0"}},{"$f":"Invoeren!AW106","v":5.4},{"$f":"Invoeren!AX106","v":5.3},{"$f":"Invoeren!AY106","v":""},{"$f":"Invoeren!AZ106","v":""},{"$f":"Invoeren!BA106","v":15.7},{"$f":"Invoeren!BB106","v":11.5133},{"$f":"Invoeren!BN106","v":4.8},{"$f":"Invoeren!BO106","v":5.2},{"$f":"Invoeren!BP106","v":5.9},{"$f":"Invoeren!BQ106","v":5.7},{"$f":"Invoeren!BR106","v":5.2},{"$f":"Invoeren!BS106","v":""},{"$f":"Invoeren!BT106","v":""},{"$f":"Invoeren!BU106","v":{"v":16.099999999999998,"d":"16.1"}},{"$f":"Invoeren!BV106","v":{"v":11.27,"d":"11.2700"}},{"$f":"Invoeren!CH106","v":5.7},{"$f":"Invoeren!CI106","v":5.6},{"$f":"Invoeren!CJ106","v":5.3},{"$f":"Invoeren!CK106","v":5.2},{"$f":"Invoeren!CL106","v":5.1},{"$f":"Invoeren!CM106","v":""},{"$f":"Invoeren!CN106","v":""},{"$f":"Invoeren!CO106","v":16.1},{"$f":"Invoeren!CP106","v":12.3433},{"$f":"Invoeren!CR106","v":44.2933},{"$f":"Invoeren!CS106","v":50.3333},{"$f":"Invoeren!CT106","v":0},{"$f":"Invoeren!C106","v":50.3333},{"$f":"Invoeren!L106","v":0},{"$f":"Invoeren!M106","v":"L"},{"$f":"Invoeren!N106","v":""},{"$f":"Invoeren!H106","v":"West"},{"$f":"Invoeren!AI106","v":189},{"$f":"Invoeren!BC106","v":55},{"$f":"Invoeren!BW106","v":92},{"$f":"Invoeren!CQ106","v":32}]
[{"$f":"Invoeren!B107","v":91},{"$f":"Invoeren!A107","v":101},{"$f":"Invoeren!E107","v":"Jente Doornhein"},{"$f":"Invoeren!F107","v":"BZ&PC"},{"$f":"Invoeren!$K107","v":2003},{"$f":"Invoeren!$I107","v":0},{"$f":"Invoeren!Z107","v":4.8},{"$f":"Invoeren!AA107","v":4.9},{"$f":"Invoeren!AB107","v":{"v":5,"d":"5.0"}},{"$f":"Invoeren!AC107","v":5.3},{"$f":"Invoeren!AD107","v":4.5},{"$f":"Invoeren!AE107","v":""},{"$f":"Invoeren!AF107","v":""},{"$f":"Invoeren!AG107","v":14.7},{"$f":"Invoeren!AH107","v":{"v":10.78,"d":"10.7800"}},{"$f":"Invoeren!AT107","v":4.4},{"$f":"Invoeren!AU107","v":4.4},{"$f":"Invoeren!AV107","v":4.4},{"$f":"Invoeren!AW107","v":4.2},{"$f":"Invoeren!AX107","v":4.1},{"$f":"Invoeren!AY107","v":""},{"$f":"Invoeren!AZ107","v":""},{"$f":"Invoeren!BA107","v":{"v":13.000000000000002,"d":"13.0"}},{"$f":"Invoeren!BB107","v":9.5333},{"$f":"Invoeren!BN107","v":{"v":5,"d":"5.0"}},{"$f":"Invoeren!BO107","v":5.6},{"$f":"Invoeren!BP107","v":5.7},{"$f":"Invoeren!BQ107","v":5.4},{"$f":"Invoeren!BR107","v":5.3},{"$f":"Invoeren!BS107","v":""},{"$f":"Invoeren!BT107","v":""},{"$f":"Invoeren!BU107","v":{"v":16.300000000000004,"d":"16.3"}},{"$f":"Invoeren!BV107","v":{"v":11.41,"d":"11.4100"}},{"$f":"Invoeren!CH107","v":5.8},{"$f":"Invoeren!CI107","v":5.5},{"$f":"Invoeren!CJ107","v":5.1},{"$f":"Invoeren!CK107","v":5.4},{"$f":"Invoeren!CL107","v":5.5},{"$f":"Invoeren!CM107","v":""},{"$f":"Invoeren!CN107","v":""},{"$f":"Invoeren!CO107","v":16.4},{"$f":"Invoeren!CP107","v":12.5733},{"$f":"Invoeren!CR107","v":44.2966},{"$f":"Invoeren!CS107","v":{"v":50.337,"d":"50.3370"}},{"$f":"Invoeren!CT107","v":0},{"$f":"Invoeren!C107","v":{"v":50.337,"d":"50.3370"}},{"$f":"Invoeren!L107","v":0},{"$f":"Invoeren!M107","v":"L"},{"$f":"Invoeren!N107","v":""},{"$f":"Invoeren!H107","v":"West"},{"$f":"Invoeren!AI107","v":120},{"$f":"Invoeren!BC107","v":159},{"$f":"Invoeren!BW107","v":86},{"$f":"Invoeren!CQ107","v":27}]
[{"$f":"Invoeren!B108","v":116},{"$f":"Invoeren!A108","v":102},{"$f":"Invoeren!E108","v":"Marit de Locht"},{"$f":"Invoeren!F108","v":"Cadans"},{"$f":"Invoeren!$K108","v":2004},{"$f":"Invoeren!$I108","v":0},{"$f":"Invoeren!Z108","v":4.7},{"$f":"Invoeren!AA108","v":{"v":5,"d":"5.0"}},{"$f":"Invoeren!AB108","v":5.4},{"$f":"Invoeren!AC108","v":5.6},{"$f":"Invoeren!AD108","v":5.3},{"$f":"Invoeren!AE108","v":""},{"$f":"Invoeren!AF108","v":""},{"$f":"Invoeren!AG108","v":15.7},{"$f":"Invoeren!AH108","v":11.5133},{"$f":"Invoeren!AT108","v":4.7},{"$f":"Invoeren!AU108","v":4.1},{"$f":"Invoeren!AV108","v":4.6},{"$f":"Invoeren!AW108","v":4.5},{"$f":"Invoeren!AX108","v":4.5},{"$f":"Invoeren!AY108","v":""},{"$f":"Invoeren!AZ108","v":""},{"$f":"Invoeren!BA108","v":13.6},{"$f":"Invoeren!BB108","v":9.9733},{"$f":"Invoeren!BN108","v":4.6},{"$f":"Invoeren!BO108","v":5.1},{"$f":"Invoeren!BP108","v":4.9},{"$f":"Invoeren!BQ108","v":4.9},{"$f":"Invoeren!BR108","v":4.4},{"$f":"Invoeren!BS108","v":""},{"$f":"Invoeren!BT108","v":""},{"$f":"Invoeren!BU108","v":{"v":14.399999999999997,"d":"14.4"}},{"$f":"Invoeren!BV108","v":{"v":10.08,"d":"10.0800"}},{"$f":"Invoeren!CH108","v":4.3},{"$f":"Invoeren!CI108","v":5.4},{"$f":"Invoeren!CJ108","v":4.9},{"$f":"Invoeren!CK108","v":4.7},{"$f":"Invoeren!CL108","v":5.3},{"$f":"Invoeren!CM108","v":""},{"$f":"Invoeren!CN108","v":""},{"$f":"Invoeren!CO108","v":{"v":14.900000000000002,"d":"14.9"}},{"$f":"Invoeren!CP108","v":11.4233},{"$f":"Invoeren!CR108","v":42.9899},{"$f":"Invoeren!CS108","v":48.8522},{"$f":"Invoeren!CT108","v":0},{"$f":"Invoeren!C108","v":48.8522},{"$f":"Invoeren!L108","v":0},{"$f":"Invoeren!M108","v":""},{"$f":"Invoeren!N108","v":""},{"$f":"Invoeren!H108","v":"oost"},{"$f":"Invoeren!AI108","v":88},{"$f":"Invoeren!BC108","v":134},{"$f":"Invoeren!BW108","v":149},{"$f":"Invoeren!CQ108","v":65}]
[{"$f":"Invoeren!B109","v":"BM"},{"$f":"Invoeren!A109","v":103},{"$f":"Invoeren!E109","v":"Jessica Backes"},{"$f":"Invoeren!F109","v":"ZVBrunssum"},{"$f":"Invoeren!$K109","v":1998},{"$f":"Invoeren!$I109","v":"BM"},{"$f":"Invoeren!Z109","v":{"v":0,"d":"0.0"}},{"$f":"Invoeren!AA109","v":{"v":0,"d":"0.0"}},{"$f":"Invoeren!AB109","v":{"v":0,"d":"0.0"}},{"$f":"Invoeren!AC109","v":{"v":0,"d":"0.0"}},{"$f":"Invoeren!AD109","v":{"v":0,"d":"0.0"}},{"$f":"Invoeren!AE109","v":""},{"$f":"Invoeren!AF109","v":""},{"$f":"Invoeren!AG109","v":{"v":0,"d":"0.0"}},{"$f":"Invoeren!AH109","v":{"v":0,"d":"0.0000"}},{"$f":"Invoeren!AT109","v":{"v":0,"d":"0.0"}},{"$f":"Invoeren!AU109","v":{"v":0,"d":"0.0"}},{"$f":"Invoeren!AV109","v":{"v":0,"d":"0.0"}},{"$f":"Invoeren!AW109","v":{"v":0,"d":"0.0"}},{"$f":"Invoeren!AX109","v":{"v":0,"d":"0.0"}},{"$f":"Invoeren!AY109","v":""},{"$f":"Invoeren!AZ109","v":""},{"$f":"Invoeren!BA109","v":{"v":0,"d":"0.0"}},{"$f":"Invoeren!BB109","v":{"v":0,"d":"0.0000"}},{"$f":"Invoeren!BN109","v":{"v":0,"d":"0.0"}},{"$f":"Invoeren!BO109","v":{"v":0,"d":"0.0"}},{"$f":"Invoeren!BP109","v":{"v":0,"d":"0.0"}},{"$f":"Invoeren!BQ109","v":{"v":0,"d":"0.0"}},{"$f":"Invoeren!BR109","v":{"v":0,"d":"0.0"}},{"$f":"Invoeren!BS109","v":""},{"$f":"Invoeren!BT109","v":""},{"$f":"Invoeren!BU109","v":{"v":0,"d":"0.0"}},{"$f":"Invoeren!BV109","v":{"v":0,"d":"0.0000"}},{"$f":"Invoeren!CH109","v":{"v":0,"d":"0.0"}},{"$f":"Invoeren!CI109","v":{"v":0,"d":"0.0"}},{"$f":"Invoeren!CJ109","v":{"v":0,"d":"0.0"}},{"$f":"Invoeren!CK109","v":{"v":0,"d":"0.0"}},{"$f":"Invoeren!CL109","v":{"v":0,"d":"0.0"}},{"$f":"Invoeren!CM109","v":""},{"$f":"Invoeren!CN109","v":""},{"$f":"Invoeren!CO109","v":{"v":0,"d":"0.0"}},{"$f":"Invoeren!CP109","v":{"v":0,"d":"0.0000"}},{"$f":"Invoeren!CR109","v":0},{"$f":"Invoeren!CS109","v":0},{"$f":"Invoeren!CT109","v":0},{"$f":"Invoeren!C109","v":0},{"$f":"Invoeren!L109","v":0},{"$f":"Invoeren!M109","v":"BM"},{"$f":"Invoeren!N109","v":""},{"$f":"Invoeren!H109","v":"Zuid"},{"$f":"Invoeren!AI109","v":""},{"$f":"Invoeren!BC109","v":""},{"$f":"Invoeren!BW109","v":""},{"$f":"Invoeren!CQ109","v":""}]
[{"$f":"Invoeren!B110","v":138},{"$f":"Invoeren!A110","v":104},{"$f":"Invoeren!E110","v":"Tanja Vorotilova"},{"$f":"Invoeren!F110","v":"PSV Synchro Team Eindhoven"},{"$f":"Invoeren!$K110","v":2003},{"$f":"Invoeren!$I110","v":0},{"$f":"Invoeren!Z110","v":5.1},{"$f":"Invoeren!AA110","v":{"v":5,"d":"5.0"}},{"$f":"Invoeren!AB110","v":{"v":5,"d":"5.0"}},{"$f":"Invoeren!AC110","v":4.9},{"$f":"Invoeren!AD110","v":5.2},{"$f":"Invoeren!AE110","v":""},{"$f":"Invoeren!AF110","v":""},{"$f":"Invoeren!AG110","v":15.1},{"$f":"Invoeren!AH110","v":11.0733},{"$f":"Invoeren!AT110","v":{"v":5,"d":"5.0"}},{"$f":"Invoeren!AU110","v":4.6},{"$f":"Invoeren!AV110","v":4.8},{"$f":"Invoeren!AW110","v":4.4},{"$f":"Invoeren!AX110","v":4.9},{"$f":"Invoeren!AY110","v":""},{"$f":"Invoeren!AZ110","v":""},{"$f":"Invoeren!BA110","v":{"v":14.299999999999995,"d":"14.3"}},{"$f":"Invoeren!BB110","v":10.4867},{"$f":"Invoeren!BN110","v":4.6},{"$f":"Invoeren!BO110","v":4.8},{"$f":"Invoeren!BP110","v":4.6},{"$f":"Invoeren!BQ110","v":4.5},{"$f":"Invoeren!BR110","v":{"v":5,"d":"5.0"}},{"$f":"Invoeren!BS110","v":""},{"$f":"Invoeren!BT110","v":""},{"$f":"Invoeren!BU110","v":{"v":14,"d":"14.0"}},{"$f":"Invoeren!BV110","v":{"v":9.8,"d":"9.8000"}},{"$f":"Invoeren!CH110","v":4.5},{"$f":"Invoeren!CI110","v":4.4},{"$f":"Invoeren!CJ110","v":4.5},{"$f":"Invoeren!CK110","v":4.4},{"$f":"Invoeren!CL110","v":4.3},{"$f":"Invoeren!CM110","v":""},{"$f":"Invoeren!CN110","v":""},{"$f":"Invoeren!CO110","v":13.3},{"$f":"Invoeren!CP110","v":10.1967},{"$f":"Invoeren!CR110","v":{"v":41.556700000000006,"d":"41.5567"}},{"$f":"Invoeren!CS110","v":47.2235},{"$f":"Invoeren!CT110","v":0},{"$f":"Invoeren!C110","v":47.2235},{"$f":"Invoeren!L110","v":0},{"$f":"Invoeren!M110","v":""},{"$f":"Invoeren!N110","v":""},{"$f":"Invoeren!H110","v":"Zuid"},{"$f":"Invoeren!AI110","v":108},{"$f":"Invoeren!BC110","v":108},{"$f":"Invoeren!BW110","v":166},{"$f":"Invoeren!CQ110","v":136}]
[{"$f":"Invoeren!B111","v":89},{"$f":"Invoeren!A111","v":105},{"$f":"Invoeren!E111","v":"Senna Zwezerijnen"},{"$f":"Invoeren!F111","v":"Aquarijn"},{"$f":"Invoeren!$K111","v":2004},{"$f":"Invoeren!$I111","v":0},{"$f":"Invoeren!Z111","v":4.8},{"$f":"Invoeren!AA111","v":4.9},{"$f":"Invoeren!AB111","v":{"v":5,"d":"5.0"}},{"$f":"Invoeren!AC111","v":5.8},{"$f":"Invoeren!AD111","v":5.6},{"$f":"Invoeren!AE111","v":""},{"$f":"Invoeren!AF111","v":""},{"$f":"Invoeren!AG111","v":15.5},{"$f":"Invoeren!AH111","v":11.3667},{"$f":"Invoeren!AT111","v":4.3},{"$f":"Invoeren!AU111","v":4.2},{"$f":"Invoeren!AV111","v":4.3},{"$f":"Invoeren!AW111","v":4.6},{"$f":"Invoeren!AX111","v":4.4},{"$f":"Invoeren!AY111","v":""},{"$f":"Invoeren!AZ111","v":""},{"$f":"Invoeren!BA111","v":{"v":12.999999999999996,"d":"13.0"}},{"$f":"Invoeren!BB111","v":9.5333},{"$f":"Invoeren!BN111","v":4.9},{"$f":"Invoeren!BO111","v":5.4},{"$f":"Invoeren!BP111","v":5.6},{"$f":"Invoeren!BQ111","v":6.3},{"$f":"Invoeren!BR111","v":6.1},{"$f":"Invoeren!BS111","v":""},{"$f":"Invoeren!BT111","v":""},{"$f":"Invoeren!BU111","v":{"v":17.099999999999994,"d":"17.1"}},{"$f":"Invoeren!BV111","v":{"v":11.97,"d":"11.9700"}},{"$f":"Invoeren!CH111","v":4.9},{"$f":"Invoeren!CI111","v":{"v":5,"d":"5.0"}},{"$f":"Invoeren!CJ111","v":{"v":5,"d":"5.0"}},{"$f":"Invoeren!CK111","v":5.1},{"$f":"Invoeren!CL111","v":5.1},{"$f":"Invoeren!CM111","v":""},{"$f":"Invoeren!CN111","v":""},{"$f":"Invoeren!CO111","v":15.1},{"$f":"Invoeren!CP111","v":11.5767},{"$f":"Invoeren!CR111","v":44.4467},{"$f":"Invoeren!CS111","v":50.5076},{"$f":"Invoeren!CT111","v":0},{"$f":"Invoeren!C111","v":50.5076},{"$f":"Invoeren!L111","v":0},{"$f":"Invoeren!M111","v":"L"},{"$f":"Invoeren!N111","v":""},{"$f":"Invoeren!H111","v":"MidWest"},{"$f":"Invoeren!AI111","v":100},{"$f":"Invoeren!BC111","v":159},{"$f":"Invoeren!BW111","v":57},{"$f":"Invoeren!CQ111","v":58}]
[{"$f":"Invoeren!B112","v":"BM"},{"$f":"Invoeren!A112","v":106},{"$f":"Invoeren!E112","v":"Julia Postma"},{"$f":"Invoeren!F112","v":"DZ&PC"},{"$f":"Invoeren!$K112","v":2002},{"$f":"Invoeren!$I112","v":"BM"},{"$f":"Invoeren!Z112","v":4.3},{"$f":"Invoeren!AA112","v":{"v":4,"d":"4.0"}},{"$f":"Invoeren!AB112","v":4.2},{"$f":"Invoeren!AC112","v":5.3},{"$f":"Invoeren!AD112","v":3.9},{"$f":"Invoeren!AE112","v":""},{"$f":"Invoeren!AF112","v":""},{"$f":"Invoeren!AG112","v":{"v":12.499999999999998,"d":"12.5"}},{"$f":"Invoeren!AH112","v":9.1667},{"$f":"Invoeren!AT112","v":4.1},{"$f":"Invoeren!AU112","v":3.8},{"$f":"Invoeren!AV112","v":4.2},{"$f":"Invoeren!AW112","v":3.8},{"$f":"Invoeren!AX112","v":4.2},{"$f":"Invoeren!AY112","v":""},{"$f":"Invoeren!AZ112","v":""},{"$f":"Invoeren!BA112","v":{"v":12.099999999999998,"d":"12.1"}},{"$f":"Invoeren!BB112","v":8.8733},{"$f":"Invoeren!BN112","v":4.5},{"$f":"Invoeren!BO112","v":4.5},{"$f":"Invoeren!BP112","v":4.6},{"$f":"Invoeren!BQ112","v":4.3},{"$f":"Invoeren!BR112","v":4.6},{"$f":"Invoeren!BS112","v":""},{"$f":"Invoeren!BT112","v":""},{"$f":"Invoeren!BU112","v":{"v":13.599999999999998,"d":"13.6"}},{"$f":"Invoeren!BV112","v":{"v":9.52,"d":"9.5200"}},{"$f":"Invoeren!CH112","v":4.3},{"$f":"Invoeren!CI112","v":3.7},{"$f":"Invoeren!CJ112","v":3.7},{"$f":"Invoeren!CK112","v":{"v":4,"d":"4.0"}},{"$f":"Invoeren!CL112","v":{"v":4,"d":"4.0"}},{"$f":"Invoeren!CM112","v":""},{"$f":"Invoeren!CN112","v":""},{"$f":"Invoeren!CO112","v":11.7},{"$f":"Invoeren!CP112","v":{"v":8.97,"d":"8.9700"}},{"$f":"Invoeren!CR112","v":{"v":36.53,"d":"36.5300"}},{"$f":"Invoeren!CS112","v":41.5114},{"$f":"Invoeren!CT112","v":0},{"$f":"Invoeren!C112","v":41.5114},{"$f":"Invoeren!L112","v":0},{"$f":"Invoeren!M112","v":"BM"},{"$f":"Invoeren!N112","v":""},{"$f":"Invoeren!H112","v":"Noord"},{"$f":"Invoeren!AI112","v":189},{"$f":"Invoeren!BC112","v":181},{"$f":"Invoeren!BW112","v":175},{"$f":"Invoeren!CQ112","v":187}]
[{"$f":"Invoeren!B113","v":52},{"$f":"Invoeren!A113","v":107},{"$f":"Invoeren!E113","v":"Tara Vyent"},{"$f":"Invoeren!F113","v":"ACZ"},{"$f":"Invoeren!$K113","v":2004},{"$f":"Invoeren!$I113","v":0},{"$f":"Invoeren!Z113","v":5.3},{"$f":"Invoeren!AA113","v":5.1},{"$f":"Invoeren!AB113","v":5.7},{"$f":"Invoeren!AC113","v":5.6},{"$f":"Invoeren!AD113","v":5.4},{"$f":"Invoeren!AE113","v":""},{"$f":"Invoeren!AF113","v":""},{"$f":"Invoeren!AG113","v":{"v":16.299999999999997,"d":"16.3"}},{"$f":"Invoeren!AH113","v":11.9533},{"$f":"Invoeren!AT113","v":5.6},{"$f":"Invoeren!AU113","v":{"v":5,"d":"5.0"}},{"$f":"Invoeren!AV113","v":5.5},{"$f":"Invoeren!AW113","v":{"v":6,"d":"6.0"}},{"$f":"Invoeren!AX113","v":5.8},{"$f":"Invoeren!AY113","v":""},{"$f":"Invoeren!AZ113","v":""},{"$f":"Invoeren!BA113","v":{"v":16.900000000000002,"d":"16.9"}},{"$f":"Invoeren!BB113","v":12.3933},{"$f":"Invoeren!BN113","v":5.4},{"$f":"Invoeren!BO113","v":5.8},{"$f":"Invoeren!BP113","v":5.8},{"$f":"Invoeren!BQ113","v":5.2},{"$f":"Invoeren!BR113","v":{"v":6,"d":"6.0"}},{"$f":"Invoeren!BS113","v":""},{"$f":"Invoeren!BT113","v":""},{"$f":"Invoeren!BU113","v":{"v":17,"d":"17.0"}},{"$f":"Invoeren!BV113","v":{"v":11.9,"d":"11.9000"}},{"$f":"Invoeren!CH113","v":4.8},{"$f":"Invoeren!CI113","v":4.9},{"$f":"Invoeren!CJ113","v":4.8},{"$f":"Invoeren!CK113","v":4.8},{"$f":"Invoeren!CL113","v":5.2},{"$f":"Invoeren!CM113","v":""},{"$f":"Invoeren!CN113","v":""},{"$f":"Invoeren!CO113","v":14.5},{"$f":"Invoeren!CP113","v":11.1167},{"$f":"Invoeren!CR113","v":47.3633},{"$f":"Invoeren!CS113","v":53.8219},{"$f":"Invoeren!CT113","v":0},{"$f":"Invoeren!C113","v":53.8219},{"$f":"Invoeren!L113","v":0},{"$f":"Invoeren!M113","v":"L"},{"$f":"Invoeren!N113","v":""},{"$f":"Invoeren!H113","v":"West"},{"$f":"Invoeren!AI113","v":62},{"$f":"Invoeren!BC113","v":23},{"$f":"Invoeren!BW113","v":63},{"$f":"Invoeren!CQ113","v":87}]
[{"$f":"Invoeren!B114","v":156},{"$f":"Invoeren!A114","v":108},{"$f":"Invoeren!E114","v":"Kyra Kemper"},{"$f":"Invoeren!F114","v":"Hera'11"},{"$f":"Invoeren!$K114","v":2005},{"$f":"Invoeren!$I114","v":0},{"$f":"Invoeren!Z114","v":4.7},{"$f":"Invoeren!AA114","v":4.9},{"$f":"Invoeren!AB114","v":4.5},{"$f":"Invoeren!AC114","v":4.5},{"$f":"Invoeren!AD114","v":4.8},{"$f":"Invoeren!AE114","v":""},{"$f":"Invoeren!AF114","v":""},{"$f":"Invoeren!AG114","v":{"v":14,"d":"14.0"}},{"$f":"Invoeren!AH114","v":10.2667},{"$f":"Invoeren!AT114","v":4.4},{"$f":"Invoeren!AU114","v":4.7},{"$f":"Invoeren!AV114","v":3.6},{"$f":"Invoeren!AW114","v":4.3},{"$f":"Invoeren!AX114","v":3.8},{"$f":"Invoeren!AY114","v":""},{"$f":"Invoeren!AZ114","v":""},{"$f":"Invoeren!BA114","v":{"v":12.500000000000002,"d":"12.5"}},{"$f":"Invoeren!BB114","v":9.1667},{"$f":"Invoeren!BN114","v":4.5},{"$f":"Invoeren!BO114","v":{"v":5,"d":"5.0"}},{"$f":"Invoeren!BP114","v":{"v":5,"d":"5.0"}},{"$f":"Invoeren!BQ114","v":{"v":5,"d":"5.0"}},{"$f":"Invoeren!BR114","v":4.9},{"$f":"Invoeren!BS114","v":""},{"$f":"Invoeren!BT114","v":""},{"$f":"Invoeren!BU114","v":{"v":14.899999999999999,"d":"14.9"}},{"$f":"Invoeren!BV114","v":{"v":10.43,"d":"10.4300"}},{"$f":"Invoeren!CH114","v":{"v":4,"d":"4.0"}},{"$f":"Invoeren!CI114","v":4.7},{"$f":"Invoeren!CJ114","v":4.2},{"$f":"Invoeren!CK114","v":4.3},{"$f":"Invoeren!CL114","v":4.3},{"$f":"Invoeren!CM114","v":""},{"$f":"Invoeren!CN114","v":""},{"$f":"Invoeren!CO114","v":12.8},{"$f":"Invoeren!CP114","v":9.8133},{"$f":"Invoeren!CR114","v":39.6767},{"$f":"Invoeren!CS114","v":45.0872},{"$f":"Invoeren!CT114","v":0},{"$f":"Invoeren!C114","v":45.0872},{"$f":"Invoeren!L114","v":0},{"$f":"Invoeren!M114","v":""},{"$f":"Invoeren!N114","v":""},{"$f":"Invoeren!H114","v":"Oost"},{"$f":"Invoeren!AI114","v":157},{"$f":"Invoeren!BC114","v":174},{"$f":"Invoeren!BW114","v":127},{"$f":"Invoeren!CQ114","v":156}]
[{"$f":"Invoeren!B115","v":133},{"$f":"Invoeren!A115","v":109},{"$f":"Invoeren!E115","v":"Lina El Baoudi"},{"$f":"Invoeren!F115","v":"Z.P.C.H."},{"$f":"Invoeren!$K115","v":2003},{"$f":"Invoeren!$I115","v":0},{"$f":"Invoeren!Z115","v":4.8},{"$f":"Invoeren!AA115","v":4.6},{"$f":"Invoeren!AB115","v":5.1},{"$f":"Invoeren!AC115","v":4.7},{"$f":"Invoeren!AD115","v":{"v":5,"d":"5.0"}},{"$f":"Invoeren!AE115","v":""},{"$f":"Invoeren!AF115","v":""},{"$f":"Invoeren!AG115","v":{"v":14.500000000000002,"d":"14.5"}},{"$f":"Invoeren!AH115","v":10.6333},{"$f":"Invoeren!AT115","v":4.5},{"$f":"Invoeren!AU115","v":{"v":5,"d":"5.0"}},{"$f":"Invoeren!AV115","v":4.7},{"$f":"Invoeren!AW115","v":4.8},{"$f":"Invoeren!AX115","v":4.9},{"$f":"Invoeren!AY115","v":""},{"$f":"Invoeren!AZ115","v":""},{"$f":"Invoeren!BA115","v":{"v":14.399999999999999,"d":"14.4"}},{"$f":"Invoeren!BB115","v":{"v":10.56,"d":"10.5600"}},{"$f":"Invoeren!BN115","v":4.4},{"$f":"Invoeren!BO115","v":4.8},{"$f":"Invoeren!BP115","v":4.7},{"$f":"Invoeren!BQ115","v":4.6},{"$f":"Invoeren!BR115","v":5.1},{"$f":"Invoeren!BS115","v":""},{"$f":"Invoeren!BT115","v":""},{"$f":"Invoeren!BU115","v":14.1},{"$f":"Invoeren!BV115","v":{"v":9.87,"d":"9.8700"}},{"$f":"Invoeren!CH115","v":4.7},{"$f":"Invoeren!CI115","v":4.6},{"$f":"Invoeren!CJ115","v":4.8},{"$f":"Invoeren!CK115","v":4.5},{"$f":"Invoeren!CL115","v":4.8},{"$f":"Invoeren!CM115","v":""},{"$f":"Invoeren!CN115","v":""},{"$f":"Invoeren!CO115","v":{"v":14.100000000000001,"d":"14.1"}},{"$f":"Invoeren!CP115","v":{"v":10.81,"d":"10.8100"}},{"$f":"Invoeren!CR115","v":41.8733},{"$f":"Invoeren!CS115","v":47.5833},{"$f":"Invoeren!CT115","v":0},{"$f":"Invoeren!C115","v":47.5833},{"$f":"Invoeren!L115","v":0},{"$f":"Invoeren!M115","v":""},{"$f":"Invoeren!N115","v":""},{"$f":"Invoeren!H115","v":"MidWest"},{"$f":"Invoeren!AI115","v":130},{"$f":"Invoeren!BC115","v":104},{"$f":"Invoeren!BW115","v":160},{"$f":"Invoeren!CQ115","v":107}]
[{"$f":"Invoeren!B116","v":114},{"$f":"Invoeren!A116","v":110},{"$f":"Invoeren!E116","v":"Melida Keizer"},{"$f":"Invoeren!F116","v":"De Watertrappers"},{"$f":"Invoeren!$K116","v":2005},{"$f":"Invoeren!$I116","v":0},{"$f":"Invoeren!Z116","v":{"v":5,"d":"5.0"}},{"$f":"Invoeren!AA116","v":4.9},{"$f":"Invoeren!AB116","v":4.7},{"$f":"Invoeren!AC116","v":4.6},{"$f":"Invoeren!AD116","v":4.6},{"$f":"Invoeren!AE116","v":""},{"$f":"Invoeren!AF116","v":""},{"$f":"Invoeren!AG116","v":{"v":14.200000000000005,"d":"14.2"}},{"$f":"Invoeren!AH116","v":10.4133},{"$f":"Invoeren!AT116","v":5.3},{"$f":"Invoeren!AU116","v":5.1},{"$f":"Invoeren!AV116","v":5.1},{"$f":"Invoeren!AW116","v":4.9},{"$f":"Invoeren!AX116","v":5.6},{"$f":"Invoeren!AY116","v":""},{"$f":"Invoeren!AZ116","v":""},{"$f":"Invoeren!BA116","v":{"v":15.499999999999998,"d":"15.5"}},{"$f":"Invoeren!BB116","v":11.3667},{"$f":"Invoeren!BN116","v":4.6},{"$f":"Invoeren!BO116","v":{"v":5,"d":"5.0"}},{"$f":"Invoeren!BP116","v":4.7},{"$f":"Invoeren!BQ116","v":4.9},{"$f":"Invoeren!BR116","v":5.2},{"$f":"Invoeren!BS116","v":""},{"$f":"Invoeren!BT116","v":""},{"$f":"Invoeren!BU116","v":{"v":14.600000000000003,"d":"14.6"}},{"$f":"Invoeren!BV116","v":{"v":10.22,"d":"10.2200"}},{"$f":"Invoeren!CH116","v":4.9},{"$f":"Invoeren!CI116","v":4.8},{"$f":"Invoeren!CJ116","v":4.7},{"$f":"Invoeren!CK116","v":{"v":5,"d":"5.0"}},{"$f":"Invoeren!CL116","v":4.6},{"$f":"Invoeren!CM116","v":""},{"$f":"Invoeren!CN116","v":""},{"$f":"Invoeren!CO116","v":14.4},{"$f":"Invoeren!CP116","v":{"v":11.04,"d":"11.0400"}},{"$f":"Invoeren!CR116","v":{"v":43.04,"d":"43.0400"}},{"$f":"Invoeren!CS116","v":48.9091},{"$f":"Invoeren!CT116","v":0},{"$f":"Invoeren!C116","v":48.9091},{"$f":"Invoeren!L116","v":0},{"$f":"Invoeren!M116","v":"L"},{"$f":"Invoeren!N116","v":""},{"$f":"Invoeren!H116","v":"Mid West"},{"$f":"Invoeren!AI116","v":148},{"$f":"Invoeren!BC116","v":63},{"$f":"Invoeren!BW116","v":142},{"$f":"Invoeren!CQ116","v":92}]
[{"$f":"Invoeren!B117","v":98},{"$f":"Invoeren!A117","v":111},{"$f":"Invoeren!E117","v":"Helena Brons"},{"$f":"Invoeren!F117","v":"DAW"},{"$f":"Invoeren!$K117","v":2004},{"$f":"Invoeren!$I117","v":0},{"$f":"Invoeren!Z117","v":5.4},{"$f":"Invoeren!AA117","v":5.1},{"$f":"Invoeren!AB117","v":5.7},{"$f":"Invoeren!AC117","v":5.4},{"$f":"Invoeren!AD117","v":5.8},{"$f":"Invoeren!AE117","v":""},{"$f":"Invoeren!AF117","v":""},{"$f":"Invoeren!AG117","v":16.5},{"$f":"Invoeren!AH117","v":{"v":12.1,"d":"12.1000"}},{"$f":"Invoeren!AT117","v":4.7},{"$f":"Invoeren!AU117","v":4.7},{"$f":"Invoeren!AV117","v":4.7},{"$f":"Invoeren!AW117","v":4.7},{"$f":"Invoeren!AX117","v":5.2},{"$f":"Invoeren!AY117","v":""},{"$f":"Invoeren!AZ117","v":""},{"$f":"Invoeren!BA117","v":{"v":14.100000000000001,"d":"14.1"}},{"$f":"Invoeren!BB117","v":{"v":10.34,"d":"10.3400"}},{"$f":"Invoeren!BN117","v":4.9},{"$f":"Invoeren!BO117","v":5.2},{"$f":"Invoeren!BP117","v":4.9},{"$f":"Invoeren!BQ117","v":4.6},{"$f":"Invoeren!BR117","v":5.5},{"$f":"Invoeren!BS117","v":""},{"$f":"Invoeren!BT117","v":""},{"$f":"Invoeren!BU117","v":{"v":15.000000000000002,"d":"15.0"}},{"$f":"Invoeren!BV117","v":{"v":10.5,"d":"10.5000"}},{"$f":"Invoeren!CH117","v":4.5},{"$f":"Invoeren!CI117","v":4.9},{"$f":"Invoeren!CJ117","v":4.8},{"$f":"Invoeren!CK117","v":4.8},{"$f":"Invoeren!CL117","v":4.9},{"$f":"Invoeren!CM117","v":""},{"$f":"Invoeren!CN117","v":""},{"$f":"Invoeren!CO117","v":14.5},{"$f":"Invoeren!CP117","v":11.1167},{"$f":"Invoeren!CR117","v":44.0567},{"$f":"Invoeren!CS117","v":50.0644},{"$f":"Invoeren!CT117","v":0},{"$f":"Invoeren!C117","v":50.0644},{"$f":"Invoeren!L117","v":0},{"$f":"Invoeren!M117","v":"L"},{"$f":"Invoeren!N117","v":""},{"$f":"Invoeren!H117","v":"Midwest"},{"$f":"Invoeren!AI117","v":57},{"$f":"Invoeren!BC117","v":114},{"$f":"Invoeren!BW117","v":122},{"$f":"Invoeren!CQ117","v":87}]
[{"$f":"Invoeren!B118","v":94},{"$f":"Invoeren!A118","v":112},{"$f":"Invoeren!E118","v":"Nisrine Aghrib Miou"},{"$f":"Invoeren!F118","v":"De Dolfijn"},{"$f":"Invoeren!$K118","v":2004},{"$f":"Invoeren!$I118","v":0},{"$f":"Invoeren!Z118","v":5.1},{"$f":"Invoeren!AA118","v":4.8},{"$f":"Invoeren!AB118","v":5.1},{"$f":"Invoeren!AC118","v":4.8},{"$f":"Invoeren!AD118","v":{"v":5,"d":"5.0"}},{"$f":"Invoeren!AE118","v":""},{"$f":"Invoeren!AF118","v":""},{"$f":"Invoeren!AG118","v":{"v":14.899999999999995,"d":"14.9"}},{"$f":"Invoeren!AH118","v":10.9267},{"$f":"Invoeren!AT118","v":4.8},{"$f":"Invoeren!AU118","v":4.9},{"$f":"Invoeren!AV118","v":{"v":5,"d":"5.0"}},{"$f":"Invoeren!AW118","v":4.9},{"$f":"Invoeren!AX118","v":4.6},{"$f":"Invoeren!AY118","v":""},{"$f":"Invoeren!AZ118","v":""},{"$f":"Invoeren!BA118","v":{"v":14.600000000000003,"d":"14.6"}},{"$f":"Invoeren!BB118","v":10.7067},{"$f":"Invoeren!BN118","v":5.1},{"$f":"Invoeren!BO118","v":5.6},{"$f":"Invoeren!BP118","v":{"v":6,"d":"6.0"}},{"$f":"Invoeren!BQ118","v":5.6},{"$f":"Invoeren!BR118","v":5.6},{"$f":"Invoeren!BS118","v":""},{"$f":"Invoeren!BT118","v":""},{"$f":"Invoeren!BU118","v":{"v":16.799999999999997,"d":"16.8"}},{"$f":"Invoeren!BV118","v":{"v":11.76,"d":"11.7600"}},{"$f":"Invoeren!CH118","v":4.2},{"$f":"Invoeren!CI118","v":5.1},{"$f":"Invoeren!CJ118","v":4.9},{"$f":"Invoeren!CK118","v":4.6},{"$f":"Invoeren!CL118","v":4.6},{"$f":"Invoeren!CM118","v":""},{"$f":"Invoeren!CN118","v":""},{"$f":"Invoeren!CO118","v":{"v":14.099999999999998,"d":"14.1"}},{"$f":"Invoeren!CP118","v":{"v":10.81,"d":"10.8100"}},{"$f":"Invoeren!CR118","v":44.2034},{"$f":"Invoeren!CS118","v":50.2311},{"$f":"Invoeren!CT118","v":0},{"$f":"Invoeren!C118","v":50.2311},{"$f":"Invoeren!L118","v":0},{"$f":"Invoeren!M118","v":"L"},{"$f":"Invoeren!N118","v":""},{"$f":"Invoeren!H118","v":"Midwest"},{"$f":"Invoeren!AI118","v":112},{"$f":"Invoeren!BC118","v":98},{"$f":"Invoeren!BW118","v":68},{"$f":"Invoeren!CQ118","v":107}]
[{"$f":"Invoeren!B119","v":159},{"$f":"Invoeren!A119","v":113},{"$f":"Invoeren!E119","v":"Kim v Hoogevest"},{"$f":"Invoeren!F119","v":"ZV de Zaan"},{"$f":"Invoeren!$K119","v":2003},{"$f":"Invoeren!$I119","v":0},{"$f":"Invoeren!Z119","v":4.4},{"$f":"Invoeren!AA119","v":4.5},{"$f":"Invoeren!AB119","v":4.5},{"$f":"Invoeren!AC119","v":5.1},{"$f":"Invoeren!AD119","v":4.9},{"$f":"Invoeren!AE119","v":""},{"$f":"Invoeren!AF119","v":""},{"$f":"Invoeren!AG119","v":{"v":13.899999999999997,"d":"13.9"}},{"$f":"Invoeren!AH119","v":10.1933},{"$f":"Invoeren!AT119","v":4.7},{"$f":"Invoeren!AU119","v":4.7},{"$f":"Invoeren!AV119","v":4.9},{"$f":"Invoeren!AW119","v":4.8},{"$f":"Invoeren!AX119","v":4.5},{"$f":"Invoeren!AY119","v":""},{"$f":"Invoeren!AZ119","v":""},{"$f":"Invoeren!BA119","v":{"v":14.200000000000003,"d":"14.2"}},{"$f":"Invoeren!BB119","v":10.4133},{"$f":"Invoeren!BN119","v":4.5},{"$f":"Invoeren!BO119","v":4.7},{"$f":"Invoeren!BP119","v":4.7},{"$f":"Invoeren!BQ119","v":4.2},{"$f":"Invoeren!BR119","v":4.8},{"$f":"Invoeren!BS119","v":""},{"$f":"Invoeren!BT119","v":""},{"$f":"Invoeren!BU119","v":{"v":13.899999999999999,"d":"13.9"}},{"$f":"Invoeren!BV119","v":{"v":9.73,"d":"9.7300"}},{"$f":"Invoeren!CH119","v":3.9},{"$f":"Invoeren!CI119","v":{"v":4,"d":"4.0"}},{"$f":"Invoeren!CJ119","v":4.4},{"$f":"Invoeren!CK119","v":4.1},{"$f":"Invoeren!CL119","v":3.9},{"$f":"Invoeren!CM119","v":""},{"$f":"Invoeren!CN119","v":""},{"$f":"Invoeren!CO119","v":{"v":11.999999999999996,"d":"12.0"}},{"$f":"Invoeren!CP119","v":{"v":9.2,"d":"9.2000"}},{"$f":"Invoeren!CR119","v":39.5366},{"$f":"Invoeren!CS119","v":{"v":44.928,"d":"44.9280"}},{"$f":"Invoeren!CT119","v":0},{"$f":"Invoeren!C119","v":{"v":44.928,"d":"44.9280"}},{"$f":"Invoeren!L119","v":0},{"$f":"Invoeren!M119","v":""},{"$f":"Invoeren!N119","v":""},{"$f":"Invoeren!H119","v":"MidWest"},{"$f":"Invoeren!AI119","v":162},{"$f":"Invoeren!BC119","v":111},{"$f":"Invoeren!BW119","v":169},{"$f":"Invoeren!CQ119","v":184}]
[{"$f":"Invoeren!B120","v":193},{"$f":"Invoeren!A120","v":114},{"$f":"Invoeren!E120","v":"Karolina Breedveld"},{"$f":"Invoeren!F120","v":"Widex Gzc Donk"},{"$f":"Invoeren!$K120","v":2004},{"$f":"Invoeren!$I120","v":0},{"$f":"Invoeren!Z120","v":{"v":0,"d":"0.0"}},{"$f":"Invoeren!AA120","v":{"v":0,"d":"0.0"}},{"$f":"Invoeren!AB120","v":{"v":0,"d":"0.0"}},{"$f":"Invoeren!AC120","v":{"v":0,"d":"0.0"}},{"$f":"Invoeren!AD120","v":{"v":0,"d":"0.0"}},{"$f":"Invoeren!AE120","v":""},{"$f":"Invoeren!AF120","v":""},{"$f":"Invoeren!AG120","v":{"v":0,"d":"0.0"}},{"$f":"Invoeren!AH120","v":{"v":0,"d":"0.0000"}},{"$f":"Invoeren!AT120","v":{"v":0,"d":"0.0"}},{"$f":"Invoeren!AU120","v":{"v":0,"d":"0.0"}},{"$f":"Invoeren!AV120","v":{"v":0,"d":"0.0"}},{"$f":"Invoeren!AW120","v":{"v":0,"d":"0.0"}},{"$f":"Invoeren!AX120","v":{"v":0,"d":"0.0"}},{"$f":"Invoeren!AY120","v":""},{"$f":"Invoeren!AZ120","v":""},{"$f":"Invoeren!BA120","v":{"v":0,"d":"0.0"}},{"$f":"Invoeren!BB120","v":{"v":0,"d":"0.0000"}},{"$f":"Invoeren!BN120","v":{"v":0,"d":"0.0"}},{"$f":"Invoeren!BO120","v":{"v":0,"d":"0.0"}},{"$f":"Invoeren!BP120","v":{"v":0,"d":"0.0"}},{"$f":"Invoeren!BQ120","v":{"v":0,"d":"0.0"}},{"$f":"Invoeren!BR120","v":{"v":0,"d":"0.0"}},{"$f":"Invoeren!BS120","v":""},{"$f":"Invoeren!BT120","v":""},{"$f":"Invoeren!BU120","v":{"v":0,"d":"0.0"}},{"$f":"Invoeren!BV120","v":{"v":0,"d":"0.0000"}},{"$f":"Invoeren!CH120","v":{"v":0,"d":"0.0"}},{"$f":"Invoeren!CI120","v":{"v":0,"d":"0.0"}},{"$f":"Invoeren!CJ120","v":{"v":0,"d":"0.0"}},{"$f":"Invoeren!CK120","v":{"v":0,"d":"0.0"}},{"$f":"Invoeren!CL120","v":{"v":0,"d":"0.0"}},{"$f":"Invoeren!CM120","v":""},{"$f":"Invoeren!CN120","v":""},{"$f":"Invoeren!CO120","v":{"v":0,"d":"0.0"}},{"$f":"Invoeren!CP120","v":{"v":0,"d":"0.0000"}},{"$f":"Invoeren!CR120","v":0},{"$f":"Invoeren!CS120","v":0},{"$f":"Invoeren!CT120","v":0},{"$f":"Invoeren!C120","v":0},{"$f":"Invoeren!L120","v":0},{"$f":"Invoeren!M120","v":""},{"$f":"Invoeren!N120","v":""},{"$f":"Invoeren!H120","v":"West"},{"$f":"Invoeren!AI120","v":""},{"$f":"Invoeren!BC120","v":""},{"$f":"Invoeren!BW120","v":""},{"$f":"Invoeren!CQ120","v":""}]
[{"$f":"Invoeren!B121","v":10},{"$f":"Invoeren!A121","v":115},{"$f":"Invoeren!E121","v":"Floor Speckens"},{"$f":"Invoeren!F121","v":"WVZ"},{"$f":"Invoeren!$K121","v":2004},{"$f":"Invoeren!$I121","v":0},{"$f":"Invoeren!Z121","v":5.9},{"$f":"Invoeren!AA121","v":{"v":6,"d":"6.0"}},{"$f":"Invoeren!AB121","v":6.5},{"$f":"Invoeren!AC121","v":6.4},{"$f":"Invoeren!AD121","v":6.5},{"$f":"Invoeren!AE121","v":""},{"$f":"Invoeren!AF121","v":""},{"$f":"Invoeren!AG121","v":18.9},{"$f":"Invoeren!AH121","v":{"v":13.86,"d":"13.8600"}},{"$f":"Invoeren!AT121","v":5.9},{"$f":"Invoeren!AU121","v":6.5},{"$f":"Invoeren!AV121","v":5.8},{"$f":"Invoeren!AW121","v":5.7},{"$f":"Invoeren!AX121","v":{"v":6,"d":"6.0"}},{"$f":"Invoeren!AY121","v":""},{"$f":"Invoeren!AZ121","v":""},{"$f":"Invoeren!BA121","v":17.7},{"$f":"Invoeren!BB121","v":{"v":12.98,"d":"12.9800"}},{"$f":"Invoeren!BN121","v":6.4},{"$f":"Invoeren!BO121","v":6.3},{"$f":"Invoeren!BP121","v":6.3},{"$f":"Invoeren!BQ121","v":6.2},{"$f":"Invoeren!BR121","v":6.2},{"$f":"Invoeren!BS121","v":""},{"$f":"Invoeren!BT121","v":""},{"$f":"Invoeren!BU121","v":18.8},{"$f":"Invoeren!BV121","v":{"v":13.16,"d":"13.1600"}},{"$f":"Invoeren!CH121","v":5.8},{"$f":"Invoeren!CI121","v":5.8},{"$f":"Invoeren!CJ121","v":5.8},{"$f":"Invoeren!CK121","v":5.9},{"$f":"Invoeren!CL121","v":6.2},{"$f":"Invoeren!CM121","v":""},{"$f":"Invoeren!CN121","v":""},{"$f":"Invoeren!CO121","v":{"v":17.499999999999996,"d":"17.5"}},{"$f":"Invoeren!CP121","v":13.4167},{"$f":"Invoeren!CR121","v":53.4167},{"$f":"Invoeren!CS121","v":60.7008},{"$f":"Invoeren!CT121","v":0},{"$f":"Invoeren!C121","v":60.7008},{"$f":"Invoeren!L121","v":0},{"$f":"Invoeren!M121","v":"L"},{"$f":"Invoeren!N121","v":""},{"$f":"Invoeren!H121","v":"West"},{"$f":"Invoeren!AI121","v":9},{"$f":"Invoeren!BC121","v":14},{"$f":"Invoeren!BW121","v":14},{"$f":"Invoeren!CQ121","v":10}]
[{"$f":"Invoeren!B122","v":54},{"$f":"Invoeren!A122","v":116},{"$f":"Invoeren!E122","v":"Ilse Wienen"},{"$f":"Invoeren!F122","v":"Cadans"},{"$f":"Invoeren!$K122","v":2004},{"$f":"Invoeren!$I122","v":0},{"$f":"Invoeren!Z122","v":5.7},{"$f":"Invoeren!AA122","v":5.7},{"$f":"Invoeren!AB122","v":5.8},{"$f":"Invoeren!AC122","v":5.7},{"$f":"Invoeren!AD122","v":5.9},{"$f":"Invoeren!AE122","v":""},{"$f":"Invoeren!AF122","v":""},{"$f":"Invoeren!AG122","v":17.2},{"$f":"Invoeren!AH122","v":12.6133},{"$f":"Invoeren!AT122","v":5.1},{"$f":"Invoeren!AU122","v":{"v":5,"d":"5.0"}},{"$f":"Invoeren!AV122","v":4.8},{"$f":"Invoeren!AW122","v":4.8},{"$f":"Invoeren!AX122","v":4.9},{"$f":"Invoeren!AY122","v":""},{"$f":"Invoeren!AZ122","v":""},{"$f":"Invoeren!BA122","v":14.7},{"$f":"Invoeren!BB122","v":{"v":10.78,"d":"10.7800"}},{"$f":"Invoeren!BN122","v":5.8},{"$f":"Invoeren!BO122","v":6.1},{"$f":"Invoeren!BP122","v":5.7},{"$f":"Invoeren!BQ122","v":5.5},{"$f":"Invoeren!BR122","v":5.6},{"$f":"Invoeren!BS122","v":""},{"$f":"Invoeren!BT122","v":""},{"$f":"Invoeren!BU122","v":{"v":17.099999999999994,"d":"17.1"}},{"$f":"Invoeren!BV122","v":{"v":11.97,"d":"11.9700"}},{"$f":"Invoeren!CH122","v":{"v":5,"d":"5.0"}},{"$f":"Invoeren!CI122","v":5.6},{"$f":"Invoeren!CJ122","v":5.2},{"$f":"Invoeren!CK122","v":{"v":5,"d":"5.0"}},{"$f":"Invoeren!CL122","v":5.2},{"$f":"Invoeren!CM122","v":""},{"$f":"Invoeren!CN122","v":""},{"$f":"Invoeren!CO122","v":{"v":15.399999999999999,"d":"15.4"}},{"$f":"Invoeren!CP122","v":11.8067},{"$f":"Invoeren!CR122","v":{"v":47.17,"d":"47.1700"}},{"$f":"Invoeren!CS122","v":53.6023},{"$f":"Invoeren!CT122","v":0},{"$f":"Invoeren!C122","v":53.6023},{"$f":"Invoeren!L122","v":0},{"$f":"Invoeren!M122","v":"L"},{"$f":"Invoeren!N122","v":""},{"$f":"Invoeren!H122","v":"oost"},{"$f":"Invoeren!AI122","v":32},{"$f":"Invoeren!BC122","v":93},{"$f":"Invoeren!BW122","v":57},{"$f":"Invoeren!CQ122","v":47}]
[{"$f":"Invoeren!B123","v":171},{"$f":"Invoeren!A123","v":117},{"$f":"Invoeren!E123","v":"Lisa van Laar"},{"$f":"Invoeren!F123","v":"Polar Bears"},{"$f":"Invoeren!$K123","v":2004},{"$f":"Invoeren!$I123","v":0},{"$f":"Invoeren!Z123","v":4.6},{"$f":"Invoeren!AA123","v":4.6},{"$f":"Invoeren!AB123","v":{"v":5,"d":"5.0"}},{"$f":"Invoeren!AC123","v":4.6},{"$f":"Invoeren!AD123","v":4.8},{"$f":"Invoeren!AE123","v":""},{"$f":"Invoeren!AF123","v":""},{"$f":"Invoeren!AG123","v":{"v":13.999999999999998,"d":"14.0"}},{"$f":"Invoeren!AH123","v":10.2667},{"$f":"Invoeren!AT123","v":{"v":4,"d":"4.0"}},{"$f":"Invoeren!AU123","v":3.5},{"$f":"Invoeren!AV123","v":{"v":4,"d":"4.0"}},{"$f":"Invoeren!AW123","v":3.9},{"$f":"Invoeren!AX123","v":3.8},{"$f":"Invoeren!AY123","v":""},{"$f":"Invoeren!AZ123","v":""},{"$f":"Invoeren!BA123","v":11.7},{"$f":"Invoeren!BB123","v":{"v":8.58,"d":"8.5800"}},{"$f":"Invoeren!BN123","v":5.1},{"$f":"Invoeren!BO123","v":5.9},{"$f":"Invoeren!BP123","v":4.6},{"$f":"Invoeren!BQ123","v":{"v":5,"d":"5.0"}},{"$f":"Invoeren!BR123","v":{"v":5,"d":"5.0"}},{"$f":"Invoeren!BS123","v":""},{"$f":"Invoeren!BT123","v":""},{"$f":"Invoeren!BU123","v":{"v":15.100000000000003,"d":"15.1"}},{"$f":"Invoeren!BV123","v":{"v":10.57,"d":"10.5700"}},{"$f":"Invoeren!CH123","v":3.8},{"$f":"Invoeren!CI123","v":3.9},{"$f":"Invoeren!CJ123","v":{"v":4,"d":"4.0"}},{"$f":"Invoeren!CK123","v":4.1},{"$f":"Invoeren!CL123","v":{"v":4,"d":"4.0"}},{"$f":"Invoeren!CM123","v":""},{"$f":"Invoeren!CN123","v":""},{"$f":"Invoeren!CO123","v":{"v":11.899999999999999,"d":"11.9"}},{"$f":"Invoeren!CP123","v":9.1233},{"$f":"Invoeren!CR123","v":{"v":38.54,"d":"38.5400"}},{"$f":"Invoeren!CS123","v":43.7955},{"$f":"Invoeren!CT123","v":0},{"$f":"Invoeren!C123","v":43.7955},{"$f":"Invoeren!L123","v":0},{"$f":"Invoeren!M123","v":""},{"$f":"Invoeren!N123","v":""},{"$f":"Invoeren!H123","v":"Oost"},{"$f":"Invoeren!AI123","v":157},{"$f":"Invoeren!BC123","v":186},{"$f":"Invoeren!BW123","v":119},{"$f":"Invoeren!CQ123","v":186}]
[{"$f":"Invoeren!B124","v":190},{"$f":"Invoeren!A124","v":118},{"$f":"Invoeren!E124","v":"Femke Hermans"},{"$f":"Invoeren!F124","v":"ZC.Eijsden"},{"$f":"Invoeren!$K124","v":2005},{"$f":"Invoeren!$I124","v":0},{"$f":"Invoeren!Z124","v":4.4},{"$f":"Invoeren!AA124","v":4.7},{"$f":"Invoeren!AB124","v":4.4},{"$f":"Invoeren!AC124","v":4.3},{"$f":"Invoeren!AD124","v":4.5},{"$f":"Invoeren!AE124","v":""},{"$f":"Invoeren!AF124","v":""},{"$f":"Invoeren!AG124","v":13.3},{"$f":"Invoeren!AH124","v":9.7533},{"$f":"Invoeren!AT124","v":3.8},{"$f":"Invoeren!AU124","v":3.4},{"$f":"Invoeren!AV124","v":3.8},{"$f":"Invoeren!AW124","v":3.7},{"$f":"Invoeren!AX124","v":3.9},{"$f":"Invoeren!AY124","v":""},{"$f":"Invoeren!AZ124","v":""},{"$f":"Invoeren!BA124","v":{"v":11.299999999999997,"d":"11.3"}},{"$f":"Invoeren!BB124","v":8.2867},{"$f":"Invoeren!BN124","v":3.7},{"$f":"Invoeren!BO124","v":4.6},{"$f":"Invoeren!BP124","v":4.4},{"$f":"Invoeren!BQ124","v":3.8},{"$f":"Invoeren!BR124","v":3.5},{"$f":"Invoeren!BS124","v":""},{"$f":"Invoeren!BT124","v":""},{"$f":"Invoeren!BU124","v":11.9},{"$f":"Invoeren!BV124","v":{"v":8.33,"d":"8.3300"}},{"$f":"Invoeren!CH124","v":3.5},{"$f":"Invoeren!CI124","v":{"v":4,"d":"4.0"}},{"$f":"Invoeren!CJ124","v":{"v":4,"d":"4.0"}},{"$f":"Invoeren!CK124","v":3.8},{"$f":"Invoeren!CL124","v":3.6},{"$f":"Invoeren!CM124","v":""},{"$f":"Invoeren!CN124","v":""},{"$f":"Invoeren!CO124","v":{"v":11.400000000000002,"d":"11.4"}},{"$f":"Invoeren!CP124","v":{"v":8.74,"d":"8.7400"}},{"$f":"Invoeren!CR124","v":{"v":35.11,"d":"35.1100"}},{"$f":"Invoeren!CS124","v":39.8977},{"$f":"Invoeren!CT124","v":0},{"$f":"Invoeren!C124","v":39.8977},{"$f":"Invoeren!L124","v":0},{"$f":"Invoeren!M124","v":""},{"$f":"Invoeren!N124","v":""},{"$f":"Invoeren!H124","v":"Zuid"},{"$f":"Invoeren!AI124","v":176},{"$f":"Invoeren!BC124","v":189},{"$f":"Invoeren!BW124","v":196},{"$f":"Invoeren!CQ124","v":194}]
[{"$f":"Invoeren!B125","v":193},{"$f":"Invoeren!A125","v":119},{"$f":"Invoeren!E125","v":"Yza Babcoubei"},{"$f":"Invoeren!F125","v":"Aquarijn"},{"$f":"Invoeren!$K125","v":2003},{"$f":"Invoeren!$I125","v":0},{"$f":"Invoeren!Z125","v":{"v":0,"d":"0.0"}},{"$f":"Invoeren!AA125","v":{"v":0,"d":"0.0"}},{"$f":"Invoeren!AB125","v":{"v":0,"d":"0.0"}},{"$f":"Invoeren!AC125","v":{"v":0,"d":"0.0"}},{"$f":"Invoeren!AD125","v":{"v":0,"d":"0.0"}},{"$f":"Invoeren!AE125","v":""},{"$f":"Invoeren!AF125","v":""},{"$f":"Invoeren!AG125","v":{"v":0,"d":"0.0"}},{"$f":"Invoeren!AH125","v":{"v":0,"d":"0.0000"}},{"$f":"Invoeren!AT125","v":{"v":0,"d":"0.0"}},{"$f":"Invoeren!AU125","v":{"v":0,"d":"0.0"}},{"$f":"Invoeren!AV125","v":{"v":0,"d":"0.0"}},{"$f":"Invoeren!AW125","v":{"v":0,"d":"0.0"}},{"$f":"Invoeren!AX125","v":{"v":0,"d":"0.0"}},{"$f":"Invoeren!AY125","v":""},{"$f":"Invoeren!AZ125","v":""},{"$f":"Invoeren!BA125","v":{"v":0,"d":"0.0"}},{"$f":"Invoeren!BB125","v":{"v":0,"d":"0.0000"}},{"$f":"Invoeren!BN125","v":{"v":0,"d":"0.0"}},{"$f":"Invoeren!BO125","v":{"v":0,"d":"0.0"}},{"$f":"Invoeren!BP125","v":{"v":0,"d":"0.0"}},{"$f":"Invoeren!BQ125","v":{"v":0,"d":"0.0"}},{"$f":"Invoeren!BR125","v":{"v":0,"d":"0.0"}},{"$f":"Invoeren!BS125","v":""},{"$f":"Invoeren!BT125","v":""},{"$f":"Invoeren!BU125","v":{"v":0,"d":"0.0"}},{"$f":"Invoeren!BV125","v":{"v":0,"d":"0.0000"}},{"$f":"Invoeren!CH125","v":{"v":0,"d":"0.0"}},{"$f":"Invoeren!CI125","v":{"v":0,"d":"0.0"}},{"$f":"Invoeren!CJ125","v":{"v":0,"d":"0.0"}},{"$f":"Invoeren!CK125","v":{"v":0,"d":"0.0"}},{"$f":"Invoeren!CL125","v":{"v":0,"d":"0.0"}},{"$f":"Invoeren!CM125","v":""},{"$f":"Invoeren!CN125","v":""},{"$f":"Invoeren!CO125","v":{"v":0,"d":"0.0"}},{"$f":"Invoeren!CP125","v":{"v":0,"d":"0.0000"}},{"$f":"Invoeren!CR125","v":0},{"$f":"Invoeren!CS125","v":0},{"$f":"Invoeren!CT125","v":0},{"$f":"Invoeren!C125","v":0},{"$f":"Invoeren!L125","v":0},{"$f":"Invoeren!M125","v":""},{"$f":"Invoeren!N125","v":""},{"$f":"Invoeren!H125","v":"MidWest"},{"$f":"Invoeren!AI125","v":""},{"$f":"Invoeren!BC125","v":""},{"$f":"Invoeren!BW125","v":""},{"$f":"Invoeren!CQ125","v":""}]
[{"$f":"Invoeren!B126","v":105},{"$f":"Invoeren!A126","v":120},{"$f":"Invoeren!E126","v":"Jasmijn van Appeldorn"},{"$f":"Invoeren!F126","v":"Aqua-Novio '94"},{"$f":"Invoeren!$K126","v":2003},{"$f":"Invoeren!$I126","v":0},{"$f":"Invoeren!Z126","v":4.8},{"$f":"Invoeren!AA126","v":4.5},{"$f":"Invoeren!AB126","v":4.8},{"$f":"Invoeren!AC126","v":4.6},{"$f":"Invoeren!AD126","v":5.1},{"$f":"Invoeren!AE126","v":""},{"$f":"Invoeren!AF126","v":""},{"$f":"Invoeren!AG126","v":{"v":14.200000000000003,"d":"14.2"}},{"$f":"Invoeren!AH126","v":10.4133},{"$f":"Invoeren!AT126","v":4.8},{"$f":"Invoeren!AU126","v":4.5},{"$f":"Invoeren!AV126","v":4.7},{"$f":"Invoeren!AW126","v":4.5},{"$f":"Invoeren!AX126","v":4.6},{"$f":"Invoeren!AY126","v":""},{"$f":"Invoeren!AZ126","v":""},{"$f":"Invoeren!BA126","v":13.8},{"$f":"Invoeren!BB126","v":{"v":10.12,"d":"10.1200"}},{"$f":"Invoeren!BN126","v":{"v":5,"d":"5.0"}},{"$f":"Invoeren!BO126","v":5.7},{"$f":"Invoeren!BP126","v":5.8},{"$f":"Invoeren!BQ126","v":4.8},{"$f":"Invoeren!BR126","v":5.3},{"$f":"Invoeren!BS126","v":""},{"$f":"Invoeren!BT126","v":""},{"$f":"Invoeren!BU126","v":{"v":16,"d":"16.0"}},{"$f":"Invoeren!BV126","v":{"v":11.2,"d":"11.2000"}},{"$f":"Invoeren!CH126","v":{"v":5,"d":"5.0"}},{"$f":"Invoeren!CI126","v":5.1},{"$f":"Invoeren!CJ126","v":5.2},{"$f":"Invoeren!CK126","v":5.2},{"$f":"Invoeren!CL126","v":4.7},{"$f":"Invoeren!CM126","v":""},{"$f":"Invoeren!CN126","v":""},{"$f":"Invoeren!CO126","v":15.3},{"$f":"Invoeren!CP126","v":{"v":11.73,"d":"11.7300"}},{"$f":"Invoeren!CR126","v":43.4633},{"$f":"Invoeren!CS126","v":49.3901},{"$f":"Invoeren!CT126","v":0},{"$f":"Invoeren!C126","v":49.3901},{"$f":"Invoeren!L126","v":0},{"$f":"Invoeren!M126","v":"L"},{"$f":"Invoeren!N126","v":""},{"$f":"Invoeren!H126","v":"Oost"},{"$f":"Invoeren!AI126","v":148},{"$f":"Invoeren!BC126","v":126},{"$f":"Invoeren!BW126","v":95},{"$f":"Invoeren!CQ126","v":50}]
[{"$f":"Invoeren!B127","v":20},{"$f":"Invoeren!A127","v":121},{"$f":"Invoeren!E127","v":"Kincsö Biró"},{"$f":"Invoeren!F127","v":"ACZ"},{"$f":"Invoeren!$K127","v":2003},{"$f":"Invoeren!$I127","v":0},{"$f":"Invoeren!Z127","v":{"v":6,"d":"6.0"}},{"$f":"Invoeren!AA127","v":5.8},{"$f":"Invoeren!AB127","v":6.1},{"$f":"Invoeren!AC127","v":6.1},{"$f":"Invoeren!AD127","v":{"v":6,"d":"6.0"}},{"$f":"Invoeren!AE127","v":""},{"$f":"Invoeren!AF127","v":""},{"$f":"Invoeren!AG127","v":{"v":18.099999999999998,"d":"18.1"}},{"$f":"Invoeren!AH127","v":13.2733},{"$f":"Invoeren!AT127","v":5.7},{"$f":"Invoeren!AU127","v":5.2},{"$f":"Invoeren!AV127","v":6.1},{"$f":"Invoeren!AW127","v":6.2},{"$f":"Invoeren!AX127","v":5.8},{"$f":"Invoeren!AY127","v":""},{"$f":"Invoeren!AZ127","v":""},{"$f":"Invoeren!BA127","v":17.6},{"$f":"Invoeren!BB127","v":12.9067},{"$f":"Invoeren!BN127","v":5.3},{"$f":"Invoeren!BO127","v":6.2},{"$f":"Invoeren!BP127","v":5.8},{"$f":"Invoeren!BQ127","v":5.3},{"$f":"Invoeren!BR127","v":6.3},{"$f":"Invoeren!BS127","v":""},{"$f":"Invoeren!BT127","v":""},{"$f":"Invoeren!BU127","v":17.3},{"$f":"Invoeren!BV127","v":{"v":12.11,"d":"12.1100"}},{"$f":"Invoeren!CH127","v":6.1},{"$f":"Invoeren!CI127","v":5.6},{"$f":"Invoeren!CJ127","v":5.4},{"$f":"Invoeren!CK127","v":5.4},{"$f":"Invoeren!CL127","v":5.2},{"$f":"Invoeren!CM127","v":""},{"$f":"Invoeren!CN127","v":""},{"$f":"Invoeren!CO127","v":{"v":16.400000000000002,"d":"16.4"}},{"$f":"Invoeren!CP127","v":12.5733},{"$f":"Invoeren!CR127","v":{"v":50.863299999999995,"d":"50.8633"}},{"$f":"Invoeren!CS127","v":57.7992},{"$f":"Invoeren!CT127","v":0},{"$f":"Invoeren!C127","v":57.7992},{"$f":"Invoeren!L127","v":0},{"$f":"Invoeren!M127","v":"L"},{"$f":"Invoeren!N127","v":""},{"$f":"Invoeren!H127","v":"West"},{"$f":"Invoeren!AI127","v":17},{"$f":"Invoeren!BC127","v":15},{"$f":"Invoeren!BW127","v":47},{"$f":"Invoeren!CQ127","v":27}]
[{"$f":"Invoeren!B128","v":55},{"$f":"Invoeren!A128","v":122},{"$f":"Invoeren!E128","v":"Orane Brunsting"},{"$f":"Invoeren!F128","v":"Z.P.C.H."},{"$f":"Invoeren!$K128","v":2003},{"$f":"Invoeren!$I128","v":0},{"$f":"Invoeren!Z128","v":5.4},{"$f":"Invoeren!AA128","v":5.4},{"$f":"Invoeren!AB128","v":5.8},{"$f":"Invoeren!AC128","v":5.8},{"$f":"Invoeren!AD128","v":5.7},{"$f":"Invoeren!AE128","v":""},{"$f":"Invoeren!AF128","v":""},{"$f":"Invoeren!AG128","v":16.9},{"$f":"Invoeren!AH128","v":12.3933},{"$f":"Invoeren!AT128","v":5.1},{"$f":"Invoeren!AU128","v":4.9},{"$f":"Invoeren!AV128","v":{"v":5,"d":"5.0"}},{"$f":"Invoeren!AW128","v":4.9},{"$f":"Invoeren!AX128","v":5.3},{"$f":"Invoeren!AY128","v":""},{"$f":"Invoeren!AZ128","v":""},{"$f":"Invoeren!BA128","v":{"v":14.999999999999998,"d":"15.0"}},{"$f":"Invoeren!BB128","v":{"v":11,"d":"11.0000"}},{"$f":"Invoeren!BN128","v":6.2},{"$f":"Invoeren!BO128","v":5.7},{"$f":"Invoeren!BP128","v":5.6},{"$f":"Invoeren!BQ128","v":5.7},{"$f":"Invoeren!BR128","v":5.9},{"$f":"Invoeren!BS128","v":""},{"$f":"Invoeren!BT128","v":""},{"$f":"Invoeren!BU128","v":{"v":17.300000000000004,"d":"17.3"}},{"$f":"Invoeren!BV128","v":{"v":12.11,"d":"12.1100"}},{"$f":"Invoeren!CH128","v":5.1},{"$f":"Invoeren!CI128","v":4.9},{"$f":"Invoeren!CJ128","v":{"v":5,"d":"5.0"}},{"$f":"Invoeren!CK128","v":{"v":5,"d":"5.0"}},{"$f":"Invoeren!CL128","v":{"v":5,"d":"5.0"}},{"$f":"Invoeren!CM128","v":""},{"$f":"Invoeren!CN128","v":""},{"$f":"Invoeren!CO128","v":{"v":14.999999999999998,"d":"15.0"}},{"$f":"Invoeren!CP128","v":{"v":11.5,"d":"11.5000"}},{"$f":"Invoeren!CR128","v":{"v":47.003299999999996,"d":"47.0033"}},{"$f":"Invoeren!CS128","v":53.4128},{"$f":"Invoeren!CT128","v":0},{"$f":"Invoeren!C128","v":53.4128},{"$f":"Invoeren!L128","v":0},{"$f":"Invoeren!M128","v":"L"},{"$f":"Invoeren!N128","v":""},{"$f":"Invoeren!H128","v":"MidWest"},{"$f":"Invoeren!AI128","v":45},{"$f":"Invoeren!BC128","v":79},{"$f":"Invoeren!BW128","v":47},{"$f":"Invoeren!CQ128","v":62}]
[{"$f":"Invoeren!B129","v":14},{"$f":"Invoeren!A129","v":123},{"$f":"Invoeren!E129","v":"Giorgia Gandossi"},{"$f":"Invoeren!F129","v":"DAW"},{"$f":"Invoeren!$K129","v":2004},{"$f":"Invoeren!$I129","v":0},{"$f":"Invoeren!Z129","v":5.5},{"$f":"Invoeren!AA129","v":6.3},{"$f":"Invoeren!AB129","v":6.3},{"$f":"Invoeren!AC129","v":5.9},{"$f":"Invoeren!AD129","v":{"v":6,"d":"6.0"}},{"$f":"Invoeren!AE129","v":""},{"$f":"Invoeren!AF129","v":""},{"$f":"Invoeren!AG129","v":18.2},{"$f":"Invoeren!AH129","v":13.3467},{"$f":"Invoeren!AT129","v":6.1},{"$f":"Invoeren!AU129","v":5.3},{"$f":"Invoeren!AV129","v":6.3},{"$f":"Invoeren!AW129","v":5.9},{"$f":"Invoeren!AX129","v":{"v":6,"d":"6.0"}},{"$f":"Invoeren!AY129","v":""},{"$f":"Invoeren!AZ129","v":""},{"$f":"Invoeren!BA129","v":{"v":18,"d":"18.0"}},{"$f":"Invoeren!BB129","v":{"v":13.2,"d":"13.2000"}},{"$f":"Invoeren!BN129","v":6.4},{"$f":"Invoeren!BO129","v":5.8},{"$f":"Invoeren!BP129","v":{"v":6,"d":"6.0"}},{"$f":"Invoeren!BQ129","v":5.4},{"$f":"Invoeren!BR129","v":5.4},{"$f":"Invoeren!BS129","v":""},{"$f":"Invoeren!BT129","v":""},{"$f":"Invoeren!BU129","v":{"v":17.200000000000003,"d":"17.2"}},{"$f":"Invoeren!BV129","v":{"v":12.04,"d":"12.0400"}},{"$f":"Invoeren!CH129","v":6.2},{"$f":"Invoeren!CI129","v":6.1},{"$f":"Invoeren!CJ129","v":6.3},{"$f":"Invoeren!CK129","v":6.3},{"$f":"Invoeren!CL129","v":{"v":6,"d":"6.0"}},{"$f":"Invoeren!CM129","v":""},{"$f":"Invoeren!CN129","v":""},{"$f":"Invoeren!CO129","v":18.6},{"$f":"Invoeren!CP129","v":{"v":14.26,"d":"14.2600"}},{"$f":"Invoeren!CR129","v":52.8467},{"$f":"Invoeren!CS129","v":60.0531},{"$f":"Invoeren!CT129","v":0},{"$f":"Invoeren!C129","v":60.0531},{"$f":"Invoeren!L129","v":0},{"$f":"Invoeren!M129","v":"L"},{"$f":"Invoeren!N129","v":""},{"$f":"Invoeren!H129","v":"Midwest"},{"$f":"Invoeren!AI129","v":12},{"$f":"Invoeren!BC129","v":9},{"$f":"Invoeren!BW129","v":52},{"$f":"Invoeren!CQ129","v":2}]
[{"$f":"Invoeren!B130","v":18},{"$f":"Invoeren!A130","v":124},{"$f":"Invoeren!E130","v":"Eline Braakhuis"},{"$f":"Invoeren!F130","v":"De Dolfijn"},{"$f":"Invoeren!$K130","v":2004},{"$f":"Invoeren!$I130","v":0},{"$f":"Invoeren!Z130","v":5.3},{"$f":"Invoeren!AA130","v":{"v":6,"d":"6.0"}},{"$f":"Invoeren!AB130","v":5.8},{"$f":"Invoeren!AC130","v":5.6},{"$f":"Invoeren!AD130","v":5.8},{"$f":"Invoeren!AE130","v":""},{"$f":"Invoeren!AF130","v":""},{"$f":"Invoeren!AG130","v":{"v":17.200000000000003,"d":"17.2"}},{"$f":"Invoeren!AH130","v":12.6133},{"$f":"Invoeren!AT130","v":5.8},{"$f":"Invoeren!AU130","v":5.5},{"$f":"Invoeren!AV130","v":5.8},{"$f":"Invoeren!AW130","v":5.6},{"$f":"Invoeren!AX130","v":5.8},{"$f":"Invoeren!AY130","v":""},{"$f":"Invoeren!AZ130","v":""},{"$f":"Invoeren!BA130","v":{"v":17.200000000000003,"d":"17.2"}},{"$f":"Invoeren!BB130","v":12.6133},{"$f":"Invoeren!BN130","v":{"v":6,"d":"6.0"}},{"$f":"Invoeren!BO130","v":6.2},{"$f":"Invoeren!BP130","v":6.4},{"$f":"Invoeren!BQ130","v":6.4},{"$f":"Invoeren!BR130","v":6.1},{"$f":"Invoeren!BS130","v":""},{"$f":"Invoeren!BT130","v":""},{"$f":"Invoeren!BU130","v":{"v":18.700000000000003,"d":"18.7"}},{"$f":"Invoeren!BV130","v":{"v":13.09,"d":"13.0900"}},{"$f":"Invoeren!CH130","v":5.7},{"$f":"Invoeren!CI130","v":5.7},{"$f":"Invoeren!CJ130","v":5.6},{"$f":"Invoeren!CK130","v":5.9},{"$f":"Invoeren!CL130","v":5.8},{"$f":"Invoeren!CM130","v":""},{"$f":"Invoeren!CN130","v":""},{"$f":"Invoeren!CO130","v":{"v":17.199999999999996,"d":"17.2"}},{"$f":"Invoeren!CP130","v":13.1867},{"$f":"Invoeren!CR130","v":51.5033},{"$f":"Invoeren!CS130","v":58.5265},{"$f":"Invoeren!CT130","v":0},{"$f":"Invoeren!C130","v":58.5265},{"$f":"Invoeren!L130","v":0},{"$f":"Invoeren!M130","v":"L"},{"$f":"Invoeren!N130","v":""},{"$f":"Invoeren!H130","v":"Midwest"},{"$f":"Invoeren!AI130","v":32},{"$f":"Invoeren!BC130","v":18},{"$f":"Invoeren!BW130","v":15},{"$f":"Invoeren!CQ130","v":12}]
[{"$f":"Invoeren!B131","v":174},{"$f":"Invoeren!A131","v":125},{"$f":"Invoeren!E131","v":"Loïs Vink"},{"$f":"Invoeren!F131","v":"VZC Veenendaal"},{"$f":"Invoeren!$K131","v":2004},{"$f":"Invoeren!$I131","v":0},{"$f":"Invoeren!Z131","v":4.2},{"$f":"Invoeren!AA131","v":4.2},{"$f":"Invoeren!AB131","v":4.2},{"$f":"Invoeren!AC131","v":5.1},{"$f":"Invoeren!AD131","v":{"v":5,"d":"5.0"}},{"$f":"Invoeren!AE131","v":""},{"$f":"Invoeren!AF131","v":""},{"$f":"Invoeren!AG131","v":{"v":13.400000000000002,"d":"13.4"}},{"$f":"Invoeren!AH131","v":9.8267},{"$f":"Invoeren!AT131","v":4.1},{"$f":"Invoeren!AU131","v":4.8},{"$f":"Invoeren!AV131","v":4.9},{"$f":"Invoeren!AW131","v":4.5},{"$f":"Invoeren!AX131","v":4.3},{"$f":"Invoeren!AY131","v":""},{"$f":"Invoeren!AZ131","v":""},{"$f":"Invoeren!BA131","v":{"v":13.599999999999996,"d":"13.6"}},{"$f":"Invoeren!BB131","v":9.9733},{"$f":"Invoeren!BN131","v":4.6},{"$f":"Invoeren!BO131","v":4.6},{"$f":"Invoeren!BP131","v":4.8},{"$f":"Invoeren!BQ131","v":4.6},{"$f":"Invoeren!BR131","v":4.6},{"$f":"Invoeren!BS131","v":""},{"$f":"Invoeren!BT131","v":""},{"$f":"Invoeren!BU131","v":{"v":13.800000000000002,"d":"13.8"}},{"$f":"Invoeren!BV131","v":{"v":9.66,"d":"9.6600"}},{"$f":"Invoeren!CH131","v":3.6},{"$f":"Invoeren!CI131","v":{"v":4,"d":"4.0"}},{"$f":"Invoeren!CJ131","v":{"v":4,"d":"4.0"}},{"$f":"Invoeren!CK131","v":{"v":4,"d":"4.0"}},{"$f":"Invoeren!CL131","v":3.4},{"$f":"Invoeren!CM131","v":""},{"$f":"Invoeren!CN131","v":""},{"$f":"Invoeren!CO131","v":11.6},{"$f":"Invoeren!CP131","v":8.8933},{"$f":"Invoeren!CR131","v":{"v":38.353300000000004,"d":"38.3533"}},{"$f":"Invoeren!CS131","v":43.5833},{"$f":"Invoeren!CT131","v":0},{"$f":"Invoeren!C131","v":43.5833},{"$f":"Invoeren!L131","v":0},{"$f":"Invoeren!M131","v":""},{"$f":"Invoeren!N131","v":""},{"$f":"Invoeren!H131","v":"Midwest"},{"$f":"Invoeren!AI131","v":175},{"$f":"Invoeren!BC131","v":134},{"$f":"Invoeren!BW131","v":171},{"$f":"Invoeren!CQ131","v":190}]
[{"$f":"Invoeren!B132","v":117},{"$f":"Invoeren!A132","v":126},{"$f":"Invoeren!E132","v":"Jane van Tol"},{"$f":"Invoeren!F132","v":"Widex Gzc Donk"},{"$f":"Invoeren!$K132","v":2004},{"$f":"Invoeren!$I132","v":0},{"$f":"Invoeren!Z132","v":5.1},{"$f":"Invoeren!AA132","v":5.2},{"$f":"Invoeren!AB132","v":5.1},{"$f":"Invoeren!AC132","v":{"v":6,"d":"6.0"}},{"$f":"Invoeren!AD132","v":{"v":5,"d":"5.0"}},{"$f":"Invoeren!AE132","v":""},{"$f":"Invoeren!AF132","v":""},{"$f":"Invoeren!AG132","v":{"v":15.399999999999999,"d":"15.4"}},{"$f":"Invoeren!AH132","v":11.2933},{"$f":"Invoeren!AT132","v":5.1},{"$f":"Invoeren!AU132","v":4.5},{"$f":"Invoeren!AV132","v":4.6},{"$f":"Invoeren!AW132","v":{"v":5,"d":"5.0"}},{"$f":"Invoeren!AX132","v":4.9},{"$f":"Invoeren!AY132","v":""},{"$f":"Invoeren!AZ132","v":""},{"$f":"Invoeren!BA132","v":14.5},{"$f":"Invoeren!BB132","v":10.6333},{"$f":"Invoeren!BN132","v":5.1},{"$f":"Invoeren!BO132","v":{"v":5,"d":"5.0"}},{"$f":"Invoeren!BP132","v":4.4},{"$f":"Invoeren!BQ132","v":4.9},{"$f":"Invoeren!BR132","v":5.1},{"$f":"Invoeren!BS132","v":""},{"$f":"Invoeren!BT132","v":""},{"$f":"Invoeren!BU132","v":{"v":14.999999999999998,"d":"15.0"}},{"$f":"Invoeren!BV132","v":{"v":10.5,"d":"10.5000"}},{"$f":"Invoeren!CH132","v":4.9},{"$f":"Invoeren!CI132","v":4.5},{"$f":"Invoeren!CJ132","v":4.2},{"$f":"Invoeren!CK132","v":4.3},{"$f":"Invoeren!CL132","v":4.7},{"$f":"Invoeren!CM132","v":""},{"$f":"Invoeren!CN132","v":""},{"$f":"Invoeren!CO132","v":{"v":13.500000000000004,"d":"13.5"}},{"$f":"Invoeren!CP132","v":{"v":10.35,"d":"10.3500"}},{"$f":"Invoeren!CR132","v":42.7766},{"$f":"Invoeren!CS132","v":48.6098},{"$f":"Invoeren!CT132","v":0},{"$f":"Invoeren!C132","v":48.6098},{"$f":"Invoeren!L132","v":0},{"$f":"Invoeren!M132","v":""},{"$f":"Invoeren!N132","v":""},{"$f":"Invoeren!H132","v":"West"},{"$f":"Invoeren!AI132","v":102},{"$f":"Invoeren!BC132","v":100},{"$f":"Invoeren!BW132","v":122},{"$f":"Invoeren!CQ132","v":131}]
[{"$f":"Invoeren!B133","v":134},{"$f":"Invoeren!A133","v":127},{"$f":"Invoeren!E133","v":"Naomi de Jong"},{"$f":"Invoeren!F133","v":"Widex Gzc Donk"},{"$f":"Invoeren!$K133","v":2005},{"$f":"Invoeren!$I133","v":0},{"$f":"Invoeren!Z133","v":4.6},{"$f":"Invoeren!AA133","v":5.7},{"$f":"Invoeren!AB133","v":5.2},{"$f":"Invoeren!AC133","v":5.2},{"$f":"Invoeren!AD133","v":5.1},{"$f":"Invoeren!AE133","v":""},{"$f":"Invoeren!AF133","v":""},{"$f":"Invoeren!AG133","v":{"v":15.499999999999998,"d":"15.5"}},{"$f":"Invoeren!AH133","v":11.3667},{"$f":"Invoeren!AT133","v":4.3},{"$f":"Invoeren!AU133","v":3.9},{"$f":"Invoeren!AV133","v":3.9},{"$f":"Invoeren!AW133","v":4.4},{"$f":"Invoeren!AX133","v":{"v":4,"d":"4.0"}},{"$f":"Invoeren!AY133","v":""},{"$f":"Invoeren!AZ133","v":""},{"$f":"Invoeren!BA133","v":{"v":12.200000000000001,"d":"12.2"}},{"$f":"Invoeren!BB133","v":8.9467},{"$f":"Invoeren!BN133","v":5.7},{"$f":"Invoeren!BO133","v":4.9},{"$f":"Invoeren!BP133","v":4.9},{"$f":"Invoeren!BQ133","v":5.2},{"$f":"Invoeren!BR133","v":4.8},{"$f":"Invoeren!BS133","v":""},{"$f":"Invoeren!BT133","v":""},{"$f":"Invoeren!BU133","v":{"v":15.000000000000004,"d":"15.0"}},{"$f":"Invoeren!BV133","v":{"v":10.5,"d":"10.5000"}},{"$f":"Invoeren!CH133","v":4.1},{"$f":"Invoeren!CI133","v":4.7},{"$f":"Invoeren!CJ133","v":4.8},{"$f":"Invoeren!CK133","v":4.9},{"$f":"Invoeren!CL133","v":4.8},{"$f":"Invoeren!CM133","v":""},{"$f":"Invoeren!CN133","v":""},{"$f":"Invoeren!CO133","v":{"v":14.299999999999999,"d":"14.3"}},{"$f":"Invoeren!CP133","v":10.9633},{"$f":"Invoeren!CR133","v":{"v":41.776700000000005,"d":"41.7767"}},{"$f":"Invoeren!CS133","v":47.4735},{"$f":"Invoeren!CT133","v":0},{"$f":"Invoeren!C133","v":47.4735},{"$f":"Invoeren!L133","v":0},{"$f":"Invoeren!M133","v":"L"},{"$f":"Invoeren!N133","v":""},{"$f":"Invoeren!H133","v":"West"},{"$f":"Invoeren!AI133","v":100},{"$f":"Invoeren!BC133","v":177},{"$f":"Invoeren!BW133","v":122},{"$f":"Invoeren!CQ133","v":96}]
[{"$f":"Invoeren!B134","v":180},{"$f":"Invoeren!A134","v":128},{"$f":"Invoeren!E134","v":"Amy Struijk"},{"$f":"Invoeren!F134","v":"WVZ"},{"$f":"Invoeren!$K134","v":2004},{"$f":"Invoeren!$I134","v":0},{"$f":"Invoeren!Z134","v":3.9},{"$f":"Invoeren!AA134","v":{"v":4,"d":"4.0"}},{"$f":"Invoeren!AB134","v":4.2},{"$f":"Invoeren!AC134","v":3.9},{"$f":"Invoeren!AD134","v":4.8},{"$f":"Invoeren!AE134","v":""},{"$f":"Invoeren!AF134","v":""},{"$f":"Invoeren!AG134","v":12.1},{"$f":"Invoeren!AH134","v":8.8733},{"$f":"Invoeren!AT134","v":{"v":4,"d":"4.0"}},{"$f":"Invoeren!AU134","v":4.3},{"$f":"Invoeren!AV134","v":4.7},{"$f":"Invoeren!AW134","v":4.6},{"$f":"Invoeren!AX134","v":4.9},{"$f":"Invoeren!AY134","v":""},{"$f":"Invoeren!AZ134","v":""},{"$f":"Invoeren!BA134","v":{"v":13.600000000000001,"d":"13.6"}},{"$f":"Invoeren!BB134","v":9.9733},{"$f":"Invoeren!BN134","v":4.7},{"$f":"Invoeren!BO134","v":4.8},{"$f":"Invoeren!BP134","v":4.6},{"$f":"Invoeren!BQ134","v":{"v":4,"d":"4.0"}},{"$f":"Invoeren!BR134","v":4.3},{"$f":"Invoeren!BS134","v":""},{"$f":"Invoeren!BT134","v":""},{"$f":"Invoeren!BU134","v":{"v":13.600000000000001,"d":"13.6"}},{"$f":"Invoeren!BV134","v":{"v":9.52,"d":"9.5200"}},{"$f":"Invoeren!CH134","v":3.8},{"$f":"Invoeren!CI134","v":4.1},{"$f":"Invoeren!CJ134","v":4.1},{"$f":"Invoeren!CK134","v":{"v":4,"d":"4.0"}},{"$f":"Invoeren!CL134","v":{"v":4,"d":"4.0"}},{"$f":"Invoeren!CM134","v":""},{"$f":"Invoeren!CN134","v":""},{"$f":"Invoeren!CO134","v":{"v":12.100000000000001,"d":"12.1"}},{"$f":"Invoeren!CP134","v":9.2767},{"$f":"Invoeren!CR134","v":37.6433},{"$f":"Invoeren!CS134","v":42.7765},{"$f":"Invoeren!CT134","v":0},{"$f":"Invoeren!C134","v":42.7765},{"$f":"Invoeren!L134","v":0},{"$f":"Invoeren!M134","v":""},{"$f":"Invoeren!N134","v":""},{"$f":"Invoeren!H134","v":"West"},{"$f":"Invoeren!AI134","v":194},{"$f":"Invoeren!BC134","v":134},{"$f":"Invoeren!BW134","v":175},{"$f":"Invoeren!CQ134","v":179}]
[{"$f":"Invoeren!B135","v":126},{"$f":"Invoeren!A135","v":129},{"$f":"Invoeren!E135","v":"Frauke Stok"},{"$f":"Invoeren!F135","v":"Cadans"},{"$f":"Invoeren!$K135","v":2003},{"$f":"Invoeren!$I135","v":0},{"$f":"Invoeren!Z135","v":4.5},{"$f":"Invoeren!AA135","v":4.6},{"$f":"Invoeren!AB135","v":5.3},{"$f":"Invoeren!AC135","v":5.2},{"$f":"Invoeren!AD135","v":4.9},{"$f":"Invoeren!AE135","v":""},{"$f":"Invoeren!AF135","v":""},{"$f":"Invoeren!AG135","v":14.7},{"$f":"Invoeren!AH135","v":{"v":10.78,"d":"10.7800"}},{"$f":"Invoeren!AT135","v":{"v":5,"d":"5.0"}},{"$f":"Invoeren!AU135","v":4.8},{"$f":"Invoeren!AV135","v":4.9},{"$f":"Invoeren!AW135","v":{"v":5,"d":"5.0"}},{"$f":"Invoeren!AX135","v":5.3},{"$f":"Invoeren!AY135","v":""},{"$f":"Invoeren!AZ135","v":""},{"$f":"Invoeren!BA135","v":{"v":14.900000000000002,"d":"14.9"}},{"$f":"Invoeren!BB135","v":10.9267},{"$f":"Invoeren!BN135","v":5.2},{"$f":"Invoeren!BO135","v":{"v":5,"d":"5.0"}},{"$f":"Invoeren!BP135","v":{"v":4,"d":"4.0"}},{"$f":"Invoeren!BQ135","v":4.7},{"$f":"Invoeren!BR135","v":5.1},{"$f":"Invoeren!BS135","v":""},{"$f":"Invoeren!BT135","v":""},{"$f":"Invoeren!BU135","v":14.8},{"$f":"Invoeren!BV135","v":{"v":10.36,"d":"10.3600"}},{"$f":"Invoeren!CH135","v":4.2},{"$f":"Invoeren!CI135","v":4.6},{"$f":"Invoeren!CJ135","v":4.7},{"$f":"Invoeren!CK135","v":4.2},{"$f":"Invoeren!CL135","v":4.3},{"$f":"Invoeren!CM135","v":""},{"$f":"Invoeren!CN135","v":""},{"$f":"Invoeren!CO135","v":{"v":13.100000000000001,"d":"13.1"}},{"$f":"Invoeren!CP135","v":10.0433},{"$f":"Invoeren!CR135","v":{"v":42.11,"d":"42.1100"}},{"$f":"Invoeren!CS135","v":47.8523},{"$f":"Invoeren!CT135","v":0},{"$f":"Invoeren!C135","v":47.8523},{"$f":"Invoeren!L135","v":0},{"$f":"Invoeren!M135","v":""},{"$f":"Invoeren!N135","v":""},{"$f":"Invoeren!H135","v":"oost"},{"$f":"Invoeren!AI135","v":120},{"$f":"Invoeren!BC135","v":86},{"$f":"Invoeren!BW135","v":135},{"$f":"Invoeren!CQ135","v":144}]
[{"$f":"Invoeren!B136","v":137},{"$f":"Invoeren!A136","v":130},{"$f":"Invoeren!E136","v":"Mija Bussink"},{"$f":"Invoeren!F136","v":"ZC.Eijsden"},{"$f":"Invoeren!$K136","v":2005},{"$f":"Invoeren!$I136","v":0},{"$f":"Invoeren!Z136","v":5.2},{"$f":"Invoeren!AA136","v":5.1},{"$f":"Invoeren!AB136","v":5.2},{"$f":"Invoeren!AC136","v":5.6},{"$f":"Invoeren!AD136","v":5.3},{"$f":"Invoeren!AE136","v":""},{"$f":"Invoeren!AF136","v":""},{"$f":"Invoeren!AG136","v":{"v":15.700000000000005,"d":"15.7"}},{"$f":"Invoeren!AH136","v":11.5133},{"$f":"Invoeren!AT136","v":3.9},{"$f":"Invoeren!AU136","v":3.7},{"$f":"Invoeren!AV136","v":4.3},{"$f":"Invoeren!AW136","v":4.1},{"$f":"Invoeren!AX136","v":4.3},{"$f":"Invoeren!AY136","v":""},{"$f":"Invoeren!AZ136","v":""},{"$f":"Invoeren!BA136","v":{"v":12.299999999999997,"d":"12.3"}},{"$f":"Invoeren!BB136","v":{"v":9.02,"d":"9.0200"}},{"$f":"Invoeren!BN136","v":4.8},{"$f":"Invoeren!BO136","v":4.6},{"$f":"Invoeren!BP136","v":4.2},{"$f":"Invoeren!BQ136","v":{"v":5,"d":"5.0"}},{"$f":"Invoeren!BR136","v":5.2},{"$f":"Invoeren!BS136","v":""},{"$f":"Invoeren!BT136","v":""},{"$f":"Invoeren!BU136","v":{"v":14.399999999999999,"d":"14.4"}},{"$f":"Invoeren!BV136","v":{"v":10.08,"d":"10.0800"}},{"$f":"Invoeren!CH136","v":{"v":5,"d":"5.0"}},{"$f":"Invoeren!CI136","v":4.8},{"$f":"Invoeren!CJ136","v":4.8},{"$f":"Invoeren!CK136","v":4.6},{"$f":"Invoeren!CL136","v":4.7},{"$f":"Invoeren!CM136","v":""},{"$f":"Invoeren!CN136","v":""},{"$f":"Invoeren!CO136","v":{"v":14.300000000000002,"d":"14.3"}},{"$f":"Invoeren!CP136","v":10.9633},{"$f":"Invoeren!CR136","v":41.5766},{"$f":"Invoeren!CS136","v":47.2461},{"$f":"Invoeren!CT136","v":0},{"$f":"Invoeren!C136","v":47.2461},{"$f":"Invoeren!L136","v":0},{"$f":"Invoeren!M136","v":"L"},{"$f":"Invoeren!N136","v":""},{"$f":"Invoeren!H136","v":"Zuid"},{"$f":"Invoeren!AI136","v":88},{"$f":"Invoeren!BC136","v":176},{"$f":"Invoeren!BW136","v":149},{"$f":"Invoeren!CQ136","v":96}]
[{"$f":"Invoeren!B137","v":192},{"$f":"Invoeren!A137","v":131},{"$f":"Invoeren!E137","v":"Linda Driessen"},{"$f":"Invoeren!F137","v":"HZPC Horst"},{"$f":"Invoeren!$K137","v":2005},{"$f":"Invoeren!$I137","v":0},{"$f":"Invoeren!Z137","v":3.6},{"$f":"Invoeren!AA137","v":4.2},{"$f":"Invoeren!AB137","v":4.3},{"$f":"Invoeren!AC137","v":3.8},{"$f":"Invoeren!AD137","v":3.9},{"$f":"Invoeren!AE137","v":""},{"$f":"Invoeren!AF137","v":""},{"$f":"Invoeren!AG137","v":11.9},{"$f":"Invoeren!AH137","v":8.7267},{"$f":"Invoeren!AT137","v":3.4},{"$f":"Invoeren!AU137","v":3.5},{"$f":"Invoeren!AV137","v":3.7},{"$f":"Invoeren!AW137","v":3.7},{"$f":"Invoeren!AX137","v":3.7},{"$f":"Invoeren!AY137","v":""},{"$f":"Invoeren!AZ137","v":""},{"$f":"Invoeren!BA137","v":10.9},{"$f":"Invoeren!BB137","v":7.9933},{"$f":"Invoeren!BN137","v":3.9},{"$f":"Invoeren!BO137","v":4.3},{"$f":"Invoeren!BP137","v":4.4},{"$f":"Invoeren!BQ137","v":3.4},{"$f":"Invoeren!BR137","v":{"v":4,"d":"4.0"}},{"$f":"Invoeren!BS137","v":""},{"$f":"Invoeren!BT137","v":""},{"$f":"Invoeren!BU137","v":12.2},{"$f":"Invoeren!BV137","v":{"v":8.54,"d":"8.5400"}},{"$f":"Invoeren!CH137","v":3.8},{"$f":"Invoeren!CI137","v":{"v":4,"d":"4.0"}},{"$f":"Invoeren!CJ137","v":4.3},{"$f":"Invoeren!CK137","v":{"v":4,"d":"4.0"}},{"$f":"Invoeren!CL137","v":4.1},{"$f":"Invoeren!CM137","v":""},{"$f":"Invoeren!CN137","v":""},{"$f":"Invoeren!CO137","v":{"v":12.100000000000001,"d":"12.1"}},{"$f":"Invoeren!CP137","v":9.2767},{"$f":"Invoeren!CR137","v":{"v":34.536699999999996,"d":"34.5367"}},{"$f":"Invoeren!CS137","v":39.2463},{"$f":"Invoeren!CT137","v":0},{"$f":"Invoeren!C137","v":39.2463},{"$f":"Invoeren!L137","v":0},{"$f":"Invoeren!M137","v":""},{"$f":"Invoeren!N137","v":""},{"$f":"Invoeren!H137","v":"zuid"},{"$f":"Invoeren!AI137","v":196},{"$f":"Invoeren!BC137","v":193},{"$f":"Invoeren!BW137","v":195},{"$f":"Invoeren!CQ137","v":179}]
[{"$f":"Invoeren!B138","v":167},{"$f":"Invoeren!A138","v":132},{"$f":"Invoeren!E138","v":"Maud van Breukelen"},{"$f":"Invoeren!F138","v":"Aquarijn"},{"$f":"Invoeren!$K138","v":2005},{"$f":"Invoeren!$I138","v":0},{"$f":"Invoeren!Z138","v":4.7},{"$f":"Invoeren!AA138","v":{"v":5,"d":"5.0"}},{"$f":"Invoeren!AB138","v":4.8},{"$f":"Invoeren!AC138","v":4.5},{"$f":"Invoeren!AD138","v":4.8},{"$f":"Invoeren!AE138","v":""},{"$f":"Invoeren!AF138","v":""},{"$f":"Invoeren!AG138","v":14.3},{"$f":"Invoeren!AH138","v":10.4867},{"$f":"Invoeren!AT138","v":4.6},{"$f":"Invoeren!AU138","v":4.5},{"$f":"Invoeren!AV138","v":4.6},{"$f":"Invoeren!AW138","v":4.1},{"$f":"Invoeren!AX138","v":4.4},{"$f":"Invoeren!AY138","v":""},{"$f":"Invoeren!AZ138","v":""},{"$f":"Invoeren!BA138","v":{"v":13.499999999999995,"d":"13.5"}},{"$f":"Invoeren!BB138","v":{"v":9.9,"d":"9.9000"}},{"$f":"Invoeren!BN138","v":4.6},{"$f":"Invoeren!BO138","v":4.7},{"$f":"Invoeren!BP138","v":4.6},{"$f":"Invoeren!BQ138","v":4.2},{"$f":"Invoeren!BR138","v":4.2},{"$f":"Invoeren!BS138","v":""},{"$f":"Invoeren!BT138","v":""},{"$f":"Invoeren!BU138","v":{"v":13.400000000000002,"d":"13.4"}},{"$f":"Invoeren!BV138","v":{"v":9.38,"d":"9.3800"}},{"$f":"Invoeren!CH138","v":4.3},{"$f":"Invoeren!CI138","v":4.2},{"$f":"Invoeren!CJ138","v":{"v":4,"d":"4.0"}},{"$f":"Invoeren!CK138","v":{"v":4,"d":"4.0"}},{"$f":"Invoeren!CL138","v":3.8},{"$f":"Invoeren!CM138","v":""},{"$f":"Invoeren!CN138","v":""},{"$f":"Invoeren!CO138","v":12.2},{"$f":"Invoeren!CP138","v":9.3533},{"$f":"Invoeren!CR138","v":{"v":39.120000000000005,"d":"39.1200"}},{"$f":"Invoeren!CS138","v":44.4545},{"$f":"Invoeren!CT138","v":0},{"$f":"Invoeren!C138","v":44.4545},{"$f":"Invoeren!L138","v":0},{"$f":"Invoeren!M138","v":""},{"$f":"Invoeren!N138","v":""},{"$f":"Invoeren!H138","v":"MidWest"},{"$f":"Invoeren!AI138","v":143},{"$f":"Invoeren!BC138","v":138},{"$f":"Invoeren!BW138","v":182},{"$f":"Invoeren!CQ138","v":175}]
[{"$f":"Invoeren!B139","v":109},{"$f":"Invoeren!A139","v":133},{"$f":"Invoeren!E139","v":"Giovanni van der Zon"},{"$f":"Invoeren!F139","v":"ACZ"},{"$f":"Invoeren!$K139","v":2004},{"$f":"Invoeren!$I139","v":0},{"$f":"Invoeren!Z139","v":4.8},{"$f":"Invoeren!AA139","v":{"v":4,"d":"4.0"}},{"$f":"Invoeren!AB139","v":4.9},{"$f":"Invoeren!AC139","v":5.3},{"$f":"Invoeren!AD139","v":{"v":5,"d":"5.0"}},{"$f":"Invoeren!AE139","v":""},{"$f":"Invoeren!AF139","v":""},{"$f":"Invoeren!AG139","v":14.7},{"$f":"Invoeren!AH139","v":{"v":10.78,"d":"10.7800"}},{"$f":"Invoeren!AT139","v":4.5},{"$f":"Invoeren!AU139","v":{"v":4,"d":"4.0"}},{"$f":"Invoeren!AV139","v":{"v":4,"d":"4.0"}},{"$f":"Invoeren!AW139","v":4.6},{"$f":"Invoeren!AX139","v":4.4},{"$f":"Invoeren!AY139","v":""},{"$f":"Invoeren!AZ139","v":""},{"$f":"Invoeren!BA139","v":{"v":12.899999999999999,"d":"12.9"}},{"$f":"Invoeren!BB139","v":{"v":9.46,"d":"9.4600"}},{"$f":"Invoeren!BN139","v":5.2},{"$f":"Invoeren!BO139","v":5.8},{"$f":"Invoeren!BP139","v":{"v":6,"d":"6.0"}},{"$f":"Invoeren!BQ139","v":5.6},{"$f":"Invoeren!BR139","v":5.4},{"$f":"Invoeren!BS139","v":""},{"$f":"Invoeren!BT139","v":""},{"$f":"Invoeren!BU139","v":16.8},{"$f":"Invoeren!BV139","v":{"v":11.76,"d":"11.7600"}},{"$f":"Invoeren!CH139","v":4.9},{"$f":"Invoeren!CI139","v":{"v":5,"d":"5.0"}},{"$f":"Invoeren!CJ139","v":{"v":5,"d":"5.0"}},{"$f":"Invoeren!CK139","v":4.8},{"$f":"Invoeren!CL139","v":4.8},{"$f":"Invoeren!CM139","v":""},{"$f":"Invoeren!CN139","v":""},{"$f":"Invoeren!CO139","v":14.7},{"$f":"Invoeren!CP139","v":{"v":11.27,"d":"11.2700"}},{"$f":"Invoeren!CR139","v":{"v":43.269999999999996,"d":"43.2700"}},{"$f":"Invoeren!CS139","v":49.1705},{"$f":"Invoeren!CT139","v":0},{"$f":"Invoeren!C139","v":49.1705},{"$f":"Invoeren!L139","v":0},{"$f":"Invoeren!M139","v":"L"},{"$f":"Invoeren!N139","v":""},{"$f":"Invoeren!H139","v":"West"},{"$f":"Invoeren!AI139","v":120},{"$f":"Invoeren!BC139","v":164},{"$f":"Invoeren!BW139","v":68},{"$f":"Invoeren!CQ139","v":76}]
[{"$f":"Invoeren!B140","v":132},{"$f":"Invoeren!A140","v":134},{"$f":"Invoeren!E140","v":"Jody Otte"},{"$f":"Invoeren!F140","v":"Hera'11"},{"$f":"Invoeren!$K140","v":2005},{"$f":"Invoeren!$I140","v":0},{"$f":"Invoeren!Z140","v":{"v":5,"d":"5.0"}},{"$f":"Invoeren!AA140","v":5.8},{"$f":"Invoeren!AB140","v":5.4},{"$f":"Invoeren!AC140","v":6.2},{"$f":"Invoeren!AD140","v":5.2},{"$f":"Invoeren!AE140","v":""},{"$f":"Invoeren!AF140","v":""},{"$f":"Invoeren!AG140","v":{"v":16.400000000000002,"d":"16.4"}},{"$f":"Invoeren!AH140","v":12.0267},{"$f":"Invoeren!AT140","v":4.3},{"$f":"Invoeren!AU140","v":4.1},{"$f":"Invoeren!AV140","v":4.3},{"$f":"Invoeren!AW140","v":4.3},{"$f":"Invoeren!AX140","v":4.3},{"$f":"Invoeren!AY140","v":""},{"$f":"Invoeren!AZ140","v":""},{"$f":"Invoeren!BA140","v":12.9},{"$f":"Invoeren!BB140","v":{"v":9.46,"d":"9.4600"}},{"$f":"Invoeren!BN140","v":5.3},{"$f":"Invoeren!BO140","v":4.9},{"$f":"Invoeren!BP140","v":4.9},{"$f":"Invoeren!BQ140","v":4.7},{"$f":"Invoeren!BR140","v":{"v":5,"d":"5.0"}},{"$f":"Invoeren!BS140","v":""},{"$f":"Invoeren!BT140","v":""},{"$f":"Invoeren!BU140","v":14.8},{"$f":"Invoeren!BV140","v":{"v":10.36,"d":"10.3600"}},{"$f":"Invoeren!CH140","v":4.2},{"$f":"Invoeren!CI140","v":4.4},{"$f":"Invoeren!CJ140","v":4.6},{"$f":"Invoeren!CK140","v":4.5},{"$f":"Invoeren!CL140","v":4.1},{"$f":"Invoeren!CM140","v":""},{"$f":"Invoeren!CN140","v":""},{"$f":"Invoeren!CO140","v":{"v":13.100000000000003,"d":"13.1"}},{"$f":"Invoeren!CP140","v":10.0433},{"$f":"Invoeren!CR140","v":{"v":41.89,"d":"41.8900"}},{"$f":"Invoeren!CS140","v":47.6023},{"$f":"Invoeren!CT140","v":0},{"$f":"Invoeren!C140","v":47.6023},{"$f":"Invoeren!L140","v":0},{"$f":"Invoeren!M140","v":"L"},{"$f":"Invoeren!N140","v":""},{"$f":"Invoeren!H140","v":"Oost"},{"$f":"Invoeren!AI140","v":58},{"$f":"Invoeren!BC140","v":164},{"$f":"Invoeren!BW140","v":135},{"$f":"Invoeren!CQ140","v":144}]
[{"$f":"Invoeren!B141","v":189},{"$f":"Invoeren!A141","v":135},{"$f":"Invoeren!E141","v":"Melissa Groeneveld"},{"$f":"Invoeren!F141","v":"De Houtrib"},{"$f":"Invoeren!$K141","v":2003},{"$f":"Invoeren!$I141","v":0},{"$f":"Invoeren!Z141","v":3.7},{"$f":"Invoeren!AA141","v":3.9},{"$f":"Invoeren!AB141","v":4.7},{"$f":"Invoeren!AC141","v":4.2},{"$f":"Invoeren!AD141","v":{"v":4,"d":"4.0"}},{"$f":"Invoeren!AE141","v":""},{"$f":"Invoeren!AF141","v":""},{"$f":"Invoeren!AG141","v":{"v":12.100000000000001,"d":"12.1"}},{"$f":"Invoeren!AH141","v":8.8733},{"$f":"Invoeren!AT141","v":4.4},{"$f":"Invoeren!AU141","v":3.8},{"$f":"Invoeren!AV141","v":3.8},{"$f":"Invoeren!AW141","v":4.1},{"$f":"Invoeren!AX141","v":4.3},{"$f":"Invoeren!AY141","v":""},{"$f":"Invoeren!AZ141","v":""},{"$f":"Invoeren!BA141","v":12.2},{"$f":"Invoeren!BB141","v":8.9467},{"$f":"Invoeren!BN141","v":4.6},{"$f":"Invoeren!BO141","v":4.5},{"$f":"Invoeren!BP141","v":3.8},{"$f":"Invoeren!BQ141","v":{"v":4,"d":"4.0"}},{"$f":"Invoeren!BR141","v":4.3},{"$f":"Invoeren!BS141","v":""},{"$f":"Invoeren!BT141","v":""},{"$f":"Invoeren!BU141","v":12.8},{"$f":"Invoeren!BV141","v":{"v":8.96,"d":"8.9600"}},{"$f":"Invoeren!CH141","v":3.9},{"$f":"Invoeren!CI141","v":3.8},{"$f":"Invoeren!CJ141","v":3.7},{"$f":"Invoeren!CK141","v":3.7},{"$f":"Invoeren!CL141","v":{"v":4,"d":"4.0"}},{"$f":"Invoeren!CM141","v":""},{"$f":"Invoeren!CN141","v":""},{"$f":"Invoeren!CO141","v":{"v":11.399999999999999,"d":"11.4"}},{"$f":"Invoeren!CP141","v":{"v":8.74,"d":"8.7400"}},{"$f":"Invoeren!CR141","v":{"v":35.52,"d":"35.5200"}},{"$f":"Invoeren!CS141","v":40.3636},{"$f":"Invoeren!CT141","v":0},{"$f":"Invoeren!C141","v":40.3636},{"$f":"Invoeren!L141","v":0},{"$f":"Invoeren!M141","v":""},{"$f":"Invoeren!N141","v":""},{"$f":"Invoeren!H141","v":"Oost"},{"$f":"Invoeren!AI141","v":194},{"$f":"Invoeren!BC141","v":177},{"$f":"Invoeren!BW141","v":191},{"$f":"Invoeren!CQ141","v":194}]
[{"$f":"Invoeren!B142","v":5},{"$f":"Invoeren!A142","v":136},{"$f":"Invoeren!E142","v":"Femke Vos"},{"$f":"Invoeren!F142","v":"Z.P.C.H."},{"$f":"Invoeren!$K142","v":2003},{"$f":"Invoeren!$I142","v":0},{"$f":"Invoeren!Z142","v":6.3},{"$f":"Invoeren!AA142","v":6.3},{"$f":"Invoeren!AB142","v":6.4},{"$f":"Invoeren!AC142","v":6.3},{"$f":"Invoeren!AD142","v":6.5},{"$f":"Invoeren!AE142","v":""},{"$f":"Invoeren!AF142","v":""},{"$f":"Invoeren!AG142","v":{"v":19,"d":"19.0"}},{"$f":"Invoeren!AH142","v":13.9333},{"$f":"Invoeren!AT142","v":6.3},{"$f":"Invoeren!AU142","v":5.1},{"$f":"Invoeren!AV142","v":6.1},{"$f":"Invoeren!AW142","v":5.9},{"$f":"Invoeren!AX142","v":6.4},{"$f":"Invoeren!AY142","v":""},{"$f":"Invoeren!AZ142","v":""},{"$f":"Invoeren!BA142","v":{"v":18.299999999999997,"d":"18.3"}},{"$f":"Invoeren!BB142","v":{"v":13.42,"d":"13.4200"}},{"$f":"Invoeren!BN142","v":6.9},{"$f":"Invoeren!BO142","v":6.5},{"$f":"Invoeren!BP142","v":6.5},{"$f":"Invoeren!BQ142","v":6.5},{"$f":"Invoeren!BR142","v":6.3},{"$f":"Invoeren!BS142","v":""},{"$f":"Invoeren!BT142","v":""},{"$f":"Invoeren!BU142","v":{"v":19.499999999999996,"d":"19.5"}},{"$f":"Invoeren!BV142","v":{"v":13.65,"d":"13.6500"}},{"$f":"Invoeren!CH142","v":6.2},{"$f":"Invoeren!CI142","v":5.9},{"$f":"Invoeren!CJ142","v":{"v":6,"d":"6.0"}},{"$f":"Invoeren!CK142","v":5.8},{"$f":"Invoeren!CL142","v":6.4},{"$f":"Invoeren!CM142","v":""},{"$f":"Invoeren!CN142","v":""},{"$f":"Invoeren!CO142","v":{"v":18.100000000000005,"d":"18.1"}},{"$f":"Invoeren!CP142","v":13.8767},{"$f":"Invoeren!CR142","v":{"v":54.879999999999995,"d":"54.8800"}},{"$f":"Invoeren!CS142","v":62.3636},{"$f":"Invoeren!CT142","v":0},{"$f":"Invoeren!C142","v":62.3636},{"$f":"Invoeren!L142","v":0},{"$f":"Invoeren!M142","v":"L"},{"$f":"Invoeren!N142","v":""},{"$f":"Invoeren!H142","v":"MidWest"},{"$f":"Invoeren!AI142","v":7},{"$f":"Invoeren!BC142","v":7},{"$f":"Invoeren!BW142","v":6},{"$f":"Invoeren!CQ142","v":5}]
[{"$f":"Invoeren!B143","v":60},{"$f":"Invoeren!A143","v":137},{"$f":"Invoeren!E143","v":"Ailani Weltz"},{"$f":"Invoeren!F143","v":"DAW"},{"$f":"Invoeren!$K143","v":2004},{"$f":"Invoeren!$I143","v":0},{"$f":"Invoeren!Z143","v":5.8},{"$f":"Invoeren!AA143","v":{"v":6,"d":"6.0"}},{"$f":"Invoeren!AB143","v":5.8},{"$f":"Invoeren!AC143","v":5.7},{"$f":"Invoeren!AD143","v":5.7},{"$f":"Invoeren!AE143","v":""},{"$f":"Invoeren!AF143","v":""},{"$f":"Invoeren!AG143","v":17.3},{"$f":"Invoeren!AH143","v":12.6867},{"$f":"Invoeren!AT143","v":{"v":5,"d":"5.0"}},{"$f":"Invoeren!AU143","v":4.9},{"$f":"Invoeren!AV143","v":5.2},{"$f":"Invoeren!AW143","v":5.6},{"$f":"Invoeren!AX143","v":5.4},{"$f":"Invoeren!AY143","v":""},{"$f":"Invoeren!AZ143","v":""},{"$f":"Invoeren!BA143","v":15.6},{"$f":"Invoeren!BB143","v":{"v":11.44,"d":"11.4400"}},{"$f":"Invoeren!BN143","v":{"v":5,"d":"5.0"}},{"$f":"Invoeren!BO143","v":5.3},{"$f":"Invoeren!BP143","v":5.2},{"$f":"Invoeren!BQ143","v":5.5},{"$f":"Invoeren!BR143","v":4.5},{"$f":"Invoeren!BS143","v":""},{"$f":"Invoeren!BT143","v":""},{"$f":"Invoeren!BU143","v":15.5},{"$f":"Invoeren!BV143","v":{"v":10.85,"d":"10.8500"}},{"$f":"Invoeren!CH143","v":5.2},{"$f":"Invoeren!CI143","v":4.8},{"$f":"Invoeren!CJ143","v":{"v":5,"d":"5.0"}},{"$f":"Invoeren!CK143","v":5.1},{"$f":"Invoeren!CL143","v":{"v":5,"d":"5.0"}},{"$f":"Invoeren!CM143","v":""},{"$f":"Invoeren!CN143","v":""},{"$f":"Invoeren!CO143","v":{"v":15.100000000000001,"d":"15.1"}},{"$f":"Invoeren!CP143","v":11.5767},{"$f":"Invoeren!CR143","v":46.5534},{"$f":"Invoeren!CS143","v":52.9016},{"$f":"Invoeren!CT143","v":0},{"$f":"Invoeren!C143","v":52.9016},{"$f":"Invoeren!L143","v":0},{"$f":"Invoeren!M143","v":"L"},{"$f":"Invoeren!N143","v":""},{"$f":"Invoeren!H143","v":"Midwest"},{"$f":"Invoeren!AI143","v":29},{"$f":"Invoeren!BC143","v":60},{"$f":"Invoeren!BW143","v":108},{"$f":"Invoeren!CQ143","v":58}]
[{"$f":"Invoeren!B144","v":16},{"$f":"Invoeren!A144","v":138},{"$f":"Invoeren!E144","v":"Marleen Voesten"},{"$f":"Invoeren!F144","v":"De Dolfijn"},{"$f":"Invoeren!$K144","v":2004},{"$f":"Invoeren!$I144","v":0},{"$f":"Invoeren!Z144","v":6.1},{"$f":"Invoeren!AA144","v":5.9},{"$f":"Invoeren!AB144","v":6.2},{"$f":"Invoeren!AC144","v":6.7},{"$f":"Invoeren!AD144","v":5.8},{"$f":"Invoeren!AE144","v":""},{"$f":"Invoeren!AF144","v":""},{"$f":"Invoeren!AG144","v":18.2},{"$f":"Invoeren!AH144","v":13.3467},{"$f":"Invoeren!AT144","v":5.6},{"$f":"Invoeren!AU144","v":5.6},{"$f":"Invoeren!AV144","v":5.7},{"$f":"Invoeren!AW144","v":5.7},{"$f":"Invoeren!AX144","v":6.1},{"$f":"Invoeren!AY144","v":""},{"$f":"Invoeren!AZ144","v":""},{"$f":"Invoeren!BA144","v":{"v":16.999999999999993,"d":"17.0"}},{"$f":"Invoeren!BB144","v":12.4667},{"$f":"Invoeren!BN144","v":6.8},{"$f":"Invoeren!BO144","v":6.1},{"$f":"Invoeren!BP144","v":6.5},{"$f":"Invoeren!BQ144","v":6.3},{"$f":"Invoeren!BR144","v":6.2},{"$f":"Invoeren!BS144","v":""},{"$f":"Invoeren!BT144","v":""},{"$f":"Invoeren!BU144","v":{"v":19,"d":"19.0"}},{"$f":"Invoeren!BV144","v":{"v":13.3,"d":"13.3000"}},{"$f":"Invoeren!CH144","v":5.9},{"$f":"Invoeren!CI144","v":5.7},{"$f":"Invoeren!CJ144","v":5.7},{"$f":"Invoeren!CK144","v":5.5},{"$f":"Invoeren!CL144","v":5.5},{"$f":"Invoeren!CM144","v":""},{"$f":"Invoeren!CN144","v":""},{"$f":"Invoeren!CO144","v":16.9},{"$f":"Invoeren!CP144","v":12.9567},{"$f":"Invoeren!CR144","v":52.0701},{"$f":"Invoeren!CS144","v":59.1706},{"$f":"Invoeren!CT144","v":0},{"$f":"Invoeren!C144","v":59.1706},{"$f":"Invoeren!L144","v":0},{"$f":"Invoeren!M144","v":"L"},{"$f":"Invoeren!N144","v":""},{"$f":"Invoeren!H144","v":"MidWest"},{"$f":"Invoeren!AI144","v":12},{"$f":"Invoeren!BC144","v":21},{"$f":"Invoeren!BW144","v":11},{"$f":"Invoeren!CQ144","v":20}]
[{"$f":"Invoeren!B145","v":96},{"$f":"Invoeren!A145","v":139},{"$f":"Invoeren!E145","v":"Jessie Sapuletej"},{"$f":"Invoeren!F145","v":"Widex Gzc Donk"},{"$f":"Invoeren!$K145","v":2004},{"$f":"Invoeren!$I145","v":0},{"$f":"Invoeren!Z145","v":5.4},{"$f":"Invoeren!AA145","v":4.9},{"$f":"Invoeren!AB145","v":5.5},{"$f":"Invoeren!AC145","v":5.4},{"$f":"Invoeren!AD145","v":5.7},{"$f":"Invoeren!AE145","v":""},{"$f":"Invoeren!AF145","v":""},{"$f":"Invoeren!AG145","v":{"v":16.300000000000004,"d":"16.3"}},{"$f":"Invoeren!AH145","v":11.9533},{"$f":"Invoeren!AT145","v":5.2},{"$f":"Invoeren!AU145","v":4.8},{"$f":"Invoeren!AV145","v":4.8},{"$f":"Invoeren!AW145","v":4.6},{"$f":"Invoeren!AX145","v":4.9},{"$f":"Invoeren!AY145","v":""},{"$f":"Invoeren!AZ145","v":""},{"$f":"Invoeren!BA145","v":{"v":14.499999999999998,"d":"14.5"}},{"$f":"Invoeren!BB145","v":10.6333},{"$f":"Invoeren!BN145","v":5.5},{"$f":"Invoeren!BO145","v":5.6},{"$f":"Invoeren!BP145","v":4.9},{"$f":"Invoeren!BQ145","v":4.8},{"$f":"Invoeren!BR145","v":4.6},{"$f":"Invoeren!BS145","v":""},{"$f":"Invoeren!BT145","v":""},{"$f":"Invoeren!BU145","v":{"v":15.199999999999998,"d":"15.2"}},{"$f":"Invoeren!BV145","v":{"v":10.64,"d":"10.6400"}},{"$f":"Invoeren!CH145","v":4.9},{"$f":"Invoeren!CI145","v":4.6},{"$f":"Invoeren!CJ145","v":4.8},{"$f":"Invoeren!CK145","v":4.7},{"$f":"Invoeren!CL145","v":4.7},{"$f":"Invoeren!CM145","v":""},{"$f":"Invoeren!CN145","v":""},{"$f":"Invoeren!CO145","v":{"v":14.199999999999998,"d":"14.2"}},{"$f":"Invoeren!CP145","v":10.8867},{"$f":"Invoeren!CR145","v":44.1133},{"$f":"Invoeren!CS145","v":50.1288},{"$f":"Invoeren!CT145","v":0},{"$f":"Invoeren!C145","v":50.1288},{"$f":"Invoeren!L145","v":0},{"$f":"Invoeren!M145","v":"L"},{"$f":"Invoeren!N145","v":""},{"$f":"Invoeren!H145","v":"West"},{"$f":"Invoeren!AI145","v":62},{"$f":"Invoeren!BC145","v":100},{"$f":"Invoeren!BW145","v":117},{"$f":"Invoeren!CQ145","v":103}]
[{"$f":"Invoeren!B146","v":17},{"$f":"Invoeren!A146","v":140},{"$f":"Invoeren!E146","v":"Laura Lai"},{"$f":"Invoeren!F146","v":"De Dolfijn"},{"$f":"Invoeren!$K146","v":2003},{"$f":"Invoeren!$I146","v":0},{"$f":"Invoeren!Z146","v":5.6},{"$f":"Invoeren!AA146","v":{"v":6,"d":"6.0"}},{"$f":"Invoeren!AB146","v":5.9},{"$f":"Invoeren!AC146","v":5.8},{"$f":"Invoeren!AD146","v":5.9},{"$f":"Invoeren!AE146","v":""},{"$f":"Invoeren!AF146","v":""},{"$f":"Invoeren!AG146","v":17.6},{"$f":"Invoeren!AH146","v":12.9067},{"$f":"Invoeren!AT146","v":5.9},{"$f":"Invoeren!AU146","v":{"v":6,"d":"6.0"}},{"$f":"Invoeren!AV146","v":6.2},{"$f":"Invoeren!AW146","v":5.8},{"$f":"Invoeren!AX146","v":5.9},{"$f":"Invoeren!AY146","v":""},{"$f":"Invoeren!AZ146","v":""},{"$f":"Invoeren!BA146","v":{"v":17.800000000000004,"d":"17.8"}},{"$f":"Invoeren!BB146","v":13.0533},{"$f":"Invoeren!BN146","v":6.7},{"$f":"Invoeren!BO146","v":5.8},{"$f":"Invoeren!BP146","v":6.2},{"$f":"Invoeren!BQ146","v":5.1},{"$f":"Invoeren!BR146","v":6.2},{"$f":"Invoeren!BS146","v":""},{"$f":"Invoeren!BT146","v":""},{"$f":"Invoeren!BU146","v":{"v":18.199999999999996,"d":"18.2"}},{"$f":"Invoeren!BV146","v":{"v":12.74,"d":"12.7400"}},{"$f":"Invoeren!CH146","v":5.7},{"$f":"Invoeren!CI146","v":5.7},{"$f":"Invoeren!CJ146","v":5.6},{"$f":"Invoeren!CK146","v":5.7},{"$f":"Invoeren!CL146","v":5.6},{"$f":"Invoeren!CM146","v":""},{"$f":"Invoeren!CN146","v":""},{"$f":"Invoeren!CO146","v":{"v":17,"d":"17.0"}},{"$f":"Invoeren!CP146","v":13.0333},{"$f":"Invoeren!CR146","v":51.7333},{"$f":"Invoeren!CS146","v":58.7878},{"$f":"Invoeren!CT146","v":0},{"$f":"Invoeren!C146","v":58.7878},{"$f":"Invoeren!L146","v":0},{"$f":"Invoeren!M146","v":"L"},{"$f":"Invoeren!N146","v":""},{"$f":"Invoeren!H146","v":"Midwest"},{"$f":"Invoeren!AI146","v":22},{"$f":"Invoeren!BC146","v":12},{"$f":"Invoeren!BW146","v":23},{"$f":"Invoeren!CQ146","v":19}]
[{"$f":"Invoeren!B147","v":165},{"$f":"Invoeren!A147","v":141},{"$f":"Invoeren!E147","v":"Noa Palsgraaf"},{"$f":"Invoeren!F147","v":"Widex Gzc Donk"},{"$f":"Invoeren!$K147","v":2004},{"$f":"Invoeren!$I147","v":0},{"$f":"Invoeren!Z147","v":{"v":4,"d":"4.0"}},{"$f":"Invoeren!AA147","v":{"v":4,"d":"4.0"}},{"$f":"Invoeren!AB147","v":4.3},{"$f":"Invoeren!AC147","v":4.3},{"$f":"Invoeren!AD147","v":3.9},{"$f":"Invoeren!AE147","v":""},{"$f":"Invoeren!AF147","v":""},{"$f":"Invoeren!AG147","v":{"v":12.299999999999999,"d":"12.3"}},{"$f":"Invoeren!AH147","v":{"v":9.02,"d":"9.0200"}},{"$f":"Invoeren!AT147","v":4.9},{"$f":"Invoeren!AU147","v":4.7},{"$f":"Invoeren!AV147","v":4.9},{"$f":"Invoeren!AW147","v":5.1},{"$f":"Invoeren!AX147","v":4.9},{"$f":"Invoeren!AY147","v":""},{"$f":"Invoeren!AZ147","v":""},{"$f":"Invoeren!BA147","v":14.7},{"$f":"Invoeren!BB147","v":{"v":10.78,"d":"10.7800"}},{"$f":"Invoeren!BN147","v":4.9},{"$f":"Invoeren!BO147","v":4.7},{"$f":"Invoeren!BP147","v":4.9},{"$f":"Invoeren!BQ147","v":4.8},{"$f":"Invoeren!BR147","v":4.4},{"$f":"Invoeren!BS147","v":""},{"$f":"Invoeren!BT147","v":""},{"$f":"Invoeren!BU147","v":{"v":14.400000000000004,"d":"14.4"}},{"$f":"Invoeren!BV147","v":{"v":10.08,"d":"10.0800"}},{"$f":"Invoeren!CH147","v":4.5},{"$f":"Invoeren!CI147","v":4.1},{"$f":"Invoeren!CJ147","v":{"v":4,"d":"4.0"}},{"$f":"Invoeren!CK147","v":{"v":4,"d":"4.0"}},{"$f":"Invoeren!CL147","v":4.1},{"$f":"Invoeren!CM147","v":""},{"$f":"Invoeren!CN147","v":""},{"$f":"Invoeren!CO147","v":{"v":12.200000000000003,"d":"12.2"}},{"$f":"Invoeren!CP147","v":9.3533},{"$f":"Invoeren!CR147","v":39.2333},{"$f":"Invoeren!CS147","v":44.5833},{"$f":"Invoeren!CT147","v":0},{"$f":"Invoeren!C147","v":44.5833},{"$f":"Invoeren!L147","v":0},{"$f":"Invoeren!M147","v":""},{"$f":"Invoeren!N147","v":""},{"$f":"Invoeren!H147","v":"West"},{"$f":"Invoeren!AI147","v":191},{"$f":"Invoeren!BC147","v":93},{"$f":"Invoeren!BW147","v":149},{"$f":"Invoeren!CQ147","v":175}]
[{"$f":"Invoeren!B148","v":184},{"$f":"Invoeren!A148","v":142},{"$f":"Invoeren!E148","v":"Eline Schouten"},{"$f":"Invoeren!F148","v":"WVZ"},{"$f":"Invoeren!$K148","v":2004},{"$f":"Invoeren!$I148","v":0},{"$f":"Invoeren!Z148","v":4.1},{"$f":"Invoeren!AA148","v":4.8},{"$f":"Invoeren!AB148","v":4.5},{"$f":"Invoeren!AC148","v":4.1},{"$f":"Invoeren!AD148","v":{"v":4,"d":"4.0"}},{"$f":"Invoeren!AE148","v":""},{"$f":"Invoeren!AF148","v":""},{"$f":"Invoeren!AG148","v":12.7},{"$f":"Invoeren!AH148","v":9.3133},{"$f":"Invoeren!AT148","v":3.5},{"$f":"Invoeren!AU148","v":3.7},{"$f":"Invoeren!AV148","v":3.7},{"$f":"Invoeren!AW148","v":3.6},{"$f":"Invoeren!AX148","v":3.9},{"$f":"Invoeren!AY148","v":""},{"$f":"Invoeren!AZ148","v":""},{"$f":"Invoeren!BA148","v":{"v":10.999999999999998,"d":"11.0"}},{"$f":"Invoeren!BB148","v":8.0667},{"$f":"Invoeren!BN148","v":4.4},{"$f":"Invoeren!BO148","v":4.9},{"$f":"Invoeren!BP148","v":4.8},{"$f":"Invoeren!BQ148","v":4.6},{"$f":"Invoeren!BR148","v":4.2},{"$f":"Invoeren!BS148","v":""},{"$f":"Invoeren!BT148","v":""},{"$f":"Invoeren!BU148","v":13.8},{"$f":"Invoeren!BV148","v":{"v":9.66,"d":"9.6600"}},{"$f":"Invoeren!CH148","v":{"v":4,"d":"4.0"}},{"$f":"Invoeren!CI148","v":4.5},{"$f":"Invoeren!CJ148","v":4.2},{"$f":"Invoeren!CK148","v":4.4},{"$f":"Invoeren!CL148","v":4.4},{"$f":"Invoeren!CM148","v":""},{"$f":"Invoeren!CN148","v":""},{"$f":"Invoeren!CO148","v":{"v":13,"d":"13.0"}},{"$f":"Invoeren!CP148","v":9.9667},{"$f":"Invoeren!CR148","v":37.0067},{"$f":"Invoeren!CS148","v":42.0531},{"$f":"Invoeren!CT148","v":0},{"$f":"Invoeren!C148","v":42.0531},{"$f":"Invoeren!L148","v":0},{"$f":"Invoeren!M148","v":""},{"$f":"Invoeren!N148","v":""},{"$f":"Invoeren!H148","v":"West"},{"$f":"Invoeren!AI148","v":185},{"$f":"Invoeren!BC148","v":192},{"$f":"Invoeren!BW148","v":171},{"$f":"Invoeren!CQ148","v":149}]
[{"$f":"Invoeren!B149","v":19},{"$f":"Invoeren!A149","v":143},{"$f":"Invoeren!E149","v":"Fleur Valk"},{"$f":"Invoeren!F149","v":"AZC"},{"$f":"Invoeren!$K149","v":2004},{"$f":"Invoeren!$I149","v":0},{"$f":"Invoeren!Z149","v":5.9},{"$f":"Invoeren!AA149","v":5.8},{"$f":"Invoeren!AB149","v":{"v":6,"d":"6.0"}},{"$f":"Invoeren!AC149","v":5.6},{"$f":"Invoeren!AD149","v":5.9},{"$f":"Invoeren!AE149","v":""},{"$f":"Invoeren!AF149","v":""},{"$f":"Invoeren!AG149","v":{"v":17.599999999999994,"d":"17.6"}},{"$f":"Invoeren!AH149","v":12.9067},{"$f":"Invoeren!AT149","v":5.3},{"$f":"Invoeren!AU149","v":4.8},{"$f":"Invoeren!AV149","v":5.6},{"$f":"Invoeren!AW149","v":5.8},{"$f":"Invoeren!AX149","v":5.7},{"$f":"Invoeren!AY149","v":""},{"$f":"Invoeren!AZ149","v":""},{"$f":"Invoeren!BA149","v":{"v":16.599999999999998,"d":"16.6"}},{"$f":"Invoeren!BB149","v":12.1733},{"$f":"Invoeren!BN149","v":6.8},{"$f":"Invoeren!BO149","v":6.3},{"$f":"Invoeren!BP149","v":{"v":6,"d":"6.0"}},{"$f":"Invoeren!BQ149","v":6.3},{"$f":"Invoeren!BR149","v":6.3},{"$f":"Invoeren!BS149","v":""},{"$f":"Invoeren!BT149","v":""},{"$f":"Invoeren!BU149","v":{"v":18.900000000000002,"d":"18.9"}},{"$f":"Invoeren!BV149","v":{"v":13.23,"d":"13.2300"}},{"$f":"Invoeren!CH149","v":{"v":6,"d":"6.0"}},{"$f":"Invoeren!CI149","v":5.7},{"$f":"Invoeren!CJ149","v":5.5},{"$f":"Invoeren!CK149","v":5.7},{"$f":"Invoeren!CL149","v":5.8},{"$f":"Invoeren!CM149","v":""},{"$f":"Invoeren!CN149","v":""},{"$f":"Invoeren!CO149","v":17.2},{"$f":"Invoeren!CP149","v":13.1867},{"$f":"Invoeren!CR149","v":{"v":51.496700000000004,"d":"51.4967"}},{"$f":"Invoeren!CS149","v":{"v":58.519,"d":"58.5190"}},{"$f":"Invoeren!CT149","v":0},{"$f":"Invoeren!C149","v":{"v":58.519,"d":"58.5190"}},{"$f":"Invoeren!L149","v":0},{"$f":"Invoeren!M149","v":"L"},{"$f":"Invoeren!N149","v":""},{"$f":"Invoeren!H149","v":"West"},{"$f":"Invoeren!AI149","v":22},{"$f":"Invoeren!BC149","v":30},{"$f":"Invoeren!BW149","v":13},{"$f":"Invoeren!CQ149","v":12}]
[{"$f":"Invoeren!B150","v":28},{"$f":"Invoeren!A150","v":144},{"$f":"Invoeren!E150","v":"Pauline Radochyn"},{"$f":"Invoeren!F150","v":"Cadans"},{"$f":"Invoeren!$K150","v":2004},{"$f":"Invoeren!$I150","v":0},{"$f":"Invoeren!Z150","v":5.7},{"$f":"Invoeren!AA150","v":5.7},{"$f":"Invoeren!AB150","v":5.8},{"$f":"Invoeren!AC150","v":4.5},{"$f":"Invoeren!AD150","v":5.3},{"$f":"Invoeren!AE150","v":""},{"$f":"Invoeren!AF150","v":""},{"$f":"Invoeren!AG150","v":16.7},{"$f":"Invoeren!AH150","v":12.2467},{"$f":"Invoeren!AT150","v":5.1},{"$f":"Invoeren!AU150","v":5.2},{"$f":"Invoeren!AV150","v":5.8},{"$f":"Invoeren!AW150","v":5.5},{"$f":"Invoeren!AX150","v":5.6},{"$f":"Invoeren!AY150","v":""},{"$f":"Invoeren!AZ150","v":""},{"$f":"Invoeren!BA150","v":{"v":16.300000000000004,"d":"16.3"}},{"$f":"Invoeren!BB150","v":11.9533},{"$f":"Invoeren!BN150","v":5.7},{"$f":"Invoeren!BO150","v":{"v":6,"d":"6.0"}},{"$f":"Invoeren!BP150","v":{"v":6,"d":"6.0"}},{"$f":"Invoeren!BQ150","v":{"v":6,"d":"6.0"}},{"$f":"Invoeren!BR150","v":6.7},{"$f":"Invoeren!BS150","v":""},{"$f":"Invoeren!BT150","v":""},{"$f":"Invoeren!BU150","v":{"v":18,"d":"18.0"}},{"$f":"Invoeren!BV150","v":{"v":12.6,"d":"12.6000"}},{"$f":"Invoeren!CH150","v":5.2},{"$f":"Invoeren!CI150","v":5.8},{"$f":"Invoeren!CJ150","v":5.5},{"$f":"Invoeren!CK150","v":5.8},{"$f":"Invoeren!CL150","v":5.4},{"$f":"Invoeren!CM150","v":""},{"$f":"Invoeren!CN150","v":""},{"$f":"Invoeren!CO150","v":{"v":16.700000000000003,"d":"16.7"}},{"$f":"Invoeren!CP150","v":12.8033},{"$f":"Invoeren!CR150","v":{"v":49.603300000000004,"d":"49.6033"}},{"$f":"Invoeren!CS150","v":56.3674},{"$f":"Invoeren!CT150","v":0},{"$f":"Invoeren!C150","v":56.3674},{"$f":"Invoeren!L150","v":0},{"$f":"Invoeren!M150","v":"L"},{"$f":"Invoeren!N150","v":""},{"$f":"Invoeren!H150","v":"oost"},{"$f":"Invoeren!AI150","v":51},{"$f":"Invoeren!BC150","v":39},{"$f":"Invoeren!BW150","v":25},{"$f":"Invoeren!CQ150","v":23}]
[{"$f":"Invoeren!B151","v":160},{"$f":"Invoeren!A151","v":145},{"$f":"Invoeren!E151","v":"Axana Gerits"},{"$f":"Invoeren!F151","v":"ZC.Eijsden"},{"$f":"Invoeren!$K151","v":2004},{"$f":"Invoeren!$I151","v":0},{"$f":"Invoeren!Z151","v":4.2},{"$f":"Invoeren!AA151","v":5.2},{"$f":"Invoeren!AB151","v":4.7},{"$f":"Invoeren!AC151","v":4.8},{"$f":"Invoeren!AD151","v":4.3},{"$f":"Invoeren!AE151","v":""},{"$f":"Invoeren!AF151","v":""},{"$f":"Invoeren!AG151","v":{"v":13.800000000000004,"d":"13.8"}},{"$f":"Invoeren!AH151","v":{"v":10.12,"d":"10.1200"}},{"$f":"Invoeren!AT151","v":3.9},{"$f":"Invoeren!AU151","v":4.6},{"$f":"Invoeren!AV151","v":4.5},{"$f":"Invoeren!AW151","v":4.4},{"$f":"Invoeren!AX151","v":4.6},{"$f":"Invoeren!AY151","v":""},{"$f":"Invoeren!AZ151","v":""},{"$f":"Invoeren!BA151","v":{"v":13.499999999999998,"d":"13.5"}},{"$f":"Invoeren!BB151","v":{"v":9.9,"d":"9.9000"}},{"$f":"Invoeren!BN151","v":4.7},{"$f":"Invoeren!BO151","v":5.2},{"$f":"Invoeren!BP151","v":{"v":4,"d":"4.0"}},{"$f":"Invoeren!BQ151","v":{"v":5,"d":"5.0"}},{"$f":"Invoeren!BR151","v":4.6},{"$f":"Invoeren!BS151","v":""},{"$f":"Invoeren!BT151","v":""},{"$f":"Invoeren!BU151","v":14.3},{"$f":"Invoeren!BV151","v":{"v":10.01,"d":"10.0100"}},{"$f":"Invoeren!CH151","v":4.2},{"$f":"Invoeren!CI151","v":{"v":4,"d":"4.0"}},{"$f":"Invoeren!CJ151","v":{"v":4,"d":"4.0"}},{"$f":"Invoeren!CK151","v":4.2},{"$f":"Invoeren!CL151","v":4.1},{"$f":"Invoeren!CM151","v":""},{"$f":"Invoeren!CN151","v":""},{"$f":"Invoeren!CO151","v":12.3},{"$f":"Invoeren!CP151","v":{"v":9.43,"d":"9.4300"}},{"$f":"Invoeren!CR151","v":{"v":39.46,"d":"39.4600"}},{"$f":"Invoeren!CS151","v":44.8409},{"$f":"Invoeren!CT151","v":0},{"$f":"Invoeren!C151","v":44.8409},{"$f":"Invoeren!L151","v":0},{"$f":"Invoeren!M151","v":""},{"$f":"Invoeren!N151","v":""},{"$f":"Invoeren!H151","v":"Zuid"},{"$f":"Invoeren!AI151","v":165},{"$f":"Invoeren!BC151","v":138},{"$f":"Invoeren!BW151","v":153},{"$f":"Invoeren!CQ151","v":170}]
[{"$f":"Invoeren!B152","v":122},{"$f":"Invoeren!A152","v":146},{"$f":"Invoeren!E152","v":"Dieuwke van de Berg"},{"$f":"Invoeren!F152","v":"Hieronymus"},{"$f":"Invoeren!$K152","v":2003},{"$f":"Invoeren!$I152","v":0},{"$f":"Invoeren!Z152","v":5.3},{"$f":"Invoeren!AA152","v":5.9},{"$f":"Invoeren!AB152","v":5.5},{"$f":"Invoeren!AC152","v":5.2},{"$f":"Invoeren!AD152","v":5.3},{"$f":"Invoeren!AE152","v":""},{"$f":"Invoeren!AF152","v":""},{"$f":"Invoeren!AG152","v":{"v":16.099999999999998,"d":"16.1"}},{"$f":"Invoeren!AH152","v":11.8067},{"$f":"Invoeren!AT152","v":{"v":4,"d":"4.0"}},{"$f":"Invoeren!AU152","v":3.9},{"$f":"Invoeren!AV152","v":4.6},{"$f":"Invoeren!AW152","v":4.5},{"$f":"Invoeren!AX152","v":4.4},{"$f":"Invoeren!AY152","v":""},{"$f":"Invoeren!AZ152","v":""},{"$f":"Invoeren!BA152","v":{"v":12.899999999999997,"d":"12.9"}},{"$f":"Invoeren!BB152","v":{"v":9.46,"d":"9.4600"}},{"$f":"Invoeren!BN152","v":5.3},{"$f":"Invoeren!BO152","v":5.3},{"$f":"Invoeren!BP152","v":5.5},{"$f":"Invoeren!BQ152","v":5.8},{"$f":"Invoeren!BR152","v":4.7},{"$f":"Invoeren!BS152","v":""},{"$f":"Invoeren!BT152","v":""},{"$f":"Invoeren!BU152","v":16.1},{"$f":"Invoeren!BV152","v":{"v":11.27,"d":"11.2700"}},{"$f":"Invoeren!CH152","v":4.3},{"$f":"Invoeren!CI152","v":4.4},{"$f":"Invoeren!CJ152","v":4.5},{"$f":"Invoeren!CK152","v":{"v":4,"d":"4.0"}},{"$f":"Invoeren!CL152","v":3.8},{"$f":"Invoeren!CM152","v":""},{"$f":"Invoeren!CN152","v":""},{"$f":"Invoeren!CO152","v":12.7},{"$f":"Invoeren!CP152","v":9.7367},{"$f":"Invoeren!CR152","v":{"v":42.273399999999995,"d":"42.2734"}},{"$f":"Invoeren!CS152","v":{"v":48.038,"d":"48.0380"}},{"$f":"Invoeren!CT152","v":0},{"$f":"Invoeren!C152","v":{"v":48.038,"d":"48.0380"}},{"$f":"Invoeren!L152","v":0},{"$f":"Invoeren!M152","v":""},{"$f":"Invoeren!N152","v":""},{"$f":"Invoeren!H152","v":"Zuid"},{"$f":"Invoeren!AI152","v":72},{"$f":"Invoeren!BC152","v":164},{"$f":"Invoeren!BW152","v":92},{"$f":"Invoeren!CQ152","v":158}]
[{"$f":"Invoeren!B153","v":26},{"$f":"Invoeren!A153","v":147},{"$f":"Invoeren!E153","v":"Femke Maertens"},{"$f":"Invoeren!F153","v":"ACZ"},{"$f":"Invoeren!$K153","v":2003},{"$f":"Invoeren!$I153","v":0},{"$f":"Invoeren!Z153","v":5.7},{"$f":"Invoeren!AA153","v":5.6},{"$f":"Invoeren!AB153","v":{"v":6,"d":"6.0"}},{"$f":"Invoeren!AC153","v":5.7},{"$f":"Invoeren!AD153","v":5.9},{"$f":"Invoeren!AE153","v":""},{"$f":"Invoeren!AF153","v":""},{"$f":"Invoeren!AG153","v":{"v":17.299999999999997,"d":"17.3"}},{"$f":"Invoeren!AH153","v":12.6867},{"$f":"Invoeren!AT153","v":4.9},{"$f":"Invoeren!AU153","v":{"v":5,"d":"5.0"}},{"$f":"Invoeren!AV153","v":5.1},{"$f":"Invoeren!AW153","v":5.4},{"$f":"Invoeren!AX153","v":5.3},{"$f":"Invoeren!AY153","v":""},{"$f":"Invoeren!AZ153","v":""},{"$f":"Invoeren!BA153","v":{"v":15.399999999999997,"d":"15.4"}},{"$f":"Invoeren!BB153","v":11.2933},{"$f":"Invoeren!BN153","v":6.4},{"$f":"Invoeren!BO153","v":6.7},{"$f":"Invoeren!BP153","v":6.3},{"$f":"Invoeren!BQ153","v":6.3},{"$f":"Invoeren!BR153","v":6.7},{"$f":"Invoeren!BS153","v":""},{"$f":"Invoeren!BT153","v":""},{"$f":"Invoeren!BU153","v":{"v":19.400000000000006,"d":"19.4"}},{"$f":"Invoeren!BV153","v":{"v":13.58,"d":"13.5800"}},{"$f":"Invoeren!CH153","v":{"v":5,"d":"5.0"}},{"$f":"Invoeren!CI153","v":5.6},{"$f":"Invoeren!CJ153","v":5.4},{"$f":"Invoeren!CK153","v":5.3},{"$f":"Invoeren!CL153","v":5.2},{"$f":"Invoeren!CM153","v":""},{"$f":"Invoeren!CN153","v":""},{"$f":"Invoeren!CO153","v":{"v":15.899999999999999,"d":"15.9"}},{"$f":"Invoeren!CP153","v":{"v":12.19,"d":"12.1900"}},{"$f":"Invoeren!CR153","v":{"v":49.75,"d":"49.7500"}},{"$f":"Invoeren!CS153","v":56.5341},{"$f":"Invoeren!CT153","v":0},{"$f":"Invoeren!C153","v":56.5341},{"$f":"Invoeren!L153","v":0},{"$f":"Invoeren!M153","v":"L"},{"$f":"Invoeren!N153","v":""},{"$f":"Invoeren!H153","v":"West"},{"$f":"Invoeren!AI153","v":29},{"$f":"Invoeren!BC153","v":66},{"$f":"Invoeren!BW153","v":7},{"$f":"Invoeren!CQ153","v":36}]
[{"$f":"Invoeren!B154","v":162},{"$f":"Invoeren!A154","v":148},{"$f":"Invoeren!E154","v":"Joëlle van Tol"},{"$f":"Invoeren!F154","v":"De Houtrib"},{"$f":"Invoeren!$K154","v":2005},{"$f":"Invoeren!$I154","v":0},{"$f":"Invoeren!Z154","v":4.7},{"$f":"Invoeren!AA154","v":4.5},{"$f":"Invoeren!AB154","v":4.9},{"$f":"Invoeren!AC154","v":4.7},{"$f":"Invoeren!AD154","v":{"v":5,"d":"5.0"}},{"$f":"Invoeren!AE154","v":""},{"$f":"Invoeren!AF154","v":""},{"$f":"Invoeren!AG154","v":14.3},{"$f":"Invoeren!AH154","v":10.4867},{"$f":"Invoeren!AT154","v":4.1},{"$f":"Invoeren!AU154","v":4.7},{"$f":"Invoeren!AV154","v":3.9},{"$f":"Invoeren!AW154","v":4.1},{"$f":"Invoeren!AX154","v":4.8},{"$f":"Invoeren!AY154","v":""},{"$f":"Invoeren!AZ154","v":""},{"$f":"Invoeren!BA154","v":12.9},{"$f":"Invoeren!BB154","v":{"v":9.46,"d":"9.4600"}},{"$f":"Invoeren!BN154","v":4.5},{"$f":"Invoeren!BO154","v":4.6},{"$f":"Invoeren!BP154","v":3.9},{"$f":"Invoeren!BQ154","v":5.1},{"$f":"Invoeren!BR154","v":4.3},{"$f":"Invoeren!BS154","v":""},{"$f":"Invoeren!BT154","v":""},{"$f":"Invoeren!BU154","v":{"v":13.400000000000004,"d":"13.4"}},{"$f":"Invoeren!BV154","v":{"v":9.38,"d":"9.3800"}},{"$f":"Invoeren!CH154","v":{"v":4,"d":"4.0"}},{"$f":"Invoeren!CI154","v":4.5},{"$f":"Invoeren!CJ154","v":4.4},{"$f":"Invoeren!CK154","v":4.3},{"$f":"Invoeren!CL154","v":4.4},{"$f":"Invoeren!CM154","v":""},{"$f":"Invoeren!CN154","v":""},{"$f":"Invoeren!CO154","v":{"v":13.100000000000001,"d":"13.1"}},{"$f":"Invoeren!CP154","v":10.0433},{"$f":"Invoeren!CR154","v":{"v":39.370000000000005,"d":"39.3700"}},{"$f":"Invoeren!CS154","v":44.7386},{"$f":"Invoeren!CT154","v":0},{"$f":"Invoeren!C154","v":44.7386},{"$f":"Invoeren!L154","v":0},{"$f":"Invoeren!M154","v":""},{"$f":"Invoeren!N154","v":""},{"$f":"Invoeren!H154","v":"Oost"},{"$f":"Invoeren!AI154","v":143},{"$f":"Invoeren!BC154","v":164},{"$f":"Invoeren!BW154","v":182},{"$f":"Invoeren!CQ154","v":144}]
[{"$f":"Invoeren!B155","v":2},{"$f":"Invoeren!A155","v":149},{"$f":"Invoeren!E155","v":"Noortje Reijnen"},{"$f":"Invoeren!F155","v":"Z.P.C.H."},{"$f":"Invoeren!$K155","v":2004},{"$f":"Invoeren!$I155","v":0},{"$f":"Invoeren!Z155","v":6.6},{"$f":"Invoeren!AA155","v":6.5},{"$f":"Invoeren!AB155","v":6.4},{"$f":"Invoeren!AC155","v":6.8},{"$f":"Invoeren!AD155","v":6.7},{"$f":"Invoeren!AE155","v":""},{"$f":"Invoeren!AF155","v":""},{"$f":"Invoeren!AG155","v":{"v":19.799999999999997,"d":"19.8"}},{"$f":"Invoeren!AH155","v":{"v":14.52,"d":"14.5200"}},{"$f":"Invoeren!AT155","v":6.7},{"$f":"Invoeren!AU155","v":{"v":6,"d":"6.0"}},{"$f":"Invoeren!AV155","v":6.3},{"$f":"Invoeren!AW155","v":6.3},{"$f":"Invoeren!AX155","v":{"v":7,"d":"7.0"}},{"$f":"Invoeren!AY155","v":""},{"$f":"Invoeren!AZ155","v":""},{"$f":"Invoeren!BA155","v":{"v":19.299999999999997,"d":"19.3"}},{"$f":"Invoeren!BB155","v":14.1533},{"$f":"Invoeren!BN155","v":6.3},{"$f":"Invoeren!BO155","v":6.8},{"$f":"Invoeren!BP155","v":6.1},{"$f":"Invoeren!BQ155","v":6.4},{"$f":"Invoeren!BR155","v":6.7},{"$f":"Invoeren!BS155","v":""},{"$f":"Invoeren!BT155","v":""},{"$f":"Invoeren!BU155","v":{"v":19.400000000000006,"d":"19.4"}},{"$f":"Invoeren!BV155","v":{"v":13.58,"d":"13.5800"}},{"$f":"Invoeren!CH155","v":6.4},{"$f":"Invoeren!CI155","v":5.5},{"$f":"Invoeren!CJ155","v":5.8},{"$f":"Invoeren!CK155","v":5.9},{"$f":"Invoeren!CL155","v":5.9},{"$f":"Invoeren!CM155","v":""},{"$f":"Invoeren!CN155","v":""},{"$f":"Invoeren!CO155","v":17.6},{"$f":"Invoeren!CP155","v":13.4933},{"$f":"Invoeren!CR155","v":{"v":55.746599999999994,"d":"55.7466"}},{"$f":"Invoeren!CS155","v":63.3484},{"$f":"Invoeren!CT155","v":0},{"$f":"Invoeren!C155","v":63.3484},{"$f":"Invoeren!L155","v":0},{"$f":"Invoeren!M155","v":"L"},{"$f":"Invoeren!N155","v":""},{"$f":"Invoeren!H155","v":"MidWest"},{"$f":"Invoeren!AI155","v":1},{"$f":"Invoeren!BC155","v":3},{"$f":"Invoeren!BW155","v":7},{"$f":"Invoeren!CQ155","v":8}]
[{"$f":"Invoeren!B156","v":39},{"$f":"Invoeren!A156","v":150},{"$f":"Invoeren!E156","v":"Britt Huijsman"},{"$f":"Invoeren!F156","v":"De Dolfijn"},{"$f":"Invoeren!$K156","v":2003},{"$f":"Invoeren!$I156","v":0},{"$f":"Invoeren!Z156","v":5.8},{"$f":"Invoeren!AA156","v":5.7},{"$f":"Invoeren!AB156","v":5.6},{"$f":"Invoeren!AC156","v":5.3},{"$f":"Invoeren!AD156","v":5.7},{"$f":"Invoeren!AE156","v":""},{"$f":"Invoeren!AF156","v":""},{"$f":"Invoeren!AG156","v":{"v":17,"d":"17.0"}},{"$f":"Invoeren!AH156","v":12.4667},{"$f":"Invoeren!AT156","v":{"v":5,"d":"5.0"}},{"$f":"Invoeren!AU156","v":{"v":5,"d":"5.0"}},{"$f":"Invoeren!AV156","v":{"v":5,"d":"5.0"}},{"$f":"Invoeren!AW156","v":5.5},{"$f":"Invoeren!AX156","v":4.9},{"$f":"Invoeren!AY156","v":""},{"$f":"Invoeren!AZ156","v":""},{"$f":"Invoeren!BA156","v":{"v":14.999999999999998,"d":"15.0"}},{"$f":"Invoeren!BB156","v":{"v":11,"d":"11.0000"}},{"$f":"Invoeren!BN156","v":6.1},{"$f":"Invoeren!BO156","v":{"v":6,"d":"6.0"}},{"$f":"Invoeren!BP156","v":5.8},{"$f":"Invoeren!BQ156","v":5.4},{"$f":"Invoeren!BR156","v":5.7},{"$f":"Invoeren!BS156","v":""},{"$f":"Invoeren!BT156","v":""},{"$f":"Invoeren!BU156","v":17.5},{"$f":"Invoeren!BV156","v":{"v":12.25,"d":"12.2500"}},{"$f":"Invoeren!CH156","v":{"v":5,"d":"5.0"}},{"$f":"Invoeren!CI156","v":5.4},{"$f":"Invoeren!CJ156","v":5.3},{"$f":"Invoeren!CK156","v":5.6},{"$f":"Invoeren!CL156","v":5.3},{"$f":"Invoeren!CM156","v":""},{"$f":"Invoeren!CN156","v":""},{"$f":"Invoeren!CO156","v":{"v":16,"d":"16.0"}},{"$f":"Invoeren!CP156","v":12.2667},{"$f":"Invoeren!CR156","v":47.9834},{"$f":"Invoeren!CS156","v":54.5266},{"$f":"Invoeren!CT156","v":0},{"$f":"Invoeren!C156","v":54.5266},{"$f":"Invoeren!L156","v":0},{"$f":"Invoeren!M156","v":"L"},{"$f":"Invoeren!N156","v":""},{"$f":"Invoeren!H156","v":"Midwest"},{"$f":"Invoeren!AI156","v":41},{"$f":"Invoeren!BC156","v":79},{"$f":"Invoeren!BW156","v":39},{"$f":"Invoeren!CQ156","v":34}]
[{"$f":"Invoeren!B157","v":81},{"$f":"Invoeren!A157","v":151},{"$f":"Invoeren!E157","v":"Anaïs van der Vliet"},{"$f":"Invoeren!F157","v":"Widex Gzc Donk"},{"$f":"Invoeren!$K157","v":2005},{"$f":"Invoeren!$I157","v":0},{"$f":"Invoeren!Z157","v":4.9},{"$f":"Invoeren!AA157","v":5.3},{"$f":"Invoeren!AB157","v":5.2},{"$f":"Invoeren!AC157","v":4.8},{"$f":"Invoeren!AD157","v":5.5},{"$f":"Invoeren!AE157","v":""},{"$f":"Invoeren!AF157","v":""},{"$f":"Invoeren!AG157","v":{"v":15.399999999999999,"d":"15.4"}},{"$f":"Invoeren!AH157","v":11.2933},{"$f":"Invoeren!AT157","v":{"v":5,"d":"5.0"}},{"$f":"Invoeren!AU157","v":{"v":5,"d":"5.0"}},{"$f":"Invoeren!AV157","v":5.3},{"$f":"Invoeren!AW157","v":5.3},{"$f":"Invoeren!AX157","v":4.9},{"$f":"Invoeren!AY157","v":""},{"$f":"Invoeren!AZ157","v":""},{"$f":"Invoeren!BA157","v":{"v":15.299999999999999,"d":"15.3"}},{"$f":"Invoeren!BB157","v":{"v":11.22,"d":"11.2200"}},{"$f":"Invoeren!BN157","v":5.2},{"$f":"Invoeren!BO157","v":5.2},{"$f":"Invoeren!BP157","v":5.9},{"$f":"Invoeren!BQ157","v":5.8},{"$f":"Invoeren!BR157","v":5.3},{"$f":"Invoeren!BS157","v":""},{"$f":"Invoeren!BT157","v":""},{"$f":"Invoeren!BU157","v":16.3},{"$f":"Invoeren!BV157","v":{"v":11.41,"d":"11.4100"}},{"$f":"Invoeren!CH157","v":4.1},{"$f":"Invoeren!CI157","v":4.5},{"$f":"Invoeren!CJ157","v":4.9},{"$f":"Invoeren!CK157","v":4.9},{"$f":"Invoeren!CL157","v":4.9},{"$f":"Invoeren!CM157","v":""},{"$f":"Invoeren!CN157","v":""},{"$f":"Invoeren!CO157","v":{"v":14.299999999999999,"d":"14.3"}},{"$f":"Invoeren!CP157","v":10.9633},{"$f":"Invoeren!CR157","v":44.8866},{"$f":"Invoeren!CS157","v":51.0075},{"$f":"Invoeren!CT157","v":0},{"$f":"Invoeren!C157","v":51.0075},{"$f":"Invoeren!L157","v":0},{"$f":"Invoeren!M157","v":"L"},{"$f":"Invoeren!N157","v":""},{"$f":"Invoeren!H157","v":"West"},{"$f":"Invoeren!AI157","v":102},{"$f":"Invoeren!BC157","v":69},{"$f":"Invoeren!BW157","v":86},{"$f":"Invoeren!CQ157","v":96}]
[{"$f":"Invoeren!B158","v":7},{"$f":"Invoeren!A158","v":152},{"$f":"Invoeren!E158","v":"Isa Turnhout"},{"$f":"Invoeren!F158","v":"AZC"},{"$f":"Invoeren!$K158","v":2003},{"$f":"Invoeren!$I158","v":0},{"$f":"Invoeren!Z158","v":{"v":6,"d":"6.0"}},{"$f":"Invoeren!AA158","v":6.6},{"$f":"Invoeren!AB158","v":6.5},{"$f":"Invoeren!AC158","v":6.3},{"$f":"Invoeren!AD158","v":6.3},{"$f":"Invoeren!AE158","v":""},{"$f":"Invoeren!AF158","v":""},{"$f":"Invoeren!AG158","v":19.1},{"$f":"Invoeren!AH158","v":14.0067},{"$f":"Invoeren!AT158","v":6.1},{"$f":"Invoeren!AU158","v":5.7},{"$f":"Invoeren!AV158","v":5.9},{"$f":"Invoeren!AW158","v":6.1},{"$f":"Invoeren!AX158","v":6.8},{"$f":"Invoeren!AY158","v":""},{"$f":"Invoeren!AZ158","v":""},{"$f":"Invoeren!BA158","v":{"v":18.100000000000005,"d":"18.1"}},{"$f":"Invoeren!BB158","v":13.2733},{"$f":"Invoeren!BN158","v":6.7},{"$f":"Invoeren!BO158","v":5.9},{"$f":"Invoeren!BP158","v":6.3},{"$f":"Invoeren!BQ158","v":6.1},{"$f":"Invoeren!BR158","v":6.6},{"$f":"Invoeren!BS158","v":""},{"$f":"Invoeren!BT158","v":""},{"$f":"Invoeren!BU158","v":{"v":19,"d":"19.0"}},{"$f":"Invoeren!BV158","v":{"v":13.3,"d":"13.3000"}},{"$f":"Invoeren!CH158","v":{"v":6,"d":"6.0"}},{"$f":"Invoeren!CI158","v":5.6},{"$f":"Invoeren!CJ158","v":5.9},{"$f":"Invoeren!CK158","v":{"v":6,"d":"6.0"}},{"$f":"Invoeren!CL158","v":5.8},{"$f":"Invoeren!CM158","v":""},{"$f":"Invoeren!CN158","v":""},{"$f":"Invoeren!CO158","v":{"v":17.700000000000003,"d":"17.7"}},{"$f":"Invoeren!CP158","v":{"v":13.57,"d":"13.5700"}},{"$f":"Invoeren!CR158","v":{"v":54.15,"d":"54.1500"}},{"$f":"Invoeren!CS158","v":61.5341},{"$f":"Invoeren!CT158","v":0},{"$f":"Invoeren!C158","v":61.5341},{"$f":"Invoeren!L158","v":0},{"$f":"Invoeren!M158","v":"L"},{"$f":"Invoeren!N158","v":""},{"$f":"Invoeren!H158","v":"West"},{"$f":"Invoeren!AI158","v":5},{"$f":"Invoeren!BC158","v":8},{"$f":"Invoeren!BW158","v":11},{"$f":"Invoeren!CQ158","v":7}]
[{"$f":"Invoeren!B159","v":147},{"$f":"Invoeren!A159","v":153},{"$f":"Invoeren!E159","v":"Veerle Boerefijn"},{"$f":"Invoeren!F159","v":"AZC"},{"$f":"Invoeren!$K159","v":2004},{"$f":"Invoeren!$I159","v":0},{"$f":"Invoeren!Z159","v":4.7},{"$f":"Invoeren!AA159","v":4.7},{"$f":"Invoeren!AB159","v":4.7},{"$f":"Invoeren!AC159","v":{"v":5,"d":"5.0"}},{"$f":"Invoeren!AD159","v":{"v":5,"d":"5.0"}},{"$f":"Invoeren!AE159","v":""},{"$f":"Invoeren!AF159","v":""},{"$f":"Invoeren!AG159","v":{"v":14.400000000000002,"d":"14.4"}},{"$f":"Invoeren!AH159","v":{"v":10.56,"d":"10.5600"}},{"$f":"Invoeren!AT159","v":4.7},{"$f":"Invoeren!AU159","v":4.3},{"$f":"Invoeren!AV159","v":4.4},{"$f":"Invoeren!AW159","v":4.7},{"$f":"Invoeren!AX159","v":4.7},{"$f":"Invoeren!AY159","v":""},{"$f":"Invoeren!AZ159","v":""},{"$f":"Invoeren!BA159","v":13.8},{"$f":"Invoeren!BB159","v":{"v":10.12,"d":"10.1200"}},{"$f":"Invoeren!BN159","v":4.8},{"$f":"Invoeren!BO159","v":4.5},{"$f":"Invoeren!BP159","v":3.8},{"$f":"Invoeren!BQ159","v":4.7},{"$f":"Invoeren!BR159","v":4.2},{"$f":"Invoeren!BS159","v":""},{"$f":"Invoeren!BT159","v":""},{"$f":"Invoeren!BU159","v":{"v":13.399999999999999,"d":"13.4"}},{"$f":"Invoeren!BV159","v":{"v":9.38,"d":"9.3800"}},{"$f":"Invoeren!CH159","v":4.2},{"$f":"Invoeren!CI159","v":4.5},{"$f":"Invoeren!CJ159","v":4.7},{"$f":"Invoeren!CK159","v":4.7},{"$f":"Invoeren!CL159","v":4.6},{"$f":"Invoeren!CM159","v":""},{"$f":"Invoeren!CN159","v":""},{"$f":"Invoeren!CO159","v":{"v":13.799999999999997,"d":"13.8"}},{"$f":"Invoeren!CP159","v":{"v":10.58,"d":"10.5800"}},{"$f":"Invoeren!CR159","v":{"v":40.64,"d":"40.6400"}},{"$f":"Invoeren!CS159","v":46.1818},{"$f":"Invoeren!CT159","v":0},{"$f":"Invoeren!C159","v":46.1818},{"$f":"Invoeren!L159","v":0},{"$f":"Invoeren!M159","v":""},{"$f":"Invoeren!N159","v":""},{"$f":"Invoeren!H159","v":"West"},{"$f":"Invoeren!AI159","v":137},{"$f":"Invoeren!BC159","v":126},{"$f":"Invoeren!BW159","v":182},{"$f":"Invoeren!CQ159","v":117}]
[{"$f":"Invoeren!B160","v":65},{"$f":"Invoeren!A160","v":154},{"$f":"Invoeren!E160","v":"Esther Hermsen"},{"$f":"Invoeren!F160","v":"Cadans"},{"$f":"Invoeren!$K160","v":2004},{"$f":"Invoeren!$I160","v":0},{"$f":"Invoeren!Z160","v":5.5},{"$f":"Invoeren!AA160","v":{"v":6,"d":"6.0"}},{"$f":"Invoeren!AB160","v":5.7},{"$f":"Invoeren!AC160","v":5.8},{"$f":"Invoeren!AD160","v":5.6},{"$f":"Invoeren!AE160","v":""},{"$f":"Invoeren!AF160","v":""},{"$f":"Invoeren!AG160","v":17.1},{"$f":"Invoeren!AH160","v":{"v":12.54,"d":"12.5400"}},{"$f":"Invoeren!AT160","v":5.1},{"$f":"Invoeren!AU160","v":4.9},{"$f":"Invoeren!AV160","v":4.8},{"$f":"Invoeren!AW160","v":{"v":5,"d":"5.0"}},{"$f":"Invoeren!AX160","v":4.8},{"$f":"Invoeren!AY160","v":""},{"$f":"Invoeren!AZ160","v":""},{"$f":"Invoeren!BA160","v":14.7},{"$f":"Invoeren!BB160","v":{"v":10.78,"d":"10.7800"}},{"$f":"Invoeren!BN160","v":{"v":5,"d":"5.0"}},{"$f":"Invoeren!BO160","v":{"v":5,"d":"5.0"}},{"$f":"Invoeren!BP160","v":5.6},{"$f":"Invoeren!BQ160","v":5.4},{"$f":"Invoeren!BR160","v":4.6},{"$f":"Invoeren!BS160","v":""},{"$f":"Invoeren!BT160","v":""},{"$f":"Invoeren!BU160","v":15.4},{"$f":"Invoeren!BV160","v":{"v":10.78,"d":"10.7800"}},{"$f":"Invoeren!CH160","v":{"v":5,"d":"5.0"}},{"$f":"Invoeren!CI160","v":5.2},{"$f":"Invoeren!CJ160","v":5.1},{"$f":"Invoeren!CK160","v":4.9},{"$f":"Invoeren!CL160","v":{"v":5,"d":"5.0"}},{"$f":"Invoeren!CM160","v":""},{"$f":"Invoeren!CN160","v":""},{"$f":"Invoeren!CO160","v":15.1},{"$f":"Invoeren!CP160","v":11.5767},{"$f":"Invoeren!CR160","v":{"v":45.676700000000004,"d":"45.6767"}},{"$f":"Invoeren!CS160","v":51.9053},{"$f":"Invoeren!CT160","v":0},{"$f":"Invoeren!C160","v":51.9053},{"$f":"Invoeren!L160","v":0},{"$f":"Invoeren!M160","v":"L"},{"$f":"Invoeren!N160","v":""},{"$f":"Invoeren!H160","v":"oost"},{"$f":"Invoeren!AI160","v":38},{"$f":"Invoeren!BC160","v":93},{"$f":"Invoeren!BW160","v":111},{"$f":"Invoeren!CQ160","v":58}]
[{"$f":"Invoeren!B161","v":53},{"$f":"Invoeren!A161","v":155},{"$f":"Invoeren!E161","v":"Jikke Heijne"},{"$f":"Invoeren!F161","v":" Swol 1894"},{"$f":"Invoeren!$K161","v":2003},{"$f":"Invoeren!$I161","v":0},{"$f":"Invoeren!Z161","v":5.6},{"$f":"Invoeren!AA161","v":4.9},{"$f":"Invoeren!AB161","v":5.3},{"$f":"Invoeren!AC161","v":5.6},{"$f":"Invoeren!AD161","v":5.2},{"$f":"Invoeren!AE161","v":""},{"$f":"Invoeren!AF161","v":""},{"$f":"Invoeren!AG161","v":16.1},{"$f":"Invoeren!AH161","v":11.8067},{"$f":"Invoeren!AT161","v":5.2},{"$f":"Invoeren!AU161","v":4.8},{"$f":"Invoeren!AV161","v":{"v":5,"d":"5.0"}},{"$f":"Invoeren!AW161","v":5.1},{"$f":"Invoeren!AX161","v":5.9},{"$f":"Invoeren!AY161","v":""},{"$f":"Invoeren!AZ161","v":""},{"$f":"Invoeren!BA161","v":15.3},{"$f":"Invoeren!BB161","v":{"v":11.22,"d":"11.2200"}},{"$f":"Invoeren!BN161","v":5.9},{"$f":"Invoeren!BO161","v":5.8},{"$f":"Invoeren!BP161","v":5.7},{"$f":"Invoeren!BQ161","v":5.7},{"$f":"Invoeren!BR161","v":5.5},{"$f":"Invoeren!BS161","v":""},{"$f":"Invoeren!BT161","v":""},{"$f":"Invoeren!BU161","v":{"v":17.199999999999996,"d":"17.2"}},{"$f":"Invoeren!BV161","v":{"v":12.04,"d":"12.0400"}},{"$f":"Invoeren!CH161","v":4.3},{"$f":"Invoeren!CI161","v":5.3},{"$f":"Invoeren!CJ161","v":5.3},{"$f":"Invoeren!CK161","v":5.3},{"$f":"Invoeren!CL161","v":5.2},{"$f":"Invoeren!CM161","v":""},{"$f":"Invoeren!CN161","v":""},{"$f":"Invoeren!CO161","v":{"v":15.799999999999997,"d":"15.8"}},{"$f":"Invoeren!CP161","v":12.1133},{"$f":"Invoeren!CR161","v":{"v":47.18,"d":"47.1800"}},{"$f":"Invoeren!CS161","v":53.6136},{"$f":"Invoeren!CT161","v":0},{"$f":"Invoeren!C161","v":53.6136},{"$f":"Invoeren!L161","v":0},{"$f":"Invoeren!M161","v":"L"},{"$f":"Invoeren!N161","v":""},{"$f":"Invoeren!H161","v":"Oost"},{"$f":"Invoeren!AI161","v":72},{"$f":"Invoeren!BC161","v":69},{"$f":"Invoeren!BW161","v":52},{"$f":"Invoeren!CQ161","v":37}]
[{"$f":"Invoeren!B162","v":164},{"$f":"Invoeren!A162","v":156},{"$f":"Invoeren!E162","v":"Veerle Bausch"},{"$f":"Invoeren!F162","v":"Hellas-Glana"},{"$f":"Invoeren!$K162","v":2005},{"$f":"Invoeren!$I162","v":0},{"$f":"Invoeren!Z162","v":4.8},{"$f":"Invoeren!AA162","v":5.3},{"$f":"Invoeren!AB162","v":4.7},{"$f":"Invoeren!AC162","v":4.8},{"$f":"Invoeren!AD162","v":4.7},{"$f":"Invoeren!AE162","v":""},{"$f":"Invoeren!AF162","v":""},{"$f":"Invoeren!AG162","v":14.3},{"$f":"Invoeren!AH162","v":10.4867},{"$f":"Invoeren!AT162","v":4.8},{"$f":"Invoeren!AU162","v":4.3},{"$f":"Invoeren!AV162","v":4.3},{"$f":"Invoeren!AW162","v":4.2},{"$f":"Invoeren!AX162","v":4.5},{"$f":"Invoeren!AY162","v":""},{"$f":"Invoeren!AZ162","v":""},{"$f":"Invoeren!BA162","v":{"v":13.099999999999998,"d":"13.1"}},{"$f":"Invoeren!BB162","v":9.6067},{"$f":"Invoeren!BN162","v":4.8},{"$f":"Invoeren!BO162","v":5.1},{"$f":"Invoeren!BP162","v":4.4},{"$f":"Invoeren!BQ162","v":4.9},{"$f":"Invoeren!BR162","v":4.4},{"$f":"Invoeren!BS162","v":""},{"$f":"Invoeren!BT162","v":""},{"$f":"Invoeren!BU162","v":14.1},{"$f":"Invoeren!BV162","v":{"v":9.87,"d":"9.8700"}},{"$f":"Invoeren!CH162","v":4.1},{"$f":"Invoeren!CI162","v":4.1},{"$f":"Invoeren!CJ162","v":{"v":4,"d":"4.0"}},{"$f":"Invoeren!CK162","v":{"v":4,"d":"4.0"}},{"$f":"Invoeren!CL162","v":3.9},{"$f":"Invoeren!CM162","v":""},{"$f":"Invoeren!CN162","v":""},{"$f":"Invoeren!CO162","v":{"v":12.099999999999998,"d":"12.1"}},{"$f":"Invoeren!CP162","v":9.2767},{"$f":"Invoeren!CR162","v":39.2401},{"$f":"Invoeren!CS162","v":{"v":44.591,"d":"44.5910"}},{"$f":"Invoeren!CT162","v":0},{"$f":"Invoeren!C162","v":{"v":44.591,"d":"44.5910"}},{"$f":"Invoeren!L162","v":0},{"$f":"Invoeren!M162","v":""},{"$f":"Invoeren!N162","v":""},{"$f":"Invoeren!H162","v":"Zuid"},{"$f":"Invoeren!AI162","v":143},{"$f":"Invoeren!BC162","v":154},{"$f":"Invoeren!BW162","v":160},{"$f":"Invoeren!CQ162","v":179}]
[{"$f":"Invoeren!B163","v":84},{"$f":"Invoeren!A163","v":157},{"$f":"Invoeren!E163","v":"Esther Lanser"},{"$f":"Invoeren!F163","v":"ACZ"},{"$f":"Invoeren!$K163","v":2003},{"$f":"Invoeren!$I163","v":0},{"$f":"Invoeren!Z163","v":6.1},{"$f":"Invoeren!AA163","v":5.2},{"$f":"Invoeren!AB163","v":5.7},{"$f":"Invoeren!AC163","v":5.6},{"$f":"Invoeren!AD163","v":5.5},{"$f":"Invoeren!AE163","v":""},{"$f":"Invoeren!AF163","v":""},{"$f":"Invoeren!AG163","v":16.8},{"$f":"Invoeren!AH163","v":{"v":12.32,"d":"12.3200"}},{"$f":"Invoeren!AT163","v":3.9},{"$f":"Invoeren!AU163","v":3.7},{"$f":"Invoeren!AV163","v":{"v":4,"d":"4.0"}},{"$f":"Invoeren!AW163","v":3.6},{"$f":"Invoeren!AX163","v":3.7},{"$f":"Invoeren!AY163","v":""},{"$f":"Invoeren!AZ163","v":""},{"$f":"Invoeren!BA163","v":{"v":11.299999999999999,"d":"11.3"}},{"$f":"Invoeren!BB163","v":8.2867},{"$f":"Invoeren!BN163","v":5.9},{"$f":"Invoeren!BO163","v":5.3},{"$f":"Invoeren!BP163","v":5.2},{"$f":"Invoeren!BQ163","v":{"v":6,"d":"6.0"}},{"$f":"Invoeren!BR163","v":6.2},{"$f":"Invoeren!BS163","v":""},{"$f":"Invoeren!BT163","v":""},{"$f":"Invoeren!BU163","v":17.2},{"$f":"Invoeren!BV163","v":{"v":12.04,"d":"12.0400"}},{"$f":"Invoeren!CH163","v":5.5},{"$f":"Invoeren!CI163","v":5.3},{"$f":"Invoeren!CJ163","v":5.1},{"$f":"Invoeren!CK163","v":5.2},{"$f":"Invoeren!CL163","v":5.2},{"$f":"Invoeren!CM163","v":""},{"$f":"Invoeren!CN163","v":""},{"$f":"Invoeren!CO163","v":{"v":15.700000000000001,"d":"15.7"}},{"$f":"Invoeren!CP163","v":12.0367},{"$f":"Invoeren!CR163","v":{"v":44.68339999999999,"d":"44.6834"}},{"$f":"Invoeren!CS163","v":50.7766},{"$f":"Invoeren!CT163","v":0},{"$f":"Invoeren!C163","v":50.7766},{"$f":"Invoeren!L163","v":0},{"$f":"Invoeren!M163","v":"L"},{"$f":"Invoeren!N163","v":"Age II"},{"$f":"Invoeren!H163","v":"West"},{"$f":"Invoeren!AI163","v":48},{"$f":"Invoeren!BC163","v":189},{"$f":"Invoeren!BW163","v":52},{"$f":"Invoeren!CQ163","v":41}]
[{"$f":"Invoeren!B164","v":3},{"$f":"Invoeren!A164","v":158},{"$f":"Invoeren!E164","v":"Zärrin Sahertian "},{"$f":"Invoeren!F164","v":"Z.P.C.H."},{"$f":"Invoeren!$K164","v":2003},{"$f":"Invoeren!$I164","v":0},{"$f":"Invoeren!Z164","v":6.3},{"$f":"Invoeren!AA164","v":5.8},{"$f":"Invoeren!AB164","v":6.1},{"$f":"Invoeren!AC164","v":5.3},{"$f":"Invoeren!AD164","v":6.7},{"$f":"Invoeren!AE164","v":""},{"$f":"Invoeren!AF164","v":""},{"$f":"Invoeren!AG164","v":18.2},{"$f":"Invoeren!AH164","v":13.3467},{"$f":"Invoeren!AT164","v":6.4},{"$f":"Invoeren!AU164","v":6.1},{"$f":"Invoeren!AV164","v":6.3},{"$f":"Invoeren!AW164","v":6.5},{"$f":"Invoeren!AX164","v":6.9},{"$f":"Invoeren!AY164","v":""},{"$f":"Invoeren!AZ164","v":""},{"$f":"Invoeren!BA164","v":{"v":19.200000000000003,"d":"19.2"}},{"$f":"Invoeren!BB164","v":{"v":14.08,"d":"14.0800"}},{"$f":"Invoeren!BN164","v":{"v":7,"d":"7.0"}},{"$f":"Invoeren!BO164","v":6.6},{"$f":"Invoeren!BP164","v":6.4},{"$f":"Invoeren!BQ164","v":6.9},{"$f":"Invoeren!BR164","v":{"v":7,"d":"7.0"}},{"$f":"Invoeren!BS164","v":""},{"$f":"Invoeren!BT164","v":""},{"$f":"Invoeren!BU164","v":20.5},{"$f":"Invoeren!BV164","v":{"v":14.35,"d":"14.3500"}},{"$f":"Invoeren!CH164","v":6.5},{"$f":"Invoeren!CI164","v":5.9},{"$f":"Invoeren!CJ164","v":5.9},{"$f":"Invoeren!CK164","v":{"v":6,"d":"6.0"}},{"$f":"Invoeren!CL164","v":6.1},{"$f":"Invoeren!CM164","v":""},{"$f":"Invoeren!CN164","v":""},{"$f":"Invoeren!CO164","v":{"v":18,"d":"18.0"}},{"$f":"Invoeren!CP164","v":{"v":13.8,"d":"13.8000"}},{"$f":"Invoeren!CR164","v":55.5767},{"$f":"Invoeren!CS164","v":63.1553},{"$f":"Invoeren!CT164","v":0},{"$f":"Invoeren!C164","v":63.1553},{"$f":"Invoeren!L164","v":0},{"$f":"Invoeren!M164","v":"L"},{"$f":"Invoeren!N164","v":""},{"$f":"Invoeren!H164","v":"MidWest"},{"$f":"Invoeren!AI164","v":12},{"$f":"Invoeren!BC164","v":4},{"$f":"Invoeren!BW164","v":1},{"$f":"Invoeren!CQ164","v":6}]
[{"$f":"Invoeren!B165","v":71},{"$f":"Invoeren!A165","v":159},{"$f":"Invoeren!E165","v":"Silke Tolsma"},{"$f":"Invoeren!F165","v":"VZC Veenendaal"},{"$f":"Invoeren!$K165","v":2004},{"$f":"Invoeren!$I165","v":0},{"$f":"Invoeren!Z165","v":4.9},{"$f":"Invoeren!AA165","v":{"v":6,"d":"6.0"}},{"$f":"Invoeren!AB165","v":5.4},{"$f":"Invoeren!AC165","v":5.8},{"$f":"Invoeren!AD165","v":5.1},{"$f":"Invoeren!AE165","v":""},{"$f":"Invoeren!AF165","v":""},{"$f":"Invoeren!AG165","v":{"v":16.300000000000004,"d":"16.3"}},{"$f":"Invoeren!AH165","v":11.9533},{"$f":"Invoeren!AT165","v":5.3},{"$f":"Invoeren!AU165","v":5.2},{"$f":"Invoeren!AV165","v":5.6},{"$f":"Invoeren!AW165","v":5.8},{"$f":"Invoeren!AX165","v":4.7},{"$f":"Invoeren!AY165","v":""},{"$f":"Invoeren!AZ165","v":""},{"$f":"Invoeren!BA165","v":16.1},{"$f":"Invoeren!BB165","v":11.8067},{"$f":"Invoeren!BN165","v":5.1},{"$f":"Invoeren!BO165","v":5.3},{"$f":"Invoeren!BP165","v":4.9},{"$f":"Invoeren!BQ165","v":5.6},{"$f":"Invoeren!BR165","v":5.6},{"$f":"Invoeren!BS165","v":""},{"$f":"Invoeren!BT165","v":""},{"$f":"Invoeren!BU165","v":{"v":15.999999999999998,"d":"16.0"}},{"$f":"Invoeren!BV165","v":{"v":11.2,"d":"11.2000"}},{"$f":"Invoeren!CH165","v":4.6},{"$f":"Invoeren!CI165","v":4.3},{"$f":"Invoeren!CJ165","v":4.8},{"$f":"Invoeren!CK165","v":4.7},{"$f":"Invoeren!CL165","v":4.4},{"$f":"Invoeren!CM165","v":""},{"$f":"Invoeren!CN165","v":""},{"$f":"Invoeren!CO165","v":{"v":13.699999999999996,"d":"13.7"}},{"$f":"Invoeren!CP165","v":10.5033},{"$f":"Invoeren!CR165","v":{"v":45.46329999999999,"d":"45.4633"}},{"$f":"Invoeren!CS165","v":51.6628},{"$f":"Invoeren!CT165","v":0},{"$f":"Invoeren!C165","v":51.6628},{"$f":"Invoeren!L165","v":0},{"$f":"Invoeren!M165","v":"L"},{"$f":"Invoeren!N165","v":""},{"$f":"Invoeren!H165","v":"Midwest"},{"$f":"Invoeren!AI165","v":62},{"$f":"Invoeren!BC165","v":44},{"$f":"Invoeren!BW165","v":95},{"$f":"Invoeren!CQ165","v":121}]
[{"$f":"Invoeren!B166","v":120},{"$f":"Invoeren!A166","v":160},{"$f":"Invoeren!E166","v":"Marielou van der Vliet"},{"$f":"Invoeren!F166","v":"Widex Gzc Donk"},{"$f":"Invoeren!$K166","v":2005},{"$f":"Invoeren!$I166","v":0},{"$f":"Invoeren!Z166","v":4.5},{"$f":"Invoeren!AA166","v":4.3},{"$f":"Invoeren!AB166","v":4.6},{"$f":"Invoeren!AC166","v":4.3},{"$f":"Invoeren!AD166","v":{"v":4,"d":"4.0"}},{"$f":"Invoeren!AE166","v":""},{"$f":"Invoeren!AF166","v":""},{"$f":"Invoeren!AG166","v":{"v":13.100000000000001,"d":"13.1"}},{"$f":"Invoeren!AH166","v":9.6067},{"$f":"Invoeren!AT166","v":5.4},{"$f":"Invoeren!AU166","v":4.9},{"$f":"Invoeren!AV166","v":4.9},{"$f":"Invoeren!AW166","v":5.2},{"$f":"Invoeren!AX166","v":5.2},{"$f":"Invoeren!AY166","v":""},{"$f":"Invoeren!AZ166","v":""},{"$f":"Invoeren!BA166","v":{"v":15.300000000000002,"d":"15.3"}},{"$f":"Invoeren!BB166","v":{"v":11.22,"d":"11.2200"}},{"$f":"Invoeren!BN166","v":{"v":5,"d":"5.0"}},{"$f":"Invoeren!BO166","v":4.8},{"$f":"Invoeren!BP166","v":4.9},{"$f":"Invoeren!BQ166","v":{"v":5,"d":"5.0"}},{"$f":"Invoeren!BR166","v":5.2},{"$f":"Invoeren!BS166","v":""},{"$f":"Invoeren!BT166","v":""},{"$f":"Invoeren!BU166","v":{"v":14.900000000000002,"d":"14.9"}},{"$f":"Invoeren!BV166","v":{"v":10.43,"d":"10.4300"}},{"$f":"Invoeren!CH166","v":4.8},{"$f":"Invoeren!CI166","v":4.9},{"$f":"Invoeren!CJ166","v":4.9},{"$f":"Invoeren!CK166","v":4.8},{"$f":"Invoeren!CL166","v":4.8},{"$f":"Invoeren!CM166","v":""},{"$f":"Invoeren!CN166","v":""},{"$f":"Invoeren!CO166","v":{"v":14.499999999999996,"d":"14.5"}},{"$f":"Invoeren!CP166","v":11.1167},{"$f":"Invoeren!CR166","v":{"v":42.373400000000004,"d":"42.3734"}},{"$f":"Invoeren!CS166","v":48.1516},{"$f":"Invoeren!CT166","v":0},{"$f":"Invoeren!C166","v":48.1516},{"$f":"Invoeren!L166","v":0},{"$f":"Invoeren!M166","v":"L"},{"$f":"Invoeren!N166","v":""},{"$f":"Invoeren!H166","v":"West"},{"$f":"Invoeren!AI166","v":180},{"$f":"Invoeren!BC166","v":69},{"$f":"Invoeren!BW166","v":127},{"$f":"Invoeren!CQ166","v":87}]
[{"$f":"Invoeren!B167","v":31},{"$f":"Invoeren!A167","v":161},{"$f":"Invoeren!E167","v":"Charlotte Leemburg"},{"$f":"Invoeren!F167","v":"BZ&PC"},{"$f":"Invoeren!$K167","v":2003},{"$f":"Invoeren!$I167","v":0},{"$f":"Invoeren!Z167","v":5.2},{"$f":"Invoeren!AA167","v":5.9},{"$f":"Invoeren!AB167","v":5.8},{"$f":"Invoeren!AC167","v":5.8},{"$f":"Invoeren!AD167","v":5.6},{"$f":"Invoeren!AE167","v":""},{"$f":"Invoeren!AF167","v":""},{"$f":"Invoeren!AG167","v":{"v":17.200000000000006,"d":"17.2"}},{"$f":"Invoeren!AH167","v":12.6133},{"$f":"Invoeren!AT167","v":5.5},{"$f":"Invoeren!AU167","v":5.2},{"$f":"Invoeren!AV167","v":5.7},{"$f":"Invoeren!AW167","v":5.6},{"$f":"Invoeren!AX167","v":5.4},{"$f":"Invoeren!AY167","v":""},{"$f":"Invoeren!AZ167","v":""},{"$f":"Invoeren!BA167","v":16.5},{"$f":"Invoeren!BB167","v":{"v":12.1,"d":"12.1000"}},{"$f":"Invoeren!BN167","v":{"v":6,"d":"6.0"}},{"$f":"Invoeren!BO167","v":5.7},{"$f":"Invoeren!BP167","v":5.6},{"$f":"Invoeren!BQ167","v":5.7},{"$f":"Invoeren!BR167","v":6.2},{"$f":"Invoeren!BS167","v":""},{"$f":"Invoeren!BT167","v":""},{"$f":"Invoeren!BU167","v":17.4},{"$f":"Invoeren!BV167","v":{"v":12.18,"d":"12.1800"}},{"$f":"Invoeren!CH167","v":5.1},{"$f":"Invoeren!CI167","v":5.4},{"$f":"Invoeren!CJ167","v":{"v":5,"d":"5.0"}},{"$f":"Invoeren!CK167","v":5.3},{"$f":"Invoeren!CL167","v":5.5},{"$f":"Invoeren!CM167","v":""},{"$f":"Invoeren!CN167","v":""},{"$f":"Invoeren!CO167","v":15.8},{"$f":"Invoeren!CP167","v":12.1133},{"$f":"Invoeren!CR167","v":49.0066},{"$f":"Invoeren!CS167","v":55.6893},{"$f":"Invoeren!CT167","v":0},{"$f":"Invoeren!C167","v":55.6893},{"$f":"Invoeren!L167","v":0},{"$f":"Invoeren!M167","v":"L"},{"$f":"Invoeren!N167","v":""},{"$f":"Invoeren!H167","v":"West"},{"$f":"Invoeren!AI167","v":32},{"$f":"Invoeren!BC167","v":32},{"$f":"Invoeren!BW167","v":42},{"$f":"Invoeren!CQ167","v":37}]
[{"$f":"Invoeren!B168","v":51},{"$f":"Invoeren!A168","v":162},{"$f":"Invoeren!E168","v":"Alisa Brandon"},{"$f":"Invoeren!F168","v":" Swol 1894"},{"$f":"Invoeren!$K168","v":2004},{"$f":"Invoeren!$I168","v":0},{"$f":"Invoeren!Z168","v":5.1},{"$f":"Invoeren!AA168","v":5.3},{"$f":"Invoeren!AB168","v":5.8},{"$f":"Invoeren!AC168","v":5.5},{"$f":"Invoeren!AD168","v":5.8},{"$f":"Invoeren!AE168","v":""},{"$f":"Invoeren!AF168","v":""},{"$f":"Invoeren!AG168","v":16.6},{"$f":"Invoeren!AH168","v":12.1733},{"$f":"Invoeren!AT168","v":5.3},{"$f":"Invoeren!AU168","v":4.9},{"$f":"Invoeren!AV168","v":5.3},{"$f":"Invoeren!AW168","v":5.3},{"$f":"Invoeren!AX168","v":5.2},{"$f":"Invoeren!AY168","v":""},{"$f":"Invoeren!AZ168","v":""},{"$f":"Invoeren!BA168","v":{"v":15.799999999999999,"d":"15.8"}},{"$f":"Invoeren!BB168","v":11.5867},{"$f":"Invoeren!BN168","v":5.4},{"$f":"Invoeren!BO168","v":6.2},{"$f":"Invoeren!BP168","v":5.7},{"$f":"Invoeren!BQ168","v":5.8},{"$f":"Invoeren!BR168","v":5.5},{"$f":"Invoeren!BS168","v":""},{"$f":"Invoeren!BT168","v":""},{"$f":"Invoeren!BU168","v":{"v":17,"d":"17.0"}},{"$f":"Invoeren!BV168","v":{"v":11.9,"d":"11.9000"}},{"$f":"Invoeren!CH168","v":5.3},{"$f":"Invoeren!CI168","v":5.1},{"$f":"Invoeren!CJ168","v":5.1},{"$f":"Invoeren!CK168","v":5.2},{"$f":"Invoeren!CL168","v":5.2},{"$f":"Invoeren!CM168","v":""},{"$f":"Invoeren!CN168","v":""},{"$f":"Invoeren!CO168","v":{"v":15.499999999999998,"d":"15.5"}},{"$f":"Invoeren!CP168","v":11.8833},{"$f":"Invoeren!CR168","v":{"v":47.543299999999995,"d":"47.5433"}},{"$f":"Invoeren!CS168","v":54.0265},{"$f":"Invoeren!CT168","v":0},{"$f":"Invoeren!C168","v":54.0265},{"$f":"Invoeren!L168","v":0},{"$f":"Invoeren!M168","v":"L"},{"$f":"Invoeren!N168","v":""},{"$f":"Invoeren!H168","v":"Oost"},{"$f":"Invoeren!AI168","v":55},{"$f":"Invoeren!BC168","v":50},{"$f":"Invoeren!BW168","v":63},{"$f":"Invoeren!CQ168","v":44}]
[{"$f":"Invoeren!B169","v":79},{"$f":"Invoeren!A169","v":163},{"$f":"Invoeren!E169","v":"Anne Willems"},{"$f":"Invoeren!F169","v":"ZC.Eijsden"},{"$f":"Invoeren!$K169","v":2003},{"$f":"Invoeren!$I169","v":0},{"$f":"Invoeren!Z169","v":5.4},{"$f":"Invoeren!AA169","v":5.4},{"$f":"Invoeren!AB169","v":5.6},{"$f":"Invoeren!AC169","v":5.9},{"$f":"Invoeren!AD169","v":5.2},{"$f":"Invoeren!AE169","v":""},{"$f":"Invoeren!AF169","v":""},{"$f":"Invoeren!AG169","v":{"v":16.399999999999995,"d":"16.4"}},{"$f":"Invoeren!AH169","v":12.0267},{"$f":"Invoeren!AT169","v":4.6},{"$f":"Invoeren!AU169","v":{"v":5,"d":"5.0"}},{"$f":"Invoeren!AV169","v":4.6},{"$f":"Invoeren!AW169","v":4.7},{"$f":"Invoeren!AX169","v":4.8},{"$f":"Invoeren!AY169","v":""},{"$f":"Invoeren!AZ169","v":""},{"$f":"Invoeren!BA169","v":14.1},{"$f":"Invoeren!BB169","v":{"v":10.34,"d":"10.3400"}},{"$f":"Invoeren!BN169","v":5.6},{"$f":"Invoeren!BO169","v":{"v":6,"d":"6.0"}},{"$f":"Invoeren!BP169","v":5.6},{"$f":"Invoeren!BQ169","v":5.6},{"$f":"Invoeren!BR169","v":5.3},{"$f":"Invoeren!BS169","v":""},{"$f":"Invoeren!BT169","v":""},{"$f":"Invoeren!BU169","v":{"v":16.799999999999997,"d":"16.8"}},{"$f":"Invoeren!BV169","v":{"v":11.76,"d":"11.7600"}},{"$f":"Invoeren!CH169","v":4.6},{"$f":"Invoeren!CI169","v":4.7},{"$f":"Invoeren!CJ169","v":{"v":5,"d":"5.0"}},{"$f":"Invoeren!CK169","v":4.7},{"$f":"Invoeren!CL169","v":{"v":5,"d":"5.0"}},{"$f":"Invoeren!CM169","v":""},{"$f":"Invoeren!CN169","v":""},{"$f":"Invoeren!CO169","v":14.4},{"$f":"Invoeren!CP169","v":{"v":11.04,"d":"11.0400"}},{"$f":"Invoeren!CR169","v":45.1667},{"$f":"Invoeren!CS169","v":51.3258},{"$f":"Invoeren!CT169","v":0},{"$f":"Invoeren!C169","v":51.3258},{"$f":"Invoeren!L169","v":0},{"$f":"Invoeren!M169","v":"L"},{"$f":"Invoeren!N169","v":""},{"$f":"Invoeren!H169","v":"Zuid"},{"$f":"Invoeren!AI169","v":58},{"$f":"Invoeren!BC169","v":114},{"$f":"Invoeren!BW169","v":68},{"$f":"Invoeren!CQ169","v":92}]
[{"$f":"Invoeren!B170","v":185},{"$f":"Invoeren!A170","v":164},{"$f":"Invoeren!E170","v":"Devina Baank"},{"$f":"Invoeren!F170","v":"De Houtrib"},{"$f":"Invoeren!$K170","v":2005},{"$f":"Invoeren!$I170","v":0},{"$f":"Invoeren!Z170","v":4.3},{"$f":"Invoeren!AA170","v":4.1},{"$f":"Invoeren!AB170","v":4.6},{"$f":"Invoeren!AC170","v":4.6},{"$f":"Invoeren!AD170","v":4.7},{"$f":"Invoeren!AE170","v":""},{"$f":"Invoeren!AF170","v":""},{"$f":"Invoeren!AG170","v":{"v":13.499999999999998,"d":"13.5"}},{"$f":"Invoeren!AH170","v":{"v":9.9,"d":"9.9000"}},{"$f":"Invoeren!AT170","v":3.9},{"$f":"Invoeren!AU170","v":{"v":4,"d":"4.0"}},{"$f":"Invoeren!AV170","v":{"v":5,"d":"5.0"}},{"$f":"Invoeren!AW170","v":4.8},{"$f":"Invoeren!AX170","v":3.5},{"$f":"Invoeren!AY170","v":""},{"$f":"Invoeren!AZ170","v":""},{"$f":"Invoeren!BA170","v":12.7},{"$f":"Invoeren!BB170","v":9.3133},{"$f":"Invoeren!BN170","v":3.9},{"$f":"Invoeren!BO170","v":4.3},{"$f":"Invoeren!BP170","v":{"v":4,"d":"4.0"}},{"$f":"Invoeren!BQ170","v":3.8},{"$f":"Invoeren!BR170","v":3.7},{"$f":"Invoeren!BS170","v":""},{"$f":"Invoeren!BT170","v":""},{"$f":"Invoeren!BU170","v":11.7},{"$f":"Invoeren!BV170","v":{"v":8.19,"d":"8.1900"}},{"$f":"Invoeren!CH170","v":{"v":4,"d":"4.0"}},{"$f":"Invoeren!CI170","v":4.2},{"$f":"Invoeren!CJ170","v":4.1},{"$f":"Invoeren!CK170","v":4.1},{"$f":"Invoeren!CL170","v":4.2},{"$f":"Invoeren!CM170","v":""},{"$f":"Invoeren!CN170","v":""},{"$f":"Invoeren!CO170","v":{"v":12.399999999999999,"d":"12.4"}},{"$f":"Invoeren!CP170","v":9.5067},{"$f":"Invoeren!CR170","v":{"v":36.910000000000004,"d":"36.9100"}},{"$f":"Invoeren!CS170","v":41.9432},{"$f":"Invoeren!CT170","v":0},{"$f":"Invoeren!C170","v":41.9432},{"$f":"Invoeren!L170","v":0},{"$f":"Invoeren!M170","v":""},{"$f":"Invoeren!N170","v":""},{"$f":"Invoeren!H170","v":"Oost"},{"$f":"Invoeren!AI170","v":172},{"$f":"Invoeren!BC170","v":169},{"$f":"Invoeren!BW170","v":197},{"$f":"Invoeren!CQ170","v":169}]
[{"$f":"Invoeren!B171","v":166},{"$f":"Invoeren!A171","v":165},{"$f":"Invoeren!E171","v":"Marta Podebska"},{"$f":"Invoeren!F171","v":"Z.P.C.H."},{"$f":"Invoeren!$K171","v":2004},{"$f":"Invoeren!$I171","v":0},{"$f":"Invoeren!Z171","v":4.7},{"$f":"Invoeren!AA171","v":4.4},{"$f":"Invoeren!AB171","v":4.4},{"$f":"Invoeren!AC171","v":4.3},{"$f":"Invoeren!AD171","v":{"v":4,"d":"4.0"}},{"$f":"Invoeren!AE171","v":""},{"$f":"Invoeren!AF171","v":""},{"$f":"Invoeren!AG171","v":{"v":13.100000000000001,"d":"13.1"}},{"$f":"Invoeren!AH171","v":9.6067},{"$f":"Invoeren!AT171","v":{"v":4,"d":"4.0"}},{"$f":"Invoeren!AU171","v":{"v":4,"d":"4.0"}},{"$f":"Invoeren!AV171","v":4.3},{"$f":"Invoeren!AW171","v":4.1},{"$f":"Invoeren!AX171","v":3.4},{"$f":"Invoeren!AY171","v":""},{"$f":"Invoeren!AZ171","v":""},{"$f":"Invoeren!BA171","v":{"v":12.099999999999996,"d":"12.1"}},{"$f":"Invoeren!BB171","v":8.8733},{"$f":"Invoeren!BN171","v":{"v":5,"d":"5.0"}},{"$f":"Invoeren!BO171","v":5.1},{"$f":"Invoeren!BP171","v":5.4},{"$f":"Invoeren!BQ171","v":4.8},{"$f":"Invoeren!BR171","v":4.4},{"$f":"Invoeren!BS171","v":""},{"$f":"Invoeren!BT171","v":""},{"$f":"Invoeren!BU171","v":{"v":14.900000000000004,"d":"14.9"}},{"$f":"Invoeren!BV171","v":{"v":10.43,"d":"10.4300"}},{"$f":"Invoeren!CH171","v":4.5},{"$f":"Invoeren!CI171","v":4.5},{"$f":"Invoeren!CJ171","v":4.8},{"$f":"Invoeren!CK171","v":4.3},{"$f":"Invoeren!CL171","v":4.4},{"$f":"Invoeren!CM171","v":""},{"$f":"Invoeren!CN171","v":""},{"$f":"Invoeren!CO171","v":{"v":13.399999999999999,"d":"13.4"}},{"$f":"Invoeren!CP171","v":10.2733},{"$f":"Invoeren!CR171","v":39.1833},{"$f":"Invoeren!CS171","v":44.5265},{"$f":"Invoeren!CT171","v":0},{"$f":"Invoeren!C171","v":44.5265},{"$f":"Invoeren!L171","v":0},{"$f":"Invoeren!M171","v":""},{"$f":"Invoeren!N171","v":""},{"$f":"Invoeren!H171","v":"MidWest"},{"$f":"Invoeren!AI171","v":180},{"$f":"Invoeren!BC171","v":181},{"$f":"Invoeren!BW171","v":127},{"$f":"Invoeren!CQ171","v":135}]
[{"$f":"Invoeren!B172","v":186},{"$f":"Invoeren!A172","v":166},{"$f":"Invoeren!E172","v":"Elsa Veldhuijzen"},{"$f":"Invoeren!F172","v":"PSV Synchro Team Eindhoven"},{"$f":"Invoeren!$K172","v":2004},{"$f":"Invoeren!$I172","v":0},{"$f":"Invoeren!Z172","v":4.8},{"$f":"Invoeren!AA172","v":4.8},{"$f":"Invoeren!AB172","v":4.6},{"$f":"Invoeren!AC172","v":5.2},{"$f":"Invoeren!AD172","v":4.6},{"$f":"Invoeren!AE172","v":""},{"$f":"Invoeren!AF172","v":""},{"$f":"Invoeren!AG172","v":{"v":14.200000000000001,"d":"14.2"}},{"$f":"Invoeren!AH172","v":10.4133},{"$f":"Invoeren!AT172","v":4.2},{"$f":"Invoeren!AU172","v":3.5},{"$f":"Invoeren!AV172","v":3.6},{"$f":"Invoeren!AW172","v":3.4},{"$f":"Invoeren!AX172","v":3.7},{"$f":"Invoeren!AY172","v":""},{"$f":"Invoeren!AZ172","v":""},{"$f":"Invoeren!BA172","v":{"v":10.800000000000002,"d":"10.8"}},{"$f":"Invoeren!BB172","v":{"v":7.92,"d":"7.9200"}},{"$f":"Invoeren!BN172","v":4.8},{"$f":"Invoeren!BO172","v":4.6},{"$f":"Invoeren!BP172","v":4.5},{"$f":"Invoeren!BQ172","v":4.3},{"$f":"Invoeren!BR172","v":4.4},{"$f":"Invoeren!BS172","v":""},{"$f":"Invoeren!BT172","v":""},{"$f":"Invoeren!BU172","v":13.5},{"$f":"Invoeren!BV172","v":{"v":9.45,"d":"9.4500"}},{"$f":"Invoeren!CH172","v":3.7},{"$f":"Invoeren!CI172","v":4.1},{"$f":"Invoeren!CJ172","v":3.9},{"$f":"Invoeren!CK172","v":3.8},{"$f":"Invoeren!CL172","v":3.8},{"$f":"Invoeren!CM172","v":""},{"$f":"Invoeren!CN172","v":""},{"$f":"Invoeren!CO172","v":11.5},{"$f":"Invoeren!CP172","v":8.8167},{"$f":"Invoeren!CR172","v":{"v":36.6,"d":"36.6000"}},{"$f":"Invoeren!CS172","v":41.5909},{"$f":"Invoeren!CT172","v":0},{"$f":"Invoeren!C172","v":41.5909},{"$f":"Invoeren!L172","v":0},{"$f":"Invoeren!M172","v":""},{"$f":"Invoeren!N172","v":""},{"$f":"Invoeren!H172","v":"Zuid"},{"$f":"Invoeren!AI172","v":148},{"$f":"Invoeren!BC172","v":195},{"$f":"Invoeren!BW172","v":178},{"$f":"Invoeren!CQ172","v":192}]
[{"$f":"Invoeren!B173","v":153},{"$f":"Invoeren!A173","v":167},{"$f":"Invoeren!E173","v":"Kaoutar Ouahadi"},{"$f":"Invoeren!F173","v":"De Dolfijn"},{"$f":"Invoeren!$K173","v":2004},{"$f":"Invoeren!$I173","v":0},{"$f":"Invoeren!Z173","v":4.3},{"$f":"Invoeren!AA173","v":4.7},{"$f":"Invoeren!AB173","v":4.8},{"$f":"Invoeren!AC173","v":4.4},{"$f":"Invoeren!AD173","v":4.7},{"$f":"Invoeren!AE173","v":""},{"$f":"Invoeren!AF173","v":""},{"$f":"Invoeren!AG173","v":13.8},{"$f":"Invoeren!AH173","v":{"v":10.12,"d":"10.1200"}},{"$f":"Invoeren!AT173","v":4.5},{"$f":"Invoeren!AU173","v":4.5},{"$f":"Invoeren!AV173","v":4.2},{"$f":"Invoeren!AW173","v":4.5},{"$f":"Invoeren!AX173","v":4.4},{"$f":"Invoeren!AY173","v":""},{"$f":"Invoeren!AZ173","v":""},{"$f":"Invoeren!BA173","v":{"v":13.400000000000002,"d":"13.4"}},{"$f":"Invoeren!BB173","v":9.8267},{"$f":"Invoeren!BN173","v":4.9},{"$f":"Invoeren!BO173","v":{"v":5,"d":"5.0"}},{"$f":"Invoeren!BP173","v":4.4},{"$f":"Invoeren!BQ173","v":4.5},{"$f":"Invoeren!BR173","v":{"v":5,"d":"5.0"}},{"$f":"Invoeren!BS173","v":""},{"$f":"Invoeren!BT173","v":""},{"$f":"Invoeren!BU173","v":14.4},{"$f":"Invoeren!BV173","v":{"v":10.08,"d":"10.0800"}},{"$f":"Invoeren!CH173","v":4.1},{"$f":"Invoeren!CI173","v":4.3},{"$f":"Invoeren!CJ173","v":4.7},{"$f":"Invoeren!CK173","v":4.7},{"$f":"Invoeren!CL173","v":{"v":4,"d":"4.0"}},{"$f":"Invoeren!CM173","v":""},{"$f":"Invoeren!CN173","v":""},{"$f":"Invoeren!CO173","v":{"v":13.099999999999998,"d":"13.1"}},{"$f":"Invoeren!CP173","v":10.0433},{"$f":"Invoeren!CR173","v":{"v":40.07,"d":"40.0700"}},{"$f":"Invoeren!CS173","v":45.5341},{"$f":"Invoeren!CT173","v":0},{"$f":"Invoeren!C173","v":45.5341},{"$f":"Invoeren!L173","v":0},{"$f":"Invoeren!M173","v":""},{"$f":"Invoeren!N173","v":"Age II"},{"$f":"Invoeren!H173","v":"Midwest"},{"$f":"Invoeren!AI173","v":165},{"$f":"Invoeren!BC173","v":144},{"$f":"Invoeren!BW173","v":149},{"$f":"Invoeren!CQ173","v":144}]
[{"$f":"Invoeren!B174","v":150},{"$f":"Invoeren!A174","v":168},{"$f":"Invoeren!E174","v":"Dionne Kulderij"},{"$f":"Invoeren!F174","v":"ZV de Zaan"},{"$f":"Invoeren!$K174","v":2005},{"$f":"Invoeren!$I174","v":0},{"$f":"Invoeren!Z174","v":4.7},{"$f":"Invoeren!AA174","v":4.3},{"$f":"Invoeren!AB174","v":4.9},{"$f":"Invoeren!AC174","v":5.5},{"$f":"Invoeren!AD174","v":4.9},{"$f":"Invoeren!AE174","v":""},{"$f":"Invoeren!AF174","v":""},{"$f":"Invoeren!AG174","v":{"v":14.499999999999996,"d":"14.5"}},{"$f":"Invoeren!AH174","v":10.6333},{"$f":"Invoeren!AT174","v":4.4},{"$f":"Invoeren!AU174","v":4.1},{"$f":"Invoeren!AV174","v":{"v":4,"d":"4.0"}},{"$f":"Invoeren!AW174","v":4.6},{"$f":"Invoeren!AX174","v":4.5},{"$f":"Invoeren!AY174","v":""},{"$f":"Invoeren!AZ174","v":""},{"$f":"Invoeren!BA174","v":{"v":13,"d":"13.0"}},{"$f":"Invoeren!BB174","v":9.5333},{"$f":"Invoeren!BN174","v":4.6},{"$f":"Invoeren!BO174","v":5.1},{"$f":"Invoeren!BP174","v":4.6},{"$f":"Invoeren!BQ174","v":5.1},{"$f":"Invoeren!BR174","v":4.8},{"$f":"Invoeren!BS174","v":""},{"$f":"Invoeren!BT174","v":""},{"$f":"Invoeren!BU174","v":{"v":14.500000000000002,"d":"14.5"}},{"$f":"Invoeren!BV174","v":{"v":10.15,"d":"10.1500"}},{"$f":"Invoeren!CH174","v":4.5},{"$f":"Invoeren!CI174","v":4.1},{"$f":"Invoeren!CJ174","v":4.6},{"$f":"Invoeren!CK174","v":4.4},{"$f":"Invoeren!CL174","v":4.3},{"$f":"Invoeren!CM174","v":""},{"$f":"Invoeren!CN174","v":""},{"$f":"Invoeren!CO174","v":{"v":13.200000000000005,"d":"13.2"}},{"$f":"Invoeren!CP174","v":{"v":10.12,"d":"10.1200"}},{"$f":"Invoeren!CR174","v":40.4366},{"$f":"Invoeren!CS174","v":45.9507},{"$f":"Invoeren!CT174","v":0},{"$f":"Invoeren!C174","v":45.9507},{"$f":"Invoeren!L174","v":0},{"$f":"Invoeren!M174","v":""},{"$f":"Invoeren!N174","v":"Age II"},{"$f":"Invoeren!H174","v":"MidWest"},{"$f":"Invoeren!AI174","v":130},{"$f":"Invoeren!BC174","v":159},{"$f":"Invoeren!BW174","v":144},{"$f":"Invoeren!CQ174","v":139}]
[{"$f":"Invoeren!B175","v":187},{"$f":"Invoeren!A175","v":169},{"$f":"Invoeren!E175","v":"July Vermeulen"},{"$f":"Invoeren!F175","v":"Widex Gzc Donk"},{"$f":"Invoeren!$K175","v":2005},{"$f":"Invoeren!$I175","v":0},{"$f":"Invoeren!Z175","v":4.5},{"$f":"Invoeren!AA175","v":{"v":5,"d":"5.0"}},{"$f":"Invoeren!AB175","v":4.8},{"$f":"Invoeren!AC175","v":4.8},{"$f":"Invoeren!AD175","v":4.6},{"$f":"Invoeren!AE175","v":""},{"$f":"Invoeren!AF175","v":""},{"$f":"Invoeren!AG175","v":{"v":14.200000000000003,"d":"14.2"}},{"$f":"Invoeren!AH175","v":10.4133},{"$f":"Invoeren!AT175","v":3.5},{"$f":"Invoeren!AU175","v":3.3},{"$f":"Invoeren!AV175","v":3.5},{"$f":"Invoeren!AW175","v":3.5},{"$f":"Invoeren!AX175","v":3.2},{"$f":"Invoeren!AY175","v":""},{"$f":"Invoeren!AZ175","v":""},{"$f":"Invoeren!BA175","v":10.3},{"$f":"Invoeren!BB175","v":7.5533},{"$f":"Invoeren!BN175","v":4.5},{"$f":"Invoeren!BO175","v":4.3},{"$f":"Invoeren!BP175","v":4.4},{"$f":"Invoeren!BQ175","v":4.2},{"$f":"Invoeren!BR175","v":4.4},{"$f":"Invoeren!BS175","v":""},{"$f":"Invoeren!BT175","v":""},{"$f":"Invoeren!BU175","v":{"v":13.100000000000005,"d":"13.1"}},{"$f":"Invoeren!BV175","v":{"v":9.17,"d":"9.1700"}},{"$f":"Invoeren!CH175","v":3.9},{"$f":"Invoeren!CI175","v":4.3},{"$f":"Invoeren!CJ175","v":4.4},{"$f":"Invoeren!CK175","v":{"v":4,"d":"4.0"}},{"$f":"Invoeren!CL175","v":{"v":4,"d":"4.0"}},{"$f":"Invoeren!CM175","v":""},{"$f":"Invoeren!CN175","v":""},{"$f":"Invoeren!CO175","v":{"v":12.300000000000002,"d":"12.3"}},{"$f":"Invoeren!CP175","v":{"v":9.43,"d":"9.4300"}},{"$f":"Invoeren!CR175","v":36.5666},{"$f":"Invoeren!CS175","v":{"v":41.553,"d":"41.5530"}},{"$f":"Invoeren!CT175","v":0},{"$f":"Invoeren!C175","v":{"v":41.553,"d":"41.5530"}},{"$f":"Invoeren!L175","v":0},{"$f":"Invoeren!M175","v":""},{"$f":"Invoeren!N175","v":""},{"$f":"Invoeren!H175","v":"West"},{"$f":"Invoeren!AI175","v":148},{"$f":"Invoeren!BC175","v":196},{"$f":"Invoeren!BW175","v":189},{"$f":"Invoeren!CQ175","v":170}]
[{"$f":"Invoeren!B176","v":47},{"$f":"Invoeren!A176","v":170},{"$f":"Invoeren!E176","v":"Maggie Jiroutova"},{"$f":"Invoeren!F176","v":"AZC"},{"$f":"Invoeren!$K176","v":2003},{"$f":"Invoeren!$I176","v":0},{"$f":"Invoeren!Z176","v":5.4},{"$f":"Invoeren!AA176","v":5.6},{"$f":"Invoeren!AB176","v":5.5},{"$f":"Invoeren!AC176","v":5.7},{"$f":"Invoeren!AD176","v":5.5},{"$f":"Invoeren!AE176","v":""},{"$f":"Invoeren!AF176","v":""},{"$f":"Invoeren!AG176","v":16.6},{"$f":"Invoeren!AH176","v":12.1733},{"$f":"Invoeren!AT176","v":5.5},{"$f":"Invoeren!AU176","v":{"v":5,"d":"5.0"}},{"$f":"Invoeren!AV176","v":4.7},{"$f":"Invoeren!AW176","v":5.3},{"$f":"Invoeren!AX176","v":5.4},{"$f":"Invoeren!AY176","v":""},{"$f":"Invoeren!AZ176","v":""},{"$f":"Invoeren!BA176","v":15.7},{"$f":"Invoeren!BB176","v":11.5133},{"$f":"Invoeren!BN176","v":5.9},{"$f":"Invoeren!BO176","v":5.9},{"$f":"Invoeren!BP176","v":5.9},{"$f":"Invoeren!BQ176","v":5.8},{"$f":"Invoeren!BR176","v":5.9},{"$f":"Invoeren!BS176","v":""},{"$f":"Invoeren!BT176","v":""},{"$f":"Invoeren!BU176","v":{"v":17.700000000000006,"d":"17.7"}},{"$f":"Invoeren!BV176","v":{"v":12.39,"d":"12.3900"}},{"$f":"Invoeren!CH176","v":5.4},{"$f":"Invoeren!CI176","v":{"v":5,"d":"5.0"}},{"$f":"Invoeren!CJ176","v":{"v":5,"d":"5.0"}},{"$f":"Invoeren!CK176","v":4.9},{"$f":"Invoeren!CL176","v":5.2},{"$f":"Invoeren!CM176","v":""},{"$f":"Invoeren!CN176","v":""},{"$f":"Invoeren!CO176","v":{"v":15.200000000000001,"d":"15.2"}},{"$f":"Invoeren!CP176","v":11.6533},{"$f":"Invoeren!CR176","v":47.7299},{"$f":"Invoeren!CS176","v":54.2385},{"$f":"Invoeren!CT176","v":0},{"$f":"Invoeren!C176","v":54.2385},{"$f":"Invoeren!L176","v":0},{"$f":"Invoeren!M176","v":"L"},{"$f":"Invoeren!N176","v":""},{"$f":"Invoeren!H176","v":"West"},{"$f":"Invoeren!AI176","v":55},{"$f":"Invoeren!BC176","v":55},{"$f":"Invoeren!BW176","v":34},{"$f":"Invoeren!CQ176","v":53}]
[{"$f":"Invoeren!B177","v":97},{"$f":"Invoeren!A177","v":171},{"$f":"Invoeren!E177","v":"Maike van Vliet"},{"$f":"Invoeren!F177","v":"BZ&PC"},{"$f":"Invoeren!$K177","v":2004},{"$f":"Invoeren!$I177","v":0},{"$f":"Invoeren!Z177","v":4.6},{"$f":"Invoeren!AA177","v":4.9},{"$f":"Invoeren!AB177","v":{"v":5,"d":"5.0"}},{"$f":"Invoeren!AC177","v":5.8},{"$f":"Invoeren!AD177","v":4.9},{"$f":"Invoeren!AE177","v":""},{"$f":"Invoeren!AF177","v":""},{"$f":"Invoeren!AG177","v":{"v":14.800000000000002,"d":"14.8"}},{"$f":"Invoeren!AH177","v":10.8533},{"$f":"Invoeren!AT177","v":5.1},{"$f":"Invoeren!AU177","v":5.4},{"$f":"Invoeren!AV177","v":{"v":5,"d":"5.0"}},{"$f":"Invoeren!AW177","v":5.1},{"$f":"Invoeren!AX177","v":5.2},{"$f":"Invoeren!AY177","v":""},{"$f":"Invoeren!AZ177","v":""},{"$f":"Invoeren!BA177","v":{"v":15.399999999999999,"d":"15.4"}},{"$f":"Invoeren!BB177","v":11.2933},{"$f":"Invoeren!BN177","v":5.1},{"$f":"Invoeren!BO177","v":5.2},{"$f":"Invoeren!BP177","v":5.7},{"$f":"Invoeren!BQ177","v":5.5},{"$f":"Invoeren!BR177","v":5.5},{"$f":"Invoeren!BS177","v":""},{"$f":"Invoeren!BT177","v":""},{"$f":"Invoeren!BU177","v":{"v":16.200000000000003,"d":"16.2"}},{"$f":"Invoeren!BV177","v":{"v":11.34,"d":"11.3400"}},{"$f":"Invoeren!CH177","v":4.2},{"$f":"Invoeren!CI177","v":4.6},{"$f":"Invoeren!CJ177","v":4.7},{"$f":"Invoeren!CK177","v":4.5},{"$f":"Invoeren!CL177","v":4.9},{"$f":"Invoeren!CM177","v":""},{"$f":"Invoeren!CN177","v":""},{"$f":"Invoeren!CO177","v":13.8},{"$f":"Invoeren!CP177","v":{"v":10.58,"d":"10.5800"}},{"$f":"Invoeren!CR177","v":{"v":44.066599999999994,"d":"44.0666"}},{"$f":"Invoeren!CS177","v":50.0757},{"$f":"Invoeren!CT177","v":0},{"$f":"Invoeren!C177","v":50.0757},{"$f":"Invoeren!L177","v":0},{"$f":"Invoeren!M177","v":"L"},{"$f":"Invoeren!N177","v":""},{"$f":"Invoeren!H177","v":"West"},{"$f":"Invoeren!AI177","v":117},{"$f":"Invoeren!BC177","v":66},{"$f":"Invoeren!BW177","v":89},{"$f":"Invoeren!CQ177","v":117}]
[{"$f":"Invoeren!B178","v":70},{"$f":"Invoeren!A178","v":172},{"$f":"Invoeren!E178","v":"Marit Kramer"},{"$f":"Invoeren!F178","v":" Swol 1894"},{"$f":"Invoeren!$K178","v":2003},{"$f":"Invoeren!$I178","v":0},{"$f":"Invoeren!Z178","v":5.3},{"$f":"Invoeren!AA178","v":5.2},{"$f":"Invoeren!AB178","v":5.4},{"$f":"Invoeren!AC178","v":5.2},{"$f":"Invoeren!AD178","v":4.9},{"$f":"Invoeren!AE178","v":""},{"$f":"Invoeren!AF178","v":""},{"$f":"Invoeren!AG178","v":{"v":15.700000000000001,"d":"15.7"}},{"$f":"Invoeren!AH178","v":11.5133},{"$f":"Invoeren!AT178","v":4.8},{"$f":"Invoeren!AU178","v":5.1},{"$f":"Invoeren!AV178","v":5.1},{"$f":"Invoeren!AW178","v":4.9},{"$f":"Invoeren!AX178","v":4.9},{"$f":"Invoeren!AY178","v":""},{"$f":"Invoeren!AZ178","v":""},{"$f":"Invoeren!BA178","v":{"v":14.899999999999995,"d":"14.9"}},{"$f":"Invoeren!BB178","v":10.9267},{"$f":"Invoeren!BN178","v":5.5},{"$f":"Invoeren!BO178","v":{"v":6,"d":"6.0"}},{"$f":"Invoeren!BP178","v":5.9},{"$f":"Invoeren!BQ178","v":{"v":6,"d":"6.0"}},{"$f":"Invoeren!BR178","v":6.1},{"$f":"Invoeren!BS178","v":""},{"$f":"Invoeren!BT178","v":""},{"$f":"Invoeren!BU178","v":17.9},{"$f":"Invoeren!BV178","v":{"v":12.53,"d":"12.5300"}},{"$f":"Invoeren!CH178","v":{"v":4,"d":"4.0"}},{"$f":"Invoeren!CI178","v":4.4},{"$f":"Invoeren!CJ178","v":4.9},{"$f":"Invoeren!CK178","v":4.7},{"$f":"Invoeren!CL178","v":4.6},{"$f":"Invoeren!CM178","v":""},{"$f":"Invoeren!CN178","v":""},{"$f":"Invoeren!CO178","v":{"v":13.700000000000003,"d":"13.7"}},{"$f":"Invoeren!CP178","v":10.5033},{"$f":"Invoeren!CR178","v":{"v":45.473299999999995,"d":"45.4733"}},{"$f":"Invoeren!CS178","v":51.6742},{"$f":"Invoeren!CT178","v":0},{"$f":"Invoeren!C178","v":51.6742},{"$f":"Invoeren!L178","v":0},{"$f":"Invoeren!M178","v":"L"},{"$f":"Invoeren!N178","v":""},{"$f":"Invoeren!H178","v":"Oost"},{"$f":"Invoeren!AI178","v":88},{"$f":"Invoeren!BC178","v":86},{"$f":"Invoeren!BW178","v":28},{"$f":"Invoeren!CQ178","v":121}]
[{"$f":"Invoeren!B179","v":152},{"$f":"Invoeren!A179","v":173},{"$f":"Invoeren!E179","v":"Arwen Pijpers"},{"$f":"Invoeren!F179","v":"Hellas-Glana"},{"$f":"Invoeren!$K179","v":2005},{"$f":"Invoeren!$I179","v":0},{"$f":"Invoeren!Z179","v":4.6},{"$f":"Invoeren!AA179","v":4.5},{"$f":"Invoeren!AB179","v":4.8},{"$f":"Invoeren!AC179","v":4.7},{"$f":"Invoeren!AD179","v":4.8},{"$f":"Invoeren!AE179","v":""},{"$f":"Invoeren!AF179","v":""},{"$f":"Invoeren!AG179","v":{"v":14.099999999999998,"d":"14.1"}},{"$f":"Invoeren!AH179","v":{"v":10.34,"d":"10.3400"}},{"$f":"Invoeren!AT179","v":{"v":4,"d":"4.0"}},{"$f":"Invoeren!AU179","v":4.5},{"$f":"Invoeren!AV179","v":4.5},{"$f":"Invoeren!AW179","v":4.4},{"$f":"Invoeren!AX179","v":{"v":5,"d":"5.0"}},{"$f":"Invoeren!AY179","v":""},{"$f":"Invoeren!AZ179","v":""},{"$f":"Invoeren!BA179","v":{"v":13.399999999999999,"d":"13.4"}},{"$f":"Invoeren!BB179","v":9.8267},{"$f":"Invoeren!BN179","v":4.9},{"$f":"Invoeren!BO179","v":{"v":5,"d":"5.0"}},{"$f":"Invoeren!BP179","v":5.7},{"$f":"Invoeren!BQ179","v":5.4},{"$f":"Invoeren!BR179","v":{"v":5,"d":"5.0"}},{"$f":"Invoeren!BS179","v":""},{"$f":"Invoeren!BT179","v":""},{"$f":"Invoeren!BU179","v":15.4},{"$f":"Invoeren!BV179","v":{"v":10.78,"d":"10.7800"}},{"$f":"Invoeren!CH179","v":3.8},{"$f":"Invoeren!CI179","v":3.9},{"$f":"Invoeren!CJ179","v":4.2},{"$f":"Invoeren!CK179","v":{"v":4,"d":"4.0"}},{"$f":"Invoeren!CL179","v":4.1},{"$f":"Invoeren!CM179","v":""},{"$f":"Invoeren!CN179","v":""},{"$f":"Invoeren!CO179","v":{"v":12,"d":"12.0"}},{"$f":"Invoeren!CP179","v":{"v":9.2,"d":"9.2000"}},{"$f":"Invoeren!CR179","v":{"v":40.146699999999996,"d":"40.1467"}},{"$f":"Invoeren!CS179","v":45.6213},{"$f":"Invoeren!CT179","v":0},{"$f":"Invoeren!C179","v":45.6213},{"$f":"Invoeren!L179","v":0},{"$f":"Invoeren!M179","v":""},{"$f":"Invoeren!N179","v":"Age II"},{"$f":"Invoeren!H179","v":"Zuid"},{"$f":"Invoeren!AI179","v":155},{"$f":"Invoeren!BC179","v":144},{"$f":"Invoeren!BW179","v":111},{"$f":"Invoeren!CQ179","v":184}]
[{"$f":"Invoeren!B180","v":41},{"$f":"Invoeren!A180","v":174},{"$f":"Invoeren!E180","v":"Ymke Tolboom"},{"$f":"Invoeren!F180","v":"PSV Synchro Team Eindhoven"},{"$f":"Invoeren!$K180","v":2003},{"$f":"Invoeren!$I180","v":0},{"$f":"Invoeren!Z180","v":5.5},{"$f":"Invoeren!AA180","v":5.7},{"$f":"Invoeren!AB180","v":5.8},{"$f":"Invoeren!AC180","v":6.2},{"$f":"Invoeren!AD180","v":{"v":6,"d":"6.0"}},{"$f":"Invoeren!AE180","v":""},{"$f":"Invoeren!AF180","v":""},{"$f":"Invoeren!AG180","v":17.5},{"$f":"Invoeren!AH180","v":12.8333},{"$f":"Invoeren!AT180","v":5.3},{"$f":"Invoeren!AU180","v":{"v":5,"d":"5.0"}},{"$f":"Invoeren!AV180","v":{"v":5,"d":"5.0"}},{"$f":"Invoeren!AW180","v":5.7},{"$f":"Invoeren!AX180","v":5.9},{"$f":"Invoeren!AY180","v":""},{"$f":"Invoeren!AZ180","v":""},{"$f":"Invoeren!BA180","v":{"v":16,"d":"16.0"}},{"$f":"Invoeren!BB180","v":11.7333},{"$f":"Invoeren!BN180","v":{"v":5,"d":"5.0"}},{"$f":"Invoeren!BO180","v":5.8},{"$f":"Invoeren!BP180","v":5.9},{"$f":"Invoeren!BQ180","v":5.2},{"$f":"Invoeren!BR180","v":5.6},{"$f":"Invoeren!BS180","v":""},{"$f":"Invoeren!BT180","v":""},{"$f":"Invoeren!BU180","v":16.6},{"$f":"Invoeren!BV180","v":{"v":11.62,"d":"11.6200"}},{"$f":"Invoeren!CH180","v":5.2},{"$f":"Invoeren!CI180","v":{"v":5,"d":"5.0"}},{"$f":"Invoeren!CJ180","v":4.9},{"$f":"Invoeren!CK180","v":5.1},{"$f":"Invoeren!CL180","v":5.3},{"$f":"Invoeren!CM180","v":""},{"$f":"Invoeren!CN180","v":""},{"$f":"Invoeren!CO180","v":{"v":15.299999999999999,"d":"15.3"}},{"$f":"Invoeren!CP180","v":{"v":11.73,"d":"11.7300"}},{"$f":"Invoeren!CR180","v":47.9166},{"$f":"Invoeren!CS180","v":54.4507},{"$f":"Invoeren!CT180","v":0},{"$f":"Invoeren!C180","v":54.4507},{"$f":"Invoeren!L180","v":0},{"$f":"Invoeren!M180","v":"L"},{"$f":"Invoeren!N180","v":""},{"$f":"Invoeren!H180","v":"Zuid"},{"$f":"Invoeren!AI180","v":24},{"$f":"Invoeren!BC180","v":46},{"$f":"Invoeren!BW180","v":78},{"$f":"Invoeren!CQ180","v":50}]
[{"$f":"Invoeren!B181","v":103},{"$f":"Invoeren!A181","v":175},{"$f":"Invoeren!E181","v":"Annet Meinert"},{"$f":"Invoeren!F181","v":"De Houtrib"},{"$f":"Invoeren!$K181","v":2003},{"$f":"Invoeren!$I181","v":0},{"$f":"Invoeren!Z181","v":4.6},{"$f":"Invoeren!AA181","v":4.4},{"$f":"Invoeren!AB181","v":4.9},{"$f":"Invoeren!AC181","v":4.6},{"$f":"Invoeren!AD181","v":4.6},{"$f":"Invoeren!AE181","v":""},{"$f":"Invoeren!AF181","v":""},{"$f":"Invoeren!AG181","v":{"v":13.800000000000002,"d":"13.8"}},{"$f":"Invoeren!AH181","v":{"v":10.12,"d":"10.1200"}},{"$f":"Invoeren!AT181","v":{"v":5,"d":"5.0"}},{"$f":"Invoeren!AU181","v":5.1},{"$f":"Invoeren!AV181","v":5.2},{"$f":"Invoeren!AW181","v":5.5},{"$f":"Invoeren!AX181","v":5.6},{"$f":"Invoeren!AY181","v":""},{"$f":"Invoeren!AZ181","v":""},{"$f":"Invoeren!BA181","v":{"v":15.799999999999997,"d":"15.8"}},{"$f":"Invoeren!BB181","v":11.5867},{"$f":"Invoeren!BN181","v":5.7},{"$f":"Invoeren!BO181","v":5.3},{"$f":"Invoeren!BP181","v":{"v":5,"d":"5.0"}},{"$f":"Invoeren!BQ181","v":4.7},{"$f":"Invoeren!BR181","v":4.7},{"$f":"Invoeren!BS181","v":""},{"$f":"Invoeren!BT181","v":""},{"$f":"Invoeren!BU181","v":{"v":15,"d":"15.0"}},{"$f":"Invoeren!BV181","v":{"v":10.5,"d":"10.5000"}},{"$f":"Invoeren!CH181","v":4.9},{"$f":"Invoeren!CI181","v":5.2},{"$f":"Invoeren!CJ181","v":{"v":5,"d":"5.0"}},{"$f":"Invoeren!CK181","v":4.9},{"$f":"Invoeren!CL181","v":4.9},{"$f":"Invoeren!CM181","v":""},{"$f":"Invoeren!CN181","v":""},{"$f":"Invoeren!CO181","v":{"v":14.799999999999999,"d":"14.8"}},{"$f":"Invoeren!CP181","v":11.3467},{"$f":"Invoeren!CR181","v":{"v":43.553399999999996,"d":"43.5534"}},{"$f":"Invoeren!CS181","v":49.4925},{"$f":"Invoeren!CT181","v":0},{"$f":"Invoeren!C181","v":49.4925},{"$f":"Invoeren!L181","v":0},{"$f":"Invoeren!M181","v":"L"},{"$f":"Invoeren!N181","v":""},{"$f":"Invoeren!H181","v":"Oost"},{"$f":"Invoeren!AI181","v":165},{"$f":"Invoeren!BC181","v":50},{"$f":"Invoeren!BW181","v":122},{"$f":"Invoeren!CQ181","v":72}]
[{"$f":"Invoeren!B182","v":87},{"$f":"Invoeren!A182","v":176},{"$f":"Invoeren!E182","v":"Willemijn Buitelaar "},{"$f":"Invoeren!F182","v":"Z.P.C.H."},{"$f":"Invoeren!$K182","v":2005},{"$f":"Invoeren!$I182","v":0},{"$f":"Invoeren!Z182","v":4.9},{"$f":"Invoeren!AA182","v":4.9},{"$f":"Invoeren!AB182","v":4.8},{"$f":"Invoeren!AC182","v":5.2},{"$f":"Invoeren!AD182","v":4.8},{"$f":"Invoeren!AE182","v":""},{"$f":"Invoeren!AF182","v":""},{"$f":"Invoeren!AG182","v":{"v":14.600000000000001,"d":"14.6"}},{"$f":"Invoeren!AH182","v":10.7067},{"$f":"Invoeren!AT182","v":5.2},{"$f":"Invoeren!AU182","v":{"v":5,"d":"5.0"}},{"$f":"Invoeren!AV182","v":4.9},{"$f":"Invoeren!AW182","v":4.8},{"$f":"Invoeren!AX182","v":5.4},{"$f":"Invoeren!AY182","v":""},{"$f":"Invoeren!AZ182","v":""},{"$f":"Invoeren!BA182","v":{"v":15.099999999999998,"d":"15.1"}},{"$f":"Invoeren!BB182","v":11.0733},{"$f":"Invoeren!BN182","v":5.6},{"$f":"Invoeren!BO182","v":5.8},{"$f":"Invoeren!BP182","v":{"v":6,"d":"6.0"}},{"$f":"Invoeren!BQ182","v":{"v":6,"d":"6.0"}},{"$f":"Invoeren!BR182","v":5.6},{"$f":"Invoeren!BS182","v":""},{"$f":"Invoeren!BT182","v":""},{"$f":"Invoeren!BU182","v":17.4},{"$f":"Invoeren!BV182","v":{"v":12.18,"d":"12.1800"}},{"$f":"Invoeren!CH182","v":4.5},{"$f":"Invoeren!CI182","v":4.1},{"$f":"Invoeren!CJ182","v":4.7},{"$f":"Invoeren!CK182","v":4.5},{"$f":"Invoeren!CL182","v":5.2},{"$f":"Invoeren!CM182","v":""},{"$f":"Invoeren!CN182","v":""},{"$f":"Invoeren!CO182","v":{"v":13.700000000000001,"d":"13.7"}},{"$f":"Invoeren!CP182","v":10.5033},{"$f":"Invoeren!CR182","v":{"v":44.463300000000004,"d":"44.4633"}},{"$f":"Invoeren!CS182","v":50.5265},{"$f":"Invoeren!CT182","v":0},{"$f":"Invoeren!C182","v":50.5265},{"$f":"Invoeren!L182","v":0},{"$f":"Invoeren!M182","v":"L"},{"$f":"Invoeren!N182","v":""},{"$f":"Invoeren!H182","v":"MidWest"},{"$f":"Invoeren!AI182","v":125},{"$f":"Invoeren!BC182","v":74},{"$f":"Invoeren!BW182","v":42},{"$f":"Invoeren!CQ182","v":121}]
[{"$f":"Invoeren!B183","v":112},{"$f":"Invoeren!A183","v":177},{"$f":"Invoeren!E183","v":"Yndi Nieuwmans"},{"$f":"Invoeren!F183","v":"Widex Gzc Donk"},{"$f":"Invoeren!$K183","v":2005},{"$f":"Invoeren!$I183","v":0},{"$f":"Invoeren!Z183","v":{"v":5,"d":"5.0"}},{"$f":"Invoeren!AA183","v":5.2},{"$f":"Invoeren!AB183","v":5.4},{"$f":"Invoeren!AC183","v":5.4},{"$f":"Invoeren!AD183","v":5.2},{"$f":"Invoeren!AE183","v":""},{"$f":"Invoeren!AF183","v":""},{"$f":"Invoeren!AG183","v":{"v":15.799999999999997,"d":"15.8"}},{"$f":"Invoeren!AH183","v":11.5867},{"$f":"Invoeren!AT183","v":4.2},{"$f":"Invoeren!AU183","v":4.4},{"$f":"Invoeren!AV183","v":4.2},{"$f":"Invoeren!AW183","v":4.4},{"$f":"Invoeren!AX183","v":4.9},{"$f":"Invoeren!AY183","v":""},{"$f":"Invoeren!AZ183","v":""},{"$f":"Invoeren!BA183","v":{"v":13.000000000000004,"d":"13.0"}},{"$f":"Invoeren!BB183","v":9.5333},{"$f":"Invoeren!BN183","v":5.8},{"$f":"Invoeren!BO183","v":4.9},{"$f":"Invoeren!BP183","v":5.8},{"$f":"Invoeren!BQ183","v":5.3},{"$f":"Invoeren!BR183","v":5.6},{"$f":"Invoeren!BS183","v":""},{"$f":"Invoeren!BT183","v":""},{"$f":"Invoeren!BU183","v":{"v":16.699999999999996,"d":"16.7"}},{"$f":"Invoeren!BV183","v":{"v":11.69,"d":"11.6900"}},{"$f":"Invoeren!CH183","v":{"v":4,"d":"4.0"}},{"$f":"Invoeren!CI183","v":4.4},{"$f":"Invoeren!CJ183","v":4.3},{"$f":"Invoeren!CK183","v":4.8},{"$f":"Invoeren!CL183","v":{"v":5,"d":"5.0"}},{"$f":"Invoeren!CM183","v":""},{"$f":"Invoeren!CN183","v":""},{"$f":"Invoeren!CO183","v":13.5},{"$f":"Invoeren!CP183","v":{"v":10.35,"d":"10.3500"}},{"$f":"Invoeren!CR183","v":{"v":43.160000000000004,"d":"43.1600"}},{"$f":"Invoeren!CS183","v":49.0455},{"$f":"Invoeren!CT183","v":0},{"$f":"Invoeren!C183","v":49.0455},{"$f":"Invoeren!L183","v":0},{"$f":"Invoeren!M183","v":"L"},{"$f":"Invoeren!N183","v":""},{"$f":"Invoeren!H183","v":"West"},{"$f":"Invoeren!AI183","v":85},{"$f":"Invoeren!BC183","v":159},{"$f":"Invoeren!BW183","v":71},{"$f":"Invoeren!CQ183","v":131}]
[{"$f":"Invoeren!B184","v":37},{"$f":"Invoeren!A184","v":178},{"$f":"Invoeren!E184","v":"Caithlin Reimer"},{"$f":"Invoeren!F184","v":"AZC"},{"$f":"Invoeren!$K184","v":2004},{"$f":"Invoeren!$I184","v":0},{"$f":"Invoeren!Z184","v":5.6},{"$f":"Invoeren!AA184","v":5.7},{"$f":"Invoeren!AB184","v":5.8},{"$f":"Invoeren!AC184","v":5.3},{"$f":"Invoeren!AD184","v":5.7},{"$f":"Invoeren!AE184","v":""},{"$f":"Invoeren!AF184","v":""},{"$f":"Invoeren!AG184","v":{"v":17,"d":"17.0"}},{"$f":"Invoeren!AH184","v":12.4667},{"$f":"Invoeren!AT184","v":5.6},{"$f":"Invoeren!AU184","v":5.7},{"$f":"Invoeren!AV184","v":5.7},{"$f":"Invoeren!AW184","v":5.8},{"$f":"Invoeren!AX184","v":{"v":6,"d":"6.0"}},{"$f":"Invoeren!AY184","v":""},{"$f":"Invoeren!AZ184","v":""},{"$f":"Invoeren!BA184","v":{"v":17.200000000000003,"d":"17.2"}},{"$f":"Invoeren!BB184","v":12.6133},{"$f":"Invoeren!BN184","v":5.7},{"$f":"Invoeren!BO184","v":5.3},{"$f":"Invoeren!BP184","v":5.7},{"$f":"Invoeren!BQ184","v":5.9},{"$f":"Invoeren!BR184","v":5.9},{"$f":"Invoeren!BS184","v":""},{"$f":"Invoeren!BT184","v":""},{"$f":"Invoeren!BU184","v":17.3},{"$f":"Invoeren!BV184","v":{"v":12.11,"d":"12.1100"}},{"$f":"Invoeren!CH184","v":4.5},{"$f":"Invoeren!CI184","v":4.7},{"$f":"Invoeren!CJ184","v":4.8},{"$f":"Invoeren!CK184","v":5.1},{"$f":"Invoeren!CL184","v":5.1},{"$f":"Invoeren!CM184","v":""},{"$f":"Invoeren!CN184","v":""},{"$f":"Invoeren!CO184","v":{"v":14.600000000000001,"d":"14.6"}},{"$f":"Invoeren!CP184","v":11.1933},{"$f":"Invoeren!CR184","v":48.3833},{"$f":"Invoeren!CS184","v":{"v":54.981,"d":"54.9810"}},{"$f":"Invoeren!CT184","v":0},{"$f":"Invoeren!C184","v":{"v":54.981,"d":"54.9810"}},{"$f":"Invoeren!L184","v":0},{"$f":"Invoeren!M184","v":"L"},{"$f":"Invoeren!N184","v":""},{"$f":"Invoeren!H184","v":"West"},{"$f":"Invoeren!AI184","v":41},{"$f":"Invoeren!BC184","v":18},{"$f":"Invoeren!BW184","v":47},{"$f":"Invoeren!CQ184","v":83}]
[{"$f":"Invoeren!B185","v":40},{"$f":"Invoeren!A185","v":179},{"$f":"Invoeren!E185","v":"Debbie Geilen"},{"$f":"Invoeren!F185","v":"Hellas-Glana"},{"$f":"Invoeren!$K185","v":2004},{"$f":"Invoeren!$I185","v":0},{"$f":"Invoeren!Z185","v":5.4},{"$f":"Invoeren!AA185","v":5.8},{"$f":"Invoeren!AB185","v":5.6},{"$f":"Invoeren!AC185","v":5.8},{"$f":"Invoeren!AD185","v":5.4},{"$f":"Invoeren!AE185","v":""},{"$f":"Invoeren!AF185","v":""},{"$f":"Invoeren!AG185","v":{"v":16.799999999999997,"d":"16.8"}},{"$f":"Invoeren!AH185","v":{"v":12.32,"d":"12.3200"}},{"$f":"Invoeren!AT185","v":5.5},{"$f":"Invoeren!AU185","v":5.3},{"$f":"Invoeren!AV185","v":5.8},{"$f":"Invoeren!AW185","v":{"v":6,"d":"6.0"}},{"$f":"Invoeren!AX185","v":5.5},{"$f":"Invoeren!AY185","v":""},{"$f":"Invoeren!AZ185","v":""},{"$f":"Invoeren!BA185","v":16.8},{"$f":"Invoeren!BB185","v":{"v":12.32,"d":"12.3200"}},{"$f":"Invoeren!BN185","v":5.9},{"$f":"Invoeren!BO185","v":5.4},{"$f":"Invoeren!BP185","v":5.6},{"$f":"Invoeren!BQ185","v":5.6},{"$f":"Invoeren!BR185","v":5.5},{"$f":"Invoeren!BS185","v":""},{"$f":"Invoeren!BT185","v":""},{"$f":"Invoeren!BU185","v":{"v":16.700000000000003,"d":"16.7"}},{"$f":"Invoeren!BV185","v":{"v":11.69,"d":"11.6900"}},{"$f":"Invoeren!CH185","v":5.2},{"$f":"Invoeren!CI185","v":5.1},{"$f":"Invoeren!CJ185","v":{"v":5,"d":"5.0"}},{"$f":"Invoeren!CK185","v":5.1},{"$f":"Invoeren!CL185","v":4.6},{"$f":"Invoeren!CM185","v":""},{"$f":"Invoeren!CN185","v":""},{"$f":"Invoeren!CO185","v":{"v":15.200000000000001,"d":"15.2"}},{"$f":"Invoeren!CP185","v":11.6533},{"$f":"Invoeren!CR185","v":47.9833},{"$f":"Invoeren!CS185","v":54.5265},{"$f":"Invoeren!CT185","v":0},{"$f":"Invoeren!C185","v":54.5265},{"$f":"Invoeren!L185","v":0},{"$f":"Invoeren!M185","v":"L"},{"$f":"Invoeren!N185","v":""},{"$f":"Invoeren!H185","v":"Zuid"},{"$f":"Invoeren!AI185","v":48},{"$f":"Invoeren!BC185","v":26},{"$f":"Invoeren!BW185","v":71},{"$f":"Invoeren!CQ185","v":53}]
[{"$f":"Invoeren!B186","v":75},{"$f":"Invoeren!A186","v":180},{"$f":"Invoeren!E186","v":"Marloes Ardon"},{"$f":"Invoeren!F186","v":"ACZ"},{"$f":"Invoeren!$K186","v":2005},{"$f":"Invoeren!$I186","v":0},{"$f":"Invoeren!Z186","v":5.2},{"$f":"Invoeren!AA186","v":5.4},{"$f":"Invoeren!AB186","v":5.3},{"$f":"Invoeren!AC186","v":5.5},{"$f":"Invoeren!AD186","v":5.1},{"$f":"Invoeren!AE186","v":""},{"$f":"Invoeren!AF186","v":""},{"$f":"Invoeren!AG186","v":15.9},{"$f":"Invoeren!AH186","v":{"v":11.66,"d":"11.6600"}},{"$f":"Invoeren!AT186","v":4.7},{"$f":"Invoeren!AU186","v":4.9},{"$f":"Invoeren!AV186","v":4.8},{"$f":"Invoeren!AW186","v":4.7},{"$f":"Invoeren!AX186","v":4.8},{"$f":"Invoeren!AY186","v":""},{"$f":"Invoeren!AZ186","v":""},{"$f":"Invoeren!BA186","v":14.3},{"$f":"Invoeren!BB186","v":10.4867},{"$f":"Invoeren!BN186","v":5.3},{"$f":"Invoeren!BO186","v":5.7},{"$f":"Invoeren!BP186","v":5.7},{"$f":"Invoeren!BQ186","v":5.8},{"$f":"Invoeren!BR186","v":5.3},{"$f":"Invoeren!BS186","v":""},{"$f":"Invoeren!BT186","v":""},{"$f":"Invoeren!BU186","v":16.7},{"$f":"Invoeren!BV186","v":{"v":11.69,"d":"11.6900"}},{"$f":"Invoeren!CH186","v":{"v":5,"d":"5.0"}},{"$f":"Invoeren!CI186","v":{"v":5,"d":"5.0"}},{"$f":"Invoeren!CJ186","v":4.9},{"$f":"Invoeren!CK186","v":4.9},{"$f":"Invoeren!CL186","v":{"v":5,"d":"5.0"}},{"$f":"Invoeren!CM186","v":""},{"$f":"Invoeren!CN186","v":""},{"$f":"Invoeren!CO186","v":14.9},{"$f":"Invoeren!CP186","v":11.4233},{"$f":"Invoeren!CR186","v":{"v":45.26,"d":"45.2600"}},{"$f":"Invoeren!CS186","v":51.4318},{"$f":"Invoeren!CT186","v":0},{"$f":"Invoeren!C186","v":51.4318},{"$f":"Invoeren!L186","v":0},{"$f":"Invoeren!M186","v":"L"},{"$f":"Invoeren!N186","v":""},{"$f":"Invoeren!H186","v":"West"},{"$f":"Invoeren!AI186","v":79},{"$f":"Invoeren!BC186","v":108},{"$f":"Invoeren!BW186","v":71},{"$f":"Invoeren!CQ186","v":65}]
[{"$f":"Invoeren!B187","v":44},{"$f":"Invoeren!A187","v":181},{"$f":"Invoeren!E187","v":"Marin Hokke"},{"$f":"Invoeren!F187","v":"Z.P.C.H."},{"$f":"Invoeren!$K187","v":2004},{"$f":"Invoeren!$I187","v":0},{"$f":"Invoeren!Z187","v":5.5},{"$f":"Invoeren!AA187","v":5.5},{"$f":"Invoeren!AB187","v":5.8},{"$f":"Invoeren!AC187","v":5.6},{"$f":"Invoeren!AD187","v":5.6},{"$f":"Invoeren!AE187","v":""},{"$f":"Invoeren!AF187","v":""},{"$f":"Invoeren!AG187","v":16.7},{"$f":"Invoeren!AH187","v":12.2467},{"$f":"Invoeren!AT187","v":4.8},{"$f":"Invoeren!AU187","v":{"v":5,"d":"5.0"}},{"$f":"Invoeren!AV187","v":{"v":5,"d":"5.0"}},{"$f":"Invoeren!AW187","v":5.2},{"$f":"Invoeren!AX187","v":{"v":5,"d":"5.0"}},{"$f":"Invoeren!AY187","v":""},{"$f":"Invoeren!AZ187","v":""},{"$f":"Invoeren!BA187","v":{"v":15,"d":"15.0"}},{"$f":"Invoeren!BB187","v":{"v":11,"d":"11.0000"}},{"$f":"Invoeren!BN187","v":5.9},{"$f":"Invoeren!BO187","v":5.4},{"$f":"Invoeren!BP187","v":5.9},{"$f":"Invoeren!BQ187","v":5.6},{"$f":"Invoeren!BR187","v":5.8},{"$f":"Invoeren!BS187","v":""},{"$f":"Invoeren!BT187","v":""},{"$f":"Invoeren!BU187","v":{"v":17.300000000000004,"d":"17.3"}},{"$f":"Invoeren!BV187","v":{"v":12.11,"d":"12.1100"}},{"$f":"Invoeren!CH187","v":5.6},{"$f":"Invoeren!CI187","v":5.3},{"$f":"Invoeren!CJ187","v":5.4},{"$f":"Invoeren!CK187","v":5.8},{"$f":"Invoeren!CL187","v":5.3},{"$f":"Invoeren!CM187","v":""},{"$f":"Invoeren!CN187","v":""},{"$f":"Invoeren!CO187","v":{"v":16.299999999999997,"d":"16.3"}},{"$f":"Invoeren!CP187","v":12.4967},{"$f":"Invoeren!CR187","v":{"v":47.85340000000001,"d":"47.8534"}},{"$f":"Invoeren!CS187","v":54.3789},{"$f":"Invoeren!CT187","v":0},{"$f":"Invoeren!C187","v":54.3789},{"$f":"Invoeren!L187","v":0},{"$f":"Invoeren!M187","v":"L"},{"$f":"Invoeren!N187","v":""},{"$f":"Invoeren!H187","v":"MidWest"},{"$f":"Invoeren!AI187","v":51},{"$f":"Invoeren!BC187","v":79},{"$f":"Invoeren!BW187","v":47},{"$f":"Invoeren!CQ187","v":29}]
[{"$f":"Invoeren!B188","v":182},{"$f":"Invoeren!A188","v":182},{"$f":"Invoeren!E188","v":"Kyra van Dijk"},{"$f":"Invoeren!F188","v":"Widex Gzc Donk"},{"$f":"Invoeren!$K188","v":2005},{"$f":"Invoeren!$I188","v":0},{"$f":"Invoeren!Z188","v":4.9},{"$f":"Invoeren!AA188","v":4.2},{"$f":"Invoeren!AB188","v":4.7},{"$f":"Invoeren!AC188","v":4.8},{"$f":"Invoeren!AD188","v":4.2},{"$f":"Invoeren!AE188","v":""},{"$f":"Invoeren!AF188","v":""},{"$f":"Invoeren!AG188","v":13.7},{"$f":"Invoeren!AH188","v":10.0467},{"$f":"Invoeren!AT188","v":3.7},{"$f":"Invoeren!AU188","v":3.6},{"$f":"Invoeren!AV188","v":3.6},{"$f":"Invoeren!AW188","v":3.6},{"$f":"Invoeren!AX188","v":{"v":4,"d":"4.0"}},{"$f":"Invoeren!AY188","v":""},{"$f":"Invoeren!AZ188","v":""},{"$f":"Invoeren!BA188","v":10.9},{"$f":"Invoeren!BB188","v":7.9933},{"$f":"Invoeren!BN188","v":4.5},{"$f":"Invoeren!BO188","v":{"v":5,"d":"5.0"}},{"$f":"Invoeren!BP188","v":4.7},{"$f":"Invoeren!BQ188","v":4.9},{"$f":"Invoeren!BR188","v":3.9},{"$f":"Invoeren!BS188","v":""},{"$f":"Invoeren!BT188","v":""},{"$f":"Invoeren!BU188","v":14.1},{"$f":"Invoeren!BV188","v":{"v":9.87,"d":"9.8700"}},{"$f":"Invoeren!CH188","v":3.8},{"$f":"Invoeren!CI188","v":4.2},{"$f":"Invoeren!CJ188","v":4.2},{"$f":"Invoeren!CK188","v":4.2},{"$f":"Invoeren!CL188","v":4.1},{"$f":"Invoeren!CM188","v":""},{"$f":"Invoeren!CN188","v":""},{"$f":"Invoeren!CO188","v":12.5},{"$f":"Invoeren!CP188","v":9.5833},{"$f":"Invoeren!CR188","v":37.4933},{"$f":"Invoeren!CS188","v":{"v":42.606,"d":"42.6060"}},{"$f":"Invoeren!CT188","v":0},{"$f":"Invoeren!C188","v":{"v":42.606,"d":"42.6060"}},{"$f":"Invoeren!L188","v":0},{"$f":"Invoeren!M188","v":""},{"$f":"Invoeren!N188","v":""},{"$f":"Invoeren!H188","v":"West"},{"$f":"Invoeren!AI188","v":171},{"$f":"Invoeren!BC188","v":193},{"$f":"Invoeren!BW188","v":160},{"$f":"Invoeren!CQ188","v":166}]
[{"$f":"Invoeren!B189","v":142},{"$f":"Invoeren!A189","v":183},{"$f":"Invoeren!E189","v":"Noah Janssen"},{"$f":"Invoeren!F189","v":"HZPC Horst"},{"$f":"Invoeren!$K189","v":2004},{"$f":"Invoeren!$I189","v":0},{"$f":"Invoeren!Z189","v":4.5},{"$f":"Invoeren!AA189","v":4.9},{"$f":"Invoeren!AB189","v":4.8},{"$f":"Invoeren!AC189","v":4.6},{"$f":"Invoeren!AD189","v":4.8},{"$f":"Invoeren!AE189","v":""},{"$f":"Invoeren!AF189","v":""},{"$f":"Invoeren!AG189","v":{"v":14.199999999999996,"d":"14.2"}},{"$f":"Invoeren!AH189","v":10.4133},{"$f":"Invoeren!AT189","v":4.4},{"$f":"Invoeren!AU189","v":4.2},{"$f":"Invoeren!AV189","v":4.4},{"$f":"Invoeren!AW189","v":{"v":5,"d":"5.0"}},{"$f":"Invoeren!AX189","v":5.1},{"$f":"Invoeren!AY189","v":""},{"$f":"Invoeren!AZ189","v":""},{"$f":"Invoeren!BA189","v":13.8},{"$f":"Invoeren!BB189","v":{"v":10.12,"d":"10.1200"}},{"$f":"Invoeren!BN189","v":4.6},{"$f":"Invoeren!BO189","v":5.1},{"$f":"Invoeren!BP189","v":5.2},{"$f":"Invoeren!BQ189","v":5.1},{"$f":"Invoeren!BR189","v":4.4},{"$f":"Invoeren!BS189","v":""},{"$f":"Invoeren!BT189","v":""},{"$f":"Invoeren!BU189","v":{"v":14.799999999999999,"d":"14.8"}},{"$f":"Invoeren!BV189","v":{"v":10.36,"d":"10.3600"}},{"$f":"Invoeren!CH189","v":4.2},{"$f":"Invoeren!CI189","v":4.4},{"$f":"Invoeren!CJ189","v":4.8},{"$f":"Invoeren!CK189","v":5.1},{"$f":"Invoeren!CL189","v":4.5},{"$f":"Invoeren!CM189","v":""},{"$f":"Invoeren!CN189","v":""},{"$f":"Invoeren!CO189","v":13.7},{"$f":"Invoeren!CP189","v":10.5033},{"$f":"Invoeren!CR189","v":{"v":41.39659999999999,"d":"41.3966"}},{"$f":"Invoeren!CS189","v":47.0416},{"$f":"Invoeren!CT189","v":0},{"$f":"Invoeren!C189","v":47.0416},{"$f":"Invoeren!L189","v":0},{"$f":"Invoeren!M189","v":""},{"$f":"Invoeren!N189","v":""},{"$f":"Invoeren!H189","v":"zuid"},{"$f":"Invoeren!AI189","v":148},{"$f":"Invoeren!BC189","v":126},{"$f":"Invoeren!BW189","v":135},{"$f":"Invoeren!CQ189","v":121}]
[{"$f":"Invoeren!B190","v":113},{"$f":"Invoeren!A190","v":184},{"$f":"Invoeren!E190","v":"Kayra Ozsahin"},{"$f":"Invoeren!F190","v":"ACZ"},{"$f":"Invoeren!$K190","v":2005},{"$f":"Invoeren!$I190","v":0},{"$f":"Invoeren!Z190","v":4.6},{"$f":"Invoeren!AA190","v":{"v":5,"d":"5.0"}},{"$f":"Invoeren!AB190","v":{"v":5,"d":"5.0"}},{"$f":"Invoeren!AC190","v":5.3},{"$f":"Invoeren!AD190","v":4.4},{"$f":"Invoeren!AE190","v":""},{"$f":"Invoeren!AF190","v":""},{"$f":"Invoeren!AG190","v":{"v":14.599999999999996,"d":"14.6"}},{"$f":"Invoeren!AH190","v":10.7067},{"$f":"Invoeren!AT190","v":5.1},{"$f":"Invoeren!AU190","v":5.2},{"$f":"Invoeren!AV190","v":5.5},{"$f":"Invoeren!AW190","v":5.5},{"$f":"Invoeren!AX190","v":5.4},{"$f":"Invoeren!AY190","v":""},{"$f":"Invoeren!AZ190","v":""},{"$f":"Invoeren!BA190","v":16.1},{"$f":"Invoeren!BB190","v":11.8067},{"$f":"Invoeren!BN190","v":4.4},{"$f":"Invoeren!BO190","v":4.9},{"$f":"Invoeren!BP190","v":4.8},{"$f":"Invoeren!BQ190","v":4.4},{"$f":"Invoeren!BR190","v":4.8},{"$f":"Invoeren!BS190","v":""},{"$f":"Invoeren!BT190","v":""},{"$f":"Invoeren!BU190","v":{"v":13.999999999999998,"d":"14.0"}},{"$f":"Invoeren!BV190","v":{"v":9.8,"d":"9.8000"}},{"$f":"Invoeren!CH190","v":{"v":4,"d":"4.0"}},{"$f":"Invoeren!CI190","v":4.8},{"$f":"Invoeren!CJ190","v":4.6},{"$f":"Invoeren!CK190","v":4.7},{"$f":"Invoeren!CL190","v":4.9},{"$f":"Invoeren!CM190","v":""},{"$f":"Invoeren!CN190","v":""},{"$f":"Invoeren!CO190","v":{"v":14.100000000000001,"d":"14.1"}},{"$f":"Invoeren!CP190","v":{"v":10.81,"d":"10.8100"}},{"$f":"Invoeren!CR190","v":{"v":43.123400000000004,"d":"43.1234"}},{"$f":"Invoeren!CS190","v":49.0039},{"$f":"Invoeren!CT190","v":0},{"$f":"Invoeren!C190","v":49.0039},{"$f":"Invoeren!L190","v":0},{"$f":"Invoeren!M190","v":"L"},{"$f":"Invoeren!N190","v":""},{"$f":"Invoeren!H190","v":"West"},{"$f":"Invoeren!AI190","v":125},{"$f":"Invoeren!BC190","v":44},{"$f":"Invoeren!BW190","v":166},{"$f":"Invoeren!CQ190","v":107}]
[{"$f":"Invoeren!B191","v":118},{"$f":"Invoeren!A191","v":185},{"$f":"Invoeren!E191","v":"Marlinka Grundell"},{"$f":"Invoeren!F191","v":"Z.P.C.H."},{"$f":"Invoeren!$K191","v":2005},{"$f":"Invoeren!$I191","v":0},{"$f":"Invoeren!Z191","v":5.1},{"$f":"Invoeren!AA191","v":4.8},{"$f":"Invoeren!AB191","v":4.9},{"$f":"Invoeren!AC191","v":5.1},{"$f":"Invoeren!AD191","v":{"v":5,"d":"5.0"}},{"$f":"Invoeren!AE191","v":""},{"$f":"Invoeren!AF191","v":""},{"$f":"Invoeren!AG191","v":{"v":14.999999999999996,"d":"15.0"}},{"$f":"Invoeren!AH191","v":{"v":11,"d":"11.0000"}},{"$f":"Invoeren!AT191","v":{"v":5,"d":"5.0"}},{"$f":"Invoeren!AU191","v":{"v":5,"d":"5.0"}},{"$f":"Invoeren!AV191","v":{"v":5,"d":"5.0"}},{"$f":"Invoeren!AW191","v":5.1},{"$f":"Invoeren!AX191","v":4.9},{"$f":"Invoeren!AY191","v":""},{"$f":"Invoeren!AZ191","v":""},{"$f":"Invoeren!BA191","v":{"v":14.999999999999998,"d":"15.0"}},{"$f":"Invoeren!BB191","v":{"v":11,"d":"11.0000"}},{"$f":"Invoeren!BN191","v":5.2},{"$f":"Invoeren!BO191","v":5.2},{"$f":"Invoeren!BP191","v":4.6},{"$f":"Invoeren!BQ191","v":4.9},{"$f":"Invoeren!BR191","v":{"v":5,"d":"5.0"}},{"$f":"Invoeren!BS191","v":""},{"$f":"Invoeren!BT191","v":""},{"$f":"Invoeren!BU191","v":15.1},{"$f":"Invoeren!BV191","v":{"v":10.57,"d":"10.5700"}},{"$f":"Invoeren!CH191","v":4.4},{"$f":"Invoeren!CI191","v":4.6},{"$f":"Invoeren!CJ191","v":4.7},{"$f":"Invoeren!CK191","v":4.1},{"$f":"Invoeren!CL191","v":4.3},{"$f":"Invoeren!CM191","v":""},{"$f":"Invoeren!CN191","v":""},{"$f":"Invoeren!CO191","v":{"v":13.299999999999999,"d":"13.3"}},{"$f":"Invoeren!CP191","v":10.1967},{"$f":"Invoeren!CR191","v":42.7667},{"$f":"Invoeren!CS191","v":48.5985},{"$f":"Invoeren!CT191","v":0},{"$f":"Invoeren!C191","v":48.5985},{"$f":"Invoeren!L191","v":0},{"$f":"Invoeren!M191","v":"L"},{"$f":"Invoeren!N191","v":""},{"$f":"Invoeren!H191","v":"MidWest"},{"$f":"Invoeren!AI191","v":111},{"$f":"Invoeren!BC191","v":79},{"$f":"Invoeren!BW191","v":119},{"$f":"Invoeren!CQ191","v":136}]
[{"$f":"Invoeren!B192","v":33},{"$f":"Invoeren!A192","v":186},{"$f":"Invoeren!E192","v":"Puk van der Laan"},{"$f":"Invoeren!F192","v":"AZC"},{"$f":"Invoeren!$K192","v":2003},{"$f":"Invoeren!$I192","v":0},{"$f":"Invoeren!Z192","v":5.7},{"$f":"Invoeren!AA192","v":5.4},{"$f":"Invoeren!AB192","v":5.8},{"$f":"Invoeren!AC192","v":6.4},{"$f":"Invoeren!AD192","v":5.8},{"$f":"Invoeren!AE192","v":""},{"$f":"Invoeren!AF192","v":""},{"$f":"Invoeren!AG192","v":{"v":17.300000000000004,"d":"17.3"}},{"$f":"Invoeren!AH192","v":12.6867},{"$f":"Invoeren!AT192","v":5.6},{"$f":"Invoeren!AU192","v":5.3},{"$f":"Invoeren!AV192","v":5.4},{"$f":"Invoeren!AW192","v":5.6},{"$f":"Invoeren!AX192","v":5.5},{"$f":"Invoeren!AY192","v":""},{"$f":"Invoeren!AZ192","v":""},{"$f":"Invoeren!BA192","v":{"v":16.499999999999996,"d":"16.5"}},{"$f":"Invoeren!BB192","v":{"v":12.1,"d":"12.1000"}},{"$f":"Invoeren!BN192","v":{"v":6,"d":"6.0"}},{"$f":"Invoeren!BO192","v":{"v":6,"d":"6.0"}},{"$f":"Invoeren!BP192","v":6.3},{"$f":"Invoeren!BQ192","v":6.1},{"$f":"Invoeren!BR192","v":6.3},{"$f":"Invoeren!BS192","v":""},{"$f":"Invoeren!BT192","v":""},{"$f":"Invoeren!BU192","v":18.4},{"$f":"Invoeren!BV192","v":{"v":12.88,"d":"12.8800"}},{"$f":"Invoeren!CH192","v":4.9},{"$f":"Invoeren!CI192","v":{"v":5,"d":"5.0"}},{"$f":"Invoeren!CJ192","v":{"v":5,"d":"5.0"}},{"$f":"Invoeren!CK192","v":4.7},{"$f":"Invoeren!CL192","v":4.8},{"$f":"Invoeren!CM192","v":""},{"$f":"Invoeren!CN192","v":""},{"$f":"Invoeren!CO192","v":{"v":14.700000000000003,"d":"14.7"}},{"$f":"Invoeren!CP192","v":{"v":11.27,"d":"11.2700"}},{"$f":"Invoeren!CR192","v":48.9367},{"$f":"Invoeren!CS192","v":55.6099},{"$f":"Invoeren!CT192","v":0},{"$f":"Invoeren!C192","v":55.6099},{"$f":"Invoeren!L192","v":0},{"$f":"Invoeren!M192","v":"L"},{"$f":"Invoeren!N192","v":""},{"$f":"Invoeren!H192","v":"West"},{"$f":"Invoeren!AI192","v":29},{"$f":"Invoeren!BC192","v":32},{"$f":"Invoeren!BW192","v":18},{"$f":"Invoeren!CQ192","v":76}]
[{"$f":"Invoeren!B193","v":29},{"$f":"Invoeren!A193","v":187},{"$f":"Invoeren!E193","v":"Elza van Vliet"},{"$f":"Invoeren!F193","v":"BZ&PC"},{"$f":"Invoeren!$K193","v":2003},{"$f":"Invoeren!$I193","v":0},{"$f":"Invoeren!Z193","v":5.8},{"$f":"Invoeren!AA193","v":5.8},{"$f":"Invoeren!AB193","v":5.7},{"$f":"Invoeren!AC193","v":5.6},{"$f":"Invoeren!AD193","v":5.4},{"$f":"Invoeren!AE193","v":""},{"$f":"Invoeren!AF193","v":""},{"$f":"Invoeren!AG193","v":{"v":17.099999999999994,"d":"17.1"}},{"$f":"Invoeren!AH193","v":{"v":12.54,"d":"12.5400"}},{"$f":"Invoeren!AT193","v":4.9},{"$f":"Invoeren!AU193","v":4.9},{"$f":"Invoeren!AV193","v":{"v":5,"d":"5.0"}},{"$f":"Invoeren!AW193","v":5.2},{"$f":"Invoeren!AX193","v":4.9},{"$f":"Invoeren!AY193","v":""},{"$f":"Invoeren!AZ193","v":""},{"$f":"Invoeren!BA193","v":{"v":14.799999999999999,"d":"14.8"}},{"$f":"Invoeren!BB193","v":10.8533},{"$f":"Invoeren!BN193","v":5.9},{"$f":"Invoeren!BO193","v":6.3},{"$f":"Invoeren!BP193","v":6.2},{"$f":"Invoeren!BQ193","v":{"v":6,"d":"6.0"}},{"$f":"Invoeren!BR193","v":6.2},{"$f":"Invoeren!BS193","v":""},{"$f":"Invoeren!BT193","v":""},{"$f":"Invoeren!BU193","v":18.4},{"$f":"Invoeren!BV193","v":{"v":12.88,"d":"12.8800"}},{"$f":"Invoeren!CH193","v":5.6},{"$f":"Invoeren!CI193","v":5.6},{"$f":"Invoeren!CJ193","v":5.2},{"$f":"Invoeren!CK193","v":5.6},{"$f":"Invoeren!CL193","v":5.9},{"$f":"Invoeren!CM193","v":""},{"$f":"Invoeren!CN193","v":""},{"$f":"Invoeren!CO193","v":16.8},{"$f":"Invoeren!CP193","v":{"v":12.88,"d":"12.8800"}},{"$f":"Invoeren!CR193","v":49.1533},{"$f":"Invoeren!CS193","v":{"v":55.856,"d":"55.8560"}},{"$f":"Invoeren!CT193","v":0},{"$f":"Invoeren!C193","v":{"v":55.856,"d":"55.8560"}},{"$f":"Invoeren!L193","v":0},{"$f":"Invoeren!M193","v":"L"},{"$f":"Invoeren!N193","v":""},{"$f":"Invoeren!H193","v":"West"},{"$f":"Invoeren!AI193","v":38},{"$f":"Invoeren!BC193","v":90},{"$f":"Invoeren!BW193","v":18},{"$f":"Invoeren!CQ193","v":21}]
[{"$f":"Invoeren!B194","v":127},{"$f":"Invoeren!A194","v":188},{"$f":"Invoeren!E194","v":"Lisanne Verhees"},{"$f":"Invoeren!F194","v":"ZPC Nederweert"},{"$f":"Invoeren!$K194","v":2003},{"$f":"Invoeren!$I194","v":0},{"$f":"Invoeren!Z194","v":4.5},{"$f":"Invoeren!AA194","v":4.8},{"$f":"Invoeren!AB194","v":4.5},{"$f":"Invoeren!AC194","v":5.3},{"$f":"Invoeren!AD194","v":4.8},{"$f":"Invoeren!AE194","v":""},{"$f":"Invoeren!AF194","v":""},{"$f":"Invoeren!AG194","v":{"v":14.100000000000001,"d":"14.1"}},{"$f":"Invoeren!AH194","v":{"v":10.34,"d":"10.3400"}},{"$f":"Invoeren!AT194","v":4.3},{"$f":"Invoeren!AU194","v":4.7},{"$f":"Invoeren!AV194","v":4.7},{"$f":"Invoeren!AW194","v":4.6},{"$f":"Invoeren!AX194","v":{"v":5,"d":"5.0"}},{"$f":"Invoeren!AY194","v":""},{"$f":"Invoeren!AZ194","v":""},{"$f":"Invoeren!BA194","v":{"v":13.999999999999996,"d":"14.0"}},{"$f":"Invoeren!BB194","v":10.2667},{"$f":"Invoeren!BN194","v":5.2},{"$f":"Invoeren!BO194","v":5.4},{"$f":"Invoeren!BP194","v":5.6},{"$f":"Invoeren!BQ194","v":5.7},{"$f":"Invoeren!BR194","v":4.8},{"$f":"Invoeren!BS194","v":""},{"$f":"Invoeren!BT194","v":""},{"$f":"Invoeren!BU194","v":{"v":16.200000000000003,"d":"16.2"}},{"$f":"Invoeren!BV194","v":{"v":11.34,"d":"11.3400"}},{"$f":"Invoeren!CH194","v":{"v":4,"d":"4.0"}},{"$f":"Invoeren!CI194","v":4.7},{"$f":"Invoeren!CJ194","v":4.6},{"$f":"Invoeren!CK194","v":4.6},{"$f":"Invoeren!CL194","v":3.8},{"$f":"Invoeren!CM194","v":""},{"$f":"Invoeren!CN194","v":""},{"$f":"Invoeren!CO194","v":13.2},{"$f":"Invoeren!CP194","v":{"v":10.12,"d":"10.1200"}},{"$f":"Invoeren!CR194","v":42.0667},{"$f":"Invoeren!CS194","v":47.8031},{"$f":"Invoeren!CT194","v":0},{"$f":"Invoeren!C194","v":47.8031},{"$f":"Invoeren!L194","v":0},{"$f":"Invoeren!M194","v":""},{"$f":"Invoeren!N194","v":""},{"$f":"Invoeren!H194","v":"Zuid"},{"$f":"Invoeren!AI194","v":155},{"$f":"Invoeren!BC194","v":117},{"$f":"Invoeren!BW194","v":89},{"$f":"Invoeren!CQ194","v":139}]
[{"$f":"Invoeren!B195","v":181},{"$f":"Invoeren!A195","v":189},{"$f":"Invoeren!E195","v":"Mirella Schieman"},{"$f":"Invoeren!F195","v":"DSZ"},{"$f":"Invoeren!$K195","v":2003},{"$f":"Invoeren!$I195","v":0},{"$f":"Invoeren!Z195","v":4.8},{"$f":"Invoeren!AA195","v":4.9},{"$f":"Invoeren!AB195","v":4.8},{"$f":"Invoeren!AC195","v":4.5},{"$f":"Invoeren!AD195","v":4.9},{"$f":"Invoeren!AE195","v":""},{"$f":"Invoeren!AF195","v":""},{"$f":"Invoeren!AG195","v":14.5},{"$f":"Invoeren!AH195","v":10.6333},{"$f":"Invoeren!AT195","v":3.4},{"$f":"Invoeren!AU195","v":3.8},{"$f":"Invoeren!AV195","v":3.7},{"$f":"Invoeren!AW195","v":3.8},{"$f":"Invoeren!AX195","v":4.1},{"$f":"Invoeren!AY195","v":""},{"$f":"Invoeren!AZ195","v":""},{"$f":"Invoeren!BA195","v":{"v":11.299999999999997,"d":"11.3"}},{"$f":"Invoeren!BB195","v":8.2867},{"$f":"Invoeren!BN195","v":4.9},{"$f":"Invoeren!BO195","v":4.7},{"$f":"Invoeren!BP195","v":3.8},{"$f":"Invoeren!BQ195","v":4.3},{"$f":"Invoeren!BR195","v":4.3},{"$f":"Invoeren!BS195","v":""},{"$f":"Invoeren!BT195","v":""},{"$f":"Invoeren!BU195","v":13.3},{"$f":"Invoeren!BV195","v":{"v":9.31,"d":"9.3100"}},{"$f":"Invoeren!CH195","v":4.1},{"$f":"Invoeren!CI195","v":{"v":4,"d":"4.0"}},{"$f":"Invoeren!CJ195","v":4.3},{"$f":"Invoeren!CK195","v":4.1},{"$f":"Invoeren!CL195","v":3.7},{"$f":"Invoeren!CM195","v":""},{"$f":"Invoeren!CN195","v":""},{"$f":"Invoeren!CO195","v":12.2},{"$f":"Invoeren!CP195","v":9.3533},{"$f":"Invoeren!CR195","v":{"v":37.58330000000001,"d":"37.5833"}},{"$f":"Invoeren!CS195","v":42.7083},{"$f":"Invoeren!CT195","v":0},{"$f":"Invoeren!C195","v":42.7083},{"$f":"Invoeren!L195","v":0},{"$f":"Invoeren!M195","v":""},{"$f":"Invoeren!N195","v":""},{"$f":"Invoeren!H195","v":"West"},{"$f":"Invoeren!AI195","v":130},{"$f":"Invoeren!BC195","v":189},{"$f":"Invoeren!BW195","v":185},{"$f":"Invoeren!CQ195","v":175}]
[{"$f":"Invoeren!B196","v":135},{"$f":"Invoeren!A196","v":190},{"$f":"Invoeren!E196","v":"Iris Schrama"},{"$f":"Invoeren!F196","v":"Z.P.C.H."},{"$f":"Invoeren!$K196","v":2005},{"$f":"Invoeren!$I196","v":0},{"$f":"Invoeren!Z196","v":{"v":5,"d":"5.0"}},{"$f":"Invoeren!AA196","v":4.6},{"$f":"Invoeren!AB196","v":4.7},{"$f":"Invoeren!AC196","v":4.6},{"$f":"Invoeren!AD196","v":4.9},{"$f":"Invoeren!AE196","v":""},{"$f":"Invoeren!AF196","v":""},{"$f":"Invoeren!AG196","v":{"v":14.199999999999998,"d":"14.2"}},{"$f":"Invoeren!AH196","v":10.4133},{"$f":"Invoeren!AT196","v":{"v":5,"d":"5.0"}},{"$f":"Invoeren!AU196","v":4.5},{"$f":"Invoeren!AV196","v":5.2},{"$f":"Invoeren!AW196","v":5.2},{"$f":"Invoeren!AX196","v":4.9},{"$f":"Invoeren!AY196","v":""},{"$f":"Invoeren!AZ196","v":""},{"$f":"Invoeren!BA196","v":{"v":15.099999999999998,"d":"15.1"}},{"$f":"Invoeren!BB196","v":11.0733},{"$f":"Invoeren!BN196","v":4.4},{"$f":"Invoeren!BO196","v":4.9},{"$f":"Invoeren!BP196","v":4.7},{"$f":"Invoeren!BQ196","v":4.6},{"$f":"Invoeren!BR196","v":4.7},{"$f":"Invoeren!BS196","v":""},{"$f":"Invoeren!BT196","v":""},{"$f":"Invoeren!BU196","v":{"v":13.999999999999998,"d":"14.0"}},{"$f":"Invoeren!BV196","v":{"v":9.8,"d":"9.8000"}},{"$f":"Invoeren!CH196","v":4.5},{"$f":"Invoeren!CI196","v":4.7},{"$f":"Invoeren!CJ196","v":4.7},{"$f":"Invoeren!CK196","v":{"v":4,"d":"4.0"}},{"$f":"Invoeren!CL196","v":4.4},{"$f":"Invoeren!CM196","v":""},{"$f":"Invoeren!CN196","v":""},{"$f":"Invoeren!CO196","v":{"v":13.599999999999998,"d":"13.6"}},{"$f":"Invoeren!CP196","v":10.4267},{"$f":"Invoeren!CR196","v":{"v":41.713300000000004,"d":"41.7133"}},{"$f":"Invoeren!CS196","v":47.4015},{"$f":"Invoeren!CT196","v":0},{"$f":"Invoeren!C196","v":47.4015},{"$f":"Invoeren!L196","v":0},{"$f":"Invoeren!M196","v":"L"},{"$f":"Invoeren!N196","v":""},{"$f":"Invoeren!H196","v":"MidWest"},{"$f":"Invoeren!AI196","v":148},{"$f":"Invoeren!BC196","v":74},{"$f":"Invoeren!BW196","v":166},{"$f":"Invoeren!CQ196","v":128}]
[{"$f":"Invoeren!B197","v":183},{"$f":"Invoeren!A197","v":191},{"$f":"Invoeren!E197","v":"Linda Glebbeek"},{"$f":"Invoeren!F197","v":"Widex Gzc Donk"},{"$f":"Invoeren!$K197","v":2005},{"$f":"Invoeren!$I197","v":0},{"$f":"Invoeren!Z197","v":{"v":4,"d":"4.0"}},{"$f":"Invoeren!AA197","v":4.4},{"$f":"Invoeren!AB197","v":4.3},{"$f":"Invoeren!AC197","v":4.4},{"$f":"Invoeren!AD197","v":{"v":4,"d":"4.0"}},{"$f":"Invoeren!AE197","v":""},{"$f":"Invoeren!AF197","v":""},{"$f":"Invoeren!AG197","v":{"v":12.700000000000003,"d":"12.7"}},{"$f":"Invoeren!AH197","v":9.3133},{"$f":"Invoeren!AT197","v":3.9},{"$f":"Invoeren!AU197","v":4.6},{"$f":"Invoeren!AV197","v":4.3},{"$f":"Invoeren!AW197","v":{"v":4,"d":"4.0"}},{"$f":"Invoeren!AX197","v":3.9},{"$f":"Invoeren!AY197","v":""},{"$f":"Invoeren!AZ197","v":""},{"$f":"Invoeren!BA197","v":{"v":12.200000000000001,"d":"12.2"}},{"$f":"Invoeren!BB197","v":8.9467},{"$f":"Invoeren!BN197","v":4.3},{"$f":"Invoeren!BO197","v":{"v":5,"d":"5.0"}},{"$f":"Invoeren!BP197","v":{"v":4,"d":"4.0"}},{"$f":"Invoeren!BQ197","v":{"v":4,"d":"4.0"}},{"$f":"Invoeren!BR197","v":5.2},{"$f":"Invoeren!BS197","v":""},{"$f":"Invoeren!BT197","v":""},{"$f":"Invoeren!BU197","v":13.3},{"$f":"Invoeren!BV197","v":{"v":9.31,"d":"9.3100"}},{"$f":"Invoeren!CH197","v":3.9},{"$f":"Invoeren!CI197","v":4.2},{"$f":"Invoeren!CJ197","v":4.3},{"$f":"Invoeren!CK197","v":4.4},{"$f":"Invoeren!CL197","v":4.2},{"$f":"Invoeren!CM197","v":""},{"$f":"Invoeren!CN197","v":""},{"$f":"Invoeren!CO197","v":{"v":12.699999999999994,"d":"12.7"}},{"$f":"Invoeren!CP197","v":9.7367},{"$f":"Invoeren!CR197","v":37.3067},{"$f":"Invoeren!CS197","v":{"v":42.394,"d":"42.3940"}},{"$f":"Invoeren!CT197","v":0},{"$f":"Invoeren!C197","v":{"v":42.394,"d":"42.3940"}},{"$f":"Invoeren!L197","v":0},{"$f":"Invoeren!M197","v":""},{"$f":"Invoeren!N197","v":""},{"$f":"Invoeren!H197","v":"West"},{"$f":"Invoeren!AI197","v":185},{"$f":"Invoeren!BC197","v":177},{"$f":"Invoeren!BW197","v":185},{"$f":"Invoeren!CQ197","v":158}]
[{"$f":"Invoeren!B198","v":67},{"$f":"Invoeren!A198","v":192},{"$f":"Invoeren!E198","v":"Charlotte Vos"},{"$f":"Invoeren!F198","v":"ZV de Zaan"},{"$f":"Invoeren!$K198","v":2003},{"$f":"Invoeren!$I198","v":0},{"$f":"Invoeren!Z198","v":5.1},{"$f":"Invoeren!AA198","v":5.8},{"$f":"Invoeren!AB198","v":5.1},{"$f":"Invoeren!AC198","v":5.4},{"$f":"Invoeren!AD198","v":5.4},{"$f":"Invoeren!AE198","v":""},{"$f":"Invoeren!AF198","v":""},{"$f":"Invoeren!AG198","v":{"v":15.899999999999997,"d":"15.9"}},{"$f":"Invoeren!AH198","v":{"v":11.66,"d":"11.6600"}},{"$f":"Invoeren!AT198","v":4.9},{"$f":"Invoeren!AU198","v":{"v":5,"d":"5.0"}},{"$f":"Invoeren!AV198","v":5.7},{"$f":"Invoeren!AW198","v":5.3},{"$f":"Invoeren!AX198","v":5.3},{"$f":"Invoeren!AY198","v":""},{"$f":"Invoeren!AZ198","v":""},{"$f":"Invoeren!BA198","v":{"v":15.600000000000003,"d":"15.6"}},{"$f":"Invoeren!BB198","v":{"v":11.44,"d":"11.4400"}},{"$f":"Invoeren!BN198","v":5.4},{"$f":"Invoeren!BO198","v":5.3},{"$f":"Invoeren!BP198","v":5.6},{"$f":"Invoeren!BQ198","v":5.4},{"$f":"Invoeren!BR198","v":5.9},{"$f":"Invoeren!BS198","v":""},{"$f":"Invoeren!BT198","v":""},{"$f":"Invoeren!BU198","v":{"v":16.399999999999995,"d":"16.4"}},{"$f":"Invoeren!BV198","v":{"v":11.48,"d":"11.4800"}},{"$f":"Invoeren!CH198","v":4.7},{"$f":"Invoeren!CI198","v":4.8},{"$f":"Invoeren!CJ198","v":4.9},{"$f":"Invoeren!CK198","v":4.8},{"$f":"Invoeren!CL198","v":4.8},{"$f":"Invoeren!CM198","v":""},{"$f":"Invoeren!CN198","v":""},{"$f":"Invoeren!CO198","v":{"v":14.400000000000002,"d":"14.4"}},{"$f":"Invoeren!CP198","v":{"v":11.04,"d":"11.0400"}},{"$f":"Invoeren!CR198","v":{"v":45.62,"d":"45.6200"}},{"$f":"Invoeren!CS198","v":51.8409},{"$f":"Invoeren!CT198","v":0},{"$f":"Invoeren!C198","v":51.8409},{"$f":"Invoeren!L198","v":0},{"$f":"Invoeren!M198","v":"L"},{"$f":"Invoeren!N198","v":""},{"$f":"Invoeren!H198","v":"MidWest"},{"$f":"Invoeren!AI198","v":79},{"$f":"Invoeren!BC198","v":60},{"$f":"Invoeren!BW198","v":84},{"$f":"Invoeren!CQ198","v":92}]
[{"$f":"Invoeren!B199","v":69},{"$f":"Invoeren!A199","v":193},{"$f":"Invoeren!E199","v":"Danielle Verleun"},{"$f":"Invoeren!F199","v":"BZ&PC"},{"$f":"Invoeren!$K199","v":2003},{"$f":"Invoeren!$I199","v":0},{"$f":"Invoeren!Z199","v":5.3},{"$f":"Invoeren!AA199","v":5.5},{"$f":"Invoeren!AB199","v":5.4},{"$f":"Invoeren!AC199","v":4.7},{"$f":"Invoeren!AD199","v":5.7},{"$f":"Invoeren!AE199","v":""},{"$f":"Invoeren!AF199","v":""},{"$f":"Invoeren!AG199","v":{"v":16.200000000000003,"d":"16.2"}},{"$f":"Invoeren!AH199","v":{"v":11.88,"d":"11.8800"}},{"$f":"Invoeren!AT199","v":5.4},{"$f":"Invoeren!AU199","v":5.2},{"$f":"Invoeren!AV199","v":5.5},{"$f":"Invoeren!AW199","v":5.7},{"$f":"Invoeren!AX199","v":5.5},{"$f":"Invoeren!AY199","v":""},{"$f":"Invoeren!AZ199","v":""},{"$f":"Invoeren!BA199","v":{"v":16.400000000000002,"d":"16.4"}},{"$f":"Invoeren!BB199","v":12.0267},{"$f":"Invoeren!BN199","v":4.6},{"$f":"Invoeren!BO199","v":5.4},{"$f":"Invoeren!BP199","v":4.9},{"$f":"Invoeren!BQ199","v":4.9},{"$f":"Invoeren!BR199","v":5.5},{"$f":"Invoeren!BS199","v":""},{"$f":"Invoeren!BT199","v":""},{"$f":"Invoeren!BU199","v":{"v":15.200000000000001,"d":"15.2"}},{"$f":"Invoeren!BV199","v":{"v":10.64,"d":"10.6400"}},{"$f":"Invoeren!CH199","v":4.4},{"$f":"Invoeren!CI199","v":4.6},{"$f":"Invoeren!CJ199","v":4.8},{"$f":"Invoeren!CK199","v":4.9},{"$f":"Invoeren!CL199","v":{"v":5,"d":"5.0"}},{"$f":"Invoeren!CM199","v":""},{"$f":"Invoeren!CN199","v":""},{"$f":"Invoeren!CO199","v":{"v":14.300000000000002,"d":"14.3"}},{"$f":"Invoeren!CP199","v":10.9633},{"$f":"Invoeren!CR199","v":{"v":45.510000000000005,"d":"45.5100"}},{"$f":"Invoeren!CS199","v":51.7159},{"$f":"Invoeren!CT199","v":0},{"$f":"Invoeren!C199","v":51.7159},{"$f":"Invoeren!L199","v":0},{"$f":"Invoeren!M199","v":"L"},{"$f":"Invoeren!N199","v":""},{"$f":"Invoeren!H199","v":"West"},{"$f":"Invoeren!AI199","v":68},{"$f":"Invoeren!BC199","v":36},{"$f":"Invoeren!BW199","v":117},{"$f":"Invoeren!CQ199","v":96}]
[{"$f":"Invoeren!B200","v":80},{"$f":"Invoeren!A200","v":194},{"$f":"Invoeren!E200","v":"Britt Verhaeg"},{"$f":"Invoeren!F200","v":"HZPC Horst"},{"$f":"Invoeren!$K200","v":2003},{"$f":"Invoeren!$I200","v":0},{"$f":"Invoeren!Z200","v":5.1},{"$f":"Invoeren!AA200","v":{"v":5,"d":"5.0"}},{"$f":"Invoeren!AB200","v":5.2},{"$f":"Invoeren!AC200","v":5.7},{"$f":"Invoeren!AD200","v":5.6},{"$f":"Invoeren!AE200","v":""},{"$f":"Invoeren!AF200","v":""},{"$f":"Invoeren!AG200","v":{"v":15.900000000000002,"d":"15.9"}},{"$f":"Invoeren!AH200","v":{"v":11.66,"d":"11.6600"}},{"$f":"Invoeren!AT200","v":5.1},{"$f":"Invoeren!AU200","v":5.1},{"$f":"Invoeren!AV200","v":{"v":5,"d":"5.0"}},{"$f":"Invoeren!AW200","v":4.9},{"$f":"Invoeren!AX200","v":5.1},{"$f":"Invoeren!AY200","v":""},{"$f":"Invoeren!AZ200","v":""},{"$f":"Invoeren!BA200","v":{"v":15.200000000000001,"d":"15.2"}},{"$f":"Invoeren!BB200","v":11.1467},{"$f":"Invoeren!BN200","v":{"v":5,"d":"5.0"}},{"$f":"Invoeren!BO200","v":5.5},{"$f":"Invoeren!BP200","v":5.3},{"$f":"Invoeren!BQ200","v":5.9},{"$f":"Invoeren!BR200","v":4.8},{"$f":"Invoeren!BS200","v":""},{"$f":"Invoeren!BT200","v":""},{"$f":"Invoeren!BU200","v":15.8},{"$f":"Invoeren!BV200","v":{"v":11.06,"d":"11.0600"}},{"$f":"Invoeren!CH200","v":4.8},{"$f":"Invoeren!CI200","v":5.1},{"$f":"Invoeren!CJ200","v":5.1},{"$f":"Invoeren!CK200","v":4.8},{"$f":"Invoeren!CL200","v":4.6},{"$f":"Invoeren!CM200","v":""},{"$f":"Invoeren!CN200","v":""},{"$f":"Invoeren!CO200","v":{"v":14.699999999999998,"d":"14.7"}},{"$f":"Invoeren!CP200","v":{"v":11.27,"d":"11.2700"}},{"$f":"Invoeren!CR200","v":{"v":45.136700000000005,"d":"45.1367"}},{"$f":"Invoeren!CS200","v":51.2917},{"$f":"Invoeren!CT200","v":0},{"$f":"Invoeren!C200","v":51.2917},{"$f":"Invoeren!L200","v":0},{"$f":"Invoeren!M200","v":"L"},{"$f":"Invoeren!N200","v":""},{"$f":"Invoeren!H200","v":"zuid"},{"$f":"Invoeren!AI200","v":79},{"$f":"Invoeren!BC200","v":72},{"$f":"Invoeren!BW200","v":101},{"$f":"Invoeren!CQ200","v":76}]
[{"$f":"Invoeren!B201","v":111},{"$f":"Invoeren!A201","v":195},{"$f":"Invoeren!E201","v":"Marola Youssef"},{"$f":"Invoeren!F201","v":"Z.P.C.H."},{"$f":"Invoeren!$K201","v":2005},{"$f":"Invoeren!$I201","v":0},{"$f":"Invoeren!Z201","v":5.2},{"$f":"Invoeren!AA201","v":5.3},{"$f":"Invoeren!AB201","v":{"v":5,"d":"5.0"}},{"$f":"Invoeren!AC201","v":4.8},{"$f":"Invoeren!AD201","v":4.9},{"$f":"Invoeren!AE201","v":""},{"$f":"Invoeren!AF201","v":""},{"$f":"Invoeren!AG201","v":{"v":15.100000000000001,"d":"15.1"}},{"$f":"Invoeren!AH201","v":11.0733},{"$f":"Invoeren!AT201","v":4.8},{"$f":"Invoeren!AU201","v":4.9},{"$f":"Invoeren!AV201","v":4.8},{"$f":"Invoeren!AW201","v":4.7},{"$f":"Invoeren!AX201","v":4.5},{"$f":"Invoeren!AY201","v":""},{"$f":"Invoeren!AZ201","v":""},{"$f":"Invoeren!BA201","v":{"v":14.299999999999997,"d":"14.3"}},{"$f":"Invoeren!BB201","v":10.4867},{"$f":"Invoeren!BN201","v":4.4},{"$f":"Invoeren!BO201","v":5.1},{"$f":"Invoeren!BP201","v":5.2},{"$f":"Invoeren!BQ201","v":5.1},{"$f":"Invoeren!BR201","v":5.5},{"$f":"Invoeren!BS201","v":""},{"$f":"Invoeren!BT201","v":""},{"$f":"Invoeren!BU201","v":{"v":15.399999999999997,"d":"15.4"}},{"$f":"Invoeren!BV201","v":{"v":10.78,"d":"10.7800"}},{"$f":"Invoeren!CH201","v":4.9},{"$f":"Invoeren!CI201","v":4.6},{"$f":"Invoeren!CJ201","v":4.9},{"$f":"Invoeren!CK201","v":4.7},{"$f":"Invoeren!CL201","v":4.3},{"$f":"Invoeren!CM201","v":""},{"$f":"Invoeren!CN201","v":""},{"$f":"Invoeren!CO201","v":14.2},{"$f":"Invoeren!CP201","v":10.8867},{"$f":"Invoeren!CR201","v":43.2267},{"$f":"Invoeren!CS201","v":49.1213},{"$f":"Invoeren!CT201","v":0},{"$f":"Invoeren!C201","v":49.1213},{"$f":"Invoeren!L201","v":0},{"$f":"Invoeren!M201","v":"L"},{"$f":"Invoeren!N201","v":""},{"$f":"Invoeren!H201","v":"MidWest"},{"$f":"Invoeren!AI201","v":108},{"$f":"Invoeren!BC201","v":108},{"$f":"Invoeren!BW201","v":111},{"$f":"Invoeren!CQ201","v":103}]
[{"$f":"Invoeren!B202","v":129},{"$f":"Invoeren!A202","v":196},{"$f":"Invoeren!E202","v":"Romy van Wijngaarden"},{"$f":"Invoeren!F202","v":"Widex Gzc Donk"},{"$f":"Invoeren!$K202","v":2005},{"$f":"Invoeren!$I202","v":0},{"$f":"Invoeren!Z202","v":4.6},{"$f":"Invoeren!AA202","v":4.6},{"$f":"Invoeren!AB202","v":4.7},{"$f":"Invoeren!AC202","v":5.1},{"$f":"Invoeren!AD202","v":4.9},{"$f":"Invoeren!AE202","v":""},{"$f":"Invoeren!AF202","v":""},{"$f":"Invoeren!AG202","v":{"v":14.199999999999998,"d":"14.2"}},{"$f":"Invoeren!AH202","v":10.4133},{"$f":"Invoeren!AT202","v":4.4},{"$f":"Invoeren!AU202","v":4.7},{"$f":"Invoeren!AV202","v":5.1},{"$f":"Invoeren!AW202","v":5.2},{"$f":"Invoeren!AX202","v":4.7},{"$f":"Invoeren!AY202","v":""},{"$f":"Invoeren!AZ202","v":""},{"$f":"Invoeren!BA202","v":{"v":14.500000000000002,"d":"14.5"}},{"$f":"Invoeren!BB202","v":10.6333},{"$f":"Invoeren!BN202","v":4.8},{"$f":"Invoeren!BO202","v":5.2},{"$f":"Invoeren!BP202","v":5.1},{"$f":"Invoeren!BQ202","v":5.4},{"$f":"Invoeren!BR202","v":5.3},{"$f":"Invoeren!BS202","v":""},{"$f":"Invoeren!BT202","v":""},{"$f":"Invoeren!BU202","v":{"v":15.599999999999998,"d":"15.6"}},{"$f":"Invoeren!BV202","v":{"v":10.92,"d":"10.9200"}},{"$f":"Invoeren!CH202","v":4.3},{"$f":"Invoeren!CI202","v":4.7},{"$f":"Invoeren!CJ202","v":4.6},{"$f":"Invoeren!CK202","v":4.2},{"$f":"Invoeren!CL202","v":{"v":4,"d":"4.0"}},{"$f":"Invoeren!CM202","v":""},{"$f":"Invoeren!CN202","v":""},{"$f":"Invoeren!CO202","v":{"v":13.100000000000001,"d":"13.1"}},{"$f":"Invoeren!CP202","v":10.0433},{"$f":"Invoeren!CR202","v":42.0099},{"$f":"Invoeren!CS202","v":47.7385},{"$f":"Invoeren!CT202","v":0},{"$f":"Invoeren!C202","v":47.7385},{"$f":"Invoeren!L202","v":0},{"$f":"Invoeren!M202","v":"L"},{"$f":"Invoeren!N202","v":""},{"$f":"Invoeren!H202","v":"West"},{"$f":"Invoeren!AI202","v":148},{"$f":"Invoeren!BC202","v":100},{"$f":"Invoeren!BW202","v":106},{"$f":"Invoeren!CQ202","v":144}]
[{"$f":"Invoeren!B203","v":13},{"$f":"Invoeren!A203","v":197},{"$f":"Invoeren!E203","v":"Sophie de Cock"},{"$f":"Invoeren!F203","v":"PSV Synchro Team Eindhoven"},{"$f":"Invoeren!$K203","v":2003},{"$f":"Invoeren!$I203","v":0},{"$f":"Invoeren!Z203","v":6.3},{"$f":"Invoeren!AA203","v":6.6},{"$f":"Invoeren!AB203","v":6.5},{"$f":"Invoeren!AC203","v":6.4},{"$f":"Invoeren!AD203","v":6.2},{"$f":"Invoeren!AE203","v":""},{"$f":"Invoeren!AF203","v":""},{"$f":"Invoeren!AG203","v":19.2},{"$f":"Invoeren!AH203","v":{"v":14.08,"d":"14.0800"}},{"$f":"Invoeren!AT203","v":6.2},{"$f":"Invoeren!AU203","v":5.2},{"$f":"Invoeren!AV203","v":5.8},{"$f":"Invoeren!AW203","v":{"v":6,"d":"6.0"}},{"$f":"Invoeren!AX203","v":5.4},{"$f":"Invoeren!AY203","v":""},{"$f":"Invoeren!AZ203","v":""},{"$f":"Invoeren!BA203","v":{"v":17.200000000000003,"d":"17.2"}},{"$f":"Invoeren!BB203","v":12.6133},{"$f":"Invoeren!BN203","v":6.2},{"$f":"Invoeren!BO203","v":6.3},{"$f":"Invoeren!BP203","v":6.2},{"$f":"Invoeren!BQ203","v":6.1},{"$f":"Invoeren!BR203","v":7.1},{"$f":"Invoeren!BS203","v":""},{"$f":"Invoeren!BT203","v":""},{"$f":"Invoeren!BU203","v":{"v":18.699999999999996,"d":"18.7"}},{"$f":"Invoeren!BV203","v":{"v":13.09,"d":"13.0900"}},{"$f":"Invoeren!CH203","v":{"v":6,"d":"6.0"}},{"$f":"Invoeren!CI203","v":5.6},{"$f":"Invoeren!CJ203","v":5.5},{"$f":"Invoeren!CK203","v":5.2},{"$f":"Invoeren!CL203","v":{"v":6,"d":"6.0"}},{"$f":"Invoeren!CM203","v":""},{"$f":"Invoeren!CN203","v":""},{"$f":"Invoeren!CO203","v":17.1},{"$f":"Invoeren!CP203","v":{"v":13.11,"d":"13.1100"}},{"$f":"Invoeren!CR203","v":{"v":52.893299999999996,"d":"52.8933"}},{"$f":"Invoeren!CS203","v":{"v":60.106,"d":"60.1060"}},{"$f":"Invoeren!CT203","v":0},{"$f":"Invoeren!C203","v":{"v":60.106,"d":"60.1060"}},{"$f":"Invoeren!L203","v":0},{"$f":"Invoeren!M203","v":"L"},{"$f":"Invoeren!N203","v":""},{"$f":"Invoeren!H203","v":"Zuid"},{"$f":"Invoeren!AI203","v":4},{"$f":"Invoeren!BC203","v":18},{"$f":"Invoeren!BW203","v":15},{"$f":"Invoeren!CQ203","v":16}]
[{"$f":"Invoeren!B204","v":193},{"$f":"Invoeren!A204","v":198},{"$f":"Invoeren!E204","v":"Mirjam Jochemsen"},{"$f":"Invoeren!F204","v":"AZC"},{"$f":"Invoeren!$K204","v":2004},{"$f":"Invoeren!$I204","v":0},{"$f":"Invoeren!Z204","v":{"v":0,"d":"0.0"}},{"$f":"Invoeren!AA204","v":{"v":0,"d":"0.0"}},{"$f":"Invoeren!AB204","v":{"v":0,"d":"0.0"}},{"$f":"Invoeren!AC204","v":{"v":0,"d":"0.0"}},{"$f":"Invoeren!AD204","v":{"v":0,"d":"0.0"}},{"$f":"Invoeren!AE204","v":""},{"$f":"Invoeren!AF204","v":""},{"$f":"Invoeren!AG204","v":{"v":0,"d":"0.0"}},{"$f":"Invoeren!AH204","v":{"v":0,"d":"0.0000"}},{"$f":"Invoeren!AT204","v":{"v":0,"d":"0.0"}},{"$f":"Invoeren!AU204","v":{"v":0,"d":"0.0"}},{"$f":"Invoeren!AV204","v":{"v":0,"d":"0.0"}},{"$f":"Invoeren!AW204","v":{"v":0,"d":"0.0"}},{"$f":"Invoeren!AX204","v":{"v":0,"d":"0.0"}},{"$f":"Invoeren!AY204","v":""},{"$f":"Invoeren!AZ204","v":""},{"$f":"Invoeren!BA204","v":{"v":0,"d":"0.0"}},{"$f":"Invoeren!BB204","v":{"v":0,"d":"0.0000"}},{"$f":"Invoeren!BN204","v":{"v":0,"d":"0.0"}},{"$f":"Invoeren!BO204","v":{"v":0,"d":"0.0"}},{"$f":"Invoeren!BP204","v":{"v":0,"d":"0.0"}},{"$f":"Invoeren!BQ204","v":{"v":0,"d":"0.0"}},{"$f":"Invoeren!BR204","v":{"v":0,"d":"0.0"}},{"$f":"Invoeren!BS204","v":""},{"$f":"Invoeren!BT204","v":""},{"$f":"Invoeren!BU204","v":{"v":0,"d":"0.0"}},{"$f":"Invoeren!BV204","v":{"v":0,"d":"0.0000"}},{"$f":"Invoeren!CH204","v":{"v":0,"d":"0.0"}},{"$f":"Invoeren!CI204","v":{"v":0,"d":"0.0"}},{"$f":"Invoeren!CJ204","v":{"v":0,"d":"0.0"}},{"$f":"Invoeren!CK204","v":{"v":0,"d":"0.0"}},{"$f":"Invoeren!CL204","v":{"v":0,"d":"0.0"}},{"$f":"Invoeren!CM204","v":""},{"$f":"Invoeren!CN204","v":""},{"$f":"Invoeren!CO204","v":{"v":0,"d":"0.0"}},{"$f":"Invoeren!CP204","v":{"v":0,"d":"0.0000"}},{"$f":"Invoeren!CR204","v":0},{"$f":"Invoeren!CS204","v":0},{"$f":"Invoeren!CT204","v":0},{"$f":"Invoeren!C204","v":0},{"$f":"Invoeren!L204","v":0},{"$f":"Invoeren!M204","v":""},{"$f":"Invoeren!N204","v":""},{"$f":"Invoeren!H204","v":"West"},{"$f":"Invoeren!AI204","v":""},{"$f":"Invoeren!BC204","v":""},{"$f":"Invoeren!BW204","v":""},{"$f":"Invoeren!CQ204","v":""}]
[{"$f":"Invoeren!B205","v":100},{"$f":"Invoeren!A205","v":199},{"$f":"Invoeren!E205","v":"Naomi Baggerman"},{"$f":"Invoeren!F205","v":"DSZ"},{"$f":"Invoeren!$K205","v":2004},{"$f":"Invoeren!$I205","v":0},{"$f":"Invoeren!Z205","v":4.8},{"$f":"Invoeren!AA205","v":4.7},{"$f":"Invoeren!AB205","v":4.8},{"$f":"Invoeren!AC205","v":4.8},{"$f":"Invoeren!AD205","v":4.6},{"$f":"Invoeren!AE205","v":""},{"$f":"Invoeren!AF205","v":""},{"$f":"Invoeren!AG205","v":{"v":14.300000000000002,"d":"14.3"}},{"$f":"Invoeren!AH205","v":10.4867},{"$f":"Invoeren!AT205","v":5.3},{"$f":"Invoeren!AU205","v":5.3},{"$f":"Invoeren!AV205","v":{"v":5,"d":"5.0"}},{"$f":"Invoeren!AW205","v":5.6},{"$f":"Invoeren!AX205","v":4.9},{"$f":"Invoeren!AY205","v":""},{"$f":"Invoeren!AZ205","v":""},{"$f":"Invoeren!BA205","v":15.6},{"$f":"Invoeren!BB205","v":{"v":11.44,"d":"11.4400"}},{"$f":"Invoeren!BN205","v":5.1},{"$f":"Invoeren!BO205","v":5.1},{"$f":"Invoeren!BP205","v":5.4},{"$f":"Invoeren!BQ205","v":5.1},{"$f":"Invoeren!BR205","v":5.6},{"$f":"Invoeren!BS205","v":""},{"$f":"Invoeren!BT205","v":""},{"$f":"Invoeren!BU205","v":{"v":15.599999999999996,"d":"15.6"}},{"$f":"Invoeren!BV205","v":{"v":10.92,"d":"10.9200"}},{"$f":"Invoeren!CH205","v":4.5},{"$f":"Invoeren!CI205","v":{"v":5,"d":"5.0"}},{"$f":"Invoeren!CJ205","v":4.8},{"$f":"Invoeren!CK205","v":4.9},{"$f":"Invoeren!CL205","v":4.2},{"$f":"Invoeren!CM205","v":""},{"$f":"Invoeren!CN205","v":""},{"$f":"Invoeren!CO205","v":{"v":14.200000000000003,"d":"14.2"}},{"$f":"Invoeren!CP205","v":10.8867},{"$f":"Invoeren!CR205","v":{"v":43.733399999999996,"d":"43.7334"}},{"$f":"Invoeren!CS205","v":{"v":49.697,"d":"49.6970"}},{"$f":"Invoeren!CT205","v":0},{"$f":"Invoeren!C205","v":{"v":49.697,"d":"49.6970"}},{"$f":"Invoeren!L205","v":0},{"$f":"Invoeren!M205","v":"L"},{"$f":"Invoeren!N205","v":""},{"$f":"Invoeren!H205","v":"West"},{"$f":"Invoeren!AI205","v":143},{"$f":"Invoeren!BC205","v":60},{"$f":"Invoeren!BW205","v":106},{"$f":"Invoeren!CQ205","v":103}]
[{"$f":"Invoeren!B206","v":68},{"$f":"Invoeren!A206","v":200},{"$f":"Invoeren!E206","v":"Laura Otten"},{"$f":"Invoeren!F206","v":"HZPC Horst"},{"$f":"Invoeren!$K206","v":2003},{"$f":"Invoeren!$I206","v":0},{"$f":"Invoeren!Z206","v":5.4},{"$f":"Invoeren!AA206","v":5.9},{"$f":"Invoeren!AB206","v":5.2},{"$f":"Invoeren!AC206","v":5.8},{"$f":"Invoeren!AD206","v":5.2},{"$f":"Invoeren!AE206","v":""},{"$f":"Invoeren!AF206","v":""},{"$f":"Invoeren!AG206","v":{"v":16.400000000000002,"d":"16.4"}},{"$f":"Invoeren!AH206","v":12.0267},{"$f":"Invoeren!AT206","v":{"v":5,"d":"5.0"}},{"$f":"Invoeren!AU206","v":5.5},{"$f":"Invoeren!AV206","v":4.5},{"$f":"Invoeren!AW206","v":4.8},{"$f":"Invoeren!AX206","v":5.2},{"$f":"Invoeren!AY206","v":""},{"$f":"Invoeren!AZ206","v":""},{"$f":"Invoeren!BA206","v":{"v":15,"d":"15.0"}},{"$f":"Invoeren!BB206","v":{"v":11,"d":"11.0000"}},{"$f":"Invoeren!BN206","v":5.4},{"$f":"Invoeren!BO206","v":5.2},{"$f":"Invoeren!BP206","v":5.5},{"$f":"Invoeren!BQ206","v":5.3},{"$f":"Invoeren!BR206","v":5.1},{"$f":"Invoeren!BS206","v":""},{"$f":"Invoeren!BT206","v":""},{"$f":"Invoeren!BU206","v":15.9},{"$f":"Invoeren!BV206","v":{"v":11.13,"d":"11.1300"}},{"$f":"Invoeren!CH206","v":4.7},{"$f":"Invoeren!CI206","v":5.4},{"$f":"Invoeren!CJ206","v":{"v":5,"d":"5.0"}},{"$f":"Invoeren!CK206","v":5.1},{"$f":"Invoeren!CL206","v":4.8},{"$f":"Invoeren!CM206","v":""},{"$f":"Invoeren!CN206","v":""},{"$f":"Invoeren!CO206","v":{"v":14.900000000000002,"d":"14.9"}},{"$f":"Invoeren!CP206","v":11.4233},{"$f":"Invoeren!CR206","v":{"v":45.58,"d":"45.5800"}},{"$f":"Invoeren!CS206","v":51.7955},{"$f":"Invoeren!CT206","v":0},{"$f":"Invoeren!C206","v":51.7955},{"$f":"Invoeren!L206","v":0},{"$f":"Invoeren!M206","v":"L"},{"$f":"Invoeren!N206","v":""},{"$f":"Invoeren!H206","v":"zuid"},{"$f":"Invoeren!AI206","v":58},{"$f":"Invoeren!BC206","v":79},{"$f":"Invoeren!BW206","v":98},{"$f":"Invoeren!CQ206","v":65}]
[{"$f":"Invoeren!B207","v":193},{"$f":"Invoeren!A207","v":201},{"$f":"Invoeren!E207","v":"Kyra Roelands "},{"$f":"Invoeren!F207","v":"AZC"},{"$f":"Invoeren!$K207","v":2003},{"$f":"Invoeren!$I207","v":0},{"$f":"Invoeren!Z207","v":{"v":0,"d":"0.0"}},{"$f":"Invoeren!AA207","v":{"v":0,"d":"0.0"}},{"$f":"Invoeren!AB207","v":{"v":0,"d":"0.0"}},{"$f":"Invoeren!AC207","v":{"v":0,"d":"0.0"}},{"$f":"Invoeren!AD207","v":{"v":0,"d":"0.0"}},{"$f":"Invoeren!AE207","v":""},{"$f":"Invoeren!AF207","v":""},{"$f":"Invoeren!AG207","v":{"v":0,"d":"0.0"}},{"$f":"Invoeren!AH207","v":{"v":0,"d":"0.0000"}},{"$f":"Invoeren!AT207","v":{"v":0,"d":"0.0"}},{"$f":"Invoeren!AU207","v":{"v":0,"d":"0.0"}},{"$f":"Invoeren!AV207","v":{"v":0,"d":"0.0"}},{"$f":"Invoeren!AW207","v":{"v":0,"d":"0.0"}},{"$f":"Invoeren!AX207","v":{"v":0,"d":"0.0"}},{"$f":"Invoeren!AY207","v":""},{"$f":"Invoeren!AZ207","v":""},{"$f":"Invoeren!BA207","v":{"v":0,"d":"0.0"}},{"$f":"Invoeren!BB207","v":{"v":0,"d":"0.0000"}},{"$f":"Invoeren!BN207","v":{"v":0,"d":"0.0"}},{"$f":"Invoeren!BO207","v":{"v":0,"d":"0.0"}},{"$f":"Invoeren!BP207","v":{"v":0,"d":"0.0"}},{"$f":"Invoeren!BQ207","v":{"v":0,"d":"0.0"}},{"$f":"Invoeren!BR207","v":{"v":0,"d":"0.0"}},{"$f":"Invoeren!BS207","v":""},{"$f":"Invoeren!BT207","v":""},{"$f":"Invoeren!BU207","v":{"v":0,"d":"0.0"}},{"$f":"Invoeren!BV207","v":{"v":0,"d":"0.0000"}},{"$f":"Invoeren!CH207","v":{"v":0,"d":"0.0"}},{"$f":"Invoeren!CI207","v":{"v":0,"d":"0.0"}},{"$f":"Invoeren!CJ207","v":{"v":0,"d":"0.0"}},{"$f":"Invoeren!CK207","v":{"v":0,"d":"0.0"}},{"$f":"Invoeren!CL207","v":{"v":0,"d":"0.0"}},{"$f":"Invoeren!CM207","v":""},{"$f":"Invoeren!CN207","v":""},{"$f":"Invoeren!CO207","v":{"v":0,"d":"0.0"}},{"$f":"Invoeren!CP207","v":{"v":0,"d":"0.0000"}},{"$f":"Invoeren!CR207","v":0},{"$f":"Invoeren!CS207","v":0},{"$f":"Invoeren!CT207","v":0},{"$f":"Invoeren!C207","v":0},{"$f":"Invoeren!L207","v":0},{"$f":"Invoeren!M207","v":""},{"$f":"Invoeren!N207","v":""},{"$f":"Invoeren!H207","v":"West"},{"$f":"Invoeren!AI207","v":""},{"$f":"Invoeren!BC207","v":""},{"$f":"Invoeren!BW207","v":""},{"$f":"Invoeren!CQ207","v":""}]
[{"$f":"Invoeren!B208","v":46},{"$f":"Invoeren!A208","v":202},{"$f":"Invoeren!E208","v":"Marije Koot"},{"$f":"Invoeren!F208","v":"BZ&PC"},{"$f":"Invoeren!$K208","v":2004},{"$f":"Invoeren!$I208","v":0},{"$f":"Invoeren!Z208","v":5.6},{"$f":"Invoeren!AA208","v":5.7},{"$f":"Invoeren!AB208","v":5.7},{"$f":"Invoeren!AC208","v":5.6},{"$f":"Invoeren!AD208","v":5.5},{"$f":"Invoeren!AE208","v":""},{"$f":"Invoeren!AF208","v":""},{"$f":"Invoeren!AG208","v":{"v":16.900000000000002,"d":"16.9"}},{"$f":"Invoeren!AH208","v":12.3933},{"$f":"Invoeren!AT208","v":5.2},{"$f":"Invoeren!AU208","v":4.4},{"$f":"Invoeren!AV208","v":5.3},{"$f":"Invoeren!AW208","v":5.4},{"$f":"Invoeren!AX208","v":5.2},{"$f":"Invoeren!AY208","v":""},{"$f":"Invoeren!AZ208","v":""},{"$f":"Invoeren!BA208","v":{"v":15.700000000000001,"d":"15.7"}},{"$f":"Invoeren!BB208","v":11.5133},{"$f":"Invoeren!BN208","v":5.1},{"$f":"Invoeren!BO208","v":{"v":6,"d":"6.0"}},{"$f":"Invoeren!BP208","v":5.7},{"$f":"Invoeren!BQ208","v":6.3},{"$f":"Invoeren!BR208","v":5.7},{"$f":"Invoeren!BS208","v":""},{"$f":"Invoeren!BT208","v":""},{"$f":"Invoeren!BU208","v":17.4},{"$f":"Invoeren!BV208","v":{"v":12.18,"d":"12.1800"}},{"$f":"Invoeren!CH208","v":{"v":5,"d":"5.0"}},{"$f":"Invoeren!CI208","v":5.1},{"$f":"Invoeren!CJ208","v":5.1},{"$f":"Invoeren!CK208","v":5.3},{"$f":"Invoeren!CL208","v":4.5},{"$f":"Invoeren!CM208","v":""},{"$f":"Invoeren!CN208","v":""},{"$f":"Invoeren!CO208","v":15.2},{"$f":"Invoeren!CP208","v":11.6533},{"$f":"Invoeren!CR208","v":47.7399},{"$f":"Invoeren!CS208","v":54.2499},{"$f":"Invoeren!CT208","v":0},{"$f":"Invoeren!C208","v":54.2499},{"$f":"Invoeren!L208","v":0},{"$f":"Invoeren!M208","v":"L"},{"$f":"Invoeren!N208","v":""},{"$f":"Invoeren!H208","v":"West"},{"$f":"Invoeren!AI208","v":45},{"$f":"Invoeren!BC208","v":55},{"$f":"Invoeren!BW208","v":42},{"$f":"Invoeren!CQ208","v":53}]
[{"$f":"Invoeren!B209","v":59},{"$f":"Invoeren!A209","v":203},{"$f":"Invoeren!E209","v":"Julia Derksen"},{"$f":"Invoeren!F209","v":"PSV Synchro Team Eindhoven"},{"$f":"Invoeren!$K209","v":2003},{"$f":"Invoeren!$I209","v":0},{"$f":"Invoeren!Z209","v":5.5},{"$f":"Invoeren!AA209","v":5.9},{"$f":"Invoeren!AB209","v":5.3},{"$f":"Invoeren!AC209","v":5.4},{"$f":"Invoeren!AD209","v":5.3},{"$f":"Invoeren!AE209","v":""},{"$f":"Invoeren!AF209","v":""},{"$f":"Invoeren!AG209","v":16.2},{"$f":"Invoeren!AH209","v":{"v":11.88,"d":"11.8800"}},{"$f":"Invoeren!AT209","v":5.1},{"$f":"Invoeren!AU209","v":4.9},{"$f":"Invoeren!AV209","v":4.8},{"$f":"Invoeren!AW209","v":{"v":5,"d":"5.0"}},{"$f":"Invoeren!AX209","v":5.2},{"$f":"Invoeren!AY209","v":""},{"$f":"Invoeren!AZ209","v":""},{"$f":"Invoeren!BA209","v":{"v":15,"d":"15.0"}},{"$f":"Invoeren!BB209","v":{"v":11,"d":"11.0000"}},{"$f":"Invoeren!BN209","v":5.9},{"$f":"Invoeren!BO209","v":5.9},{"$f":"Invoeren!BP209","v":5.8},{"$f":"Invoeren!BQ209","v":5.7},{"$f":"Invoeren!BR209","v":{"v":6,"d":"6.0"}},{"$f":"Invoeren!BS209","v":""},{"$f":"Invoeren!BT209","v":""},{"$f":"Invoeren!BU209","v":17.6},{"$f":"Invoeren!BV209","v":{"v":12.32,"d":"12.3200"}},{"$f":"Invoeren!CH209","v":4.8},{"$f":"Invoeren!CI209","v":{"v":5,"d":"5.0"}},{"$f":"Invoeren!CJ209","v":{"v":5,"d":"5.0"}},{"$f":"Invoeren!CK209","v":4.9},{"$f":"Invoeren!CL209","v":5.3},{"$f":"Invoeren!CM209","v":""},{"$f":"Invoeren!CN209","v":""},{"$f":"Invoeren!CO209","v":{"v":14.900000000000002,"d":"14.9"}},{"$f":"Invoeren!CP209","v":11.4233},{"$f":"Invoeren!CR209","v":46.6233},{"$f":"Invoeren!CS209","v":{"v":52.981,"d":"52.9810"}},{"$f":"Invoeren!CT209","v":0},{"$f":"Invoeren!C209","v":{"v":52.981,"d":"52.9810"}},{"$f":"Invoeren!L209","v":0},{"$f":"Invoeren!M209","v":"L"},{"$f":"Invoeren!N209","v":""},{"$f":"Invoeren!H209","v":"Zuid"},{"$f":"Invoeren!AI209","v":68},{"$f":"Invoeren!BC209","v":79},{"$f":"Invoeren!BW209","v":37},{"$f":"Invoeren!CQ209","v":65}]
[{"$f":"Invoeren!B210","v":193},{"$f":"Invoeren!A210","v":204},{"$f":"Invoeren!E210","v":"Merian Bazuin"},{"$f":"Invoeren!F210","v":"DSZ"},{"$f":"Invoeren!$K210","v":2003},{"$f":"Invoeren!$I210","v":0},{"$f":"Invoeren!Z210","v":{"v":0,"d":"0.0"}},{"$f":"Invoeren!AA210","v":{"v":0,"d":"0.0"}},{"$f":"Invoeren!AB210","v":{"v":0,"d":"0.0"}},{"$f":"Invoeren!AC210","v":{"v":0,"d":"0.0"}},{"$f":"Invoeren!AD210","v":{"v":0,"d":"0.0"}},{"$f":"Invoeren!AE210","v":""},{"$f":"Invoeren!AF210","v":""},{"$f":"Invoeren!AG210","v":{"v":0,"d":"0.0"}},{"$f":"Invoeren!AH210","v":{"v":0,"d":"0.0000"}},{"$f":"Invoeren!AT210","v":{"v":0,"d":"0.0"}},{"$f":"Invoeren!AU210","v":{"v":0,"d":"0.0"}},{"$f":"Invoeren!AV210","v":{"v":0,"d":"0.0"}},{"$f":"Invoeren!AW210","v":{"v":0,"d":"0.0"}},{"$f":"Invoeren!AX210","v":{"v":0,"d":"0.0"}},{"$f":"Invoeren!AY210","v":""},{"$f":"Invoeren!AZ210","v":""},{"$f":"Invoeren!BA210","v":{"v":0,"d":"0.0"}},{"$f":"Invoeren!BB210","v":{"v":0,"d":"0.0000"}},{"$f":"Invoeren!BN210","v":{"v":0,"d":"0.0"}},{"$f":"Invoeren!BO210","v":{"v":0,"d":"0.0"}},{"$f":"Invoeren!BP210","v":{"v":0,"d":"0.0"}},{"$f":"Invoeren!BQ210","v":{"v":0,"d":"0.0"}},{"$f":"Invoeren!BR210","v":{"v":0,"d":"0.0"}},{"$f":"Invoeren!BS210","v":""},{"$f":"Invoeren!BT210","v":""},{"$f":"Invoeren!BU210","v":{"v":0,"d":"0.0"}},{"$f":"Invoeren!BV210","v":{"v":0,"d":"0.0000"}},{"$f":"Invoeren!CH210","v":{"v":0,"d":"0.0"}},{"$f":"Invoeren!CI210","v":{"v":0,"d":"0.0"}},{"$f":"Invoeren!CJ210","v":{"v":0,"d":"0.0"}},{"$f":"Invoeren!CK210","v":{"v":0,"d":"0.0"}},{"$f":"Invoeren!CL210","v":{"v":0,"d":"0.0"}},{"$f":"Invoeren!CM210","v":""},{"$f":"Invoeren!CN210","v":""},{"$f":"Invoeren!CO210","v":{"v":0,"d":"0.0"}},{"$f":"Invoeren!CP210","v":{"v":0,"d":"0.0000"}},{"$f":"Invoeren!CR210","v":0},{"$f":"Invoeren!CS210","v":0},{"$f":"Invoeren!CT210","v":0},{"$f":"Invoeren!C210","v":0},{"$f":"Invoeren!L210","v":0},{"$f":"Invoeren!M210","v":""},{"$f":"Invoeren!N210","v":""},{"$f":"Invoeren!H210","v":"West"},{"$f":"Invoeren!AI210","v":""},{"$f":"Invoeren!BC210","v":""},{"$f":"Invoeren!BW210","v":""},{"$f":"Invoeren!CQ210","v":""}]
[{"$f":"Invoeren!B211","v":42},{"$f":"Invoeren!A211","v":205},{"$f":"Invoeren!E211","v":"Iris Florisson"},{"$f":"Invoeren!F211","v":"AZC"},{"$f":"Invoeren!$K211","v":2005},{"$f":"Invoeren!$I211","v":0},{"$f":"Invoeren!Z211","v":5.8},{"$f":"Invoeren!AA211","v":{"v":6,"d":"6.0"}},{"$f":"Invoeren!AB211","v":{"v":6,"d":"6.0"}},{"$f":"Invoeren!AC211","v":5.6},{"$f":"Invoeren!AD211","v":5.6},{"$f":"Invoeren!AE211","v":""},{"$f":"Invoeren!AF211","v":""},{"$f":"Invoeren!AG211","v":17.4},{"$f":"Invoeren!AH211","v":{"v":12.76,"d":"12.7600"}},{"$f":"Invoeren!AT211","v":5.5},{"$f":"Invoeren!AU211","v":5.3},{"$f":"Invoeren!AV211","v":5.6},{"$f":"Invoeren!AW211","v":5.7},{"$f":"Invoeren!AX211","v":5.5},{"$f":"Invoeren!AY211","v":""},{"$f":"Invoeren!AZ211","v":""},{"$f":"Invoeren!BA211","v":{"v":16.599999999999998,"d":"16.6"}},{"$f":"Invoeren!BB211","v":12.1733},{"$f":"Invoeren!BN211","v":{"v":5,"d":"5.0"}},{"$f":"Invoeren!BO211","v":5.3},{"$f":"Invoeren!BP211","v":5.3},{"$f":"Invoeren!BQ211","v":4.7},{"$f":"Invoeren!BR211","v":5.2},{"$f":"Invoeren!BS211","v":""},{"$f":"Invoeren!BT211","v":""},{"$f":"Invoeren!BU211","v":15.5},{"$f":"Invoeren!BV211","v":{"v":10.85,"d":"10.8500"}},{"$f":"Invoeren!CH211","v":{"v":5,"d":"5.0"}},{"$f":"Invoeren!CI211","v":5.6},{"$f":"Invoeren!CJ211","v":{"v":5,"d":"5.0"}},{"$f":"Invoeren!CK211","v":5.3},{"$f":"Invoeren!CL211","v":5.5},{"$f":"Invoeren!CM211","v":""},{"$f":"Invoeren!CN211","v":""},{"$f":"Invoeren!CO211","v":{"v":15.799999999999997,"d":"15.8"}},{"$f":"Invoeren!CP211","v":12.1133},{"$f":"Invoeren!CR211","v":47.8966},{"$f":"Invoeren!CS211","v":{"v":54.428,"d":"54.4280"}},{"$f":"Invoeren!CT211","v":0},{"$f":"Invoeren!C211","v":{"v":54.428,"d":"54.4280"}},{"$f":"Invoeren!L211","v":0},{"$f":"Invoeren!M211","v":"L"},{"$f":"Invoeren!N211","v":""},{"$f":"Invoeren!H211","v":"West"},{"$f":"Invoeren!AI211","v":26},{"$f":"Invoeren!BC211","v":30},{"$f":"Invoeren!BW211","v":108},{"$f":"Invoeren!CQ211","v":37}]
[{"$f":"Invoeren!B212","v":"BM"},{"$f":"Invoeren!A212","v":206},{"$f":"Invoeren!E212","v":"Megan Amling"},{"$f":"Invoeren!F212","v":"BZ&PC"},{"$f":"Invoeren!$K212","v":2006},{"$f":"Invoeren!$I212","v":"BM"},{"$f":"Invoeren!Z212","v":4.9},{"$f":"Invoeren!AA212","v":5.4},{"$f":"Invoeren!AB212","v":4.8},{"$f":"Invoeren!AC212","v":4.8},{"$f":"Invoeren!AD212","v":4.6},{"$f":"Invoeren!AE212","v":""},{"$f":"Invoeren!AF212","v":""},{"$f":"Invoeren!AG212","v":{"v":14.500000000000002,"d":"14.5"}},{"$f":"Invoeren!AH212","v":10.6333},{"$f":"Invoeren!AT212","v":4.2},{"$f":"Invoeren!AU212","v":4.6},{"$f":"Invoeren!AV212","v":4.6},{"$f":"Invoeren!AW212","v":4.7},{"$f":"Invoeren!AX212","v":5.2},{"$f":"Invoeren!AY212","v":""},{"$f":"Invoeren!AZ212","v":""},{"$f":"Invoeren!BA212","v":{"v":13.900000000000002,"d":"13.9"}},{"$f":"Invoeren!BB212","v":10.1933},{"$f":"Invoeren!BN212","v":4.9},{"$f":"Invoeren!BO212","v":5.7},{"$f":"Invoeren!BP212","v":5.1},{"$f":"Invoeren!BQ212","v":5.3},{"$f":"Invoeren!BR212","v":6.3},{"$f":"Invoeren!BS212","v":""},{"$f":"Invoeren!BT212","v":""},{"$f":"Invoeren!BU212","v":16.1},{"$f":"Invoeren!BV212","v":{"v":11.27,"d":"11.2700"}},{"$f":"Invoeren!CH212","v":{"v":4,"d":"4.0"}},{"$f":"Invoeren!CI212","v":4.7},{"$f":"Invoeren!CJ212","v":4.7},{"$f":"Invoeren!CK212","v":4.6},{"$f":"Invoeren!CL212","v":4.4},{"$f":"Invoeren!CM212","v":""},{"$f":"Invoeren!CN212","v":""},{"$f":"Invoeren!CO212","v":13.7},{"$f":"Invoeren!CP212","v":10.5033},{"$f":"Invoeren!CR212","v":{"v":42.59989999999999,"d":"42.5999"}},{"$f":"Invoeren!CS212","v":{"v":48.409,"d":"48.4090"}},{"$f":"Invoeren!CT212","v":0},{"$f":"Invoeren!C212","v":{"v":48.409,"d":"48.4090"}},{"$f":"Invoeren!L212","v":0},{"$f":"Invoeren!M212","v":"BM"},{"$f":"Invoeren!N212","v":"Age II"},{"$f":"Invoeren!H212","v":"West"},{"$f":"Invoeren!AI212","v":130},{"$f":"Invoeren!BC212","v":119},{"$f":"Invoeren!BW212","v":92},{"$f":"Invoeren!CQ212","v":121}]
[{"$f":"Invoeren!B213","v":177},{"$f":"Invoeren!A213","v":207},{"$f":"Invoeren!E213","v":"Floor van der Heijden"},{"$f":"Invoeren!F213","v":"DSZ"},{"$f":"Invoeren!$K213","v":2005},{"$f":"Invoeren!$I213","v":0},{"$f":"Invoeren!Z213","v":{"v":5,"d":"5.0"}},{"$f":"Invoeren!AA213","v":5.2},{"$f":"Invoeren!AB213","v":{"v":5,"d":"5.0"}},{"$f":"Invoeren!AC213","v":5.1},{"$f":"Invoeren!AD213","v":4.5},{"$f":"Invoeren!AE213","v":""},{"$f":"Invoeren!AF213","v":""},{"$f":"Invoeren!AG213","v":{"v":15.099999999999998,"d":"15.1"}},{"$f":"Invoeren!AH213","v":11.0733},{"$f":"Invoeren!AT213","v":{"v":4,"d":"4.0"}},{"$f":"Invoeren!AU213","v":4.5},{"$f":"Invoeren!AV213","v":4.3},{"$f":"Invoeren!AW213","v":4.3},{"$f":"Invoeren!AX213","v":4.3},{"$f":"Invoeren!AY213","v":""},{"$f":"Invoeren!AZ213","v":""},{"$f":"Invoeren!BA213","v":{"v":12.900000000000002,"d":"12.9"}},{"$f":"Invoeren!BB213","v":{"v":9.46,"d":"9.4600"}},{"$f":"Invoeren!BN213","v":4.3},{"$f":"Invoeren!BO213","v":4.2},{"$f":"Invoeren!BP213","v":3.9},{"$f":"Invoeren!BQ213","v":4.1},{"$f":"Invoeren!BR213","v":4.2},{"$f":"Invoeren!BS213","v":""},{"$f":"Invoeren!BT213","v":""},{"$f":"Invoeren!BU213","v":{"v":12.499999999999998,"d":"12.5"}},{"$f":"Invoeren!BV213","v":{"v":8.75,"d":"8.7500"}},{"$f":"Invoeren!CH213","v":3.5},{"$f":"Invoeren!CI213","v":{"v":4,"d":"4.0"}},{"$f":"Invoeren!CJ213","v":3.7},{"$f":"Invoeren!CK213","v":3.8},{"$f":"Invoeren!CL213","v":3.8},{"$f":"Invoeren!CM213","v":""},{"$f":"Invoeren!CN213","v":""},{"$f":"Invoeren!CO213","v":11.3},{"$f":"Invoeren!CP213","v":8.6633},{"$f":"Invoeren!CR213","v":{"v":37.946600000000004,"d":"37.9466"}},{"$f":"Invoeren!CS213","v":43.1211},{"$f":"Invoeren!CT213","v":0},{"$f":"Invoeren!C213","v":43.1211},{"$f":"Invoeren!L213","v":0},{"$f":"Invoeren!M213","v":""},{"$f":"Invoeren!N213","v":""},{"$f":"Invoeren!H213","v":"West"},{"$f":"Invoeren!AI213","v":108},{"$f":"Invoeren!BC213","v":164},{"$f":"Invoeren!BW213","v":192},{"$f":"Invoeren!CQ213","v":196}]
[{"$f":"Invoeren!B214","v":"BM"},{"$f":"Invoeren!A214","v":208},{"$f":"Invoeren!E214","v":"Evi van Ginneken"},{"$f":"Invoeren!F214","v":"Synchro Breda"},{"$f":"Invoeren!$K214","v":2001},{"$f":"Invoeren!$I214","v":"BM"},{"$f":"Invoeren!Z214","v":{"v":0,"d":"0.0"}},{"$f":"Invoeren!AA214","v":{"v":0,"d":"0.0"}},{"$f":"Invoeren!AB214","v":{"v":0,"d":"0.0"}},{"$f":"Invoeren!AC214","v":{"v":0,"d":"0.0"}},{"$f":"Invoeren!AD214","v":{"v":0,"d":"0.0"}},{"$f":"Invoeren!AE214","v":""},{"$f":"Invoeren!AF214","v":""},{"$f":"Invoeren!AG214","v":{"v":0,"d":"0.0"}},{"$f":"Invoeren!AH214","v":{"v":0,"d":"0.0000"}},{"$f":"Invoeren!AT214","v":{"v":0,"d":"0.0"}},{"$f":"Invoeren!AU214","v":{"v":0,"d":"0.0"}},{"$f":"Invoeren!AV214","v":{"v":0,"d":"0.0"}},{"$f":"Invoeren!AW214","v":{"v":0,"d":"0.0"}},{"$f":"Invoeren!AX214","v":{"v":0,"d":"0.0"}},{"$f":"Invoeren!AY214","v":""},{"$f":"Invoeren!AZ214","v":""},{"$f":"Invoeren!BA214","v":{"v":0,"d":"0.0"}},{"$f":"Invoeren!BB214","v":{"v":0,"d":"0.0000"}},{"$f":"Invoeren!BN214","v":{"v":0,"d":"0.0"}},{"$f":"Invoeren!BO214","v":{"v":0,"d":"0.0"}},{"$f":"Invoeren!BP214","v":{"v":0,"d":"0.0"}},{"$f":"Invoeren!BQ214","v":{"v":0,"d":"0.0"}},{"$f":"Invoeren!BR214","v":{"v":0,"d":"0.0"}},{"$f":"Invoeren!BS214","v":""},{"$f":"Invoeren!BT214","v":""},{"$f":"Invoeren!BU214","v":{"v":0,"d":"0.0"}},{"$f":"Invoeren!BV214","v":{"v":0,"d":"0.0000"}},{"$f":"Invoeren!CH214","v":{"v":0,"d":"0.0"}},{"$f":"Invoeren!CI214","v":{"v":0,"d":"0.0"}},{"$f":"Invoeren!CJ214","v":{"v":0,"d":"0.0"}},{"$f":"Invoeren!CK214","v":{"v":0,"d":"0.0"}},{"$f":"Invoeren!CL214","v":{"v":0,"d":"0.0"}},{"$f":"Invoeren!CM214","v":""},{"$f":"Invoeren!CN214","v":""},{"$f":"Invoeren!CO214","v":{"v":0,"d":"0.0"}},{"$f":"Invoeren!CP214","v":{"v":0,"d":"0.0000"}},{"$f":"Invoeren!CR214","v":0},{"$f":"Invoeren!CS214","v":0},{"$f":"Invoeren!CT214","v":0},{"$f":"Invoeren!C214","v":0},{"$f":"Invoeren!L214","v":0},{"$f":"Invoeren!M214","v":"BM"},{"$f":"Invoeren!N214","v":""},{"$f":"Invoeren!H214","v":"Zuid"},{"$f":"Invoeren!AI214","v":""},{"$f":"Invoeren!BC214","v":""},{"$f":"Invoeren!BW214","v":""},{"$f":"Invoeren!CQ214","v":""}]
[{"$f":"Invoeren!B215","v":110},{"$f":"Invoeren!A215","v":209},{"$f":"Invoeren!E215","v":"Danica Kosoredjo"},{"$f":"Invoeren!F215","v":"DSZ"},{"$f":"Invoeren!$K215","v":2003},{"$f":"Invoeren!$I215","v":0},{"$f":"Invoeren!Z215","v":5.5},{"$f":"Invoeren!AA215","v":5.5},{"$f":"Invoeren!AB215","v":5.5},{"$f":"Invoeren!AC215","v":6.5},{"$f":"Invoeren!AD215","v":5.7},{"$f":"Invoeren!AE215","v":""},{"$f":"Invoeren!AF215","v":""},{"$f":"Invoeren!AG215","v":16.7},{"$f":"Invoeren!AH215","v":12.2467},{"$f":"Invoeren!AT215","v":3.9},{"$f":"Invoeren!AU215","v":3.9},{"$f":"Invoeren!AV215","v":{"v":4,"d":"4.0"}},{"$f":"Invoeren!AW215","v":4.1},{"$f":"Invoeren!AX215","v":4.5},{"$f":"Invoeren!AY215","v":""},{"$f":"Invoeren!AZ215","v":""},{"$f":"Invoeren!BA215","v":{"v":11.999999999999998,"d":"12.0"}},{"$f":"Invoeren!BB215","v":{"v":8.8,"d":"8.8000"}},{"$f":"Invoeren!BN215","v":4.7},{"$f":"Invoeren!BO215","v":{"v":5,"d":"5.0"}},{"$f":"Invoeren!BP215","v":5.6},{"$f":"Invoeren!BQ215","v":5.1},{"$f":"Invoeren!BR215","v":5.4},{"$f":"Invoeren!BS215","v":""},{"$f":"Invoeren!BT215","v":""},{"$f":"Invoeren!BU215","v":{"v":15.499999999999996,"d":"15.5"}},{"$f":"Invoeren!BV215","v":{"v":10.85,"d":"10.8500"}},{"$f":"Invoeren!CH215","v":4.2},{"$f":"Invoeren!CI215","v":4.9},{"$f":"Invoeren!CJ215","v":{"v":5,"d":"5.0"}},{"$f":"Invoeren!CK215","v":4.9},{"$f":"Invoeren!CL215","v":{"v":5,"d":"5.0"}},{"$f":"Invoeren!CM215","v":""},{"$f":"Invoeren!CN215","v":""},{"$f":"Invoeren!CO215","v":14.8},{"$f":"Invoeren!CP215","v":11.3467},{"$f":"Invoeren!CR215","v":43.2434},{"$f":"Invoeren!CS215","v":49.1402},{"$f":"Invoeren!CT215","v":0},{"$f":"Invoeren!C215","v":49.1402},{"$f":"Invoeren!L215","v":0},{"$f":"Invoeren!M215","v":"L"},{"$f":"Invoeren!N215","v":""},{"$f":"Invoeren!H215","v":"West"},{"$f":"Invoeren!AI215","v":51},{"$f":"Invoeren!BC215","v":185},{"$f":"Invoeren!BW215","v":108},{"$f":"Invoeren!CQ215","v":72}]
[{"$f":"Invoeren!B216","v":66},{"$f":"Invoeren!A216","v":210},{"$f":"Invoeren!E216","v":"Sanne Baars"},{"$f":"Invoeren!F216","v":"BZ&PC"},{"$f":"Invoeren!$K216","v":2003},{"$f":"Invoeren!$I216","v":0},{"$f":"Invoeren!Z216","v":5.2},{"$f":"Invoeren!AA216","v":4.8},{"$f":"Invoeren!AB216","v":5.2},{"$f":"Invoeren!AC216","v":5.4},{"$f":"Invoeren!AD216","v":5.3},{"$f":"Invoeren!AE216","v":""},{"$f":"Invoeren!AF216","v":""},{"$f":"Invoeren!AG216","v":15.7},{"$f":"Invoeren!AH216","v":11.5133},{"$f":"Invoeren!AT216","v":4.4},{"$f":"Invoeren!AU216","v":3.9},{"$f":"Invoeren!AV216","v":4.9},{"$f":"Invoeren!AW216","v":5.2},{"$f":"Invoeren!AX216","v":4.6},{"$f":"Invoeren!AY216","v":""},{"$f":"Invoeren!AZ216","v":""},{"$f":"Invoeren!BA216","v":13.9},{"$f":"Invoeren!BB216","v":10.1933},{"$f":"Invoeren!BN216","v":5.4},{"$f":"Invoeren!BO216","v":5.6},{"$f":"Invoeren!BP216","v":{"v":6,"d":"6.0"}},{"$f":"Invoeren!BQ216","v":6.2},{"$f":"Invoeren!BR216","v":6.3},{"$f":"Invoeren!BS216","v":""},{"$f":"Invoeren!BT216","v":""},{"$f":"Invoeren!BU216","v":{"v":17.799999999999997,"d":"17.8"}},{"$f":"Invoeren!BV216","v":{"v":12.46,"d":"12.4600"}},{"$f":"Invoeren!CH216","v":5.3},{"$f":"Invoeren!CI216","v":5.2},{"$f":"Invoeren!CJ216","v":4.9},{"$f":"Invoeren!CK216","v":4.9},{"$f":"Invoeren!CL216","v":4.8},{"$f":"Invoeren!CM216","v":""},{"$f":"Invoeren!CN216","v":""},{"$f":"Invoeren!CO216","v":{"v":15,"d":"15.0"}},{"$f":"Invoeren!CP216","v":{"v":11.5,"d":"11.5000"}},{"$f":"Invoeren!CR216","v":45.6666},{"$f":"Invoeren!CS216","v":51.8939},{"$f":"Invoeren!CT216","v":0},{"$f":"Invoeren!C216","v":51.8939},{"$f":"Invoeren!L216","v":0},{"$f":"Invoeren!M216","v":"L"},{"$f":"Invoeren!N216","v":""},{"$f":"Invoeren!H216","v":"West"},{"$f":"Invoeren!AI216","v":88},{"$f":"Invoeren!BC216","v":119},{"$f":"Invoeren!BW216","v":31},{"$f":"Invoeren!CQ216","v":62}]
[{"$f":"Invoeren!B217","v":138},{"$f":"Invoeren!A217","v":211},{"$f":"Invoeren!E217","v":"Femke Boxman"},{"$f":"Invoeren!F217","v":"DSZ"},{"$f":"Invoeren!$K217","v":2004},{"$f":"Invoeren!$I217","v":0},{"$f":"Invoeren!Z217","v":6.2},{"$f":"Invoeren!AA217","v":{"v":6,"d":"6.0"}},{"$f":"Invoeren!AB217","v":5.9},{"$f":"Invoeren!AC217","v":5.8},{"$f":"Invoeren!AD217","v":5.5},{"$f":"Invoeren!AE217","v":""},{"$f":"Invoeren!AF217","v":""},{"$f":"Invoeren!AG217","v":{"v":17.700000000000003,"d":"17.7"}},{"$f":"Invoeren!AH217","v":{"v":12.98,"d":"12.9800"}},{"$f":"Invoeren!AT217","v":4.6},{"$f":"Invoeren!AU217","v":{"v":4,"d":"4.0"}},{"$f":"Invoeren!AV217","v":4.1},{"$f":"Invoeren!AW217","v":4.4},{"$f":"Invoeren!AX217","v":4.7},{"$f":"Invoeren!AY217","v":""},{"$f":"Invoeren!AZ217","v":""},{"$f":"Invoeren!BA217","v":{"v":13.100000000000001,"d":"13.1"}},{"$f":"Invoeren!BB217","v":9.6067},{"$f":"Invoeren!BN217","v":4.7},{"$f":"Invoeren!BO217","v":4.9},{"$f":"Invoeren!BP217","v":{"v":4,"d":"4.0"}},{"$f":"Invoeren!BQ217","v":4.3},{"$f":"Invoeren!BR217","v":4.3},{"$f":"Invoeren!BS217","v":""},{"$f":"Invoeren!BT217","v":""},{"$f":"Invoeren!BU217","v":{"v":13.300000000000004,"d":"13.3"}},{"$f":"Invoeren!BV217","v":{"v":9.31,"d":"9.3100"}},{"$f":"Invoeren!CH217","v":4.2},{"$f":"Invoeren!CI217","v":4.2},{"$f":"Invoeren!CJ217","v":4.3},{"$f":"Invoeren!CK217","v":4.2},{"$f":"Invoeren!CL217","v":4.2},{"$f":"Invoeren!CM217","v":""},{"$f":"Invoeren!CN217","v":""},{"$f":"Invoeren!CO217","v":{"v":12.599999999999998,"d":"12.6"}},{"$f":"Invoeren!CP217","v":{"v":9.66,"d":"9.6600"}},{"$f":"Invoeren!CR217","v":{"v":41.556700000000006,"d":"41.5567"}},{"$f":"Invoeren!CS217","v":47.2235},{"$f":"Invoeren!CT217","v":0},{"$f":"Invoeren!C217","v":47.2235},{"$f":"Invoeren!L217","v":0},{"$f":"Invoeren!M217","v":""},{"$f":"Invoeren!N217","v":""},{"$f":"Invoeren!H217","v":"West"},{"$f":"Invoeren!AI217","v":20},{"$f":"Invoeren!BC217","v":154},{"$f":"Invoeren!BW217","v":185},{"$f":"Invoeren!CQ217","v":165}]
[{"$f":"Invoeren!B218","v":193},{"$f":"Invoeren!A218","v":212},{"$f":"Invoeren!E218","v":0},{"$f":"Invoeren!F218","v":0},{"$f":"Invoeren!$K218","v":0},{"$f":"Invoeren!$I218","v":0},{"$f":"Invoeren!Z218","v":{"v":0,"d":"0.0"}},{"$f":"Invoeren!AA218","v":{"v":0,"d":"0.0"}},{"$f":"Invoeren!AB218","v":{"v":0,"d":"0.0"}},{"$f":"Invoeren!AC218","v":{"v":0,"d":"0.0"}},{"$f":"Invoeren!AD218","v":{"v":0,"d":"0.0"}},{"$f":"Invoeren!AE218","v":""},{"$f":"Invoeren!AF218","v":""},{"$f":"Invoeren!AG218","v":{"v":0,"d":"0.0"}},{"$f":"Invoeren!AH218","v":{"v":0,"d":"0.0000"}},{"$f":"Invoeren!AT218","v":{"v":0,"d":"0.0"}},{"$f":"Invoeren!AU218","v":{"v":0,"d":"0.0"}},{"$f":"Invoeren!AV218","v":{"v":0,"d":"0.0"}},{"$f":"Invoeren!AW218","v":{"v":0,"d":"0.0"}},{"$f":"Invoeren!AX218","v":{"v":0,"d":"0.0"}},{"$f":"Invoeren!AY218","v":""},{"$f":"Invoeren!AZ218","v":""},{"$f":"Invoeren!BA218","v":{"v":0,"d":"0.0"}},{"$f":"Invoeren!BB218","v":{"v":0,"d":"0.0000"}},{"$f":"Invoeren!BN218","v":{"v":0,"d":"0.0"}},{"$f":"Invoeren!BO218","v":{"v":0,"d":"0.0"}},{"$f":"Invoeren!BP218","v":{"v":0,"d":"0.0"}},{"$f":"Invoeren!BQ218","v":{"v":0,"d":"0.0"}},{"$f":"Invoeren!BR218","v":{"v":0,"d":"0.0"}},{"$f":"Invoeren!BS218","v":""},{"$f":"Invoeren!BT218","v":""},{"$f":"Invoeren!BU218","v":{"v":0,"d":"0.0"}},{"$f":"Invoeren!BV218","v":{"v":0,"d":"0.0000"}},{"$f":"Invoeren!CH218","v":{"v":0,"d":"0.0"}},{"$f":"Invoeren!CI218","v":{"v":0,"d":"0.0"}},{"$f":"Invoeren!CJ218","v":{"v":0,"d":"0.0"}},{"$f":"Invoeren!CK218","v":{"v":0,"d":"0.0"}},{"$f":"Invoeren!CL218","v":{"v":0,"d":"0.0"}},{"$f":"Invoeren!CM218","v":""},{"$f":"Invoeren!CN218","v":""},{"$f":"Invoeren!CO218","v":{"v":0,"d":"0.0"}},{"$f":"Invoeren!CP218","v":{"v":0,"d":"0.0000"}},{"$f":"Invoeren!CR218","v":0},{"$f":"Invoeren!CS218","v":0},{"$f":"Invoeren!CT218","v":0},{"$f":"Invoeren!C218","v":0},{"$f":"Invoeren!L218","v":0},{"$f":"Invoeren!M218","v":""},{"$f":"Invoeren!N218","v":""},{"$f":"Invoeren!H218","v":0},{"$f":"Invoeren!AI218","v":""},{"$f":"Invoeren!BC218","v":""},{"$f":"Invoeren!BW218","v":""},{"$f":"Invoeren!CQ218","v":""}]
[{"$f":"Invoeren!B219","v":193},{"$f":"Invoeren!A219","v":213},{"$f":"Invoeren!E219","v":0},{"$f":"Invoeren!F219","v":0},{"$f":"Invoeren!$K219","v":0},{"$f":"Invoeren!$I219","v":0},{"$f":"Invoeren!Z219","v":{"v":0,"d":"0.0"}},{"$f":"Invoeren!AA219","v":{"v":0,"d":"0.0"}},{"$f":"Invoeren!AB219","v":{"v":0,"d":"0.0"}},{"$f":"Invoeren!AC219","v":{"v":0,"d":"0.0"}},{"$f":"Invoeren!AD219","v":{"v":0,"d":"0.0"}},{"$f":"Invoeren!AE219","v":""},{"$f":"Invoeren!AF219","v":""},{"$f":"Invoeren!AG219","v":{"v":0,"d":"0.0"}},{"$f":"Invoeren!AH219","v":{"v":0,"d":"0.0000"}},{"$f":"Invoeren!AT219","v":{"v":0,"d":"0.0"}},{"$f":"Invoeren!AU219","v":{"v":0,"d":"0.0"}},{"$f":"Invoeren!AV219","v":{"v":0,"d":"0.0"}},{"$f":"Invoeren!AW219","v":{"v":0,"d":"0.0"}},{"$f":"Invoeren!AX219","v":{"v":0,"d":"0.0"}},{"$f":"Invoeren!AY219","v":""},{"$f":"Invoeren!AZ219","v":""},{"$f":"Invoeren!BA219","v":{"v":0,"d":"0.0"}},{"$f":"Invoeren!BB219","v":{"v":0,"d":"0.0000"}},{"$f":"Invoeren!BN219","v":{"v":0,"d":"0.0"}},{"$f":"Invoeren!BO219","v":{"v":0,"d":"0.0"}},{"$f":"Invoeren!BP219","v":{"v":0,"d":"0.0"}},{"$f":"Invoeren!BQ219","v":{"v":0,"d":"0.0"}},{"$f":"Invoeren!BR219","v":{"v":0,"d":"0.0"}},{"$f":"Invoeren!BS219","v":""},{"$f":"Invoeren!BT219","v":""},{"$f":"Invoeren!BU219","v":{"v":0,"d":"0.0"}},{"$f":"Invoeren!BV219","v":{"v":0,"d":"0.0000"}},{"$f":"Invoeren!CH219","v":{"v":0,"d":"0.0"}},{"$f":"Invoeren!CI219","v":{"v":0,"d":"0.0"}},{"$f":"Invoeren!CJ219","v":{"v":0,"d":"0.0"}},{"$f":"Invoeren!CK219","v":{"v":0,"d":"0.0"}},{"$f":"Invoeren!CL219","v":{"v":0,"d":"0.0"}},{"$f":"Invoeren!CM219","v":""},{"$f":"Invoeren!CN219","v":""},{"$f":"Invoeren!CO219","v":{"v":0,"d":"0.0"}},{"$f":"Invoeren!CP219","v":{"v":0,"d":"0.0000"}},{"$f":"Invoeren!CR219","v":0},{"$f":"Invoeren!CS219","v":0},{"$f":"Invoeren!CT219","v":0},{"$f":"Invoeren!C219","v":0},{"$f":"Invoeren!L219","v":0},{"$f":"Invoeren!M219","v":""},{"$f":"Invoeren!N219","v":""},{"$f":"Invoeren!H219","v":0},{"$f":"Invoeren!AI219","v":""},{"$f":"Invoeren!BC219","v":""},{"$f":"Invoeren!BW219","v":""},{"$f":"Invoeren!CQ219","v":""}]
[{"$f":"Invoeren!B220","v":193},{"$f":"Invoeren!A220","v":214},{"$f":"Invoeren!E220","v":0},{"$f":"Invoeren!F220","v":0},{"$f":"Invoeren!$K220","v":0},{"$f":"Invoeren!$I220","v":0},{"$f":"Invoeren!Z220","v":{"v":0,"d":"0.0"}},{"$f":"Invoeren!AA220","v":{"v":0,"d":"0.0"}},{"$f":"Invoeren!AB220","v":{"v":0,"d":"0.0"}},{"$f":"Invoeren!AC220","v":{"v":0,"d":"0.0"}},{"$f":"Invoeren!AD220","v":{"v":0,"d":"0.0"}},{"$f":"Invoeren!AE220","v":""},{"$f":"Invoeren!AF220","v":""},{"$f":"Invoeren!AG220","v":{"v":0,"d":"0.0"}},{"$f":"Invoeren!AH220","v":{"v":0,"d":"0.0000"}},{"$f":"Invoeren!AT220","v":{"v":0,"d":"0.0"}},{"$f":"Invoeren!AU220","v":{"v":0,"d":"0.0"}},{"$f":"Invoeren!AV220","v":{"v":0,"d":"0.0"}},{"$f":"Invoeren!AW220","v":{"v":0,"d":"0.0"}},{"$f":"Invoeren!AX220","v":{"v":0,"d":"0.0"}},{"$f":"Invoeren!AY220","v":""},{"$f":"Invoeren!AZ220","v":""},{"$f":"Invoeren!BA220","v":{"v":0,"d":"0.0"}},{"$f":"Invoeren!BB220","v":{"v":0,"d":"0.0000"}},{"$f":"Invoeren!BN220","v":{"v":0,"d":"0.0"}},{"$f":"Invoeren!BO220","v":{"v":0,"d":"0.0"}},{"$f":"Invoeren!BP220","v":{"v":0,"d":"0.0"}},{"$f":"Invoeren!BQ220","v":{"v":0,"d":"0.0"}},{"$f":"Invoeren!BR220","v":{"v":0,"d":"0.0"}},{"$f":"Invoeren!BS220","v":""},{"$f":"Invoeren!BT220","v":""},{"$f":"Invoeren!BU220","v":{"v":0,"d":"0.0"}},{"$f":"Invoeren!BV220","v":{"v":0,"d":"0.0000"}},{"$f":"Invoeren!CH220","v":{"v":0,"d":"0.0"}},{"$f":"Invoeren!CI220","v":{"v":0,"d":"0.0"}},{"$f":"Invoeren!CJ220","v":{"v":0,"d":"0.0"}},{"$f":"Invoeren!CK220","v":{"v":0,"d":"0.0"}},{"$f":"Invoeren!CL220","v":{"v":0,"d":"0.0"}},{"$f":"Invoeren!CM220","v":""},{"$f":"Invoeren!CN220","v":""},{"$f":"Invoeren!CO220","v":{"v":0,"d":"0.0"}},{"$f":"Invoeren!CP220","v":{"v":0,"d":"0.0000"}},{"$f":"Invoeren!CR220","v":0},{"$f":"Invoeren!CS220","v":0},{"$f":"Invoeren!CT220","v":0},{"$f":"Invoeren!C220","v":0},{"$f":"Invoeren!L220","v":0},{"$f":"Invoeren!M220","v":""},{"$f":"Invoeren!N220","v":""},{"$f":"Invoeren!H220","v":0},{"$f":"Invoeren!AI220","v":""},{"$f":"Invoeren!BC220","v":""},{"$f":"Invoeren!BW220","v":""},{"$f":"Invoeren!CQ220","v":""}]
[{"$f":"Invoeren!B221","v":193},{"$f":"Invoeren!A221","v":215},{"$f":"Invoeren!E221","v":0},{"$f":"Invoeren!F221","v":0},{"$f":"Invoeren!$K221","v":0},{"$f":"Invoeren!$I221","v":0},{"$f":"Invoeren!Z221","v":{"v":0,"d":"0.0"}},{"$f":"Invoeren!AA221","v":{"v":0,"d":"0.0"}},{"$f":"Invoeren!AB221","v":{"v":0,"d":"0.0"}},{"$f":"Invoeren!AC221","v":{"v":0,"d":"0.0"}},{"$f":"Invoeren!AD221","v":{"v":0,"d":"0.0"}},{"$f":"Invoeren!AE221","v":""},{"$f":"Invoeren!AF221","v":""},{"$f":"Invoeren!AG221","v":{"v":0,"d":"0.0"}},{"$f":"Invoeren!AH221","v":{"v":0,"d":"0.0000"}},{"$f":"Invoeren!AT221","v":{"v":0,"d":"0.0"}},{"$f":"Invoeren!AU221","v":{"v":0,"d":"0.0"}},{"$f":"Invoeren!AV221","v":{"v":0,"d":"0.0"}},{"$f":"Invoeren!AW221","v":{"v":0,"d":"0.0"}},{"$f":"Invoeren!AX221","v":{"v":0,"d":"0.0"}},{"$f":"Invoeren!AY221","v":""},{"$f":"Invoeren!AZ221","v":""},{"$f":"Invoeren!BA221","v":{"v":0,"d":"0.0"}},{"$f":"Invoeren!BB221","v":{"v":0,"d":"0.0000"}},{"$f":"Invoeren!BN221","v":{"v":0,"d":"0.0"}},{"$f":"Invoeren!BO221","v":{"v":0,"d":"0.0"}},{"$f":"Invoeren!BP221","v":{"v":0,"d":"0.0"}},{"$f":"Invoeren!BQ221","v":{"v":0,"d":"0.0"}},{"$f":"Invoeren!BR221","v":{"v":0,"d":"0.0"}},{"$f":"Invoeren!BS221","v":""},{"$f":"Invoeren!BT221","v":""},{"$f":"Invoeren!BU221","v":{"v":0,"d":"0.0"}},{"$f":"Invoeren!BV221","v":{"v":0,"d":"0.0000"}},{"$f":"Invoeren!CH221","v":{"v":0,"d":"0.0"}},{"$f":"Invoeren!CI221","v":{"v":0,"d":"0.0"}},{"$f":"Invoeren!CJ221","v":{"v":0,"d":"0.0"}},{"$f":"Invoeren!CK221","v":{"v":0,"d":"0.0"}},{"$f":"Invoeren!CL221","v":{"v":0,"d":"0.0"}},{"$f":"Invoeren!CM221","v":""},{"$f":"Invoeren!CN221","v":""},{"$f":"Invoeren!CO221","v":{"v":0,"d":"0.0"}},{"$f":"Invoeren!CP221","v":{"v":0,"d":"0.0000"}},{"$f":"Invoeren!CR221","v":0},{"$f":"Invoeren!CS221","v":0},{"$f":"Invoeren!CT221","v":0},{"$f":"Invoeren!C221","v":0},{"$f":"Invoeren!L221","v":0},{"$f":"Invoeren!M221","v":""},{"$f":"Invoeren!N221","v":""},{"$f":"Invoeren!H221","v":0},{"$f":"Invoeren!AI221","v":""},{"$f":"Invoeren!BC221","v":""},{"$f":"Invoeren!BW221","v":""},{"$f":"Invoeren!CQ221","v":""}]
[{"$f":"Invoeren!B222","v":193},{"$f":"Invoeren!A222","v":216},{"$f":"Invoeren!E222","v":0},{"$f":"Invoeren!F222","v":0},{"$f":"Invoeren!$K222","v":0},{"$f":"Invoeren!$I222","v":0},{"$f":"Invoeren!Z222","v":{"v":0,"d":"0.0"}},{"$f":"Invoeren!AA222","v":{"v":0,"d":"0.0"}},{"$f":"Invoeren!AB222","v":{"v":0,"d":"0.0"}},{"$f":"Invoeren!AC222","v":{"v":0,"d":"0.0"}},{"$f":"Invoeren!AD222","v":{"v":0,"d":"0.0"}},{"$f":"Invoeren!AE222","v":""},{"$f":"Invoeren!AF222","v":""},{"$f":"Invoeren!AG222","v":{"v":0,"d":"0.0"}},{"$f":"Invoeren!AH222","v":{"v":0,"d":"0.0000"}},{"$f":"Invoeren!AT222","v":{"v":0,"d":"0.0"}},{"$f":"Invoeren!AU222","v":{"v":0,"d":"0.0"}},{"$f":"Invoeren!AV222","v":{"v":0,"d":"0.0"}},{"$f":"Invoeren!AW222","v":{"v":0,"d":"0.0"}},{"$f":"Invoeren!AX222","v":{"v":0,"d":"0.0"}},{"$f":"Invoeren!AY222","v":""},{"$f":"Invoeren!AZ222","v":""},{"$f":"Invoeren!BA222","v":{"v":0,"d":"0.0"}},{"$f":"Invoeren!BB222","v":{"v":0,"d":"0.0000"}},{"$f":"Invoeren!BN222","v":{"v":0,"d":"0.0"}},{"$f":"Invoeren!BO222","v":{"v":0,"d":"0.0"}},{"$f":"Invoeren!BP222","v":{"v":0,"d":"0.0"}},{"$f":"Invoeren!BQ222","v":{"v":0,"d":"0.0"}},{"$f":"Invoeren!BR222","v":{"v":0,"d":"0.0"}},{"$f":"Invoeren!BS222","v":""},{"$f":"Invoeren!BT222","v":""},{"$f":"Invoeren!BU222","v":{"v":0,"d":"0.0"}},{"$f":"Invoeren!BV222","v":{"v":0,"d":"0.0000"}},{"$f":"Invoeren!CH222","v":{"v":0,"d":"0.0"}},{"$f":"Invoeren!CI222","v":{"v":0,"d":"0.0"}},{"$f":"Invoeren!CJ222","v":{"v":0,"d":"0.0"}},{"$f":"Invoeren!CK222","v":{"v":0,"d":"0.0"}},{"$f":"Invoeren!CL222","v":{"v":0,"d":"0.0"}},{"$f":"Invoeren!CM222","v":""},{"$f":"Invoeren!CN222","v":""},{"$f":"Invoeren!CO222","v":{"v":0,"d":"0.0"}},{"$f":"Invoeren!CP222","v":{"v":0,"d":"0.0000"}},{"$f":"Invoeren!CR222","v":0},{"$f":"Invoeren!CS222","v":0},{"$f":"Invoeren!CT222","v":0},{"$f":"Invoeren!C222","v":0},{"$f":"Invoeren!L222","v":0},{"$f":"Invoeren!M222","v":""},{"$f":"Invoeren!N222","v":""},{"$f":"Invoeren!H222","v":0},{"$f":"Invoeren!AI222","v":""},{"$f":"Invoeren!BC222","v":""},{"$f":"Invoeren!BW222","v":""},{"$f":"Invoeren!CQ222","v":""}]
[{"$f":"Invoeren!B223","v":193},{"$f":"Invoeren!A223","v":217},{"$f":"Invoeren!E223","v":0},{"$f":"Invoeren!F223","v":0},{"$f":"Invoeren!$K223","v":0},{"$f":"Invoeren!$I223","v":0},{"$f":"Invoeren!Z223","v":{"v":0,"d":"0.0"}},{"$f":"Invoeren!AA223","v":{"v":0,"d":"0.0"}},{"$f":"Invoeren!AB223","v":{"v":0,"d":"0.0"}},{"$f":"Invoeren!AC223","v":{"v":0,"d":"0.0"}},{"$f":"Invoeren!AD223","v":{"v":0,"d":"0.0"}},{"$f":"Invoeren!AE223","v":""},{"$f":"Invoeren!AF223","v":""},{"$f":"Invoeren!AG223","v":{"v":0,"d":"0.0"}},{"$f":"Invoeren!AH223","v":{"v":0,"d":"0.0000"}},{"$f":"Invoeren!AT223","v":{"v":0,"d":"0.0"}},{"$f":"Invoeren!AU223","v":{"v":0,"d":"0.0"}},{"$f":"Invoeren!AV223","v":{"v":0,"d":"0.0"}},{"$f":"Invoeren!AW223","v":{"v":0,"d":"0.0"}},{"$f":"Invoeren!AX223","v":{"v":0,"d":"0.0"}},{"$f":"Invoeren!AY223","v":""},{"$f":"Invoeren!AZ223","v":""},{"$f":"Invoeren!BA223","v":{"v":0,"d":"0.0"}},{"$f":"Invoeren!BB223","v":{"v":0,"d":"0.0000"}},{"$f":"Invoeren!BN223","v":{"v":0,"d":"0.0"}},{"$f":"Invoeren!BO223","v":{"v":0,"d":"0.0"}},{"$f":"Invoeren!BP223","v":{"v":0,"d":"0.0"}},{"$f":"Invoeren!BQ223","v":{"v":0,"d":"0.0"}},{"$f":"Invoeren!BR223","v":{"v":0,"d":"0.0"}},{"$f":"Invoeren!BS223","v":""},{"$f":"Invoeren!BT223","v":""},{"$f":"Invoeren!BU223","v":{"v":0,"d":"0.0"}},{"$f":"Invoeren!BV223","v":{"v":0,"d":"0.0000"}},{"$f":"Invoeren!CH223","v":{"v":0,"d":"0.0"}},{"$f":"Invoeren!CI223","v":{"v":0,"d":"0.0"}},{"$f":"Invoeren!CJ223","v":{"v":0,"d":"0.0"}},{"$f":"Invoeren!CK223","v":{"v":0,"d":"0.0"}},{"$f":"Invoeren!CL223","v":{"v":0,"d":"0.0"}},{"$f":"Invoeren!CM223","v":""},{"$f":"Invoeren!CN223","v":""},{"$f":"Invoeren!CO223","v":{"v":0,"d":"0.0"}},{"$f":"Invoeren!CP223","v":{"v":0,"d":"0.0000"}},{"$f":"Invoeren!CR223","v":0},{"$f":"Invoeren!CS223","v":0},{"$f":"Invoeren!CT223","v":0},{"$f":"Invoeren!C223","v":0},{"$f":"Invoeren!L223","v":0},{"$f":"Invoeren!M223","v":""},{"$f":"Invoeren!N223","v":""},{"$f":"Invoeren!H223","v":0},{"$f":"Invoeren!AI223","v":""},{"$f":"Invoeren!BC223","v":""},{"$f":"Invoeren!BW223","v":""},{"$f":"Invoeren!CQ223","v":""}]
[{"$f":"Invoeren!B224","v":193},{"$f":"Invoeren!A224","v":218},{"$f":"Invoeren!E224","v":0},{"$f":"Invoeren!F224","v":0},{"$f":"Invoeren!$K224","v":0},{"$f":"Invoeren!$I224","v":0},{"$f":"Invoeren!Z224","v":{"v":0,"d":"0.0"}},{"$f":"Invoeren!AA224","v":{"v":0,"d":"0.0"}},{"$f":"Invoeren!AB224","v":{"v":0,"d":"0.0"}},{"$f":"Invoeren!AC224","v":{"v":0,"d":"0.0"}},{"$f":"Invoeren!AD224","v":{"v":0,"d":"0.0"}},{"$f":"Invoeren!AE224","v":""},{"$f":"Invoeren!AF224","v":""},{"$f":"Invoeren!AG224","v":{"v":0,"d":"0.0"}},{"$f":"Invoeren!AH224","v":{"v":0,"d":"0.0000"}},{"$f":"Invoeren!AT224","v":{"v":0,"d":"0.0"}},{"$f":"Invoeren!AU224","v":{"v":0,"d":"0.0"}},{"$f":"Invoeren!AV224","v":{"v":0,"d":"0.0"}},{"$f":"Invoeren!AW224","v":{"v":0,"d":"0.0"}},{"$f":"Invoeren!AX224","v":{"v":0,"d":"0.0"}},{"$f":"Invoeren!AY224","v":""},{"$f":"Invoeren!AZ224","v":""},{"$f":"Invoeren!BA224","v":{"v":0,"d":"0.0"}},{"$f":"Invoeren!BB224","v":{"v":0,"d":"0.0000"}},{"$f":"Invoeren!BN224","v":{"v":0,"d":"0.0"}},{"$f":"Invoeren!BO224","v":{"v":0,"d":"0.0"}},{"$f":"Invoeren!BP224","v":{"v":0,"d":"0.0"}},{"$f":"Invoeren!BQ224","v":{"v":0,"d":"0.0"}},{"$f":"Invoeren!BR224","v":{"v":0,"d":"0.0"}},{"$f":"Invoeren!BS224","v":""},{"$f":"Invoeren!BT224","v":""},{"$f":"Invoeren!BU224","v":{"v":0,"d":"0.0"}},{"$f":"Invoeren!BV224","v":{"v":0,"d":"0.0000"}},{"$f":"Invoeren!CH224","v":{"v":0,"d":"0.0"}},{"$f":"Invoeren!CI224","v":{"v":0,"d":"0.0"}},{"$f":"Invoeren!CJ224","v":{"v":0,"d":"0.0"}},{"$f":"Invoeren!CK224","v":{"v":0,"d":"0.0"}},{"$f":"Invoeren!CL224","v":{"v":0,"d":"0.0"}},{"$f":"Invoeren!CM224","v":""},{"$f":"Invoeren!CN224","v":""},{"$f":"Invoeren!CO224","v":{"v":0,"d":"0.0"}},{"$f":"Invoeren!CP224","v":{"v":0,"d":"0.0000"}},{"$f":"Invoeren!CR224","v":0},{"$f":"Invoeren!CS224","v":0},{"$f":"Invoeren!CT224","v":0},{"$f":"Invoeren!C224","v":0},{"$f":"Invoeren!L224","v":0},{"$f":"Invoeren!M224","v":""},{"$f":"Invoeren!N224","v":""},{"$f":"Invoeren!H224","v":0},{"$f":"Invoeren!AI224","v":""},{"$f":"Invoeren!BC224","v":""},{"$f":"Invoeren!BW224","v":""},{"$f":"Invoeren!CQ224","v":""}]
[{"$f":"Invoeren!B225","v":193},{"$f":"Invoeren!A225","v":219},{"$f":"Invoeren!E225","v":0},{"$f":"Invoeren!F225","v":0},{"$f":"Invoeren!$K225","v":0},{"$f":"Invoeren!$I225","v":0},{"$f":"Invoeren!Z225","v":{"v":0,"d":"0.0"}},{"$f":"Invoeren!AA225","v":{"v":0,"d":"0.0"}},{"$f":"Invoeren!AB225","v":{"v":0,"d":"0.0"}},{"$f":"Invoeren!AC225","v":{"v":0,"d":"0.0"}},{"$f":"Invoeren!AD225","v":{"v":0,"d":"0.0"}},{"$f":"Invoeren!AE225","v":""},{"$f":"Invoeren!AF225","v":""},{"$f":"Invoeren!AG225","v":{"v":0,"d":"0.0"}},{"$f":"Invoeren!AH225","v":{"v":0,"d":"0.0000"}},{"$f":"Invoeren!AT225","v":{"v":0,"d":"0.0"}},{"$f":"Invoeren!AU225","v":{"v":0,"d":"0.0"}},{"$f":"Invoeren!AV225","v":{"v":0,"d":"0.0"}},{"$f":"Invoeren!AW225","v":{"v":0,"d":"0.0"}},{"$f":"Invoeren!AX225","v":{"v":0,"d":"0.0"}},{"$f":"Invoeren!AY225","v":""},{"$f":"Invoeren!AZ225","v":""},{"$f":"Invoeren!BA225","v":{"v":0,"d":"0.0"}},{"$f":"Invoeren!BB225","v":{"v":0,"d":"0.0000"}},{"$f":"Invoeren!BN225","v":{"v":0,"d":"0.0"}},{"$f":"Invoeren!BO225","v":{"v":0,"d":"0.0"}},{"$f":"Invoeren!BP225","v":{"v":0,"d":"0.0"}},{"$f":"Invoeren!BQ225","v":{"v":0,"d":"0.0"}},{"$f":"Invoeren!BR225","v":{"v":0,"d":"0.0"}},{"$f":"Invoeren!BS225","v":""},{"$f":"Invoeren!BT225","v":""},{"$f":"Invoeren!BU225","v":{"v":0,"d":"0.0"}},{"$f":"Invoeren!BV225","v":{"v":0,"d":"0.0000"}},{"$f":"Invoeren!CH225","v":{"v":0,"d":"0.0"}},{"$f":"Invoeren!CI225","v":{"v":0,"d":"0.0"}},{"$f":"Invoeren!CJ225","v":{"v":0,"d":"0.0"}},{"$f":"Invoeren!CK225","v":{"v":0,"d":"0.0"}},{"$f":"Invoeren!CL225","v":{"v":0,"d":"0.0"}},{"$f":"Invoeren!CM225","v":""},{"$f":"Invoeren!CN225","v":""},{"$f":"Invoeren!CO225","v":{"v":0,"d":"0.0"}},{"$f":"Invoeren!CP225","v":{"v":0,"d":"0.0000"}},{"$f":"Invoeren!CR225","v":0},{"$f":"Invoeren!CS225","v":0},{"$f":"Invoeren!CT225","v":0},{"$f":"Invoeren!C225","v":0},{"$f":"Invoeren!L225","v":0},{"$f":"Invoeren!M225","v":""},{"$f":"Invoeren!N225","v":""},{"$f":"Invoeren!H225","v":0},{"$f":"Invoeren!AI225","v":""},{"$f":"Invoeren!BC225","v":""},{"$f":"Invoeren!BW225","v":""},{"$f":"Invoeren!CQ225","v":""}]
[{"$f":"Invoeren!B226","v":193},{"$f":"Invoeren!A226","v":220},{"$f":"Invoeren!E226","v":0},{"$f":"Invoeren!F226","v":0},{"$f":"Invoeren!$K226","v":0},{"$f":"Invoeren!$I226","v":0},{"$f":"Invoeren!Z226","v":{"v":0,"d":"0.0"}},{"$f":"Invoeren!AA226","v":{"v":0,"d":"0.0"}},{"$f":"Invoeren!AB226","v":{"v":0,"d":"0.0"}},{"$f":"Invoeren!AC226","v":{"v":0,"d":"0.0"}},{"$f":"Invoeren!AD226","v":{"v":0,"d":"0.0"}},{"$f":"Invoeren!AE226","v":""},{"$f":"Invoeren!AF226","v":""},{"$f":"Invoeren!AG226","v":{"v":0,"d":"0.0"}},{"$f":"Invoeren!AH226","v":{"v":0,"d":"0.0000"}},{"$f":"Invoeren!AT226","v":{"v":0,"d":"0.0"}},{"$f":"Invoeren!AU226","v":{"v":0,"d":"0.0"}},{"$f":"Invoeren!AV226","v":{"v":0,"d":"0.0"}},{"$f":"Invoeren!AW226","v":{"v":0,"d":"0.0"}},{"$f":"Invoeren!AX226","v":{"v":0,"d":"0.0"}},{"$f":"Invoeren!AY226","v":""},{"$f":"Invoeren!AZ226","v":""},{"$f":"Invoeren!BA226","v":{"v":0,"d":"0.0"}},{"$f":"Invoeren!BB226","v":{"v":0,"d":"0.0000"}},{"$f":"Invoeren!BN226","v":{"v":0,"d":"0.0"}},{"$f":"Invoeren!BO226","v":{"v":0,"d":"0.0"}},{"$f":"Invoeren!BP226","v":{"v":0,"d":"0.0"}},{"$f":"Invoeren!BQ226","v":{"v":0,"d":"0.0"}},{"$f":"Invoeren!BR226","v":{"v":0,"d":"0.0"}},{"$f":"Invoeren!BS226","v":""},{"$f":"Invoeren!BT226","v":""},{"$f":"Invoeren!BU226","v":{"v":0,"d":"0.0"}},{"$f":"Invoeren!BV226","v":{"v":0,"d":"0.0000"}},{"$f":"Invoeren!CH226","v":{"v":0,"d":"0.0"}},{"$f":"Invoeren!CI226","v":{"v":0,"d":"0.0"}},{"$f":"Invoeren!CJ226","v":{"v":0,"d":"0.0"}},{"$f":"Invoeren!CK226","v":{"v":0,"d":"0.0"}},{"$f":"Invoeren!CL226","v":{"v":0,"d":"0.0"}},{"$f":"Invoeren!CM226","v":""},{"$f":"Invoeren!CN226","v":""},{"$f":"Invoeren!CO226","v":{"v":0,"d":"0.0"}},{"$f":"Invoeren!CP226","v":{"v":0,"d":"0.0000"}},{"$f":"Invoeren!CR226","v":0},{"$f":"Invoeren!CS226","v":0},{"$f":"Invoeren!CT226","v":0},{"$f":"Invoeren!C226","v":0},{"$f":"Invoeren!L226","v":0},{"$f":"Invoeren!M226","v":""},{"$f":"Invoeren!N226","v":""},{"$f":"Invoeren!H226","v":0},{"$f":"Invoeren!AI226","v":""},{"$f":"Invoeren!BC226","v":""},{"$f":"Invoeren!BW226","v":""},{"$f":"Invoeren!CQ226","v":""}]
[{"$f":"Invoeren!B227","v":193},{"$f":"Invoeren!A227","v":221},{"$f":"Invoeren!E227","v":0},{"$f":"Invoeren!F227","v":0},{"$f":"Invoeren!$K227","v":0},{"$f":"Invoeren!$I227","v":0},{"$f":"Invoeren!Z227","v":{"v":0,"d":"0.0"}},{"$f":"Invoeren!AA227","v":{"v":0,"d":"0.0"}},{"$f":"Invoeren!AB227","v":{"v":0,"d":"0.0"}},{"$f":"Invoeren!AC227","v":{"v":0,"d":"0.0"}},{"$f":"Invoeren!AD227","v":{"v":0,"d":"0.0"}},{"$f":"Invoeren!AE227","v":""},{"$f":"Invoeren!AF227","v":""},{"$f":"Invoeren!AG227","v":{"v":0,"d":"0.0"}},{"$f":"Invoeren!AH227","v":{"v":0,"d":"0.0000"}},{"$f":"Invoeren!AT227","v":{"v":0,"d":"0.0"}},{"$f":"Invoeren!AU227","v":{"v":0,"d":"0.0"}},{"$f":"Invoeren!AV227","v":{"v":0,"d":"0.0"}},{"$f":"Invoeren!AW227","v":{"v":0,"d":"0.0"}},{"$f":"Invoeren!AX227","v":{"v":0,"d":"0.0"}},{"$f":"Invoeren!AY227","v":""},{"$f":"Invoeren!AZ227","v":""},{"$f":"Invoeren!BA227","v":{"v":0,"d":"0.0"}},{"$f":"Invoeren!BB227","v":{"v":0,"d":"0.0000"}},{"$f":"Invoeren!BN227","v":{"v":0,"d":"0.0"}},{"$f":"Invoeren!BO227","v":{"v":0,"d":"0.0"}},{"$f":"Invoeren!BP227","v":{"v":0,"d":"0.0"}},{"$f":"Invoeren!BQ227","v":{"v":0,"d":"0.0"}},{"$f":"Invoeren!BR227","v":{"v":0,"d":"0.0"}},{"$f":"Invoeren!BS227","v":""},{"$f":"Invoeren!BT227","v":""},{"$f":"Invoeren!BU227","v":{"v":0,"d":"0.0"}},{"$f":"Invoeren!BV227","v":{"v":0,"d":"0.0000"}},{"$f":"Invoeren!CH227","v":{"v":0,"d":"0.0"}},{"$f":"Invoeren!CI227","v":{"v":0,"d":"0.0"}},{"$f":"Invoeren!CJ227","v":{"v":0,"d":"0.0"}},{"$f":"Invoeren!CK227","v":{"v":0,"d":"0.0"}},{"$f":"Invoeren!CL227","v":{"v":0,"d":"0.0"}},{"$f":"Invoeren!CM227","v":""},{"$f":"Invoeren!CN227","v":""},{"$f":"Invoeren!CO227","v":{"v":0,"d":"0.0"}},{"$f":"Invoeren!CP227","v":{"v":0,"d":"0.0000"}},{"$f":"Invoeren!CR227","v":0},{"$f":"Invoeren!CS227","v":0},{"$f":"Invoeren!CT227","v":0},{"$f":"Invoeren!C227","v":0},{"$f":"Invoeren!L227","v":0},{"$f":"Invoeren!M227","v":""},{"$f":"Invoeren!N227","v":""},{"$f":"Invoeren!H227","v":0},{"$f":"Invoeren!AI227","v":""},{"$f":"Invoeren!BC227","v":""},{"$f":"Invoeren!BW227","v":""},{"$f":"Invoeren!CQ227","v":""}]
[{"$f":"Invoeren!B228","v":193},{"$f":"Invoeren!A228","v":222},{"$f":"Invoeren!E228","v":0},{"$f":"Invoeren!F228","v":0},{"$f":"Invoeren!$K228","v":0},{"$f":"Invoeren!$I228","v":0},{"$f":"Invoeren!Z228","v":{"v":0,"d":"0.0"}},{"$f":"Invoeren!AA228","v":{"v":0,"d":"0.0"}},{"$f":"Invoeren!AB228","v":{"v":0,"d":"0.0"}},{"$f":"Invoeren!AC228","v":{"v":0,"d":"0.0"}},{"$f":"Invoeren!AD228","v":{"v":0,"d":"0.0"}},{"$f":"Invoeren!AE228","v":""},{"$f":"Invoeren!AF228","v":""},{"$f":"Invoeren!AG228","v":{"v":0,"d":"0.0"}},{"$f":"Invoeren!AH228","v":{"v":0,"d":"0.0000"}},{"$f":"Invoeren!AT228","v":{"v":0,"d":"0.0"}},{"$f":"Invoeren!AU228","v":{"v":0,"d":"0.0"}},{"$f":"Invoeren!AV228","v":{"v":0,"d":"0.0"}},{"$f":"Invoeren!AW228","v":{"v":0,"d":"0.0"}},{"$f":"Invoeren!AX228","v":{"v":0,"d":"0.0"}},{"$f":"Invoeren!AY228","v":""},{"$f":"Invoeren!AZ228","v":""},{"$f":"Invoeren!BA228","v":{"v":0,"d":"0.0"}},{"$f":"Invoeren!BB228","v":{"v":0,"d":"0.0000"}},{"$f":"Invoeren!BN228","v":{"v":0,"d":"0.0"}},{"$f":"Invoeren!BO228","v":{"v":0,"d":"0.0"}},{"$f":"Invoeren!BP228","v":{"v":0,"d":"0.0"}},{"$f":"Invoeren!BQ228","v":{"v":0,"d":"0.0"}},{"$f":"Invoeren!BR228","v":{"v":0,"d":"0.0"}},{"$f":"Invoeren!BS228","v":""},{"$f":"Invoeren!BT228","v":""},{"$f":"Invoeren!BU228","v":{"v":0,"d":"0.0"}},{"$f":"Invoeren!BV228","v":{"v":0,"d":"0.0000"}},{"$f":"Invoeren!CH228","v":{"v":0,"d":"0.0"}},{"$f":"Invoeren!CI228","v":{"v":0,"d":"0.0"}},{"$f":"Invoeren!CJ228","v":{"v":0,"d":"0.0"}},{"$f":"Invoeren!CK228","v":{"v":0,"d":"0.0"}},{"$f":"Invoeren!CL228","v":{"v":0,"d":"0.0"}},{"$f":"Invoeren!CM228","v":""},{"$f":"Invoeren!CN228","v":""},{"$f":"Invoeren!CO228","v":{"v":0,"d":"0.0"}},{"$f":"Invoeren!CP228","v":{"v":0,"d":"0.0000"}},{"$f":"Invoeren!CR228","v":0},{"$f":"Invoeren!CS228","v":0},{"$f":"Invoeren!CT228","v":0},{"$f":"Invoeren!C228","v":0},{"$f":"Invoeren!L228","v":0},{"$f":"Invoeren!M228","v":""},{"$f":"Invoeren!N228","v":""},{"$f":"Invoeren!H228","v":0},{"$f":"Invoeren!AI228","v":""},{"$f":"Invoeren!BC228","v":""},{"$f":"Invoeren!BW228","v":""},{"$f":"Invoeren!CQ228","v":""}]
[{"$f":"Invoeren!B229","v":193},{"$f":"Invoeren!A229","v":223},{"$f":"Invoeren!E229","v":0},{"$f":"Invoeren!F229","v":0},{"$f":"Invoeren!$K229","v":0},{"$f":"Invoeren!$I229","v":0},{"$f":"Invoeren!Z229","v":{"v":0,"d":"0.0"}},{"$f":"Invoeren!AA229","v":{"v":0,"d":"0.0"}},{"$f":"Invoeren!AB229","v":{"v":0,"d":"0.0"}},{"$f":"Invoeren!AC229","v":{"v":0,"d":"0.0"}},{"$f":"Invoeren!AD229","v":{"v":0,"d":"0.0"}},{"$f":"Invoeren!AE229","v":""},{"$f":"Invoeren!AF229","v":""},{"$f":"Invoeren!AG229","v":{"v":0,"d":"0.0"}},{"$f":"Invoeren!AH229","v":{"v":0,"d":"0.0000"}},{"$f":"Invoeren!AT229","v":{"v":0,"d":"0.0"}},{"$f":"Invoeren!AU229","v":{"v":0,"d":"0.0"}},{"$f":"Invoeren!AV229","v":{"v":0,"d":"0.0"}},{"$f":"Invoeren!AW229","v":{"v":0,"d":"0.0"}},{"$f":"Invoeren!AX229","v":{"v":0,"d":"0.0"}},{"$f":"Invoeren!AY229","v":""},{"$f":"Invoeren!AZ229","v":""},{"$f":"Invoeren!BA229","v":{"v":0,"d":"0.0"}},{"$f":"Invoeren!BB229","v":{"v":0,"d":"0.0000"}},{"$f":"Invoeren!BN229","v":{"v":0,"d":"0.0"}},{"$f":"Invoeren!BO229","v":{"v":0,"d":"0.0"}},{"$f":"Invoeren!BP229","v":{"v":0,"d":"0.0"}},{"$f":"Invoeren!BQ229","v":{"v":0,"d":"0.0"}},{"$f":"Invoeren!BR229","v":{"v":0,"d":"0.0"}},{"$f":"Invoeren!BS229","v":""},{"$f":"Invoeren!BT229","v":""},{"$f":"Invoeren!BU229","v":{"v":0,"d":"0.0"}},{"$f":"Invoeren!BV229","v":{"v":0,"d":"0.0000"}},{"$f":"Invoeren!CH229","v":{"v":0,"d":"0.0"}},{"$f":"Invoeren!CI229","v":{"v":0,"d":"0.0"}},{"$f":"Invoeren!CJ229","v":{"v":0,"d":"0.0"}},{"$f":"Invoeren!CK229","v":{"v":0,"d":"0.0"}},{"$f":"Invoeren!CL229","v":{"v":0,"d":"0.0"}},{"$f":"Invoeren!CM229","v":""},{"$f":"Invoeren!CN229","v":""},{"$f":"Invoeren!CO229","v":{"v":0,"d":"0.0"}},{"$f":"Invoeren!CP229","v":{"v":0,"d":"0.0000"}},{"$f":"Invoeren!CR229","v":0},{"$f":"Invoeren!CS229","v":0},{"$f":"Invoeren!CT229","v":0},{"$f":"Invoeren!C229","v":0},{"$f":"Invoeren!L229","v":0},{"$f":"Invoeren!M229","v":""},{"$f":"Invoeren!N229","v":""},{"$f":"Invoeren!H229","v":0},{"$f":"Invoeren!AI229","v":""},{"$f":"Invoeren!BC229","v":""},{"$f":"Invoeren!BW229","v":""},{"$f":"Invoeren!CQ229","v":""}]
[{"$f":"Invoeren!B230","v":193},{"$f":"Invoeren!A230","v":224},{"$f":"Invoeren!E230","v":0},{"$f":"Invoeren!F230","v":0},{"$f":"Invoeren!$K230","v":0},{"$f":"Invoeren!$I230","v":0},{"$f":"Invoeren!Z230","v":{"v":0,"d":"0.0"}},{"$f":"Invoeren!AA230","v":{"v":0,"d":"0.0"}},{"$f":"Invoeren!AB230","v":{"v":0,"d":"0.0"}},{"$f":"Invoeren!AC230","v":{"v":0,"d":"0.0"}},{"$f":"Invoeren!AD230","v":{"v":0,"d":"0.0"}},{"$f":"Invoeren!AE230","v":""},{"$f":"Invoeren!AF230","v":""},{"$f":"Invoeren!AG230","v":{"v":0,"d":"0.0"}},{"$f":"Invoeren!AH230","v":{"v":0,"d":"0.0000"}},{"$f":"Invoeren!AT230","v":{"v":0,"d":"0.0"}},{"$f":"Invoeren!AU230","v":{"v":0,"d":"0.0"}},{"$f":"Invoeren!AV230","v":{"v":0,"d":"0.0"}},{"$f":"Invoeren!AW230","v":{"v":0,"d":"0.0"}},{"$f":"Invoeren!AX230","v":{"v":0,"d":"0.0"}},{"$f":"Invoeren!AY230","v":""},{"$f":"Invoeren!AZ230","v":""},{"$f":"Invoeren!BA230","v":{"v":0,"d":"0.0"}},{"$f":"Invoeren!BB230","v":{"v":0,"d":"0.0000"}},{"$f":"Invoeren!BN230","v":{"v":0,"d":"0.0"}},{"$f":"Invoeren!BO230","v":{"v":0,"d":"0.0"}},{"$f":"Invoeren!BP230","v":{"v":0,"d":"0.0"}},{"$f":"Invoeren!BQ230","v":{"v":0,"d":"0.0"}},{"$f":"Invoeren!BR230","v":{"v":0,"d":"0.0"}},{"$f":"Invoeren!BS230","v":""},{"$f":"Invoeren!BT230","v":""},{"$f":"Invoeren!BU230","v":{"v":0,"d":"0.0"}},{"$f":"Invoeren!BV230","v":{"v":0,"d":"0.0000"}},{"$f":"Invoeren!CH230","v":{"v":0,"d":"0.0"}},{"$f":"Invoeren!CI230","v":{"v":0,"d":"0.0"}},{"$f":"Invoeren!CJ230","v":{"v":0,"d":"0.0"}},{"$f":"Invoeren!CK230","v":{"v":0,"d":"0.0"}},{"$f":"Invoeren!CL230","v":{"v":0,"d":"0.0"}},{"$f":"Invoeren!CM230","v":""},{"$f":"Invoeren!CN230","v":""},{"$f":"Invoeren!CO230","v":{"v":0,"d":"0.0"}},{"$f":"Invoeren!CP230","v":{"v":0,"d":"0.0000"}},{"$f":"Invoeren!CR230","v":0},{"$f":"Invoeren!CS230","v":0},{"$f":"Invoeren!CT230","v":0},{"$f":"Invoeren!C230","v":0},{"$f":"Invoeren!L230","v":0},{"$f":"Invoeren!M230","v":""},{"$f":"Invoeren!N230","v":""},{"$f":"Invoeren!H230","v":0},{"$f":"Invoeren!AI230","v":""},{"$f":"Invoeren!BC230","v":""},{"$f":"Invoeren!BW230","v":""},{"$f":"Invoeren!CQ230","v":""}]
[{"$f":"Invoeren!B231","v":193},{"$f":"Invoeren!A231","v":225},{"$f":"Invoeren!E231","v":0},{"$f":"Invoeren!F231","v":0},{"$f":"Invoeren!$K231","v":0},{"$f":"Invoeren!$I231","v":0},{"$f":"Invoeren!Z231","v":{"v":0,"d":"0.0"}},{"$f":"Invoeren!AA231","v":{"v":0,"d":"0.0"}},{"$f":"Invoeren!AB231","v":{"v":0,"d":"0.0"}},{"$f":"Invoeren!AC231","v":{"v":0,"d":"0.0"}},{"$f":"Invoeren!AD231","v":{"v":0,"d":"0.0"}},{"$f":"Invoeren!AE231","v":""},{"$f":"Invoeren!AF231","v":""},{"$f":"Invoeren!AG231","v":{"v":0,"d":"0.0"}},{"$f":"Invoeren!AH231","v":{"v":0,"d":"0.0000"}},{"$f":"Invoeren!AT231","v":{"v":0,"d":"0.0"}},{"$f":"Invoeren!AU231","v":{"v":0,"d":"0.0"}},{"$f":"Invoeren!AV231","v":{"v":0,"d":"0.0"}},{"$f":"Invoeren!AW231","v":{"v":0,"d":"0.0"}},{"$f":"Invoeren!AX231","v":{"v":0,"d":"0.0"}},{"$f":"Invoeren!AY231","v":""},{"$f":"Invoeren!AZ231","v":""},{"$f":"Invoeren!BA231","v":{"v":0,"d":"0.0"}},{"$f":"Invoeren!BB231","v":{"v":0,"d":"0.0000"}},{"$f":"Invoeren!BN231","v":{"v":0,"d":"0.0"}},{"$f":"Invoeren!BO231","v":{"v":0,"d":"0.0"}},{"$f":"Invoeren!BP231","v":{"v":0,"d":"0.0"}},{"$f":"Invoeren!BQ231","v":{"v":0,"d":"0.0"}},{"$f":"Invoeren!BR231","v":{"v":0,"d":"0.0"}},{"$f":"Invoeren!BS231","v":""},{"$f":"Invoeren!BT231","v":""},{"$f":"Invoeren!BU231","v":{"v":0,"d":"0.0"}},{"$f":"Invoeren!BV231","v":{"v":0,"d":"0.0000"}},{"$f":"Invoeren!CH231","v":{"v":0,"d":"0.0"}},{"$f":"Invoeren!CI231","v":{"v":0,"d":"0.0"}},{"$f":"Invoeren!CJ231","v":{"v":0,"d":"0.0"}},{"$f":"Invoeren!CK231","v":{"v":0,"d":"0.0"}},{"$f":"Invoeren!CL231","v":{"v":0,"d":"0.0"}},{"$f":"Invoeren!CM231","v":""},{"$f":"Invoeren!CN231","v":""},{"$f":"Invoeren!CO231","v":{"v":0,"d":"0.0"}},{"$f":"Invoeren!CP231","v":{"v":0,"d":"0.0000"}},{"$f":"Invoeren!CR231","v":0},{"$f":"Invoeren!CS231","v":0},{"$f":"Invoeren!CT231","v":0},{"$f":"Invoeren!C231","v":0},{"$f":"Invoeren!L231","v":0},{"$f":"Invoeren!M231","v":""},{"$f":"Invoeren!N231","v":""},{"$f":"Invoeren!H231","v":0},{"$f":"Invoeren!AI231","v":""},{"$f":"Invoeren!BC231","v":""},{"$f":"Invoeren!BW231","v":""},{"$f":"Invoeren!CQ231","v":""}]
[{"$f":"Invoeren!B232","v":193},{"$f":"Invoeren!A232","v":226},{"$f":"Invoeren!E232","v":0},{"$f":"Invoeren!F232","v":0},{"$f":"Invoeren!$K232","v":0},{"$f":"Invoeren!$I232","v":0},{"$f":"Invoeren!Z232","v":{"v":0,"d":"0.0"}},{"$f":"Invoeren!AA232","v":{"v":0,"d":"0.0"}},{"$f":"Invoeren!AB232","v":{"v":0,"d":"0.0"}},{"$f":"Invoeren!AC232","v":{"v":0,"d":"0.0"}},{"$f":"Invoeren!AD232","v":{"v":0,"d":"0.0"}},{"$f":"Invoeren!AE232","v":""},{"$f":"Invoeren!AF232","v":""},{"$f":"Invoeren!AG232","v":{"v":0,"d":"0.0"}},{"$f":"Invoeren!AH232","v":{"v":0,"d":"0.0000"}},{"$f":"Invoeren!AT232","v":{"v":0,"d":"0.0"}},{"$f":"Invoeren!AU232","v":{"v":0,"d":"0.0"}},{"$f":"Invoeren!AV232","v":{"v":0,"d":"0.0"}},{"$f":"Invoeren!AW232","v":{"v":0,"d":"0.0"}},{"$f":"Invoeren!AX232","v":{"v":0,"d":"0.0"}},{"$f":"Invoeren!AY232","v":""},{"$f":"Invoeren!AZ232","v":""},{"$f":"Invoeren!BA232","v":{"v":0,"d":"0.0"}},{"$f":"Invoeren!BB232","v":{"v":0,"d":"0.0000"}},{"$f":"Invoeren!BN232","v":{"v":0,"d":"0.0"}},{"$f":"Invoeren!BO232","v":{"v":0,"d":"0.0"}},{"$f":"Invoeren!BP232","v":{"v":0,"d":"0.0"}},{"$f":"Invoeren!BQ232","v":{"v":0,"d":"0.0"}},{"$f":"Invoeren!BR232","v":{"v":0,"d":"0.0"}},{"$f":"Invoeren!BS232","v":""},{"$f":"Invoeren!BT232","v":""},{"$f":"Invoeren!BU232","v":{"v":0,"d":"0.0"}},{"$f":"Invoeren!BV232","v":{"v":0,"d":"0.0000"}},{"$f":"Invoeren!CH232","v":{"v":0,"d":"0.0"}},{"$f":"Invoeren!CI232","v":{"v":0,"d":"0.0"}},{"$f":"Invoeren!CJ232","v":{"v":0,"d":"0.0"}},{"$f":"Invoeren!CK232","v":{"v":0,"d":"0.0"}},{"$f":"Invoeren!CL232","v":{"v":0,"d":"0.0"}},{"$f":"Invoeren!CM232","v":""},{"$f":"Invoeren!CN232","v":""},{"$f":"Invoeren!CO232","v":{"v":0,"d":"0.0"}},{"$f":"Invoeren!CP232","v":{"v":0,"d":"0.0000"}},{"$f":"Invoeren!CR232","v":0},{"$f":"Invoeren!CS232","v":0},{"$f":"Invoeren!CT232","v":0},{"$f":"Invoeren!C232","v":0},{"$f":"Invoeren!L232","v":0},{"$f":"Invoeren!M232","v":""},{"$f":"Invoeren!N232","v":""},{"$f":"Invoeren!H232","v":0},{"$f":"Invoeren!AI232","v":""},{"$f":"Invoeren!BC232","v":""},{"$f":"Invoeren!BW232","v":""},{"$f":"Invoeren!CQ232","v":""}]
[{"$f":"Invoeren!B233","v":193},{"$f":"Invoeren!A233","v":227},{"$f":"Invoeren!E233","v":0},{"$f":"Invoeren!F233","v":0},{"$f":"Invoeren!$K233","v":0},{"$f":"Invoeren!$I233","v":0},{"$f":"Invoeren!Z233","v":{"v":0,"d":"0.0"}},{"$f":"Invoeren!AA233","v":{"v":0,"d":"0.0"}},{"$f":"Invoeren!AB233","v":{"v":0,"d":"0.0"}},{"$f":"Invoeren!AC233","v":{"v":0,"d":"0.0"}},{"$f":"Invoeren!AD233","v":{"v":0,"d":"0.0"}},{"$f":"Invoeren!AE233","v":""},{"$f":"Invoeren!AF233","v":""},{"$f":"Invoeren!AG233","v":{"v":0,"d":"0.0"}},{"$f":"Invoeren!AH233","v":{"v":0,"d":"0.0000"}},{"$f":"Invoeren!AT233","v":{"v":0,"d":"0.0"}},{"$f":"Invoeren!AU233","v":{"v":0,"d":"0.0"}},{"$f":"Invoeren!AV233","v":{"v":0,"d":"0.0"}},{"$f":"Invoeren!AW233","v":{"v":0,"d":"0.0"}},{"$f":"Invoeren!AX233","v":{"v":0,"d":"0.0"}},{"$f":"Invoeren!AY233","v":""},{"$f":"Invoeren!AZ233","v":""},{"$f":"Invoeren!BA233","v":{"v":0,"d":"0.0"}},{"$f":"Invoeren!BB233","v":{"v":0,"d":"0.0000"}},{"$f":"Invoeren!BN233","v":{"v":0,"d":"0.0"}},{"$f":"Invoeren!BO233","v":{"v":0,"d":"0.0"}},{"$f":"Invoeren!BP233","v":{"v":0,"d":"0.0"}},{"$f":"Invoeren!BQ233","v":{"v":0,"d":"0.0"}},{"$f":"Invoeren!BR233","v":{"v":0,"d":"0.0"}},{"$f":"Invoeren!BS233","v":""},{"$f":"Invoeren!BT233","v":""},{"$f":"Invoeren!BU233","v":{"v":0,"d":"0.0"}},{"$f":"Invoeren!BV233","v":{"v":0,"d":"0.0000"}},{"$f":"Invoeren!CH233","v":{"v":0,"d":"0.0"}},{"$f":"Invoeren!CI233","v":{"v":0,"d":"0.0"}},{"$f":"Invoeren!CJ233","v":{"v":0,"d":"0.0"}},{"$f":"Invoeren!CK233","v":{"v":0,"d":"0.0"}},{"$f":"Invoeren!CL233","v":{"v":0,"d":"0.0"}},{"$f":"Invoeren!CM233","v":""},{"$f":"Invoeren!CN233","v":""},{"$f":"Invoeren!CO233","v":{"v":0,"d":"0.0"}},{"$f":"Invoeren!CP233","v":{"v":0,"d":"0.0000"}},{"$f":"Invoeren!CR233","v":0},{"$f":"Invoeren!CS233","v":0},{"$f":"Invoeren!CT233","v":0},{"$f":"Invoeren!C233","v":0},{"$f":"Invoeren!L233","v":0},{"$f":"Invoeren!M233","v":""},{"$f":"Invoeren!N233","v":""},{"$f":"Invoeren!H233","v":0},{"$f":"Invoeren!AI233","v":""},{"$f":"Invoeren!BC233","v":""},{"$f":"Invoeren!BW233","v":""},{"$f":"Invoeren!CQ233","v":""}]
[{"$f":"Invoeren!B234","v":193},{"$f":"Invoeren!A234","v":228},{"$f":"Invoeren!E234","v":0},{"$f":"Invoeren!F234","v":0},{"$f":"Invoeren!$K234","v":0},{"$f":"Invoeren!$I234","v":0},{"$f":"Invoeren!Z234","v":{"v":0,"d":"0.0"}},{"$f":"Invoeren!AA234","v":{"v":0,"d":"0.0"}},{"$f":"Invoeren!AB234","v":{"v":0,"d":"0.0"}},{"$f":"Invoeren!AC234","v":{"v":0,"d":"0.0"}},{"$f":"Invoeren!AD234","v":{"v":0,"d":"0.0"}},{"$f":"Invoeren!AE234","v":""},{"$f":"Invoeren!AF234","v":""},{"$f":"Invoeren!AG234","v":{"v":0,"d":"0.0"}},{"$f":"Invoeren!AH234","v":{"v":0,"d":"0.0000"}},{"$f":"Invoeren!AT234","v":{"v":0,"d":"0.0"}},{"$f":"Invoeren!AU234","v":{"v":0,"d":"0.0"}},{"$f":"Invoeren!AV234","v":{"v":0,"d":"0.0"}},{"$f":"Invoeren!AW234","v":{"v":0,"d":"0.0"}},{"$f":"Invoeren!AX234","v":{"v":0,"d":"0.0"}},{"$f":"Invoeren!AY234","v":""},{"$f":"Invoeren!AZ234","v":""},{"$f":"Invoeren!BA234","v":{"v":0,"d":"0.0"}},{"$f":"Invoeren!BB234","v":{"v":0,"d":"0.0000"}},{"$f":"Invoeren!BN234","v":{"v":0,"d":"0.0"}},{"$f":"Invoeren!BO234","v":{"v":0,"d":"0.0"}},{"$f":"Invoeren!BP234","v":{"v":0,"d":"0.0"}},{"$f":"Invoeren!BQ234","v":{"v":0,"d":"0.0"}},{"$f":"Invoeren!BR234","v":{"v":0,"d":"0.0"}},{"$f":"Invoeren!BS234","v":""},{"$f":"Invoeren!BT234","v":""},{"$f":"Invoeren!BU234","v":{"v":0,"d":"0.0"}},{"$f":"Invoeren!BV234","v":{"v":0,"d":"0.0000"}},{"$f":"Invoeren!CH234","v":{"v":0,"d":"0.0"}},{"$f":"Invoeren!CI234","v":{"v":0,"d":"0.0"}},{"$f":"Invoeren!CJ234","v":{"v":0,"d":"0.0"}},{"$f":"Invoeren!CK234","v":{"v":0,"d":"0.0"}},{"$f":"Invoeren!CL234","v":{"v":0,"d":"0.0"}},{"$f":"Invoeren!CM234","v":""},{"$f":"Invoeren!CN234","v":""},{"$f":"Invoeren!CO234","v":{"v":0,"d":"0.0"}},{"$f":"Invoeren!CP234","v":{"v":0,"d":"0.0000"}},{"$f":"Invoeren!CR234","v":0},{"$f":"Invoeren!CS234","v":0},{"$f":"Invoeren!CT234","v":0},{"$f":"Invoeren!C234","v":0},{"$f":"Invoeren!L234","v":0},{"$f":"Invoeren!M234","v":""},{"$f":"Invoeren!N234","v":""},{"$f":"Invoeren!H234","v":0},{"$f":"Invoeren!AI234","v":""},{"$f":"Invoeren!BC234","v":""},{"$f":"Invoeren!BW234","v":""},{"$f":"Invoeren!CQ234","v":""}]
[{"$f":"Invoeren!B235","v":193},{"$f":"Invoeren!A235","v":229},{"$f":"Invoeren!E235","v":0},{"$f":"Invoeren!F235","v":0},{"$f":"Invoeren!$K235","v":0},{"$f":"Invoeren!$I235","v":0},{"$f":"Invoeren!Z235","v":{"v":0,"d":"0.0"}},{"$f":"Invoeren!AA235","v":{"v":0,"d":"0.0"}},{"$f":"Invoeren!AB235","v":{"v":0,"d":"0.0"}},{"$f":"Invoeren!AC235","v":{"v":0,"d":"0.0"}},{"$f":"Invoeren!AD235","v":{"v":0,"d":"0.0"}},{"$f":"Invoeren!AE235","v":""},{"$f":"Invoeren!AF235","v":""},{"$f":"Invoeren!AG235","v":{"v":0,"d":"0.0"}},{"$f":"Invoeren!AH235","v":{"v":0,"d":"0.0000"}},{"$f":"Invoeren!AT235","v":{"v":0,"d":"0.0"}},{"$f":"Invoeren!AU235","v":{"v":0,"d":"0.0"}},{"$f":"Invoeren!AV235","v":{"v":0,"d":"0.0"}},{"$f":"Invoeren!AW235","v":{"v":0,"d":"0.0"}},{"$f":"Invoeren!AX235","v":{"v":0,"d":"0.0"}},{"$f":"Invoeren!AY235","v":""},{"$f":"Invoeren!AZ235","v":""},{"$f":"Invoeren!BA235","v":{"v":0,"d":"0.0"}},{"$f":"Invoeren!BB235","v":{"v":0,"d":"0.0000"}},{"$f":"Invoeren!BN235","v":{"v":0,"d":"0.0"}},{"$f":"Invoeren!BO235","v":{"v":0,"d":"0.0"}},{"$f":"Invoeren!BP235","v":{"v":0,"d":"0.0"}},{"$f":"Invoeren!BQ235","v":{"v":0,"d":"0.0"}},{"$f":"Invoeren!BR235","v":{"v":0,"d":"0.0"}},{"$f":"Invoeren!BS235","v":""},{"$f":"Invoeren!BT235","v":""},{"$f":"Invoeren!BU235","v":{"v":0,"d":"0.0"}},{"$f":"Invoeren!BV235","v":{"v":0,"d":"0.0000"}},{"$f":"Invoeren!CH235","v":{"v":0,"d":"0.0"}},{"$f":"Invoeren!CI235","v":{"v":0,"d":"0.0"}},{"$f":"Invoeren!CJ235","v":{"v":0,"d":"0.0"}},{"$f":"Invoeren!CK235","v":{"v":0,"d":"0.0"}},{"$f":"Invoeren!CL235","v":{"v":0,"d":"0.0"}},{"$f":"Invoeren!CM235","v":""},{"$f":"Invoeren!CN235","v":""},{"$f":"Invoeren!CO235","v":{"v":0,"d":"0.0"}},{"$f":"Invoeren!CP235","v":{"v":0,"d":"0.0000"}},{"$f":"Invoeren!CR235","v":0},{"$f":"Invoeren!CS235","v":0},{"$f":"Invoeren!CT235","v":0},{"$f":"Invoeren!C235","v":0},{"$f":"Invoeren!L235","v":0},{"$f":"Invoeren!M235","v":""},{"$f":"Invoeren!N235","v":""},{"$f":"Invoeren!H235","v":0},{"$f":"Invoeren!AI235","v":""},{"$f":"Invoeren!BC235","v":""},{"$f":"Invoeren!BW235","v":""},{"$f":"Invoeren!CQ235","v":""}]
[{"$f":"Invoeren!B236","v":193},{"$f":"Invoeren!A236","v":230},{"$f":"Invoeren!E236","v":0},{"$f":"Invoeren!F236","v":0},{"$f":"Invoeren!$K236","v":0},{"$f":"Invoeren!$I236","v":0},{"$f":"Invoeren!Z236","v":{"v":0,"d":"0.0"}},{"$f":"Invoeren!AA236","v":{"v":0,"d":"0.0"}},{"$f":"Invoeren!AB236","v":{"v":0,"d":"0.0"}},{"$f":"Invoeren!AC236","v":{"v":0,"d":"0.0"}},{"$f":"Invoeren!AD236","v":{"v":0,"d":"0.0"}},{"$f":"Invoeren!AE236","v":""},{"$f":"Invoeren!AF236","v":""},{"$f":"Invoeren!AG236","v":{"v":0,"d":"0.0"}},{"$f":"Invoeren!AH236","v":{"v":0,"d":"0.0000"}},{"$f":"Invoeren!AT236","v":{"v":0,"d":"0.0"}},{"$f":"Invoeren!AU236","v":{"v":0,"d":"0.0"}},{"$f":"Invoeren!AV236","v":{"v":0,"d":"0.0"}},{"$f":"Invoeren!AW236","v":{"v":0,"d":"0.0"}},{"$f":"Invoeren!AX236","v":{"v":0,"d":"0.0"}},{"$f":"Invoeren!AY236","v":""},{"$f":"Invoeren!AZ236","v":""},{"$f":"Invoeren!BA236","v":{"v":0,"d":"0.0"}},{"$f":"Invoeren!BB236","v":{"v":0,"d":"0.0000"}},{"$f":"Invoeren!BN236","v":{"v":0,"d":"0.0"}},{"$f":"Invoeren!BO236","v":{"v":0,"d":"0.0"}},{"$f":"Invoeren!BP236","v":{"v":0,"d":"0.0"}},{"$f":"Invoeren!BQ236","v":{"v":0,"d":"0.0"}},{"$f":"Invoeren!BR236","v":{"v":0,"d":"0.0"}},{"$f":"Invoeren!BS236","v":""},{"$f":"Invoeren!BT236","v":""},{"$f":"Invoeren!BU236","v":{"v":0,"d":"0.0"}},{"$f":"Invoeren!BV236","v":{"v":0,"d":"0.0000"}},{"$f":"Invoeren!CH236","v":{"v":0,"d":"0.0"}},{"$f":"Invoeren!CI236","v":{"v":0,"d":"0.0"}},{"$f":"Invoeren!CJ236","v":{"v":0,"d":"0.0"}},{"$f":"Invoeren!CK236","v":{"v":0,"d":"0.0"}},{"$f":"Invoeren!CL236","v":{"v":0,"d":"0.0"}},{"$f":"Invoeren!CM236","v":""},{"$f":"Invoeren!CN236","v":""},{"$f":"Invoeren!CO236","v":{"v":0,"d":"0.0"}},{"$f":"Invoeren!CP236","v":{"v":0,"d":"0.0000"}},{"$f":"Invoeren!CR236","v":0},{"$f":"Invoeren!CS236","v":0},{"$f":"Invoeren!CT236","v":0},{"$f":"Invoeren!C236","v":0},{"$f":"Invoeren!L236","v":0},{"$f":"Invoeren!M236","v":""},{"$f":"Invoeren!N236","v":""},{"$f":"Invoeren!H236","v":0},{"$f":"Invoeren!AI236","v":""},{"$f":"Invoeren!BC236","v":""},{"$f":"Invoeren!BW236","v":""},{"$f":"Invoeren!CQ236","v":""}]
[{"$f":"Invoeren!B237","v":193},{"$f":"Invoeren!A237","v":231},{"$f":"Invoeren!E237","v":0},{"$f":"Invoeren!F237","v":0},{"$f":"Invoeren!$K237","v":0},{"$f":"Invoeren!$I237","v":0},{"$f":"Invoeren!Z237","v":{"v":0,"d":"0.0"}},{"$f":"Invoeren!AA237","v":{"v":0,"d":"0.0"}},{"$f":"Invoeren!AB237","v":{"v":0,"d":"0.0"}},{"$f":"Invoeren!AC237","v":{"v":0,"d":"0.0"}},{"$f":"Invoeren!AD237","v":{"v":0,"d":"0.0"}},{"$f":"Invoeren!AE237","v":""},{"$f":"Invoeren!AF237","v":""},{"$f":"Invoeren!AG237","v":{"v":0,"d":"0.0"}},{"$f":"Invoeren!AH237","v":{"v":0,"d":"0.0000"}},{"$f":"Invoeren!AT237","v":{"v":0,"d":"0.0"}},{"$f":"Invoeren!AU237","v":{"v":0,"d":"0.0"}},{"$f":"Invoeren!AV237","v":{"v":0,"d":"0.0"}},{"$f":"Invoeren!AW237","v":{"v":0,"d":"0.0"}},{"$f":"Invoeren!AX237","v":{"v":0,"d":"0.0"}},{"$f":"Invoeren!AY237","v":""},{"$f":"Invoeren!AZ237","v":""},{"$f":"Invoeren!BA237","v":{"v":0,"d":"0.0"}},{"$f":"Invoeren!BB237","v":{"v":0,"d":"0.0000"}},{"$f":"Invoeren!BN237","v":{"v":0,"d":"0.0"}},{"$f":"Invoeren!BO237","v":{"v":0,"d":"0.0"}},{"$f":"Invoeren!BP237","v":{"v":0,"d":"0.0"}},{"$f":"Invoeren!BQ237","v":{"v":0,"d":"0.0"}},{"$f":"Invoeren!BR237","v":{"v":0,"d":"0.0"}},{"$f":"Invoeren!BS237","v":""},{"$f":"Invoeren!BT237","v":""},{"$f":"Invoeren!BU237","v":{"v":0,"d":"0.0"}},{"$f":"Invoeren!BV237","v":{"v":0,"d":"0.0000"}},{"$f":"Invoeren!CH237","v":{"v":0,"d":"0.0"}},{"$f":"Invoeren!CI237","v":{"v":0,"d":"0.0"}},{"$f":"Invoeren!CJ237","v":{"v":0,"d":"0.0"}},{"$f":"Invoeren!CK237","v":{"v":0,"d":"0.0"}},{"$f":"Invoeren!CL237","v":{"v":0,"d":"0.0"}},{"$f":"Invoeren!CM237","v":""},{"$f":"Invoeren!CN237","v":""},{"$f":"Invoeren!CO237","v":{"v":0,"d":"0.0"}},{"$f":"Invoeren!CP237","v":{"v":0,"d":"0.0000"}},{"$f":"Invoeren!CR237","v":0},{"$f":"Invoeren!CS237","v":0},{"$f":"Invoeren!CT237","v":0},{"$f":"Invoeren!C237","v":0},{"$f":"Invoeren!L237","v":0},{"$f":"Invoeren!M237","v":""},{"$f":"Invoeren!N237","v":""},{"$f":"Invoeren!H237","v":0},{"$f":"Invoeren!AI237","v":""},{"$f":"Invoeren!BC237","v":""},{"$f":"Invoeren!BW237","v":""},{"$f":"Invoeren!CQ237","v":""}]
[{"$f":"Invoeren!B238","v":193},{"$f":"Invoeren!A238","v":232},{"$f":"Invoeren!E238","v":0},{"$f":"Invoeren!F238","v":0},{"$f":"Invoeren!$K238","v":0},{"$f":"Invoeren!$I238","v":0},{"$f":"Invoeren!Z238","v":{"v":0,"d":"0.0"}},{"$f":"Invoeren!AA238","v":{"v":0,"d":"0.0"}},{"$f":"Invoeren!AB238","v":{"v":0,"d":"0.0"}},{"$f":"Invoeren!AC238","v":{"v":0,"d":"0.0"}},{"$f":"Invoeren!AD238","v":{"v":0,"d":"0.0"}},{"$f":"Invoeren!AE238","v":""},{"$f":"Invoeren!AF238","v":""},{"$f":"Invoeren!AG238","v":{"v":0,"d":"0.0"}},{"$f":"Invoeren!AH238","v":{"v":0,"d":"0.0000"}},{"$f":"Invoeren!AT238","v":{"v":0,"d":"0.0"}},{"$f":"Invoeren!AU238","v":{"v":0,"d":"0.0"}},{"$f":"Invoeren!AV238","v":{"v":0,"d":"0.0"}},{"$f":"Invoeren!AW238","v":{"v":0,"d":"0.0"}},{"$f":"Invoeren!AX238","v":{"v":0,"d":"0.0"}},{"$f":"Invoeren!AY238","v":""},{"$f":"Invoeren!AZ238","v":""},{"$f":"Invoeren!BA238","v":{"v":0,"d":"0.0"}},{"$f":"Invoeren!BB238","v":{"v":0,"d":"0.0000"}},{"$f":"Invoeren!BN238","v":{"v":0,"d":"0.0"}},{"$f":"Invoeren!BO238","v":{"v":0,"d":"0.0"}},{"$f":"Invoeren!BP238","v":{"v":0,"d":"0.0"}},{"$f":"Invoeren!BQ238","v":{"v":0,"d":"0.0"}},{"$f":"Invoeren!BR238","v":{"v":0,"d":"0.0"}},{"$f":"Invoeren!BS238","v":""},{"$f":"Invoeren!BT238","v":""},{"$f":"Invoeren!BU238","v":{"v":0,"d":"0.0"}},{"$f":"Invoeren!BV238","v":{"v":0,"d":"0.0000"}},{"$f":"Invoeren!CH238","v":{"v":0,"d":"0.0"}},{"$f":"Invoeren!CI238","v":{"v":0,"d":"0.0"}},{"$f":"Invoeren!CJ238","v":{"v":0,"d":"0.0"}},{"$f":"Invoeren!CK238","v":{"v":0,"d":"0.0"}},{"$f":"Invoeren!CL238","v":{"v":0,"d":"0.0"}},{"$f":"Invoeren!CM238","v":""},{"$f":"Invoeren!CN238","v":""},{"$f":"Invoeren!CO238","v":{"v":0,"d":"0.0"}},{"$f":"Invoeren!CP238","v":{"v":0,"d":"0.0000"}},{"$f":"Invoeren!CR238","v":0},{"$f":"Invoeren!CS238","v":0},{"$f":"Invoeren!CT238","v":0},{"$f":"Invoeren!C238","v":0},{"$f":"Invoeren!L238","v":0},{"$f":"Invoeren!M238","v":""},{"$f":"Invoeren!N238","v":""},{"$f":"Invoeren!H238","v":0},{"$f":"Invoeren!AI238","v":""},{"$f":"Invoeren!BC238","v":""},{"$f":"Invoeren!BW238","v":""},{"$f":"Invoeren!CQ238","v":""}]
[{"$f":"Invoeren!B239","v":193},{"$f":"Invoeren!A239","v":233},{"$f":"Invoeren!E239","v":0},{"$f":"Invoeren!F239","v":0},{"$f":"Invoeren!$K239","v":0},{"$f":"Invoeren!$I239","v":0},{"$f":"Invoeren!Z239","v":{"v":0,"d":"0.0"}},{"$f":"Invoeren!AA239","v":{"v":0,"d":"0.0"}},{"$f":"Invoeren!AB239","v":{"v":0,"d":"0.0"}},{"$f":"Invoeren!AC239","v":{"v":0,"d":"0.0"}},{"$f":"Invoeren!AD239","v":{"v":0,"d":"0.0"}},{"$f":"Invoeren!AE239","v":""},{"$f":"Invoeren!AF239","v":""},{"$f":"Invoeren!AG239","v":{"v":0,"d":"0.0"}},{"$f":"Invoeren!AH239","v":{"v":0,"d":"0.0000"}},{"$f":"Invoeren!AT239","v":{"v":0,"d":"0.0"}},{"$f":"Invoeren!AU239","v":{"v":0,"d":"0.0"}},{"$f":"Invoeren!AV239","v":{"v":0,"d":"0.0"}},{"$f":"Invoeren!AW239","v":{"v":0,"d":"0.0"}},{"$f":"Invoeren!AX239","v":{"v":0,"d":"0.0"}},{"$f":"Invoeren!AY239","v":""},{"$f":"Invoeren!AZ239","v":""},{"$f":"Invoeren!BA239","v":{"v":0,"d":"0.0"}},{"$f":"Invoeren!BB239","v":{"v":0,"d":"0.0000"}},{"$f":"Invoeren!BN239","v":{"v":0,"d":"0.0"}},{"$f":"Invoeren!BO239","v":{"v":0,"d":"0.0"}},{"$f":"Invoeren!BP239","v":{"v":0,"d":"0.0"}},{"$f":"Invoeren!BQ239","v":{"v":0,"d":"0.0"}},{"$f":"Invoeren!BR239","v":{"v":0,"d":"0.0"}},{"$f":"Invoeren!BS239","v":""},{"$f":"Invoeren!BT239","v":""},{"$f":"Invoeren!BU239","v":{"v":0,"d":"0.0"}},{"$f":"Invoeren!BV239","v":{"v":0,"d":"0.0000"}},{"$f":"Invoeren!CH239","v":{"v":0,"d":"0.0"}},{"$f":"Invoeren!CI239","v":{"v":0,"d":"0.0"}},{"$f":"Invoeren!CJ239","v":{"v":0,"d":"0.0"}},{"$f":"Invoeren!CK239","v":{"v":0,"d":"0.0"}},{"$f":"Invoeren!CL239","v":{"v":0,"d":"0.0"}},{"$f":"Invoeren!CM239","v":""},{"$f":"Invoeren!CN239","v":""},{"$f":"Invoeren!CO239","v":{"v":0,"d":"0.0"}},{"$f":"Invoeren!CP239","v":{"v":0,"d":"0.0000"}},{"$f":"Invoeren!CR239","v":0},{"$f":"Invoeren!CS239","v":0},{"$f":"Invoeren!CT239","v":0},{"$f":"Invoeren!C239","v":0},{"$f":"Invoeren!L239","v":0},{"$f":"Invoeren!M239","v":""},{"$f":"Invoeren!N239","v":""},{"$f":"Invoeren!H239","v":0},{"$f":"Invoeren!AI239","v":""},{"$f":"Invoeren!BC239","v":""},{"$f":"Invoeren!BW239","v":""},{"$f":"Invoeren!CQ239","v":""}]
[{"$f":"Invoeren!B240","v":193},{"$f":"Invoeren!A240","v":234},{"$f":"Invoeren!E240","v":0},{"$f":"Invoeren!F240","v":0},{"$f":"Invoeren!$K240","v":0},{"$f":"Invoeren!$I240","v":0},{"$f":"Invoeren!Z240","v":{"v":0,"d":"0.0"}},{"$f":"Invoeren!AA240","v":{"v":0,"d":"0.0"}},{"$f":"Invoeren!AB240","v":{"v":0,"d":"0.0"}},{"$f":"Invoeren!AC240","v":{"v":0,"d":"0.0"}},{"$f":"Invoeren!AD240","v":{"v":0,"d":"0.0"}},{"$f":"Invoeren!AE240","v":""},{"$f":"Invoeren!AF240","v":""},{"$f":"Invoeren!AG240","v":{"v":0,"d":"0.0"}},{"$f":"Invoeren!AH240","v":{"v":0,"d":"0.0000"}},{"$f":"Invoeren!AT240","v":{"v":0,"d":"0.0"}},{"$f":"Invoeren!AU240","v":{"v":0,"d":"0.0"}},{"$f":"Invoeren!AV240","v":{"v":0,"d":"0.0"}},{"$f":"Invoeren!AW240","v":{"v":0,"d":"0.0"}},{"$f":"Invoeren!AX240","v":{"v":0,"d":"0.0"}},{"$f":"Invoeren!AY240","v":""},{"$f":"Invoeren!AZ240","v":""},{"$f":"Invoeren!BA240","v":{"v":0,"d":"0.0"}},{"$f":"Invoeren!BB240","v":{"v":0,"d":"0.0000"}},{"$f":"Invoeren!BN240","v":{"v":0,"d":"0.0"}},{"$f":"Invoeren!BO240","v":{"v":0,"d":"0.0"}},{"$f":"Invoeren!BP240","v":{"v":0,"d":"0.0"}},{"$f":"Invoeren!BQ240","v":{"v":0,"d":"0.0"}},{"$f":"Invoeren!BR240","v":{"v":0,"d":"0.0"}},{"$f":"Invoeren!BS240","v":""},{"$f":"Invoeren!BT240","v":""},{"$f":"Invoeren!BU240","v":{"v":0,"d":"0.0"}},{"$f":"Invoeren!BV240","v":{"v":0,"d":"0.0000"}},{"$f":"Invoeren!CH240","v":{"v":0,"d":"0.0"}},{"$f":"Invoeren!CI240","v":{"v":0,"d":"0.0"}},{"$f":"Invoeren!CJ240","v":{"v":0,"d":"0.0"}},{"$f":"Invoeren!CK240","v":{"v":0,"d":"0.0"}},{"$f":"Invoeren!CL240","v":{"v":0,"d":"0.0"}},{"$f":"Invoeren!CM240","v":""},{"$f":"Invoeren!CN240","v":""},{"$f":"Invoeren!CO240","v":{"v":0,"d":"0.0"}},{"$f":"Invoeren!CP240","v":{"v":0,"d":"0.0000"}},{"$f":"Invoeren!CR240","v":0},{"$f":"Invoeren!CS240","v":0},{"$f":"Invoeren!CT240","v":0},{"$f":"Invoeren!C240","v":0},{"$f":"Invoeren!L240","v":0},{"$f":"Invoeren!M240","v":""},{"$f":"Invoeren!N240","v":""},{"$f":"Invoeren!H240","v":0},{"$f":"Invoeren!AI240","v":""},{"$f":"Invoeren!BC240","v":""},{"$f":"Invoeren!BW240","v":""},{"$f":"Invoeren!CQ240","v":""}]
[{"$f":"Invoeren!B241","v":193},{"$f":"Invoeren!A241","v":235},{"$f":"Invoeren!E241","v":0},{"$f":"Invoeren!F241","v":0},{"$f":"Invoeren!$K241","v":0},{"$f":"Invoeren!$I241","v":0},{"$f":"Invoeren!Z241","v":{"v":0,"d":"0.0"}},{"$f":"Invoeren!AA241","v":{"v":0,"d":"0.0"}},{"$f":"Invoeren!AB241","v":{"v":0,"d":"0.0"}},{"$f":"Invoeren!AC241","v":{"v":0,"d":"0.0"}},{"$f":"Invoeren!AD241","v":{"v":0,"d":"0.0"}},{"$f":"Invoeren!AE241","v":""},{"$f":"Invoeren!AF241","v":""},{"$f":"Invoeren!AG241","v":{"v":0,"d":"0.0"}},{"$f":"Invoeren!AH241","v":{"v":0,"d":"0.0000"}},{"$f":"Invoeren!AT241","v":{"v":0,"d":"0.0"}},{"$f":"Invoeren!AU241","v":{"v":0,"d":"0.0"}},{"$f":"Invoeren!AV241","v":{"v":0,"d":"0.0"}},{"$f":"Invoeren!AW241","v":{"v":0,"d":"0.0"}},{"$f":"Invoeren!AX241","v":{"v":0,"d":"0.0"}},{"$f":"Invoeren!AY241","v":""},{"$f":"Invoeren!AZ241","v":""},{"$f":"Invoeren!BA241","v":{"v":0,"d":"0.0"}},{"$f":"Invoeren!BB241","v":{"v":0,"d":"0.0000"}},{"$f":"Invoeren!BN241","v":{"v":0,"d":"0.0"}},{"$f":"Invoeren!BO241","v":{"v":0,"d":"0.0"}},{"$f":"Invoeren!BP241","v":{"v":0,"d":"0.0"}},{"$f":"Invoeren!BQ241","v":{"v":0,"d":"0.0"}},{"$f":"Invoeren!BR241","v":{"v":0,"d":"0.0"}},{"$f":"Invoeren!BS241","v":""},{"$f":"Invoeren!BT241","v":""},{"$f":"Invoeren!BU241","v":{"v":0,"d":"0.0"}},{"$f":"Invoeren!BV241","v":{"v":0,"d":"0.0000"}},{"$f":"Invoeren!CH241","v":{"v":0,"d":"0.0"}},{"$f":"Invoeren!CI241","v":{"v":0,"d":"0.0"}},{"$f":"Invoeren!CJ241","v":{"v":0,"d":"0.0"}},{"$f":"Invoeren!CK241","v":{"v":0,"d":"0.0"}},{"$f":"Invoeren!CL241","v":{"v":0,"d":"0.0"}},{"$f":"Invoeren!CM241","v":""},{"$f":"Invoeren!CN241","v":""},{"$f":"Invoeren!CO241","v":{"v":0,"d":"0.0"}},{"$f":"Invoeren!CP241","v":{"v":0,"d":"0.0000"}},{"$f":"Invoeren!CR241","v":0},{"$f":"Invoeren!CS241","v":0},{"$f":"Invoeren!CT241","v":0},{"$f":"Invoeren!C241","v":0},{"$f":"Invoeren!L241","v":0},{"$f":"Invoeren!M241","v":""},{"$f":"Invoeren!N241","v":""},{"$f":"Invoeren!H241","v":0},{"$f":"Invoeren!AI241","v":""},{"$f":"Invoeren!BC241","v":""},{"$f":"Invoeren!BW241","v":""},{"$f":"Invoeren!CQ241","v":""}]
[{"$f":"Invoeren!B242","v":193},{"$f":"Invoeren!A242","v":236},{"$f":"Invoeren!E242","v":0},{"$f":"Invoeren!F242","v":0},{"$f":"Invoeren!$K242","v":0},{"$f":"Invoeren!$I242","v":0},{"$f":"Invoeren!Z242","v":{"v":0,"d":"0.0"}},{"$f":"Invoeren!AA242","v":{"v":0,"d":"0.0"}},{"$f":"Invoeren!AB242","v":{"v":0,"d":"0.0"}},{"$f":"Invoeren!AC242","v":{"v":0,"d":"0.0"}},{"$f":"Invoeren!AD242","v":{"v":0,"d":"0.0"}},{"$f":"Invoeren!AE242","v":""},{"$f":"Invoeren!AF242","v":""},{"$f":"Invoeren!AG242","v":{"v":0,"d":"0.0"}},{"$f":"Invoeren!AH242","v":{"v":0,"d":"0.0000"}},{"$f":"Invoeren!AT242","v":{"v":0,"d":"0.0"}},{"$f":"Invoeren!AU242","v":{"v":0,"d":"0.0"}},{"$f":"Invoeren!AV242","v":{"v":0,"d":"0.0"}},{"$f":"Invoeren!AW242","v":{"v":0,"d":"0.0"}},{"$f":"Invoeren!AX242","v":{"v":0,"d":"0.0"}},{"$f":"Invoeren!AY242","v":""},{"$f":"Invoeren!AZ242","v":""},{"$f":"Invoeren!BA242","v":{"v":0,"d":"0.0"}},{"$f":"Invoeren!BB242","v":{"v":0,"d":"0.0000"}},{"$f":"Invoeren!BN242","v":{"v":0,"d":"0.0"}},{"$f":"Invoeren!BO242","v":{"v":0,"d":"0.0"}},{"$f":"Invoeren!BP242","v":{"v":0,"d":"0.0"}},{"$f":"Invoeren!BQ242","v":{"v":0,"d":"0.0"}},{"$f":"Invoeren!BR242","v":{"v":0,"d":"0.0"}},{"$f":"Invoeren!BS242","v":""},{"$f":"Invoeren!BT242","v":""},{"$f":"Invoeren!BU242","v":{"v":0,"d":"0.0"}},{"$f":"Invoeren!BV242","v":{"v":0,"d":"0.0000"}},{"$f":"Invoeren!CH242","v":{"v":0,"d":"0.0"}},{"$f":"Invoeren!CI242","v":{"v":0,"d":"0.0"}},{"$f":"Invoeren!CJ242","v":{"v":0,"d":"0.0"}},{"$f":"Invoeren!CK242","v":{"v":0,"d":"0.0"}},{"$f":"Invoeren!CL242","v":{"v":0,"d":"0.0"}},{"$f":"Invoeren!CM242","v":""},{"$f":"Invoeren!CN242","v":""},{"$f":"Invoeren!CO242","v":{"v":0,"d":"0.0"}},{"$f":"Invoeren!CP242","v":{"v":0,"d":"0.0000"}},{"$f":"Invoeren!CR242","v":0},{"$f":"Invoeren!CS242","v":0},{"$f":"Invoeren!CT242","v":0},{"$f":"Invoeren!C242","v":0},{"$f":"Invoeren!L242","v":0},{"$f":"Invoeren!M242","v":""},{"$f":"Invoeren!N242","v":""},{"$f":"Invoeren!H242","v":0},{"$f":"Invoeren!AI242","v":""},{"$f":"Invoeren!BC242","v":""},{"$f":"Invoeren!BW242","v":""},{"$f":"Invoeren!CQ242","v":""}]
[{"$f":"Invoeren!B243","v":193},{"$f":"Invoeren!A243","v":237},{"$f":"Invoeren!E243","v":0},{"$f":"Invoeren!F243","v":0},{"$f":"Invoeren!$K243","v":0},{"$f":"Invoeren!$I243","v":0},{"$f":"Invoeren!Z243","v":{"v":0,"d":"0.0"}},{"$f":"Invoeren!AA243","v":{"v":0,"d":"0.0"}},{"$f":"Invoeren!AB243","v":{"v":0,"d":"0.0"}},{"$f":"Invoeren!AC243","v":{"v":0,"d":"0.0"}},{"$f":"Invoeren!AD243","v":{"v":0,"d":"0.0"}},{"$f":"Invoeren!AE243","v":""},{"$f":"Invoeren!AF243","v":""},{"$f":"Invoeren!AG243","v":{"v":0,"d":"0.0"}},{"$f":"Invoeren!AH243","v":{"v":0,"d":"0.0000"}},{"$f":"Invoeren!AT243","v":{"v":0,"d":"0.0"}},{"$f":"Invoeren!AU243","v":{"v":0,"d":"0.0"}},{"$f":"Invoeren!AV243","v":{"v":0,"d":"0.0"}},{"$f":"Invoeren!AW243","v":{"v":0,"d":"0.0"}},{"$f":"Invoeren!AX243","v":{"v":0,"d":"0.0"}},{"$f":"Invoeren!AY243","v":""},{"$f":"Invoeren!AZ243","v":""},{"$f":"Invoeren!BA243","v":{"v":0,"d":"0.0"}},{"$f":"Invoeren!BB243","v":{"v":0,"d":"0.0000"}},{"$f":"Invoeren!BN243","v":{"v":0,"d":"0.0"}},{"$f":"Invoeren!BO243","v":{"v":0,"d":"0.0"}},{"$f":"Invoeren!BP243","v":{"v":0,"d":"0.0"}},{"$f":"Invoeren!BQ243","v":{"v":0,"d":"0.0"}},{"$f":"Invoeren!BR243","v":{"v":0,"d":"0.0"}},{"$f":"Invoeren!BS243","v":""},{"$f":"Invoeren!BT243","v":""},{"$f":"Invoeren!BU243","v":{"v":0,"d":"0.0"}},{"$f":"Invoeren!BV243","v":{"v":0,"d":"0.0000"}},{"$f":"Invoeren!CH243","v":{"v":0,"d":"0.0"}},{"$f":"Invoeren!CI243","v":{"v":0,"d":"0.0"}},{"$f":"Invoeren!CJ243","v":{"v":0,"d":"0.0"}},{"$f":"Invoeren!CK243","v":{"v":0,"d":"0.0"}},{"$f":"Invoeren!CL243","v":{"v":0,"d":"0.0"}},{"$f":"Invoeren!CM243","v":""},{"$f":"Invoeren!CN243","v":""},{"$f":"Invoeren!CO243","v":{"v":0,"d":"0.0"}},{"$f":"Invoeren!CP243","v":{"v":0,"d":"0.0000"}},{"$f":"Invoeren!CR243","v":0},{"$f":"Invoeren!CS243","v":0},{"$f":"Invoeren!CT243","v":0},{"$f":"Invoeren!C243","v":0},{"$f":"Invoeren!L243","v":0},{"$f":"Invoeren!M243","v":""},{"$f":"Invoeren!N243","v":""},{"$f":"Invoeren!H243","v":0},{"$f":"Invoeren!AI243","v":""},{"$f":"Invoeren!BC243","v":""},{"$f":"Invoeren!BW243","v":""},{"$f":"Invoeren!CQ243","v":""}]
[{"$f":"Invoeren!B244","v":193},{"$f":"Invoeren!A244","v":238},{"$f":"Invoeren!E244","v":0},{"$f":"Invoeren!F244","v":0},{"$f":"Invoeren!$K244","v":0},{"$f":"Invoeren!$I244","v":0},{"$f":"Invoeren!Z244","v":{"v":0,"d":"0.0"}},{"$f":"Invoeren!AA244","v":{"v":0,"d":"0.0"}},{"$f":"Invoeren!AB244","v":{"v":0,"d":"0.0"}},{"$f":"Invoeren!AC244","v":{"v":0,"d":"0.0"}},{"$f":"Invoeren!AD244","v":{"v":0,"d":"0.0"}},{"$f":"Invoeren!AE244","v":""},{"$f":"Invoeren!AF244","v":""},{"$f":"Invoeren!AG244","v":{"v":0,"d":"0.0"}},{"$f":"Invoeren!AH244","v":{"v":0,"d":"0.0000"}},{"$f":"Invoeren!AT244","v":{"v":0,"d":"0.0"}},{"$f":"Invoeren!AU244","v":{"v":0,"d":"0.0"}},{"$f":"Invoeren!AV244","v":{"v":0,"d":"0.0"}},{"$f":"Invoeren!AW244","v":{"v":0,"d":"0.0"}},{"$f":"Invoeren!AX244","v":{"v":0,"d":"0.0"}},{"$f":"Invoeren!AY244","v":""},{"$f":"Invoeren!AZ244","v":""},{"$f":"Invoeren!BA244","v":{"v":0,"d":"0.0"}},{"$f":"Invoeren!BB244","v":{"v":0,"d":"0.0000"}},{"$f":"Invoeren!BN244","v":{"v":0,"d":"0.0"}},{"$f":"Invoeren!BO244","v":{"v":0,"d":"0.0"}},{"$f":"Invoeren!BP244","v":{"v":0,"d":"0.0"}},{"$f":"Invoeren!BQ244","v":{"v":0,"d":"0.0"}},{"$f":"Invoeren!BR244","v":{"v":0,"d":"0.0"}},{"$f":"Invoeren!BS244","v":""},{"$f":"Invoeren!BT244","v":""},{"$f":"Invoeren!BU244","v":{"v":0,"d":"0.0"}},{"$f":"Invoeren!BV244","v":{"v":0,"d":"0.0000"}},{"$f":"Invoeren!CH244","v":{"v":0,"d":"0.0"}},{"$f":"Invoeren!CI244","v":{"v":0,"d":"0.0"}},{"$f":"Invoeren!CJ244","v":{"v":0,"d":"0.0"}},{"$f":"Invoeren!CK244","v":{"v":0,"d":"0.0"}},{"$f":"Invoeren!CL244","v":{"v":0,"d":"0.0"}},{"$f":"Invoeren!CM244","v":""},{"$f":"Invoeren!CN244","v":""},{"$f":"Invoeren!CO244","v":{"v":0,"d":"0.0"}},{"$f":"Invoeren!CP244","v":{"v":0,"d":"0.0000"}},{"$f":"Invoeren!CR244","v":0},{"$f":"Invoeren!CS244","v":0},{"$f":"Invoeren!CT244","v":0},{"$f":"Invoeren!C244","v":0},{"$f":"Invoeren!L244","v":0},{"$f":"Invoeren!M244","v":""},{"$f":"Invoeren!N244","v":""},{"$f":"Invoeren!H244","v":0},{"$f":"Invoeren!AI244","v":""},{"$f":"Invoeren!BC244","v":""},{"$f":"Invoeren!BW244","v":""},{"$f":"Invoeren!CQ244","v":""}]
[{"$f":"Invoeren!B245","v":193},{"$f":"Invoeren!A245","v":239},{"$f":"Invoeren!E245","v":0},{"$f":"Invoeren!F245","v":0},{"$f":"Invoeren!$K245","v":0},{"$f":"Invoeren!$I245","v":0},{"$f":"Invoeren!Z245","v":{"v":0,"d":"0.0"}},{"$f":"Invoeren!AA245","v":{"v":0,"d":"0.0"}},{"$f":"Invoeren!AB245","v":{"v":0,"d":"0.0"}},{"$f":"Invoeren!AC245","v":{"v":0,"d":"0.0"}},{"$f":"Invoeren!AD245","v":{"v":0,"d":"0.0"}},{"$f":"Invoeren!AE245","v":""},{"$f":"Invoeren!AF245","v":""},{"$f":"Invoeren!AG245","v":{"v":0,"d":"0.0"}},{"$f":"Invoeren!AH245","v":{"v":0,"d":"0.0000"}},{"$f":"Invoeren!AT245","v":{"v":0,"d":"0.0"}},{"$f":"Invoeren!AU245","v":{"v":0,"d":"0.0"}},{"$f":"Invoeren!AV245","v":{"v":0,"d":"0.0"}},{"$f":"Invoeren!AW245","v":{"v":0,"d":"0.0"}},{"$f":"Invoeren!AX245","v":{"v":0,"d":"0.0"}},{"$f":"Invoeren!AY245","v":""},{"$f":"Invoeren!AZ245","v":""},{"$f":"Invoeren!BA245","v":{"v":0,"d":"0.0"}},{"$f":"Invoeren!BB245","v":{"v":0,"d":"0.0000"}},{"$f":"Invoeren!BN245","v":{"v":0,"d":"0.0"}},{"$f":"Invoeren!BO245","v":{"v":0,"d":"0.0"}},{"$f":"Invoeren!BP245","v":{"v":0,"d":"0.0"}},{"$f":"Invoeren!BQ245","v":{"v":0,"d":"0.0"}},{"$f":"Invoeren!BR245","v":{"v":0,"d":"0.0"}},{"$f":"Invoeren!BS245","v":""},{"$f":"Invoeren!BT245","v":""},{"$f":"Invoeren!BU245","v":{"v":0,"d":"0.0"}},{"$f":"Invoeren!BV245","v":{"v":0,"d":"0.0000"}},{"$f":"Invoeren!CH245","v":{"v":0,"d":"0.0"}},{"$f":"Invoeren!CI245","v":{"v":0,"d":"0.0"}},{"$f":"Invoeren!CJ245","v":{"v":0,"d":"0.0"}},{"$f":"Invoeren!CK245","v":{"v":0,"d":"0.0"}},{"$f":"Invoeren!CL245","v":{"v":0,"d":"0.0"}},{"$f":"Invoeren!CM245","v":""},{"$f":"Invoeren!CN245","v":""},{"$f":"Invoeren!CO245","v":{"v":0,"d":"0.0"}},{"$f":"Invoeren!CP245","v":{"v":0,"d":"0.0000"}},{"$f":"Invoeren!CR245","v":0},{"$f":"Invoeren!CS245","v":0},{"$f":"Invoeren!CT245","v":0},{"$f":"Invoeren!C245","v":0},{"$f":"Invoeren!L245","v":0},{"$f":"Invoeren!M245","v":""},{"$f":"Invoeren!N245","v":""},{"$f":"Invoeren!H245","v":0},{"$f":"Invoeren!AI245","v":""},{"$f":"Invoeren!BC245","v":""},{"$f":"Invoeren!BW245","v":""},{"$f":"Invoeren!CQ245","v":""}]
[{"$f":"Invoeren!B246","v":193},{"$f":"Invoeren!A246","v":240},{"$f":"Invoeren!E246","v":0},{"$f":"Invoeren!F246","v":0},{"$f":"Invoeren!$K246","v":0},{"$f":"Invoeren!$I246","v":0},{"$f":"Invoeren!Z246","v":{"v":0,"d":"0.0"}},{"$f":"Invoeren!AA246","v":{"v":0,"d":"0.0"}},{"$f":"Invoeren!AB246","v":{"v":0,"d":"0.0"}},{"$f":"Invoeren!AC246","v":{"v":0,"d":"0.0"}},{"$f":"Invoeren!AD246","v":{"v":0,"d":"0.0"}},{"$f":"Invoeren!AE246","v":""},{"$f":"Invoeren!AF246","v":""},{"$f":"Invoeren!AG246","v":{"v":0,"d":"0.0"}},{"$f":"Invoeren!AH246","v":{"v":0,"d":"0.0000"}},{"$f":"Invoeren!AT246","v":{"v":0,"d":"0.0"}},{"$f":"Invoeren!AU246","v":{"v":0,"d":"0.0"}},{"$f":"Invoeren!AV246","v":{"v":0,"d":"0.0"}},{"$f":"Invoeren!AW246","v":{"v":0,"d":"0.0"}},{"$f":"Invoeren!AX246","v":{"v":0,"d":"0.0"}},{"$f":"Invoeren!AY246","v":""},{"$f":"Invoeren!AZ246","v":""},{"$f":"Invoeren!BA246","v":{"v":0,"d":"0.0"}},{"$f":"Invoeren!BB246","v":{"v":0,"d":"0.0000"}},{"$f":"Invoeren!BN246","v":{"v":0,"d":"0.0"}},{"$f":"Invoeren!BO246","v":{"v":0,"d":"0.0"}},{"$f":"Invoeren!BP246","v":{"v":0,"d":"0.0"}},{"$f":"Invoeren!BQ246","v":{"v":0,"d":"0.0"}},{"$f":"Invoeren!BR246","v":{"v":0,"d":"0.0"}},{"$f":"Invoeren!BS246","v":""},{"$f":"Invoeren!BT246","v":""},{"$f":"Invoeren!BU246","v":{"v":0,"d":"0.0"}},{"$f":"Invoeren!BV246","v":{"v":0,"d":"0.0000"}},{"$f":"Invoeren!CH246","v":{"v":0,"d":"0.0"}},{"$f":"Invoeren!CI246","v":{"v":0,"d":"0.0"}},{"$f":"Invoeren!CJ246","v":{"v":0,"d":"0.0"}},{"$f":"Invoeren!CK246","v":{"v":0,"d":"0.0"}},{"$f":"Invoeren!CL246","v":{"v":0,"d":"0.0"}},{"$f":"Invoeren!CM246","v":""},{"$f":"Invoeren!CN246","v":""},{"$f":"Invoeren!CO246","v":{"v":0,"d":"0.0"}},{"$f":"Invoeren!CP246","v":{"v":0,"d":"0.0000"}},{"$f":"Invoeren!CR246","v":0},{"$f":"Invoeren!CS246","v":0},{"$f":"Invoeren!CT246","v":0},{"$f":"Invoeren!C246","v":0},{"$f":"Invoeren!L246","v":0},{"$f":"Invoeren!M246","v":""},{"$f":"Invoeren!N246","v":""},{"$f":"Invoeren!H246","v":0},{"$f":"Invoeren!AI246","v":""},{"$f":"Invoeren!BC246","v":""},{"$f":"Invoeren!BW246","v":""},{"$f":"Invoeren!CQ246","v":""}]
[{"$f":"Invoeren!B247","v":193},{"$f":"Invoeren!A247","v":241},{"$f":"Invoeren!E247","v":0},{"$f":"Invoeren!F247","v":0},{"$f":"Invoeren!$K247","v":0},{"$f":"Invoeren!$I247","v":0},{"$f":"Invoeren!Z247","v":{"v":0,"d":"0.0"}},{"$f":"Invoeren!AA247","v":{"v":0,"d":"0.0"}},{"$f":"Invoeren!AB247","v":{"v":0,"d":"0.0"}},{"$f":"Invoeren!AC247","v":{"v":0,"d":"0.0"}},{"$f":"Invoeren!AD247","v":{"v":0,"d":"0.0"}},{"$f":"Invoeren!AE247","v":""},{"$f":"Invoeren!AF247","v":""},{"$f":"Invoeren!AG247","v":{"v":0,"d":"0.0"}},{"$f":"Invoeren!AH247","v":{"v":0,"d":"0.0000"}},{"$f":"Invoeren!AT247","v":{"v":0,"d":"0.0"}},{"$f":"Invoeren!AU247","v":{"v":0,"d":"0.0"}},{"$f":"Invoeren!AV247","v":{"v":0,"d":"0.0"}},{"$f":"Invoeren!AW247","v":{"v":0,"d":"0.0"}},{"$f":"Invoeren!AX247","v":{"v":0,"d":"0.0"}},{"$f":"Invoeren!AY247","v":""},{"$f":"Invoeren!AZ247","v":""},{"$f":"Invoeren!BA247","v":{"v":0,"d":"0.0"}},{"$f":"Invoeren!BB247","v":{"v":0,"d":"0.0000"}},{"$f":"Invoeren!BN247","v":{"v":0,"d":"0.0"}},{"$f":"Invoeren!BO247","v":{"v":0,"d":"0.0"}},{"$f":"Invoeren!BP247","v":{"v":0,"d":"0.0"}},{"$f":"Invoeren!BQ247","v":{"v":0,"d":"0.0"}},{"$f":"Invoeren!BR247","v":{"v":0,"d":"0.0"}},{"$f":"Invoeren!BS247","v":""},{"$f":"Invoeren!BT247","v":""},{"$f":"Invoeren!BU247","v":{"v":0,"d":"0.0"}},{"$f":"Invoeren!BV247","v":{"v":0,"d":"0.0000"}},{"$f":"Invoeren!CH247","v":{"v":0,"d":"0.0"}},{"$f":"Invoeren!CI247","v":{"v":0,"d":"0.0"}},{"$f":"Invoeren!CJ247","v":{"v":0,"d":"0.0"}},{"$f":"Invoeren!CK247","v":{"v":0,"d":"0.0"}},{"$f":"Invoeren!CL247","v":{"v":0,"d":"0.0"}},{"$f":"Invoeren!CM247","v":""},{"$f":"Invoeren!CN247","v":""},{"$f":"Invoeren!CO247","v":{"v":0,"d":"0.0"}},{"$f":"Invoeren!CP247","v":{"v":0,"d":"0.0000"}},{"$f":"Invoeren!CR247","v":0},{"$f":"Invoeren!CS247","v":0},{"$f":"Invoeren!CT247","v":0},{"$f":"Invoeren!C247","v":0},{"$f":"Invoeren!L247","v":0},{"$f":"Invoeren!M247","v":""},{"$f":"Invoeren!N247","v":""},{"$f":"Invoeren!H247","v":0},{"$f":"Invoeren!AI247","v":""},{"$f":"Invoeren!BC247","v":""},{"$f":"Invoeren!BW247","v":""},{"$f":"Invoeren!CQ247","v":""}]
[{"$f":"Invoeren!B248","v":193},{"$f":"Invoeren!A248","v":242},{"$f":"Invoeren!E248","v":0},{"$f":"Invoeren!F248","v":0},{"$f":"Invoeren!$K248","v":0},{"$f":"Invoeren!$I248","v":0},{"$f":"Invoeren!Z248","v":{"v":0,"d":"0.0"}},{"$f":"Invoeren!AA248","v":{"v":0,"d":"0.0"}},{"$f":"Invoeren!AB248","v":{"v":0,"d":"0.0"}},{"$f":"Invoeren!AC248","v":{"v":0,"d":"0.0"}},{"$f":"Invoeren!AD248","v":{"v":0,"d":"0.0"}},{"$f":"Invoeren!AE248","v":""},{"$f":"Invoeren!AF248","v":""},{"$f":"Invoeren!AG248","v":{"v":0,"d":"0.0"}},{"$f":"Invoeren!AH248","v":{"v":0,"d":"0.0000"}},{"$f":"Invoeren!AT248","v":{"v":0,"d":"0.0"}},{"$f":"Invoeren!AU248","v":{"v":0,"d":"0.0"}},{"$f":"Invoeren!AV248","v":{"v":0,"d":"0.0"}},{"$f":"Invoeren!AW248","v":{"v":0,"d":"0.0"}},{"$f":"Invoeren!AX248","v":{"v":0,"d":"0.0"}},{"$f":"Invoeren!AY248","v":""},{"$f":"Invoeren!AZ248","v":""},{"$f":"Invoeren!BA248","v":{"v":0,"d":"0.0"}},{"$f":"Invoeren!BB248","v":{"v":0,"d":"0.0000"}},{"$f":"Invoeren!BN248","v":{"v":0,"d":"0.0"}},{"$f":"Invoeren!BO248","v":{"v":0,"d":"0.0"}},{"$f":"Invoeren!BP248","v":{"v":0,"d":"0.0"}},{"$f":"Invoeren!BQ248","v":{"v":0,"d":"0.0"}},{"$f":"Invoeren!BR248","v":{"v":0,"d":"0.0"}},{"$f":"Invoeren!BS248","v":""},{"$f":"Invoeren!BT248","v":""},{"$f":"Invoeren!BU248","v":{"v":0,"d":"0.0"}},{"$f":"Invoeren!BV248","v":{"v":0,"d":"0.0000"}},{"$f":"Invoeren!CH248","v":{"v":0,"d":"0.0"}},{"$f":"Invoeren!CI248","v":{"v":0,"d":"0.0"}},{"$f":"Invoeren!CJ248","v":{"v":0,"d":"0.0"}},{"$f":"Invoeren!CK248","v":{"v":0,"d":"0.0"}},{"$f":"Invoeren!CL248","v":{"v":0,"d":"0.0"}},{"$f":"Invoeren!CM248","v":""},{"$f":"Invoeren!CN248","v":""},{"$f":"Invoeren!CO248","v":{"v":0,"d":"0.0"}},{"$f":"Invoeren!CP248","v":{"v":0,"d":"0.0000"}},{"$f":"Invoeren!CR248","v":0},{"$f":"Invoeren!CS248","v":0},{"$f":"Invoeren!CT248","v":0},{"$f":"Invoeren!C248","v":0},{"$f":"Invoeren!L248","v":0},{"$f":"Invoeren!M248","v":""},{"$f":"Invoeren!N248","v":""},{"$f":"Invoeren!H248","v":0},{"$f":"Invoeren!AI248","v":""},{"$f":"Invoeren!BC248","v":""},{"$f":"Invoeren!BW248","v":""},{"$f":"Invoeren!CQ248","v":""}]
[{"$f":"Invoeren!B249","v":193},{"$f":"Invoeren!A249","v":243},{"$f":"Invoeren!E249","v":0},{"$f":"Invoeren!F249","v":0},{"$f":"Invoeren!$K249","v":0},{"$f":"Invoeren!$I249","v":0},{"$f":"Invoeren!Z249","v":{"v":0,"d":"0.0"}},{"$f":"Invoeren!AA249","v":{"v":0,"d":"0.0"}},{"$f":"Invoeren!AB249","v":{"v":0,"d":"0.0"}},{"$f":"Invoeren!AC249","v":{"v":0,"d":"0.0"}},{"$f":"Invoeren!AD249","v":{"v":0,"d":"0.0"}},{"$f":"Invoeren!AE249","v":""},{"$f":"Invoeren!AF249","v":""},{"$f":"Invoeren!AG249","v":{"v":0,"d":"0.0"}},{"$f":"Invoeren!AH249","v":{"v":0,"d":"0.0000"}},{"$f":"Invoeren!AT249","v":{"v":0,"d":"0.0"}},{"$f":"Invoeren!AU249","v":{"v":0,"d":"0.0"}},{"$f":"Invoeren!AV249","v":{"v":0,"d":"0.0"}},{"$f":"Invoeren!AW249","v":{"v":0,"d":"0.0"}},{"$f":"Invoeren!AX249","v":{"v":0,"d":"0.0"}},{"$f":"Invoeren!AY249","v":""},{"$f":"Invoeren!AZ249","v":""},{"$f":"Invoeren!BA249","v":{"v":0,"d":"0.0"}},{"$f":"Invoeren!BB249","v":{"v":0,"d":"0.0000"}},{"$f":"Invoeren!BN249","v":{"v":0,"d":"0.0"}},{"$f":"Invoeren!BO249","v":{"v":0,"d":"0.0"}},{"$f":"Invoeren!BP249","v":{"v":0,"d":"0.0"}},{"$f":"Invoeren!BQ249","v":{"v":0,"d":"0.0"}},{"$f":"Invoeren!BR249","v":{"v":0,"d":"0.0"}},{"$f":"Invoeren!BS249","v":""},{"$f":"Invoeren!BT249","v":""},{"$f":"Invoeren!BU249","v":{"v":0,"d":"0.0"}},{"$f":"Invoeren!BV249","v":{"v":0,"d":"0.0000"}},{"$f":"Invoeren!CH249","v":{"v":0,"d":"0.0"}},{"$f":"Invoeren!CI249","v":{"v":0,"d":"0.0"}},{"$f":"Invoeren!CJ249","v":{"v":0,"d":"0.0"}},{"$f":"Invoeren!CK249","v":{"v":0,"d":"0.0"}},{"$f":"Invoeren!CL249","v":{"v":0,"d":"0.0"}},{"$f":"Invoeren!CM249","v":""},{"$f":"Invoeren!CN249","v":""},{"$f":"Invoeren!CO249","v":{"v":0,"d":"0.0"}},{"$f":"Invoeren!CP249","v":{"v":0,"d":"0.0000"}},{"$f":"Invoeren!CR249","v":0},{"$f":"Invoeren!CS249","v":0},{"$f":"Invoeren!CT249","v":0},{"$f":"Invoeren!C249","v":0},{"$f":"Invoeren!L249","v":0},{"$f":"Invoeren!M249","v":""},{"$f":"Invoeren!N249","v":""},{"$f":"Invoeren!H249","v":0},{"$f":"Invoeren!AI249","v":""},{"$f":"Invoeren!BC249","v":""},{"$f":"Invoeren!BW249","v":""},{"$f":"Invoeren!CQ249","v":""}]
[{"$f":"Invoeren!B250","v":193},{"$f":"Invoeren!A250","v":244},{"$f":"Invoeren!E250","v":0},{"$f":"Invoeren!F250","v":0},{"$f":"Invoeren!$K250","v":0},{"$f":"Invoeren!$I250","v":0},{"$f":"Invoeren!Z250","v":{"v":0,"d":"0.0"}},{"$f":"Invoeren!AA250","v":{"v":0,"d":"0.0"}},{"$f":"Invoeren!AB250","v":{"v":0,"d":"0.0"}},{"$f":"Invoeren!AC250","v":{"v":0,"d":"0.0"}},{"$f":"Invoeren!AD250","v":{"v":0,"d":"0.0"}},{"$f":"Invoeren!AE250","v":""},{"$f":"Invoeren!AF250","v":""},{"$f":"Invoeren!AG250","v":{"v":0,"d":"0.0"}},{"$f":"Invoeren!AH250","v":{"v":0,"d":"0.0000"}},{"$f":"Invoeren!AT250","v":{"v":0,"d":"0.0"}},{"$f":"Invoeren!AU250","v":{"v":0,"d":"0.0"}},{"$f":"Invoeren!AV250","v":{"v":0,"d":"0.0"}},{"$f":"Invoeren!AW250","v":{"v":0,"d":"0.0"}},{"$f":"Invoeren!AX250","v":{"v":0,"d":"0.0"}},{"$f":"Invoeren!AY250","v":""},{"$f":"Invoeren!AZ250","v":""},{"$f":"Invoeren!BA250","v":{"v":0,"d":"0.0"}},{"$f":"Invoeren!BB250","v":{"v":0,"d":"0.0000"}},{"$f":"Invoeren!BN250","v":{"v":0,"d":"0.0"}},{"$f":"Invoeren!BO250","v":{"v":0,"d":"0.0"}},{"$f":"Invoeren!BP250","v":{"v":0,"d":"0.0"}},{"$f":"Invoeren!BQ250","v":{"v":0,"d":"0.0"}},{"$f":"Invoeren!BR250","v":{"v":0,"d":"0.0"}},{"$f":"Invoeren!BS250","v":""},{"$f":"Invoeren!BT250","v":""},{"$f":"Invoeren!BU250","v":{"v":0,"d":"0.0"}},{"$f":"Invoeren!BV250","v":{"v":0,"d":"0.0000"}},{"$f":"Invoeren!CH250","v":{"v":0,"d":"0.0"}},{"$f":"Invoeren!CI250","v":{"v":0,"d":"0.0"}},{"$f":"Invoeren!CJ250","v":{"v":0,"d":"0.0"}},{"$f":"Invoeren!CK250","v":{"v":0,"d":"0.0"}},{"$f":"Invoeren!CL250","v":{"v":0,"d":"0.0"}},{"$f":"Invoeren!CM250","v":""},{"$f":"Invoeren!CN250","v":""},{"$f":"Invoeren!CO250","v":{"v":0,"d":"0.0"}},{"$f":"Invoeren!CP250","v":{"v":0,"d":"0.0000"}},{"$f":"Invoeren!CR250","v":0},{"$f":"Invoeren!CS250","v":0},{"$f":"Invoeren!CT250","v":0},{"$f":"Invoeren!C250","v":0},{"$f":"Invoeren!L250","v":0},{"$f":"Invoeren!M250","v":""},{"$f":"Invoeren!N250","v":""},{"$f":"Invoeren!H250","v":0},{"$f":"Invoeren!AI250","v":""},{"$f":"Invoeren!BC250","v":""},{"$f":"Invoeren!BW250","v":""},{"$f":"Invoeren!CQ250","v":""}]
[{"$f":"Invoeren!B251","v":193},{"$f":"Invoeren!A251","v":245},{"$f":"Invoeren!E251","v":0},{"$f":"Invoeren!F251","v":0},{"$f":"Invoeren!$K251","v":0},{"$f":"Invoeren!$I251","v":0},{"$f":"Invoeren!Z251","v":{"v":0,"d":"0.0"}},{"$f":"Invoeren!AA251","v":{"v":0,"d":"0.0"}},{"$f":"Invoeren!AB251","v":{"v":0,"d":"0.0"}},{"$f":"Invoeren!AC251","v":{"v":0,"d":"0.0"}},{"$f":"Invoeren!AD251","v":{"v":0,"d":"0.0"}},{"$f":"Invoeren!AE251","v":""},{"$f":"Invoeren!AF251","v":""},{"$f":"Invoeren!AG251","v":{"v":0,"d":"0.0"}},{"$f":"Invoeren!AH251","v":{"v":0,"d":"0.0000"}},{"$f":"Invoeren!AT251","v":{"v":0,"d":"0.0"}},{"$f":"Invoeren!AU251","v":{"v":0,"d":"0.0"}},{"$f":"Invoeren!AV251","v":{"v":0,"d":"0.0"}},{"$f":"Invoeren!AW251","v":{"v":0,"d":"0.0"}},{"$f":"Invoeren!AX251","v":{"v":0,"d":"0.0"}},{"$f":"Invoeren!AY251","v":""},{"$f":"Invoeren!AZ251","v":""},{"$f":"Invoeren!BA251","v":{"v":0,"d":"0.0"}},{"$f":"Invoeren!BB251","v":{"v":0,"d":"0.0000"}},{"$f":"Invoeren!BN251","v":{"v":0,"d":"0.0"}},{"$f":"Invoeren!BO251","v":{"v":0,"d":"0.0"}},{"$f":"Invoeren!BP251","v":{"v":0,"d":"0.0"}},{"$f":"Invoeren!BQ251","v":{"v":0,"d":"0.0"}},{"$f":"Invoeren!BR251","v":{"v":0,"d":"0.0"}},{"$f":"Invoeren!BS251","v":""},{"$f":"Invoeren!BT251","v":""},{"$f":"Invoeren!BU251","v":{"v":0,"d":"0.0"}},{"$f":"Invoeren!BV251","v":{"v":0,"d":"0.0000"}},{"$f":"Invoeren!CH251","v":{"v":0,"d":"0.0"}},{"$f":"Invoeren!CI251","v":{"v":0,"d":"0.0"}},{"$f":"Invoeren!CJ251","v":{"v":0,"d":"0.0"}},{"$f":"Invoeren!CK251","v":{"v":0,"d":"0.0"}},{"$f":"Invoeren!CL251","v":{"v":0,"d":"0.0"}},{"$f":"Invoeren!CM251","v":""},{"$f":"Invoeren!CN251","v":""},{"$f":"Invoeren!CO251","v":{"v":0,"d":"0.0"}},{"$f":"Invoeren!CP251","v":{"v":0,"d":"0.0000"}},{"$f":"Invoeren!CR251","v":0},{"$f":"Invoeren!CS251","v":0},{"$f":"Invoeren!CT251","v":0},{"$f":"Invoeren!C251","v":0},{"$f":"Invoeren!L251","v":0},{"$f":"Invoeren!M251","v":""},{"$f":"Invoeren!N251","v":""},{"$f":"Invoeren!H251","v":0},{"$f":"Invoeren!AI251","v":""},{"$f":"Invoeren!BC251","v":""},{"$f":"Invoeren!BW251","v":""},{"$f":"Invoeren!CQ251","v":""}]
[{"$f":"Invoeren!B252","v":193},{"$f":"Invoeren!A252","v":246},{"$f":"Invoeren!E252","v":0},{"$f":"Invoeren!F252","v":0},{"$f":"Invoeren!$K252","v":0},{"$f":"Invoeren!$I252","v":0},{"$f":"Invoeren!Z252","v":{"v":0,"d":"0.0"}},{"$f":"Invoeren!AA252","v":{"v":0,"d":"0.0"}},{"$f":"Invoeren!AB252","v":{"v":0,"d":"0.0"}},{"$f":"Invoeren!AC252","v":{"v":0,"d":"0.0"}},{"$f":"Invoeren!AD252","v":{"v":0,"d":"0.0"}},{"$f":"Invoeren!AE252","v":""},{"$f":"Invoeren!AF252","v":""},{"$f":"Invoeren!AG252","v":{"v":0,"d":"0.0"}},{"$f":"Invoeren!AH252","v":{"v":0,"d":"0.0000"}},{"$f":"Invoeren!AT252","v":{"v":0,"d":"0.0"}},{"$f":"Invoeren!AU252","v":{"v":0,"d":"0.0"}},{"$f":"Invoeren!AV252","v":{"v":0,"d":"0.0"}},{"$f":"Invoeren!AW252","v":{"v":0,"d":"0.0"}},{"$f":"Invoeren!AX252","v":{"v":0,"d":"0.0"}},{"$f":"Invoeren!AY252","v":""},{"$f":"Invoeren!AZ252","v":""},{"$f":"Invoeren!BA252","v":{"v":0,"d":"0.0"}},{"$f":"Invoeren!BB252","v":{"v":0,"d":"0.0000"}},{"$f":"Invoeren!BN252","v":{"v":0,"d":"0.0"}},{"$f":"Invoeren!BO252","v":{"v":0,"d":"0.0"}},{"$f":"Invoeren!BP252","v":{"v":0,"d":"0.0"}},{"$f":"Invoeren!BQ252","v":{"v":0,"d":"0.0"}},{"$f":"Invoeren!BR252","v":{"v":0,"d":"0.0"}},{"$f":"Invoeren!BS252","v":""},{"$f":"Invoeren!BT252","v":""},{"$f":"Invoeren!BU252","v":{"v":0,"d":"0.0"}},{"$f":"Invoeren!BV252","v":{"v":0,"d":"0.0000"}},{"$f":"Invoeren!CH252","v":{"v":0,"d":"0.0"}},{"$f":"Invoeren!CI252","v":{"v":0,"d":"0.0"}},{"$f":"Invoeren!CJ252","v":{"v":0,"d":"0.0"}},{"$f":"Invoeren!CK252","v":{"v":0,"d":"0.0"}},{"$f":"Invoeren!CL252","v":{"v":0,"d":"0.0"}},{"$f":"Invoeren!CM252","v":""},{"$f":"Invoeren!CN252","v":""},{"$f":"Invoeren!CO252","v":{"v":0,"d":"0.0"}},{"$f":"Invoeren!CP252","v":{"v":0,"d":"0.0000"}},{"$f":"Invoeren!CR252","v":0},{"$f":"Invoeren!CS252","v":0},{"$f":"Invoeren!CT252","v":0},{"$f":"Invoeren!C252","v":0},{"$f":"Invoeren!L252","v":0},{"$f":"Invoeren!M252","v":""},{"$f":"Invoeren!N252","v":""},{"$f":"Invoeren!H252","v":0},{"$f":"Invoeren!AI252","v":""},{"$f":"Invoeren!BC252","v":""},{"$f":"Invoeren!BW252","v":""},{"$f":"Invoeren!CQ252","v":""}]
[{"$f":"Invoeren!B253","v":193},{"$f":"Invoeren!A253","v":247},{"$f":"Invoeren!E253","v":0},{"$f":"Invoeren!F253","v":0},{"$f":"Invoeren!$K253","v":0},{"$f":"Invoeren!$I253","v":0},{"$f":"Invoeren!Z253","v":{"v":0,"d":"0.0"}},{"$f":"Invoeren!AA253","v":{"v":0,"d":"0.0"}},{"$f":"Invoeren!AB253","v":{"v":0,"d":"0.0"}},{"$f":"Invoeren!AC253","v":{"v":0,"d":"0.0"}},{"$f":"Invoeren!AD253","v":{"v":0,"d":"0.0"}},{"$f":"Invoeren!AE253","v":""},{"$f":"Invoeren!AF253","v":""},{"$f":"Invoeren!AG253","v":{"v":0,"d":"0.0"}},{"$f":"Invoeren!AH253","v":{"v":0,"d":"0.0000"}},{"$f":"Invoeren!AT253","v":{"v":0,"d":"0.0"}},{"$f":"Invoeren!AU253","v":{"v":0,"d":"0.0"}},{"$f":"Invoeren!AV253","v":{"v":0,"d":"0.0"}},{"$f":"Invoeren!AW253","v":{"v":0,"d":"0.0"}},{"$f":"Invoeren!AX253","v":{"v":0,"d":"0.0"}},{"$f":"Invoeren!AY253","v":""},{"$f":"Invoeren!AZ253","v":""},{"$f":"Invoeren!BA253","v":{"v":0,"d":"0.0"}},{"$f":"Invoeren!BB253","v":{"v":0,"d":"0.0000"}},{"$f":"Invoeren!BN253","v":{"v":0,"d":"0.0"}},{"$f":"Invoeren!BO253","v":{"v":0,"d":"0.0"}},{"$f":"Invoeren!BP253","v":{"v":0,"d":"0.0"}},{"$f":"Invoeren!BQ253","v":{"v":0,"d":"0.0"}},{"$f":"Invoeren!BR253","v":{"v":0,"d":"0.0"}},{"$f":"Invoeren!BS253","v":""},{"$f":"Invoeren!BT253","v":""},{"$f":"Invoeren!BU253","v":{"v":0,"d":"0.0"}},{"$f":"Invoeren!BV253","v":{"v":0,"d":"0.0000"}},{"$f":"Invoeren!CH253","v":{"v":0,"d":"0.0"}},{"$f":"Invoeren!CI253","v":{"v":0,"d":"0.0"}},{"$f":"Invoeren!CJ253","v":{"v":0,"d":"0.0"}},{"$f":"Invoeren!CK253","v":{"v":0,"d":"0.0"}},{"$f":"Invoeren!CL253","v":{"v":0,"d":"0.0"}},{"$f":"Invoeren!CM253","v":""},{"$f":"Invoeren!CN253","v":""},{"$f":"Invoeren!CO253","v":{"v":0,"d":"0.0"}},{"$f":"Invoeren!CP253","v":{"v":0,"d":"0.0000"}},{"$f":"Invoeren!CR253","v":0},{"$f":"Invoeren!CS253","v":0},{"$f":"Invoeren!CT253","v":0},{"$f":"Invoeren!C253","v":0},{"$f":"Invoeren!L253","v":0},{"$f":"Invoeren!M253","v":""},{"$f":"Invoeren!N253","v":""},{"$f":"Invoeren!H253","v":0},{"$f":"Invoeren!AI253","v":""},{"$f":"Invoeren!BC253","v":""},{"$f":"Invoeren!BW253","v":""},{"$f":"Invoeren!CQ253","v":""}]
[{"$f":"Invoeren!B254","v":193},{"$f":"Invoeren!A254","v":248},{"$f":"Invoeren!E254","v":0},{"$f":"Invoeren!F254","v":0},{"$f":"Invoeren!$K254","v":0},{"$f":"Invoeren!$I254","v":0},{"$f":"Invoeren!Z254","v":{"v":0,"d":"0.0"}},{"$f":"Invoeren!AA254","v":{"v":0,"d":"0.0"}},{"$f":"Invoeren!AB254","v":{"v":0,"d":"0.0"}},{"$f":"Invoeren!AC254","v":{"v":0,"d":"0.0"}},{"$f":"Invoeren!AD254","v":{"v":0,"d":"0.0"}},{"$f":"Invoeren!AE254","v":""},{"$f":"Invoeren!AF254","v":""},{"$f":"Invoeren!AG254","v":{"v":0,"d":"0.0"}},{"$f":"Invoeren!AH254","v":{"v":0,"d":"0.0000"}},{"$f":"Invoeren!AT254","v":{"v":0,"d":"0.0"}},{"$f":"Invoeren!AU254","v":{"v":0,"d":"0.0"}},{"$f":"Invoeren!AV254","v":{"v":0,"d":"0.0"}},{"$f":"Invoeren!AW254","v":{"v":0,"d":"0.0"}},{"$f":"Invoeren!AX254","v":{"v":0,"d":"0.0"}},{"$f":"Invoeren!AY254","v":""},{"$f":"Invoeren!AZ254","v":""},{"$f":"Invoeren!BA254","v":{"v":0,"d":"0.0"}},{"$f":"Invoeren!BB254","v":{"v":0,"d":"0.0000"}},{"$f":"Invoeren!BN254","v":{"v":0,"d":"0.0"}},{"$f":"Invoeren!BO254","v":{"v":0,"d":"0.0"}},{"$f":"Invoeren!BP254","v":{"v":0,"d":"0.0"}},{"$f":"Invoeren!BQ254","v":{"v":0,"d":"0.0"}},{"$f":"Invoeren!BR254","v":{"v":0,"d":"0.0"}},{"$f":"Invoeren!BS254","v":""},{"$f":"Invoeren!BT254","v":""},{"$f":"Invoeren!BU254","v":{"v":0,"d":"0.0"}},{"$f":"Invoeren!BV254","v":{"v":0,"d":"0.0000"}},{"$f":"Invoeren!CH254","v":{"v":0,"d":"0.0"}},{"$f":"Invoeren!CI254","v":{"v":0,"d":"0.0"}},{"$f":"Invoeren!CJ254","v":{"v":0,"d":"0.0"}},{"$f":"Invoeren!CK254","v":{"v":0,"d":"0.0"}},{"$f":"Invoeren!CL254","v":{"v":0,"d":"0.0"}},{"$f":"Invoeren!CM254","v":""},{"$f":"Invoeren!CN254","v":""},{"$f":"Invoeren!CO254","v":{"v":0,"d":"0.0"}},{"$f":"Invoeren!CP254","v":{"v":0,"d":"0.0000"}},{"$f":"Invoeren!CR254","v":0},{"$f":"Invoeren!CS254","v":0},{"$f":"Invoeren!CT254","v":0},{"$f":"Invoeren!C254","v":0},{"$f":"Invoeren!L254","v":0},{"$f":"Invoeren!M254","v":""},{"$f":"Invoeren!N254","v":""},{"$f":"Invoeren!H254","v":0},{"$f":"Invoeren!AI254","v":""},{"$f":"Invoeren!BC254","v":""},{"$f":"Invoeren!BW254","v":""},{"$f":"Invoeren!CQ254","v":""}]
[{"$f":"Invoeren!B255","v":193},{"$f":"Invoeren!A255","v":249},{"$f":"Invoeren!E255","v":0},{"$f":"Invoeren!F255","v":0},{"$f":"Invoeren!$K255","v":0},{"$f":"Invoeren!$I255","v":0},{"$f":"Invoeren!Z255","v":{"v":0,"d":"0.0"}},{"$f":"Invoeren!AA255","v":{"v":0,"d":"0.0"}},{"$f":"Invoeren!AB255","v":{"v":0,"d":"0.0"}},{"$f":"Invoeren!AC255","v":{"v":0,"d":"0.0"}},{"$f":"Invoeren!AD255","v":{"v":0,"d":"0.0"}},{"$f":"Invoeren!AE255","v":""},{"$f":"Invoeren!AF255","v":""},{"$f":"Invoeren!AG255","v":{"v":0,"d":"0.0"}},{"$f":"Invoeren!AH255","v":{"v":0,"d":"0.0000"}},{"$f":"Invoeren!AT255","v":{"v":0,"d":"0.0"}},{"$f":"Invoeren!AU255","v":{"v":0,"d":"0.0"}},{"$f":"Invoeren!AV255","v":{"v":0,"d":"0.0"}},{"$f":"Invoeren!AW255","v":{"v":0,"d":"0.0"}},{"$f":"Invoeren!AX255","v":{"v":0,"d":"0.0"}},{"$f":"Invoeren!AY255","v":""},{"$f":"Invoeren!AZ255","v":""},{"$f":"Invoeren!BA255","v":{"v":0,"d":"0.0"}},{"$f":"Invoeren!BB255","v":{"v":0,"d":"0.0000"}},{"$f":"Invoeren!BN255","v":{"v":0,"d":"0.0"}},{"$f":"Invoeren!BO255","v":{"v":0,"d":"0.0"}},{"$f":"Invoeren!BP255","v":{"v":0,"d":"0.0"}},{"$f":"Invoeren!BQ255","v":{"v":0,"d":"0.0"}},{"$f":"Invoeren!BR255","v":{"v":0,"d":"0.0"}},{"$f":"Invoeren!BS255","v":""},{"$f":"Invoeren!BT255","v":""},{"$f":"Invoeren!BU255","v":{"v":0,"d":"0.0"}},{"$f":"Invoeren!BV255","v":{"v":0,"d":"0.0000"}},{"$f":"Invoeren!CH255","v":{"v":0,"d":"0.0"}},{"$f":"Invoeren!CI255","v":{"v":0,"d":"0.0"}},{"$f":"Invoeren!CJ255","v":{"v":0,"d":"0.0"}},{"$f":"Invoeren!CK255","v":{"v":0,"d":"0.0"}},{"$f":"Invoeren!CL255","v":{"v":0,"d":"0.0"}},{"$f":"Invoeren!CM255","v":""},{"$f":"Invoeren!CN255","v":""},{"$f":"Invoeren!CO255","v":{"v":0,"d":"0.0"}},{"$f":"Invoeren!CP255","v":{"v":0,"d":"0.0000"}},{"$f":"Invoeren!CR255","v":0},{"$f":"Invoeren!CS255","v":0},{"$f":"Invoeren!CT255","v":0},{"$f":"Invoeren!C255","v":0},{"$f":"Invoeren!L255","v":0},{"$f":"Invoeren!M255","v":""},{"$f":"Invoeren!N255","v":""},{"$f":"Invoeren!H255","v":0},{"$f":"Invoeren!AI255","v":""},{"$f":"Invoeren!BC255","v":""},{"$f":"Invoeren!BW255","v":""},{"$f":"Invoeren!CQ255","v":""}]
[{"$f":"Invoeren!B256","v":193},{"$f":"Invoeren!A256","v":250},{"$f":"Invoeren!E256","v":0},{"$f":"Invoeren!F256","v":0},{"$f":"Invoeren!$K256","v":0},{"$f":"Invoeren!$I256","v":0},{"$f":"Invoeren!Z256","v":{"v":0,"d":"0.0"}},{"$f":"Invoeren!AA256","v":{"v":0,"d":"0.0"}},{"$f":"Invoeren!AB256","v":{"v":0,"d":"0.0"}},{"$f":"Invoeren!AC256","v":{"v":0,"d":"0.0"}},{"$f":"Invoeren!AD256","v":{"v":0,"d":"0.0"}},{"$f":"Invoeren!AE256","v":""},{"$f":"Invoeren!AF256","v":""},{"$f":"Invoeren!AG256","v":{"v":0,"d":"0.0"}},{"$f":"Invoeren!AH256","v":{"v":0,"d":"0.0000"}},{"$f":"Invoeren!AT256","v":{"v":0,"d":"0.0"}},{"$f":"Invoeren!AU256","v":{"v":0,"d":"0.0"}},{"$f":"Invoeren!AV256","v":{"v":0,"d":"0.0"}},{"$f":"Invoeren!AW256","v":{"v":0,"d":"0.0"}},{"$f":"Invoeren!AX256","v":{"v":0,"d":"0.0"}},{"$f":"Invoeren!AY256","v":""},{"$f":"Invoeren!AZ256","v":""},{"$f":"Invoeren!BA256","v":{"v":0,"d":"0.0"}},{"$f":"Invoeren!BB256","v":{"v":0,"d":"0.0000"}},{"$f":"Invoeren!BN256","v":{"v":0,"d":"0.0"}},{"$f":"Invoeren!BO256","v":{"v":0,"d":"0.0"}},{"$f":"Invoeren!BP256","v":{"v":0,"d":"0.0"}},{"$f":"Invoeren!BQ256","v":{"v":0,"d":"0.0"}},{"$f":"Invoeren!BR256","v":{"v":0,"d":"0.0"}},{"$f":"Invoeren!BS256","v":""},{"$f":"Invoeren!BT256","v":""},{"$f":"Invoeren!BU256","v":{"v":0,"d":"0.0"}},{"$f":"Invoeren!BV256","v":{"v":0,"d":"0.0000"}},{"$f":"Invoeren!CH256","v":{"v":0,"d":"0.0"}},{"$f":"Invoeren!CI256","v":{"v":0,"d":"0.0"}},{"$f":"Invoeren!CJ256","v":{"v":0,"d":"0.0"}},{"$f":"Invoeren!CK256","v":{"v":0,"d":"0.0"}},{"$f":"Invoeren!CL256","v":{"v":0,"d":"0.0"}},{"$f":"Invoeren!CM256","v":""},{"$f":"Invoeren!CN256","v":""},{"$f":"Invoeren!CO256","v":{"v":0,"d":"0.0"}},{"$f":"Invoeren!CP256","v":{"v":0,"d":"0.0000"}},{"$f":"Invoeren!CR256","v":0},{"$f":"Invoeren!CS256","v":0},{"$f":"Invoeren!CT256","v":0},{"$f":"Invoeren!C256","v":0},{"$f":"Invoeren!L256","v":0},{"$f":"Invoeren!M256","v":""},{"$f":"Invoeren!N256","v":""},{"$f":"Invoeren!H256","v":0},{"$f":"Invoeren!AI256","v":""},{"$f":"Invoeren!BC256","v":""},{"$f":"Invoeren!BW256","v":""},{"$f":"Invoeren!CQ256","v":""}]

{"sheet":"IFform","index":6,"n_rows":41,"n_cols":16,"rows_kept":41,"merged":[[8,3,8,11],[10,3,10,5],[10,10,10,11],[12,3,12,11],[13,3,13,11],[23,11,23,12],[24,11,24,12],[25,13,25,14],[27,11,27,12],[28,11,28,12],[29,13,29,14],[31,13,31,14],[33,13,33,14],[35,13,35,14],[37,13,37,14],[40,2,40,3]]}
[]
[{"$nulls":15},{"$f":"'Wedstrijd gegevens'!B27&K11&O20","v":"AGE IIHZPC 8"}]
["Koninklijke Nederlandse Zwembond",{"$nulls":11},"I / F formulier"]
[]
[]
["Inschrijfformulier voor figuren Synchroonzwemmen"]
[]
["Evenement",null,null,{"$f":"'Wedstrijd gegevens'!B2","v":"Figurenwedstrijd AGE 2 Interregio"},{"$nulls":8},"categorie"]
["Datum",null,null,{"$f":"'Wedstrijd gegevens'!B6","v":"2017-11-11"},{"$nulls":8},"Senior"]
["Plaats",null,null,{"$f":"'Wedstrijd gegevens'!B4","v":"Alkmaar"},{"$nulls":8},"Junior"]
["Vereniging",null,null,{"$f":"VLOOKUP($O$20,Invoeren!$A$6:$CV$257,6,FALSE)","v":"HZPC Horst"},{"$nulls":4},"Afkorting",null,{"$f":"VLOOKUP($O$20,Invoeren!$A$6:$CV$257,7,FALSE)","v":"HZPC "},null,"Age-II 15 e.j.",null,"X"]
[{"$nulls":12},"Age-I  12 e.j."]
["Naam deelnemer",null,null,{"$f":"VLOOKUP($O$20,Invoeren!$A$6:$CV$257,5,FALSE)","v":"Amber Duijndam"},{"$nulls":8},"Anders"]
["Startvergunning",null,null,{"$f":"VLOOKUP($O$20,Invoeren!$A$6:$CV$257,4,FALSE)","v":200304824}]
[{"$nulls":8},"Gaat op voor betr. diploma ",{"$nulls":3},"sen/jun/A II/A I",null,{"$f":"IF(VLOOKUP($O$20,Invoeren!$A$6:$CV$257,10,FALSE)=\"X\",'Wedstrijd gegevens'!B27,\"\")","v":""}]
[{"$nulls":8},"Zwemt:",{"$nulls":3},"Solo"]
[{"$nulls":12},"Duet"]
[{"$nulls":12},"Ploeg"]
[]
[{"$nulls":12},"Startvolgorde",null,8]
[]
[{"$nulls":11},"punten"]
["Fig","nr",1,2,3,4,5,6,7,"som","M.f.","figuur"]
[1,{"$f":"MID(Invoeren!A2,1,4)","v":"423 "},{"$f":"VLOOKUP($O$20,Invoeren!$A$6:$CV$257,26,FALSE)","v":5.1},{"$f":"VLOOKUP($O$20,Invoeren!$A$6:$CV$257,27,FALSE)","v":5.7},{"$f":"VLOOKUP($O$20,Invoeren!$A$6:$CV$257,28,FALSE)","v":5.4},{"$f":"VLOOKUP($O$20,Invoeren!$A$6:$CV$257,29,FALSE)","v":5.6},{"$f":"VLOOKUP($O$20,Invoeren!$A$6:$CV$257,30,FALSE)","v":5.3},{"$f":"VLOOKUP($O$20,Invoeren!$A$6:$CV$257,31,FALSE)","v":""},{"$f":"VLOOKUP($O$20,Invoeren!$A$6:$CV$257,32,FALSE)","v":""},{"$f":"SUM(C24:I24)-MAX(C24:I24)-MIN(C24:I24)","v":{"v":16.300000000000004,"d":"16.3"}},{"$f":"Invoeren!E2","v":2.2},{"$f":"ROUND(J24/(COUNTIF(C24:I24,\">0\")-2)*$K$24,4)","v":11.9533},{"$f":"ROUND(L24/(COUNTIF(E24:K24,\">0\")-2)*$BA$3,4)","v":{"v":0,"d":"0.0000"}}]
[2,{"$f":"MID(Invoeren!A3,1,4)","v":"301e"},{"$f":"VLOOKUP($O$20,Invoeren!$A$6:$CV$257,46,FALSE)","v":4.7},{"$f":"VLOOKUP($O$20,Invoeren!$A$6:$CV$257,47,FALSE)","v":4.8},{"$f":"VLOOKUP($O$20,Invoeren!$A$6:$CV$257,48,FALSE)","v":{"v":5,"d":"5.0"}},{"$f":"VLOOKUP($O$20,Invoeren!$A$6:$CV$257,49,FALSE)","v":5.1},{"$f":"VLOOKUP($O$20,Invoeren!$A$6:$CV$257,50,FALSE)","v":5.5},{"$f":"VLOOKUP($O$20,Invoeren!$A$6:$CV$257,51,FALSE)","v":""},{"$f":"VLOOKUP($O$20,Invoeren!$A$6:$CV$257,52,FALSE)","v":""},{"$f":"SUM(C25:I25)-MAX(C25:I25)-MIN(C25:I25)","v":{"v":14.900000000000002,"d":"14.9"}},{"$f":"Invoeren!E3","v":2.2},{"$f":"ROUND(J25/(COUNTIF(C25:I25,\">0\")-2)*$K$25,4)","v":10.9267},{"$f":"ROUND(L25/(COUNTIF(E25:K25,\">0\")-2)*$BA$3,4)","v":{"v":0,"d":"0.0000"}}]
[{"$nulls":11},"sub 1 + 2:",null,{"$f":"L24+L25","v":{"v":22.880000000000003,"d":"22.8800"}}]
[]
[3,{"$f":"MID(Invoeren!A4,1,4)","v":"342 "},{"$f":"VLOOKUP($O$20,Invoeren!$A$6:$CV$257,66,FALSE)","v":4.7},{"$f":"VLOOKUP($O$20,Invoeren!$A$6:$CV$257,67,FALSE)","v":5.2},{"$f":"VLOOKUP($O$20,Invoeren!$A$6:$CV$257,68,FALSE)","v":4.5},{"$f":"VLOOKUP($O$20,Invoeren!$A$6:$CV$257,69,FALSE)","v":4.7},{"$f":"VLOOKUP($O$20,Invoeren!$A$6:$CV$257,70,FALSE)","v":4.4},{"$f":"VLOOKUP($O$20,Invoeren!$A$6:$CV$257,71,FALSE)","v":""},{"$f":"VLOOKUP($O$20,Invoeren!$A$6:$CV$257,72,FALSE)","v":""},{"$f":"SUM(C28:I28)-MAX(C28:I28)-MIN(C28:I28)","v":13.9},{"$f":"Invoeren!E4","v":2.1},{"$f":"ROUND(J28/(COUNTIF(C28:I28,\">0\")-2)*$K$28,4)","v":{"v":9.73,"d":"9.7300"}},{"$f":"ROUND(L28/(COUNTIF(E28:K28,\">0\")-2)*$BA$3,4)","v":{"v":0,"d":"0.0000"}}]
[4,{"$f":"MID(Invoeren!A5,1,4)","v":"115 "},{"$f":"VLOOKUP($O$20,Invoeren!$A$6:$CV$257,86,FALSE)","v":4.2},{"$f":"VLOOKUP($O$20,Invoeren!$A$6:$CV$257,87,FALSE)","v":{"v":4,"d":"4.0"}},{"$f":"VLOOKUP($O$20,Invoeren!$A$6:$CV$257,88,FALSE)","v":4.2},{"$f":"VLOOKUP($O$20,Invoeren!$A$6:$CV$257,89,FALSE)","v":4.4},{"$f":"VLOOKUP($O$20,Invoeren!$A$6:$CV$257,90,FALSE)","v":4.1},{"$f":"VLOOKUP($O$20,Invoeren!$A$6:$CV$257,91,FALSE)","v":""},{"$f":"VLOOKUP($O$20,Invoeren!$A$6:$CV$257,92,FALSE)","v":""},{"$f":"SUM(C29:I29)-MAX(C29:I29)-MIN(C29:I29)","v":12.5},{"$f":"Invoeren!E5","v":2.3},{"$f":"ROUND(J29/(COUNTIF(C29:I29,\">0\")-2)*$K$29,4)","v":9.5833},{"$f":"ROUND(L29/(COUNTIF(E29:K29,\">0\")-2)*$BA$3,4)","v":{"v":0,"d":"0.0000"}}]
[{"$nulls":11},"sub 3 + 4:",null,{"$f":"L28+L29","v":{"v":19.313299999999998,"d":"19.3133"}}]
[]
[{"$nulls":11},"Resultaat:",null,{"$f":"N26+N30","v":42.1933}]
[]
[{"$nulls":9},"som mf",{"$f":"SUM(K24:K29)","v":8.8},"Herleid:",null,{"$f":"ROUND(N32/K34*10,4)","v":47.9469}]
[{"$nulls":5},"fig.1","fig.2","fig.3","fig.4"]
[{"$nulls":5},{"$f":"VLOOKUP($O$20,Invoeren!$A$6:$CV$257,25,FALSE)","v":0},{"$f":"VLOOKUP($O$20,Invoeren!$A$6:$CV$257,45,FALSE)","v":0},{"$f":"VLOOKUP($O$20,Invoeren!$A$6:$CV$257,65,FALSE)","v":0},{"$f":"VLOOKUP($O$20,Invoeren!$A$6:$CV$257,85,FALSE)","v":0},null,null,"Strafpunt:",null,{"$f":"SUM(D36:I36)","v":{"v":0,"d":"0.0"}}]
[]
[{"$nulls":10},"Eindresultaat:",null,null,{"$f":"N34-N36","v":47.9469},null,{"$f":"VLOOKUP($O$20,Invoeren!$A$6:$CV$257,3,FALSE)","v":47.9469}]
[{"$nulls":11},"Eindrangschikking:",null,null,{"$f":"VLOOKUP($O$20,Invoeren!$A$6:$CV$257,2,FALSE)","v":124}]
[null,"Bijzonderheden:",null,null,{"$f":"\"Regio \"&VLOOKUP($O$20,Invoeren!$A$6:$CV$257,8,FALSE)","v":"Regio zuid"}]
[null,"figform","2010-01-01"]

{"sheet":"Figuren","index":7,"n_rows":31,"n_cols":9,"rows_kept":31}
["Algemene figuur gegevens"]
[]
["Age I","Groep 1","m.f","Groep 2","m.f","Groep 3","m.f"]
["Fig 1","101 Balletbeen",1.6,"101 Balletbeen",1.6,"101 Balletbeen",1.6]
["Fig 2","301 Barracuda",{"v":2,"d":"2.0"},"301 Barracuda",{"v":2,"d":"2.0"},"301 Barracuda",{"v":2,"d":"2.0"}]
["Fig 3","439 Oceanita",1.9,"311 Kiep",1.8,"349 Toren",1.9]
["Fig 4","362 Oppervlakte garnaal",1.4,"360 Overslag voorover",2.1,"406 Zwaardvis overslag",{"v":2,"d":"2.0"}]
[]
["Age II","Groep 1","m.f","Groep 2","m.f","Groep 3","m.f"]
["Fig 1","423 Ariana",2.2,"423 Ariana",2.2,"423 Ariana",2.2]
["Fig 2","301e Barracuda spin down 360°",2.2,"301e Barracuda spin down 360°",2.2,"301e Barracuda spin down 360°",2.2]
["Fig 3","342 Reiger",2.1,"355h Bruinvis spin up 180°",2.2,"240a Albatros halve draai",2.6]
["Fig 4","115 Catalina",2.3,"140 Flamingo gebogen knie",2.4,"346 Zijzwaluwstaart spagaat",{"v":2,"d":"2.0"}]
[]
[]
[{"$nulls":5}," "]
[{"$nulls":5}," "]
[]
[]
[]
["Junioren","Groep 1","m.f","Groep 2","m.f","Groep 3","m.f"]
["Fig 1","308 Barracuda airborne split",2.8,"308 Barracuda airborne split",2.8,"308 Barracuda airborne split",2.8]
["Fig 2","355g Bruinvis twist spin",2.6,"355g Bruinvis twist spin",2.6,"355g Bruinvis twist spin",2.6]
["Fig 3","330c Aurora twirl",{"v":3,"d":"3.0"},"142 Mantarog",2.8,"112f Ibis continuous spin (720°)",2.8]
["Fig 4","154 Londen",2.8,"343 Vlinder",2.9,"325 Jupiter",2.8]
[]
["Senioren","Groep 1","m.f","Groep 2","m.f","Groep 3","m.f","Groep 4","m.f"]
["Fig 1","Element A",3.1,"Element E",2.4,"Element I",2.4,"Element M",2.1]
["Fig 2","Element B",1.7,"Element F",2.1,"Element J",1.9,"Element N",3.1]
["Fig 3","Element C",2.5,"Element G",2.6,"Element K",2.4,"Element O",1.8]
["Fig 4","Element D",2.6,"Element H",2.9,"Element L",2.8,"Element P",2.9]